{"text_format":"1","workbook":"xlsx","n_sheets":10,"sheets":["Bahnkonfigurator","Masterblatt","Vorlage Rangliste - Note","Rangliste - Note","HiBa Gelände - Auswertung","Erfassungsliste","WertungstabelleM","WertungstabelleF","Hilfsblatt","Drop-Down-Listen"],"not_rendered":{"charts":1,"images":1,"macros":1,"external_links":0,"defined_names":71,"comments":1,"pivot_tables":0},"unopened":[],"bounds":{"document_bytes":16777216,"sheet_cells":100000,"rows_first":2000,"rows_last":500,"rows_between":2000,"halvings":0,"cell_chars":16384,"cell_head_chars":4096},"cells_cut":0,"cells_raw":0,"read":"whole","date_system":"1900"}

{"sheet":"Bahnkonfigurator","index":0,"n_rows":31,"n_cols":16,"rows_kept":31,"cut":false,"hidden":false,"merged":[[17,7,17,8],[12,7,12,8],[13,7,13,8],[14,7,14,8],[15,7,15,8],[16,7,16,8],[7,7,7,8],[8,7,8,8],[9,7,9,8],[10,7,10,8],[11,7,11,8],[22,4,22,5],[24,4,24,5],[12,5,12,6],[7,5,7,6],[8,5,8,6],[9,5,9,6],[10,5,10,6],[11,5,11,6],[13,5,13,6],[14,5,14,6],[15,5,15,6],[16,5,16,6],[17,5,17,6]]}
[]
[null,"Bahnkonfigurator für die Hindernisbahn im Gelände - Configurateur de piste pour piste d'obstacles dans le terrain - Configuratore del percorso per il percorso ostacoli all'aperto",null,null,null,null,null,null,null,null,null,null,null,null,null,"Hilfslisten"]
[null,"Spezifizieren Sie hier die Hindernisse, die auf der Wettkampfbahn vorhanden sind sowie die Lauflänge der Bahn - Spécifiez ici les obstacles présents sur la piste ainsi que la longueur de la piste - Specificate gli ostacoli che formano il percorso, come pure la lunghetzza dello stesso",null,null,null,null,null,null,null,null,null,null,null,null,null,"ja - oui - si"]
[null,"Auf Basis dieser Eingaben wird eine Referenzzeit errechnet, welche in die Wertungstabelle M/F einfliesst - Sur la base de ces entées, un temps de référence est calculé et introduit dans la table d'évaluation H/F - Sulla base delle scelte, sarà calcolato un tempo di riferimento, il quale apparirà nella tabella dei risultati",null,null,null,null,null,null,null,null,null,null,null,null,null,"nein - non - no"]
[]
[null,"Hinderniskonfiguration - Configuration des obstacles - Configurazione del percorso"]
[]
[null,null,"Auswahl\nChoix\nScelta","Gemessene Referenzzeit (s)\nTemps de référence mesuré (s)\nTempo riferimento misurato (s)","Länge des Hindernisses (m)\nLongueur de l'obstacle (m)\nLunghezza dell'ostacolo (m)","Zeit auf dieser Bahn (s)\nTemps sur cette piste (s)\nTempo su pista (s)",null,"Länge auf dieser Bahn (m)\nLongueur sur cette piste (m)\nLunghezza sulla pista (m)"]
[null,"Hindernis 1 Doppelbalken\nObstacle 1 poutres jumelées\nOstacolo 1 sbarra doppia","ja - oui - si",3.5465384615384616,3,{"$f":"IF(C9=$P$3,D9,0)","v":3.5465384615384616},null,{"$f":"IF(C9=$P$3,E9,0)","v":3}]
[null,"Hindernis 2 Kriechnetz\nObstacle 2 réseau à franchir en rampant\nOstacolo 2 strisciare","ja - oui - si",15.5521935483871,22,{"$f":"IF(C10=$P$3,D10,0)","v":15.5521935483871},null,{"$f":"IF(C10=$P$3,E10,0)","v":22}]
[null,"Hindernis 3 Graben\nObstacle 3 fossé\nOstacolo 3 fossa","ja - oui - si",4.6729220779220775,4.8,4.6729220779220775,null,4.8]
[null,"Hindernis 4 Furt\nObstacle 4 Gué\nOstacolo 4 salti laterali","ja - oui - si",2.3002628205128208,8,2.3002628205128208,null,8]
[null,"Hindernis 5 Balkenhindernis\nObstacle 5 Espalier\nOstacolo 5 muro a sbarre","ja - oui - si",4.3658333333333328,2,4.3658333333333328,null,2]
[null,"Hindernis 6 Balancierbalken\nObstacle 6 poutresd'équilibre\nOstacolo 6 muretto d'equilibrio","ja - oui - si",9.0158666666666711,14.36,9.0158666666666711,null,14.36]
[null,"Hindernis 7 Sprung- und Kriechbalken\nObstacle 7 poutres horizontales\nOstacolo 7 sbarra quadrupla","ja - oui - si",11.084605263157888,6.6,11.084605263157888,null,6.6]
[null,"Hindernis 8 Balkentreppe\nObstacle 8 poutres en escalier\nOstacolo 8 passo dell'orso","ja - oui - si",5.1605555555555576,8.8000000000000007,5.1605555555555576,null,8.8000000000000007]
[null,"Hindernis 9 Laufgasse\nObstacle 9 chicane\nOstacolo 9 slalom","ja - oui - si",7.9237162162162162,9,7.9237162162162162,null,9]
[null,"Hindernis 10 Klettermauer\nObstacle 10 mur d'escalade avec corde \nOstacolo 10 muro","ja - oui - si",8.9682432432432453,5.2,8.9682432432432453,null,5.2]
[]
[null,"Längenkonfiguration - Configuration de la longueur - Configurazione della lunghezza"]
[null,null,null,null,null,null,"M",null,"F"]
[null,"Gesamtlänge dieser Bahn\nLongueur totale de cette piste\nLunghezza totale del percorso",263,"m","Gesamtreferenzlänge\nLongueur totale de référence\nLunghezza di riferimento totale",null,263,"m",263,"m"]
[null,null,null,null,"Referenzlaufstrecke ohne Hindernisse\nDistance de référence sans obstacle\nPercorso di riferimento senza ostacoli",null,{"$f":"G22-SUM(E9:E18)","v":179.24},"m",{"$f":"G23","v":179.24},"m"]
[null,null,null,null,"Referenzlaufzeit total\nTemps total de référence\nTempo di riferimento totale",null,124,"s",137,"s"]
[null,"Länge dieser Bahn ohne Hindernisse\nLongueur de cette piste sans obstacle\nLunghezza del percorso senza ostacoli",{"$f":"C22-SUM(H9:H18)","v":179.24},"m","Referenzgeschwindigkeit Laufstrecke\nVitesse de référence sur la distance parcourue\nVelocità di riferimento sul percorso",null,{"$f":"G23/(G24-SUM(D9:D18))","v":3.4865312239616117},"m/s",{"$f":"I23/(I24-SUM(D9:D18))","v":2.7828295523128492},"m/s"]
[]
[null,"Resultat der Bahnkonfiguration - Résultat de la configuration de la piste - Risultato della configurazione del percorso"]
[null,null,"M",null,"F"]
[null,"Hinderniszeit\nTemps pour franchir les obstacles\nTempo superamento ostacoli",{"$f":"SUM(F9:G18)","v":72.59073718653336},"s",{"$f":"SUM(F9:G18)","v":72.59073718653336},"s"]
[null,"Laufzeit (ohne Hindernisse)\nTemps de course (sans Obstacle)\nTempo d'assolvimento (senza ostacoli)",{"$f":"C25/G25","v":51.40926281346664},"s",{"$f":"C25/I25","v":64.40926281346664},"s"]
[null,"Gesamtlaufzeit\nTemps total de course\nTempo totale",{"$f":"SUM(C29:C30)","v":124},"s",{"$f":"SUM(E29:E30)","v":137},"s"]

{"sheet":"Masterblatt","index":1,"n_rows":2751,"n_cols":28,"rows_kept":2751,"cut":false,"hidden":false,"merged":[]}
["Nr.\nNo.\nNo.","Name\nNom\nNome","Vorname\nPrénom\nPrenome","Versicherten Nummer\nNuméro sécurité social\nNumero di assicurati\n[756.0000.0000.00]","Jahrgang\nAnnée\nAnni\n[JJJJ]","Geschlecht\nSexe\nSexe\n[m/f]","Anstellung\nEmploi\nImpiego","Grad\nGrade\nGrado","AO1\nOA1\nOE1","AO2\nOA2\nOE2","AO3\nOA3\nOE3","AO4\nOA4\nOE4","AO5\nOA5\nOE5","AO6\nOA6\nOE6","Klasse / Zug\nClasse / Section\nClasse / Sezione","Versuch 1\nEssai 1\nTentativo 1\n[mm:ss.00]","Versuch 2\nEssai 2\nTentativo 2\n[mm:ss.00]","Versuch 3\nEssai 3\nTentativo 3\n[mm:ss.00]","Versuch 1\nEssai 1\nTentativo 1\n[s]","Versuch 2\nEssai 2\nTentativo 2\n[s]","Versuch 3\nEssai 3\nTentativo 3\n[s]","Bester Versuch\nMeilleur résultat\nMiglior risultato\n[s]","Wertung\nBarème\nScala\n1-10","Note\nNote\nVota\n1-5","Qualifikation\nQualification\nQualificazione","Test erfüllt\nTest réussi\nTest successo","Beurteilung\nÉvaluation\nValutazione","Hat irgend ein Resultat und soll daher direkt nach Resultaten mit Punkten kommen, aber vor jenen Namen, die gar keine Resultate hatten"]
[1,null,null,null,null,null,null,null,null,null,null,null,null,null,null,null,null,null,{"$f":"IFERROR(ROUND(LEFT(P2,FIND(\":\",P2)-1)*60+MID(P2,FIND(\":\",P2)+1,LEN(P2)-FIND(\":\",P2)),2),\"\")","v":""},"","",{"$f":"IF(P2=\"\",\"\",IF(OR(P:P=\"disp\",Q:Q=\"disp\",R:R=\"disp\"),\"\",MIN(S2:U2)))","v":""},{"$f":"IF(V2=\"\",\"\",IF(F2=\"m\",IF(AND(V2<MIN(ZeitMänner),ISNUMBER(V2)),10,INDEX(WertungstabelleM,MATCH(V2,ZeitMänner,1)+1,2)),IF(AND(V2<MIN(ZeitFrauen),ISNUMBER(V2)),10,INDEX(WertungstabelleF,MATCH(V2,ZeitFrauen,1)+1,2))))","v":""},{"$f":"IF(W2=\"\",\"\",IF(F2=\"m\",VLOOKUP(W2,Note10_to_Qual_Männer,2,0),VLOOKUP(W2,Note10_to_Qual_Frauen,2,0)))","v":""},{"$f":"IF(W2=\"\",\"\",IF(F2=\"m\",VLOOKUP(W2,Note10_to_Qual_Männer,4,0),VLOOKUP(W2,Note10_to_Qual_Frauen,4,0)))","v":""},{"$f":"IF(Y2=\"\",\"\",IF(Y2>1,\"erfüllt\",\"nicht erfüllt\"))","v":""},{"$f":"IF(W2=\"\",\"\",IF(F2=\"m\",VLOOKUP(W2,Note10_to_Qual_Männer,3,0),VLOOKUP(W2,Note10_to_Qual_Frauen,3,0)))","v":""},{"$f":"IF(OR(P:P<>\"\",Q:Q<>\"\",R:R<>\"\"),1,2)","v":2}]
[2,null,null,null,null,null,null,null,null,null,null,null,null,null,null,null,null,null,"","","",{"$f":"IF(P3=\"\",\"\",IF(OR(P:P=\"disp\",Q:Q=\"disp\",R:R=\"disp\"),\"\",MIN(S3:U3)))","v":""},"",{"$f":"IF(W3=\"\",\"\",IF(F3=\"m\",VLOOKUP(W3,Note10_to_Qual_Männer,2,0),VLOOKUP(W3,Note10_to_Qual_Frauen,2,0)))","v":""},{"$f":"IF(W3=\"\",\"\",IF(F3=\"m\",VLOOKUP(W3,Note10_to_Qual_Männer,4,0),VLOOKUP(W3,Note10_to_Qual_Frauen,4,0)))","v":""},{"$f":"IF(Y3=\"\",\"\",IF(Y3>1,\"erfüllt\",\"nicht erfüllt\"))","v":""},"",2]
[3,null,null,null,null,null,null,null,null,null,null,null,null,null,null,null,null,null,"","","","","","","",{"$f":"IF(Y4=\"\",\"\",IF(Y4>1,\"erfüllt\",\"nicht erfüllt\"))","v":""},"",2]
[4,null,null,null,null,null,null,null,null,null,null,null,null,null,null,null,null,null,"","","","","","","","","",2]
[5,null,null,null,null,null,null,null,null,null,null,null,null,null,null,null,null,null,"","","","","","","",{"$f":"IF(Y6=\"\",\"\",IF(Y6>1,\"erfüllt\",\"nicht erfüllt\"))","v":""},"",2]
[6,null,null,null,null,null,null,null,null,null,null,null,null,null,null,null,null,null,"","","","","","","","","",2]
[7,null,null,null,null,null,null,null,null,null,null,null,null,null,null,null,null,null,"","","","","",{"$f":"IF(W8=\"\",\"\",IF(F8=\"m\",VLOOKUP(W8,Note10_to_Qual_Männer,2,0),VLOOKUP(W8,Note10_to_Qual_Frauen,2,0)))","v":""},{"$f":"IF(W8=\"\",\"\",IF(F8=\"m\",VLOOKUP(W8,Note10_to_Qual_Männer,4,0),VLOOKUP(W8,Note10_to_Qual_Frauen,4,0)))","v":""},"","",2]
[8,null,null,null,null,null,null,null,null,null,null,null,null,null,null,null,null,null,"","","","","","","","","",2]
[9,null,null,null,null,null,null,null,null,null,null,null,null,null,null,null,null,null,"","","","","","","","","",2]
[10,null,null,null,null,null,null,null,null,null,null,null,null,null,null,null,null,null,"","","","","","","","","",2]
[11,null,null,null,null,null,null,null,null,null,null,null,null,null,null,null,null,null,"","","","","","","","","",2]
[12,null,null,null,null,null,null,null,null,null,null,null,null,null,null,null,null,null,"","","","","","","","","",2]
[13,null,null,null,null,null,null,null,null,null,null,null,null,null,null,null,null,null,"","","","","","","","","",2]
[14,null,null,null,null,null,null,null,null,null,null,null,null,null,null,null,null,null,"","","","","","","","","",2]
[15,null,null,null,null,null,null,null,null,null,null,null,null,null,null,null,null,null,"","","","","","","","","",2]
[16,null,null,null,null,null,null,null,null,null,null,null,null,null,null,null,null,null,"","","","","","","","","",2]
[17,null,null,null,null,null,null,null,null,null,null,null,null,null,null,null,null,null,"","","","","","","","","",2]
[18,null,null,null,null,null,null,null,null,null,null,null,null,null,null,null,null,null,"","","","","","","","","",2]
[19,null,null,null,null,null,null,null,null,null,null,null,null,null,null,null,null,null,"","","","","","","","","",2]
[20,null,null,null,null,null,null,null,null,null,null,null,null,null,null,null,null,null,"","","","","","","","","",2]
[21,null,null,null,null,null,null,null,null,null,null,null,null,null,null,null,null,null,"","","","","","","","","",2]
[22,null,null,null,null,null,null,null,null,null,null,null,null,null,null,null,null,null,"","","","","","","","","",2]
[23,null,null,null,null,null,null,null,null,null,null,null,null,null,null,null,null,null,"","","","","","","","","",2]
[24,null,null,null,null,null,null,null,null,null,null,null,null,null,null,null,null,null,"","","","","","","","","",2]
[25,null,null,null,null,null,null,null,null,null,null,null,null,null,null,null,null,null,"","","","","","","","","",2]
[26,null,null,null,null,null,null,null,null,null,null,null,null,null,null,null,null,null,"","","","","","","","","",2]
[27,null,null,null,null,null,null,null,null,null,null,null,null,null,null,null,null,null,"","","","","","","","","",2]
[28,null,null,null,null,null,null,null,null,null,null,null,null,null,null,null,null,null,"","","","","","","","","",2]
[29,null,null,null,null,null,null,null,null,null,null,null,null,null,null,null,null,null,"","","","","","","","","",2]
[30,null,null,null,null,null,null,null,null,null,null,null,null,null,null,null,null,null,"","","","","","","","","",2]
[31,null,null,null,null,null,null,null,null,null,null,null,null,null,null,null,null,null,"","","","","","","","","",2]
[32,null,null,null,null,null,null,null,null,null,null,null,null,null,null,null,null,null,"","","","","","","","","",2]
[33,null,null,null,null,null,null,null,null,null,null,null,null,null,null,null,null,null,"","","","","","","","","",2]
[34,null,null,null,null,null,null,null,null,null,null,null,null,null,null,null,null,null,"","","","","","","","","",2]
[35,null,null,null,null,null,null,null,null,null,null,null,null,null,null,null,null,null,"","","","","","","","","",2]
[36,null,null,null,null,null,null,null,null,null,null,null,null,null,null,null,null,null,"","","","","","","","","",2]
[37,null,null,null,null,null,null,null,null,null,null,null,null,null,null,null,null,null,"","","","","","","","","",2]
[38,null,null,null,null,null,null,null,null,null,null,null,null,null,null,null,null,null,"","","","","","","","","",2]
[39,null,null,null,null,null,null,null,null,null,null,null,null,null,null,null,null,null,"","","","","","","","","",2]
[40,null,null,null,null,null,null,null,null,null,null,null,null,null,null,null,null,null,"","","","","","","","","",2]
[41,null,null,null,null,null,null,null,null,null,null,null,null,null,null,null,null,null,"","","","","","","","","",2]
[42,null,null,null,null,null,null,null,null,null,null,null,null,null,null,null,null,null,"","","","","","","","","",2]
[43,null,null,null,null,null,null,null,null,null,null,null,null,null,null,null,null,null,"","","","","","","","","",2]
[44,null,null,null,null,null,null,null,null,null,null,null,null,null,null,null,null,null,"","","","","","","","","",2]
[45,null,null,null,null,null,null,null,null,null,null,null,null,null,null,null,null,null,"","","","","","","","","",2]
[46,null,null,null,null,null,null,null,null,null,null,null,null,null,null,null,null,null,"","","","","","","","","",2]
[47,null,null,null,null,null,null,null,null,null,null,null,null,null,null,null,null,null,"","","","","","","","","",2]
[48,null,null,null,null,null,null,null,null,null,null,null,null,null,null,null,null,null,"","","","","","","","","",2]
[49,null,null,null,null,null,null,null,null,null,null,null,null,null,null,null,null,null,"","","","","","","","","",2]
[50,null,null,null,null,null,null,null,null,null,null,null,null,null,null,null,null,null,"","","","","","","","","",2]
[51,null,null,null,null,null,null,null,null,null,null,null,null,null,null,null,null,null,"","","","","","","","","",2]
[52,null,null,null,null,null,null,null,null,null,null,null,null,null,null,null,null,null,"","","","","","","","","",2]
[53,null,null,null,null,null,null,null,null,null,null,null,null,null,null,null,null,null,"","","","","","","","","",2]
[54,null,null,null,null,null,null,null,null,null,null,null,null,null,null,null,null,null,"","","","","","","","","",2]
[55,null,null,null,null,null,null,null,null,null,null,null,null,null,null,null,null,null,"","","","","","","","","",2]
[56,null,null,null,null,null,null,null,null,null,null,null,null,null,null,null,null,null,"","","","","","","","","",2]
[57,null,null,null,null,null,null,null,null,null,null,null,null,null,null,null,null,null,"","","","","","","","","",2]
[58,null,null,null,null,null,null,null,null,null,null,null,null,null,null,null,null,null,"","","","","","","","","",2]
[59,null,null,null,null,null,null,null,null,null,null,null,null,null,null,null,null,null,"","","","","","","","","",2]
[60,null,null,null,null,null,null,null,null,null,null,null,null,null,null,null,null,null,"","","","","","","","","",2]
[61,null,null,null,null,null,null,null,null,null,null,null,null,null,null,null,null,null,"","","","","","","","","",2]
[62,null,null,null,null,null,null,null,null,null,null,null,null,null,null,null,null,null,"","","","","","","","","",2]
[63,null,null,null,null,null,null,null,null,null,null,null,null,null,null,null,null,null,"","","","","","","","","",2]
[64,null,null,null,null,null,null,null,null,null,null,null,null,null,null,null,null,null,"","","","","","","","","",2]
[65,null,null,null,null,null,null,null,null,null,null,null,null,null,null,null,null,null,{"$f":"IFERROR(ROUND(LEFT(P66,FIND(\":\",P66)-1)*60+MID(P66,FIND(\":\",P66)+1,LEN(P66)-FIND(\":\",P66)),2),\"\")","v":""},"","",{"$f":"IF(P66=\"\",\"\",IF(OR(P:P=\"disp\",Q:Q=\"disp\",R:R=\"disp\"),\"\",MIN(S66:U66)))","v":""},{"$f":"IF(V66=\"\",\"\",IF(F66=\"m\",IF(AND(V66<MIN(ZeitMänner),ISNUMBER(V66)),10,INDEX(WertungstabelleM,MATCH(V66,ZeitMänner,1)+1,2)),IF(AND(V66<MIN(ZeitFrauen),ISNUMBER(V66)),10,INDEX(WertungstabelleF,MATCH(V66,ZeitFrauen,1)+1,2))))","v":""},"","","",{"$f":"IF(W66=\"\",\"\",IF(F66=\"m\",VLOOKUP(W66,Note10_to_Qual_Männer,3,0),VLOOKUP(W66,Note10_to_Qual_Frauen,3,0)))","v":""},{"$f":"IF(OR(P:P<>\"\",Q:Q<>\"\",R:R<>\"\"),1,2)","v":2}]
[66,null,null,null,null,null,null,null,null,null,null,null,null,null,null,null,null,null,"","","","","","","",{"$f":"IF(Y67=\"\",\"\",IF(Y67>1,\"erfüllt\",\"nicht erfüllt\"))","v":""},"",2]
[67,null,null,null,null,null,null,null,null,null,null,null,null,null,null,null,null,null,"","","","","","","","","",2]
[68,null,null,null,null,null,null,null,null,null,null,null,null,null,null,null,null,null,"","","","","","","","","",2]
[69,null,null,null,null,null,null,null,null,null,null,null,null,null,null,null,null,null,"","","","","","","","","",2]
[70,null,null,null,null,null,null,null,null,null,null,null,null,null,null,null,null,null,"","","","","","","","","",2]
[71,null,null,null,null,null,null,null,null,null,null,null,null,null,null,null,null,null,"","","","","",{"$f":"IF(W72=\"\",\"\",IF(F72=\"m\",VLOOKUP(W72,Note10_to_Qual_Männer,2,0),VLOOKUP(W72,Note10_to_Qual_Frauen,2,0)))","v":""},{"$f":"IF(W72=\"\",\"\",IF(F72=\"m\",VLOOKUP(W72,Note10_to_Qual_Männer,4,0),VLOOKUP(W72,Note10_to_Qual_Frauen,4,0)))","v":""},"","",2]
[72,null,null,null,null,null,null,null,null,null,null,null,null,null,null,null,null,null,"","","","","","","","","",2]
[73,null,null,null,null,null,null,null,null,null,null,null,null,null,null,null,null,null,"","","","","","","","","",2]
[74,null,null,null,null,null,null,null,null,null,null,null,null,null,null,null,null,null,"","","","","","","","","",2]
[75,null,null,null,null,null,null,null,null,null,null,null,null,null,null,null,null,null,"","","","","","","","","",2]
[76,null,null,null,null,null,null,null,null,null,null,null,null,null,null,null,null,null,"","","","","","","","","",2]
[77,null,null,null,null,null,null,null,null,null,null,null,null,null,null,null,null,null,"","","","","","","","","",2]
[78,null,null,null,null,null,null,null,null,null,null,null,null,null,null,null,null,null,"","","","","","","","","",2]
[79,null,null,null,null,null,null,null,null,null,null,null,null,null,null,null,null,null,"","","","","","","","","",2]
[80,null,null,null,null,null,null,null,null,null,null,null,null,null,null,null,null,null,"","","","","","","","","",2]
[81,null,null,null,null,null,null,null,null,null,null,null,null,null,null,null,null,null,"","","","","","","","","",2]
[82,null,null,null,null,null,null,null,null,null,null,null,null,null,null,null,null,null,"","","","","","","","","",2]
[83,null,null,null,null,null,null,null,null,null,null,null,null,null,null,null,null,null,"","","","","","","","","",2]
[84,null,null,null,null,null,null,null,null,null,null,null,null,null,null,null,null,null,"","","","","","","","","",2]
[85,null,null,null,null,null,null,null,null,null,null,null,null,null,null,null,null,null,"","","","","","","","","",2]
[86,null,null,null,null,null,null,null,null,null,null,null,null,null,null,null,null,null,"","","","","","","","","",2]
[87,null,null,null,null,null,null,null,null,null,null,null,null,null,null,null,null,null,"","","","","","","","","",2]
[88,null,null,null,null,null,null,null,null,null,null,null,null,null,null,null,null,null,"","","","","","","","","",2]
[89,null,null,null,null,null,null,null,null,null,null,null,null,null,null,null,null,null,"","","","","","","","","",2]
[90,null,null,null,null,null,null,null,null,null,null,null,null,null,null,null,null,null,"","","","","","","","","",2]
[91,null,null,null,null,null,null,null,null,null,null,null,null,null,null,null,null,null,"","","","","","","","","",2]
[92,null,null,null,null,null,null,null,null,null,null,null,null,null,null,null,null,null,"","","","","","","","","",2]
[93,null,null,null,null,null,null,null,null,null,null,null,null,null,null,null,null,null,"","","","","","","","","",2]
[94,null,null,null,null,null,null,null,null,null,null,null,null,null,null,null,null,null,"","","","","","","","","",2]
[95,null,null,null,null,null,null,null,null,null,null,null,null,null,null,null,null,null,"","","","","","","","","",2]
[96,null,null,null,null,null,null,null,null,null,null,null,null,null,null,null,null,null,"","","","","","","","","",2]
[97,null,null,null,null,null,null,null,null,null,null,null,null,null,null,null,null,null,"","","","","","","","","",2]
[98,null,null,null,null,null,null,null,null,null,null,null,null,null,null,null,null,null,"","","","","","","","","",2]
[99,null,null,null,null,null,null,null,null,null,null,null,null,null,null,null,null,null,"","","","","","","","","",2]
[100,null,null,null,null,null,null,null,null,null,null,null,null,null,null,null,null,null,"","","","","","","","","",2]
[101,null,null,null,null,null,null,null,null,null,null,null,null,null,null,null,null,null,"","","","","","","","","",2]
[102,null,null,null,null,null,null,null,null,null,null,null,null,null,null,null,null,null,"","","","","","","","","",2]
[103,null,null,null,null,null,null,null,null,null,null,null,null,null,null,null,null,null,"","","","","","","","","",2]
[104,null,null,null,null,null,null,null,null,null,null,null,null,null,null,null,null,null,"","","","","","","","","",2]
[105,null,null,null,null,null,null,null,null,null,null,null,null,null,null,null,null,null,"","","","","","","","","",2]
[106,null,null,null,null,null,null,null,null,null,null,null,null,null,null,null,null,null,"","","","","","","","","",2]
[107,null,null,null,null,null,null,null,null,null,null,null,null,null,null,null,null,null,"","","","","","","","","",2]
[108,null,null,null,null,null,null,null,null,null,null,null,null,null,null,null,null,null,"","","","","","","","","",2]
[109,null,null,null,null,null,null,null,null,null,null,null,null,null,null,null,null,null,"","","","","","","","","",2]
[110,null,null,null,null,null,null,null,null,null,null,null,null,null,null,null,null,null,"","","","","","","","","",2]
[111,null,null,null,null,null,null,null,null,null,null,null,null,null,null,null,null,null,"","","","","","","","","",2]
[112,null,null,null,null,null,null,null,null,null,null,null,null,null,null,null,null,null,"","","","","","","","","",2]
[113,null,null,null,null,null,null,null,null,null,null,null,null,null,null,null,null,null,"","","","","","","","","",2]
[114,null,null,null,null,null,null,null,null,null,null,null,null,null,null,null,null,null,"","","","","","","","","",2]
[115,null,null,null,null,null,null,null,null,null,null,null,null,null,null,null,null,null,"","","","","","","","","",2]
[116,null,null,null,null,null,null,null,null,null,null,null,null,null,null,null,null,null,"","","","","","","","","",2]
[117,null,null,null,null,null,null,null,null,null,null,null,null,null,null,null,null,null,"","","","","","","","","",2]
[118,null,null,null,null,null,null,null,null,null,null,null,null,null,null,null,null,null,"","","","","","","","","",2]
[119,null,null,null,null,null,null,null,null,null,null,null,null,null,null,null,null,null,"","","","","","","","","",2]
[120,null,null,null,null,null,null,null,null,null,null,null,null,null,null,null,null,null,"","","","","","","","","",2]
[121,null,null,null,null,null,null,null,null,null,null,null,null,null,null,null,null,null,"","","","","","","","","",2]
[122,null,null,null,null,null,null,null,null,null,null,null,null,null,null,null,null,null,"","","","","","","","","",2]
[123,null,null,null,null,null,null,null,null,null,null,null,null,null,null,null,null,null,"","","","","","","","","",2]
[124,null,null,null,null,null,null,null,null,null,null,null,null,null,null,null,null,null,"","","","","","","","","",2]
[125,null,null,null,null,null,null,null,null,null,null,null,null,null,null,null,null,null,"","","","","","","","","",2]
[126,null,null,null,null,null,null,null,null,null,null,null,null,null,null,null,null,null,"","","","","","","","","",2]
[127,null,null,null,null,null,null,null,null,null,null,null,null,null,null,null,null,null,"","","","","","","","","",2]
[128,null,null,null,null,null,null,null,null,null,null,null,null,null,null,null,null,null,"","","","","","","","","",2]
[129,null,null,null,null,null,null,null,null,null,null,null,null,null,null,null,null,null,{"$f":"IFERROR(ROUND(LEFT(P130,FIND(\":\",P130)-1)*60+MID(P130,FIND(\":\",P130)+1,LEN(P130)-FIND(\":\",P130)),2),\"\")","v":""},"","",{"$f":"IF(P130=\"\",\"\",IF(OR(P:P=\"disp\",Q:Q=\"disp\",R:R=\"disp\"),\"\",MIN(S130:U130)))","v":""},{"$f":"IF(V130=\"\",\"\",IF(F130=\"m\",IF(AND(V130<MIN(ZeitMänner),ISNUMBER(V130)),10,INDEX(WertungstabelleM,MATCH(V130,ZeitMänner,1)+1,2)),IF(AND(V130<MIN(ZeitFrauen),ISNUMBER(V130)),10,INDEX(WertungstabelleF,MATCH(V130,ZeitFrauen,1)+1,2))))","v":""},"","","",{"$f":"IF(W130=\"\",\"\",IF(F130=\"m\",VLOOKUP(W130,Note10_to_Qual_Männer,3,0),VLOOKUP(W130,Note10_to_Qual_Frauen,3,0)))","v":""},{"$f":"IF(OR(P:P<>\"\",Q:Q<>\"\",R:R<>\"\"),1,2)","v":2}]
[130,null,null,null,null,null,null,null,null,null,null,null,null,null,null,null,null,null,"","","","","","","",{"$f":"IF(Y131=\"\",\"\",IF(Y131>1,\"erfüllt\",\"nicht erfüllt\"))","v":""},"",2]
[131,null,null,null,null,null,null,null,null,null,null,null,null,null,null,null,null,null,"","","","","","","","","",2]
[132,null,null,null,null,null,null,null,null,null,null,null,null,null,null,null,null,null,"","","","","","","","","",2]
[133,null,null,null,null,null,null,null,null,null,null,null,null,null,null,null,null,null,"","","","","","","","","",2]
[134,null,null,null,null,null,null,null,null,null,null,null,null,null,null,null,null,null,"","","","","","","","","",2]
[135,null,null,null,null,null,null,null,null,null,null,null,null,null,null,null,null,null,"","","","","",{"$f":"IF(W136=\"\",\"\",IF(F136=\"m\",VLOOKUP(W136,Note10_to_Qual_Männer,2,0),VLOOKUP(W136,Note10_to_Qual_Frauen,2,0)))","v":""},{"$f":"IF(W136=\"\",\"\",IF(F136=\"m\",VLOOKUP(W136,Note10_to_Qual_Männer,4,0),VLOOKUP(W136,Note10_to_Qual_Frauen,4,0)))","v":""},"","",2]
[136,null,null,null,null,null,null,null,null,null,null,null,null,null,null,null,null,null,"","","","","","","","","",2]
[137,null,null,null,null,null,null,null,null,null,null,null,null,null,null,null,null,null,"","","","","","","","","",2]
[138,null,null,null,null,null,null,null,null,null,null,null,null,null,null,null,null,null,"","","","","","","","","",2]
[139,null,null,null,null,null,null,null,null,null,null,null,null,null,null,null,null,null,"","","","","","","","","",2]
[140,null,null,null,null,null,null,null,null,null,null,null,null,null,null,null,null,null,"","","","","","","","","",2]
[141,null,null,null,null,null,null,null,null,null,null,null,null,null,null,null,null,null,"","","","","","","","","",2]
[142,null,null,null,null,null,null,null,null,null,null,null,null,null,null,null,null,null,"","","","","","","","","",2]
[143,null,null,null,null,null,null,null,null,null,null,null,null,null,null,null,null,null,"","","","","","","","","",2]
[144,null,null,null,null,null,null,null,null,null,null,null,null,null,null,null,null,null,"","","","","","","","","",2]
[145,null,null,null,null,null,null,null,null,null,null,null,null,null,null,null,null,null,"","","","","","","","","",2]
[146,null,null,null,null,null,null,null,null,null,null,null,null,null,null,null,null,null,"","","","","","","","","",2]
[147,null,null,null,null,null,null,null,null,null,null,null,null,null,null,null,null,null,"","","","","","","","","",2]
[148,null,null,null,null,null,null,null,null,null,null,null,null,null,null,null,null,null,"","","","","","","","","",2]
[149,null,null,null,null,null,null,null,null,null,null,null,null,null,null,null,null,null,"","","","","","","","","",2]
[150,null,null,null,null,null,null,null,null,null,null,null,null,null,null,null,null,null,"","","","","","","","","",2]
[151,null,null,null,null,null,null,null,null,null,null,null,null,null,null,null,null,null,"","","","","","","","","",2]
[152,null,null,null,null,null,null,null,null,null,null,null,null,null,null,null,null,null,"","","","","","","","","",2]
[153,null,null,null,null,null,null,null,null,null,null,null,null,null,null,null,null,null,"","","","","","","","","",2]
[154,null,null,null,null,null,null,null,null,null,null,null,null,null,null,null,null,null,"","","","","","","","","",2]
[155,null,null,null,null,null,null,null,null,null,null,null,null,null,null,null,null,null,"","","","","","","","","",2]
[156,null,null,null,null,null,null,null,null,null,null,null,null,null,null,null,null,null,"","","","","","","","","",2]
[157,null,null,null,null,null,null,null,null,null,null,null,null,null,null,null,null,null,"","","","","","","","","",2]
[158,null,null,null,null,null,null,null,null,null,null,null,null,null,null,null,null,null,"","","","","","","","","",2]
[159,null,null,null,null,null,null,null,null,null,null,null,null,null,null,null,null,null,"","","","","","","","","",2]
[160,null,null,null,null,null,null,null,null,null,null,null,null,null,null,null,null,null,"","","","","","","","","",2]
[161,null,null,null,null,null,null,null,null,null,null,null,null,null,null,null,null,null,"","","","","","","","","",2]
[162,null,null,null,null,null,null,null,null,null,null,null,null,null,null,null,null,null,"","","","","","","","","",2]
[163,null,null,null,null,null,null,null,null,null,null,null,null,null,null,null,null,null,"","","","","","","","","",2]
[164,null,null,null,null,null,null,null,null,null,null,null,null,null,null,null,null,null,"","","","","","","","","",2]
[165,null,null,null,null,null,null,null,null,null,null,null,null,null,null,null,null,null,"","","","","","","","","",2]
[166,null,null,null,null,null,null,null,null,null,null,null,null,null,null,null,null,null,"","","","","","","","","",2]
[167,null,null,null,null,null,null,null,null,null,null,null,null,null,null,null,null,null,"","","","","","","","","",2]
[168,null,null,null,null,null,null,null,null,null,null,null,null,null,null,null,null,null,"","","","","","","","","",2]
[169,null,null,null,null,null,null,null,null,null,null,null,null,null,null,null,null,null,"","","","","","","","","",2]
[170,null,null,null,null,null,null,null,null,null,null,null,null,null,null,null,null,null,"","","","","","","","","",2]
[171,null,null,null,null,null,null,null,null,null,null,null,null,null,null,null,null,null,"","","","","","","","","",2]
[172,null,null,null,null,null,null,null,null,null,null,null,null,null,null,null,null,null,"","","","","","","","","",2]
[173,null,null,null,null,null,null,null,null,null,null,null,null,null,null,null,null,null,"","","","","","","","","",2]
[174,null,null,null,null,null,null,null,null,null,null,null,null,null,null,null,null,null,"","","","","","","","","",2]
[175,null,null,null,null,null,null,null,null,null,null,null,null,null,null,null,null,null,"","","","","","","","","",2]
[176,null,null,null,null,null,null,null,null,null,null,null,null,null,null,null,null,null,"","","","","","","","","",2]
[177,null,null,null,null,null,null,null,null,null,null,null,null,null,null,null,null,null,"","","","","","","","","",2]
[178,null,null,null,null,null,null,null,null,null,null,null,null,null,null,null,null,null,"","","","","","","","","",2]
[179,null,null,null,null,null,null,null,null,null,null,null,null,null,null,null,null,null,"","","","","","","","","",2]
[180,null,null,null,null,null,null,null,null,null,null,null,null,null,null,null,null,null,"","","","","","","","","",2]
[181,null,null,null,null,null,null,null,null,null,null,null,null,null,null,null,null,null,"","","","","","","","","",2]
[182,null,null,null,null,null,null,null,null,null,null,null,null,null,null,null,null,null,"","","","","","","","","",2]
[183,null,null,null,null,null,null,null,null,null,null,null,null,null,null,null,null,null,"","","","","","","","","",2]
[184,null,null,null,null,null,null,null,null,null,null,null,null,null,null,null,null,null,"","","","","","","","","",2]
[185,null,null,null,null,null,null,null,null,null,null,null,null,null,null,null,null,null,"","","","","","","","","",2]
[186,null,null,null,null,null,null,null,null,null,null,null,null,null,null,null,null,null,"","","","","","","","","",2]
[187,null,null,null,null,null,null,null,null,null,null,null,null,null,null,null,null,null,"","","","","","","","","",2]
[188,null,null,null,null,null,null,null,null,null,null,null,null,null,null,null,null,null,"","","","","","","","","",2]
[189,null,null,null,null,null,null,null,null,null,null,null,null,null,null,null,null,null,"","","","","","","","","",2]
[190,null,null,null,null,null,null,null,null,null,null,null,null,null,null,null,null,null,"","","","","","","","","",2]
[191,null,null,null,null,null,null,null,null,null,null,null,null,null,null,null,null,null,"","","","","","","","","",2]
[192,null,null,null,null,null,null,null,null,null,null,null,null,null,null,null,null,null,"","","","","","","","","",2]
[193,null,null,null,null,null,null,null,null,null,null,null,null,null,null,null,null,null,{"$f":"IFERROR(ROUND(LEFT(P194,FIND(\":\",P194)-1)*60+MID(P194,FIND(\":\",P194)+1,LEN(P194)-FIND(\":\",P194)),2),\"\")","v":""},"","",{"$f":"IF(P194=\"\",\"\",IF(OR(P:P=\"disp\",Q:Q=\"disp\",R:R=\"disp\"),\"\",MIN(S194:U194)))","v":""},{"$f":"IF(V194=\"\",\"\",IF(F194=\"m\",IF(AND(V194<MIN(ZeitMänner),ISNUMBER(V194)),10,INDEX(WertungstabelleM,MATCH(V194,ZeitMänner,1)+1,2)),IF(AND(V194<MIN(ZeitFrauen),ISNUMBER(V194)),10,INDEX(WertungstabelleF,MATCH(V194,ZeitFrauen,1)+1,2))))","v":""},"","","",{"$f":"IF(W194=\"\",\"\",IF(F194=\"m\",VLOOKUP(W194,Note10_to_Qual_Männer,3,0),VLOOKUP(W194,Note10_to_Qual_Frauen,3,0)))","v":""},{"$f":"IF(OR(P:P<>\"\",Q:Q<>\"\",R:R<>\"\"),1,2)","v":2}]
[194,null,null,null,null,null,null,null,null,null,null,null,null,null,null,null,null,null,"","","","","","","",{"$f":"IF(Y195=\"\",\"\",IF(Y195>1,\"erfüllt\",\"nicht erfüllt\"))","v":""},"",2]
[195,null,null,null,null,null,null,null,null,null,null,null,null,null,null,null,null,null,"","","","","","","","","",2]
[196,null,null,null,null,null,null,null,null,null,null,null,null,null,null,null,null,null,"","","","","","","","","",2]
[197,null,null,null,null,null,null,null,null,null,null,null,null,null,null,null,null,null,"","","","","","","","","",2]
[198,null,null,null,null,null,null,null,null,null,null,null,null,null,null,null,null,null,"","","","","","","","","",2]
[199,null,null,null,null,null,null,null,null,null,null,null,null,null,null,null,null,null,"","","","","",{"$f":"IF(W200=\"\",\"\",IF(F200=\"m\",VLOOKUP(W200,Note10_to_Qual_Männer,2,0),VLOOKUP(W200,Note10_to_Qual_Frauen,2,0)))","v":""},{"$f":"IF(W200=\"\",\"\",IF(F200=\"m\",VLOOKUP(W200,Note10_to_Qual_Männer,4,0),VLOOKUP(W200,Note10_to_Qual_Frauen,4,0)))","v":""},"","",2]
[200,null,null,null,null,null,null,null,null,null,null,null,null,null,null,null,null,null,"","","","","","","","","",2]
[201,null,null,null,null,null,null,null,null,null,null,null,null,null,null,null,null,null,"","","","","","","","","",2]
[202,null,null,null,null,null,null,null,null,null,null,null,null,null,null,null,null,null,"","","","","","","","","",2]
[203,null,null,null,null,null,null,null,null,null,null,null,null,null,null,null,null,null,"","","","","","","","","",2]
[204,null,null,null,null,null,null,null,null,null,null,null,null,null,null,null,null,null,"","","","","","","","","",2]
[205,null,null,null,null,null,null,null,null,null,null,null,null,null,null,null,null,null,"","","","","","","","","",2]
[206,null,null,null,null,null,null,null,null,null,null,null,null,null,null,null,null,null,"","","","","","","","","",2]
[207,null,null,null,null,null,null,null,null,null,null,null,null,null,null,null,null,null,"","","","","","","","","",2]
[208,null,null,null,null,null,null,null,null,null,null,null,null,null,null,null,null,null,"","","","","","","","","",2]
[209,null,null,null,null,null,null,null,null,null,null,null,null,null,null,null,null,null,"","","","","","","","","",2]
[210,null,null,null,null,null,null,null,null,null,null,null,null,null,null,null,null,null,"","","","","","","","","",2]
[211,null,null,null,null,null,null,null,null,null,null,null,null,null,null,null,null,null,"","","","","","","","","",2]
[212,null,null,null,null,null,null,null,null,null,null,null,null,null,null,null,null,null,"","","","","","","","","",2]
[213,null,null,null,null,null,null,null,null,null,null,null,null,null,null,null,null,null,"","","","","","","","","",2]
[214,null,null,null,null,null,null,null,null,null,null,null,null,null,null,null,null,null,"","","","","","","","","",2]
[215,null,null,null,null,null,null,null,null,null,null,null,null,null,null,null,null,null,"","","","","","","","","",2]
[216,null,null,null,null,null,null,null,null,null,null,null,null,null,null,null,null,null,"","","","","","","","","",2]
[217,null,null,null,null,null,null,null,null,null,null,null,null,null,null,null,null,null,"","","","","","","","","",2]
[218,null,null,null,null,null,null,null,null,null,null,null,null,null,null,null,null,null,"","","","","","","","","",2]
[219,null,null,null,null,null,null,null,null,null,null,null,null,null,null,null,null,null,"","","","","","","","","",2]
[220,null,null,null,null,null,null,null,null,null,null,null,null,null,null,null,null,null,"","","","","","","","","",2]
[221,null,null,null,null,null,null,null,null,null,null,null,null,null,null,null,null,null,"","","","","","","","","",2]
[222,null,null,null,null,null,null,null,null,null,null,null,null,null,null,null,null,null,"","","","","","","","","",2]
[223,null,null,null,null,null,null,null,null,null,null,null,null,null,null,null,null,null,"","","","","","","","","",2]
[224,null,null,null,null,null,null,null,null,null,null,null,null,null,null,null,null,null,"","","","","","","","","",2]
[225,null,null,null,null,null,null,null,null,null,null,null,null,null,null,null,null,null,"","","","","","","","","",2]
[226,null,null,null,null,null,null,null,null,null,null,null,null,null,null,null,null,null,"","","","","","","","","",2]
[227,null,null,null,null,null,null,null,null,null,null,null,null,null,null,null,null,null,"","","","","","","","","",2]
[228,null,null,null,null,null,null,null,null,null,null,null,null,null,null,null,null,null,"","","","","","","","","",2]
[229,null,null,null,null,null,null,null,null,null,null,null,null,null,null,null,null,null,"","","","","","","","","",2]
[230,null,null,null,null,null,null,null,null,null,null,null,null,null,null,null,null,null,"","","","","","","","","",2]
[231,null,null,null,null,null,null,null,null,null,null,null,null,null,null,null,null,null,"","","","","","","","","",2]
[232,null,null,null,null,null,null,null,null,null,null,null,null,null,null,null,null,null,"","","","","","","","","",2]
[233,null,null,null,null,null,null,null,null,null,null,null,null,null,null,null,null,null,"","","","","","","","","",2]
[234,null,null,null,null,null,null,null,null,null,null,null,null,null,null,null,null,null,"","","","","","","","","",2]
[235,null,null,null,null,null,null,null,null,null,null,null,null,null,null,null,null,null,"","","","","","","","","",2]
[236,null,null,null,null,null,null,null,null,null,null,null,null,null,null,null,null,null,"","","","","","","","","",2]
[237,null,null,null,null,null,null,null,null,null,null,null,null,null,null,null,null,null,"","","","","","","","","",2]
[238,null,null,null,null,null,null,null,null,null,null,null,null,null,null,null,null,null,"","","","","","","","","",2]
[239,null,null,null,null,null,null,null,null,null,null,null,null,null,null,null,null,null,"","","","","","","","","",2]
[240,null,null,null,null,null,null,null,null,null,null,null,null,null,null,null,null,null,"","","","","","","","","",2]
[241,null,null,null,null,null,null,null,null,null,null,null,null,null,null,null,null,null,"","","","","","","","","",2]
[242,null,null,null,null,null,null,null,null,null,null,null,null,null,null,null,null,null,"","","","","","","","","",2]
[243,null,null,null,null,null,null,null,null,null,null,null,null,null,null,null,null,null,"","","","","","","","","",2]
[244,null,null,null,null,null,null,null,null,null,null,null,null,null,null,null,null,null,"","","","","","","","","",2]
[245,null,null,null,null,null,null,null,null,null,null,null,null,null,null,null,null,null,"","","","","","","","","",2]
[246,null,null,null,null,null,null,null,null,null,null,null,null,null,null,null,null,null,"","","","","","","","","",2]
[247,null,null,null,null,null,null,null,null,null,null,null,null,null,null,null,null,null,"","","","","","","","","",2]
[248,null,null,null,null,null,null,null,null,null,null,null,null,null,null,null,null,null,"","","","","","","","","",2]
[249,null,null,null,null,null,null,null,null,null,null,null,null,null,null,null,null,null,"","","","","","","","","",2]
[250,null,null,null,null,null,null,null,null,null,null,null,null,null,null,null,null,null,"","","","","","","","","",2]
[251,null,null,null,null,null,null,null,null,null,null,null,null,null,null,null,null,null,"","","","","","","","","",2]
[252,null,null,null,null,null,null,null,null,null,null,null,null,null,null,null,null,null,"","","","","","","","","",2]
[253,null,null,null,null,null,null,null,null,null,null,null,null,null,null,null,null,null,"","","","","","","","","",2]
[254,null,null,null,null,null,null,null,null,null,null,null,null,null,null,null,null,null,"","","","","","","","","",2]
[255,null,null,null,null,null,null,null,null,null,null,null,null,null,null,null,null,null,"","","","","","","","","",2]
[256,null,null,null,null,null,null,null,null,null,null,null,null,null,null,null,null,null,"","","","","","","","","",2]
[257,null,null,null,null,null,null,null,null,null,null,null,null,null,null,null,null,null,{"$f":"IFERROR(ROUND(LEFT(P258,FIND(\":\",P258)-1)*60+MID(P258,FIND(\":\",P258)+1,LEN(P258)-FIND(\":\",P258)),2),\"\")","v":""},"","",{"$f":"IF(P258=\"\",\"\",IF(OR(P:P=\"disp\",Q:Q=\"disp\",R:R=\"disp\"),\"\",MIN(S258:U258)))","v":""},{"$f":"IF(V258=\"\",\"\",IF(F258=\"m\",IF(AND(V258<MIN(ZeitMänner),ISNUMBER(V258)),10,INDEX(WertungstabelleM,MATCH(V258,ZeitMänner,1)+1,2)),IF(AND(V258<MIN(ZeitFrauen),ISNUMBER(V258)),10,INDEX(WertungstabelleF,MATCH(V258,ZeitFrauen,1)+1,2))))","v":""},"","","",{"$f":"IF(W258=\"\",\"\",IF(F258=\"m\",VLOOKUP(W258,Note10_to_Qual_Männer,3,0),VLOOKUP(W258,Note10_to_Qual_Frauen,3,0)))","v":""},{"$f":"IF(OR(P:P<>\"\",Q:Q<>\"\",R:R<>\"\"),1,2)","v":2}]
[258,null,null,null,null,null,null,null,null,null,null,null,null,null,null,null,null,null,"","","","","","","",{"$f":"IF(Y259=\"\",\"\",IF(Y259>1,\"erfüllt\",\"nicht erfüllt\"))","v":""},"",2]
[259,null,null,null,null,null,null,null,null,null,null,null,null,null,null,null,null,null,"","","","","","","","","",2]
[260,null,null,null,null,null,null,null,null,null,null,null,null,null,null,null,null,null,"","","","","","","","","",2]
[261,null,null,null,null,null,null,null,null,null,null,null,null,null,null,null,null,null,"","","","","","","","","",2]
[262,null,null,null,null,null,null,null,null,null,null,null,null,null,null,null,null,null,"","","","","","","","","",2]
[263,null,null,null,null,null,null,null,null,null,null,null,null,null,null,null,null,null,"","","","","",{"$f":"IF(W264=\"\",\"\",IF(F264=\"m\",VLOOKUP(W264,Note10_to_Qual_Männer,2,0),VLOOKUP(W264,Note10_to_Qual_Frauen,2,0)))","v":""},{"$f":"IF(W264=\"\",\"\",IF(F264=\"m\",VLOOKUP(W264,Note10_to_Qual_Männer,4,0),VLOOKUP(W264,Note10_to_Qual_Frauen,4,0)))","v":""},"","",2]
[264,null,null,null,null,null,null,null,null,null,null,null,null,null,null,null,null,null,"","","","","","","","","",2]
[265,null,null,null,null,null,null,null,null,null,null,null,null,null,null,null,null,null,"","","","","","","","","",2]
[266,null,null,null,null,null,null,null,null,null,null,null,null,null,null,null,null,null,"","","","","","","","","",2]
[267,null,null,null,null,null,null,null,null,null,null,null,null,null,null,null,null,null,"","","","","","","","","",2]
[268,null,null,null,null,null,null,null,null,null,null,null,null,null,null,null,null,null,"","","","","","","","","",2]
[269,null,null,null,null,null,null,null,null,null,null,null,null,null,null,null,null,null,"","","","","","","","","",2]
[270,null,null,null,null,null,null,null,null,null,null,null,null,null,null,null,null,null,"","","","","","","","","",2]
[271,null,null,null,null,null,null,null,null,null,null,null,null,null,null,null,null,null,"","","","","","","","","",2]
[272,null,null,null,null,null,null,null,null,null,null,null,null,null,null,null,null,null,"","","","","","","","","",2]
[273,null,null,null,null,null,null,null,null,null,null,null,null,null,null,null,null,null,"","","","","","","","","",2]
[274,null,null,null,null,null,null,null,null,null,null,null,null,null,null,null,null,null,"","","","","","","","","",2]
[275,null,null,null,null,null,null,null,null,null,null,null,null,null,null,null,null,null,"","","","","","","","","",2]
[276,null,null,null,null,null,null,null,null,null,null,null,null,null,null,null,null,null,"","","","","","","","","",2]
[277,null,null,null,null,null,null,null,null,null,null,null,null,null,null,null,null,null,"","","","","","","","","",2]
[278,null,null,null,null,null,null,null,null,null,null,null,null,null,null,null,null,null,"","","","","","","","","",2]
[279,null,null,null,null,null,null,null,null,null,null,null,null,null,null,null,null,null,"","","","","","","","","",2]
[280,null,null,null,null,null,null,null,null,null,null,null,null,null,null,null,null,null,"","","","","","","","","",2]
[281,null,null,null,null,null,null,null,null,null,null,null,null,null,null,null,null,null,"","","","","","","","","",2]
[282,null,null,null,null,null,null,null,null,null,null,null,null,null,null,null,null,null,"","","","","","","","","",2]
[283,null,null,null,null,null,null,null,null,null,null,null,null,null,null,null,null,null,"","","","","","","","","",2]
[284,null,null,null,null,null,null,null,null,null,null,null,null,null,null,null,null,null,"","","","","","","","","",2]
[285,null,null,null,null,null,null,null,null,null,null,null,null,null,null,null,null,null,"","","","","","","","","",2]
[286,null,null,null,null,null,null,null,null,null,null,null,null,null,null,null,null,null,"","","","","","","","","",2]
[287,null,null,null,null,null,null,null,null,null,null,null,null,null,null,null,null,null,"","","","","","","","","",2]
[288,null,null,null,null,null,null,null,null,null,null,null,null,null,null,null,null,null,"","","","","","","","","",2]
[289,null,null,null,null,null,null,null,null,null,null,null,null,null,null,null,null,null,"","","","","","","","","",2]
[290,null,null,null,null,null,null,null,null,null,null,null,null,null,null,null,null,null,"","","","","","","","","",2]
[291,null,null,null,null,null,null,null,null,null,null,null,null,null,null,null,null,null,"","","","","","","","","",2]
[292,null,null,null,null,null,null,null,null,null,null,null,null,null,null,null,null,null,"","","","","","","","","",2]
[293,null,null,null,null,null,null,null,null,null,null,null,null,null,null,null,null,null,"","","","","","","","","",2]
[294,null,null,null,null,null,null,null,null,null,null,null,null,null,null,null,null,null,"","","","","","","","","",2]
[295,null,null,null,null,null,null,null,null,null,null,null,null,null,null,null,null,null,"","","","","","","","","",2]
[296,null,null,null,null,null,null,null,null,null,null,null,null,null,null,null,null,null,"","","","","","","","","",2]
[297,null,null,null,null,null,null,null,null,null,null,null,null,null,null,null,null,null,"","","","","","","","","",2]
[298,null,null,null,null,null,null,null,null,null,null,null,null,null,null,null,null,null,"","","","","","","","","",2]
[299,null,null,null,null,null,null,null,null,null,null,null,null,null,null,null,null,null,"","","","","","","","","",2]
[300,null,null,null,null,null,null,null,null,null,null,null,null,null,null,null,null,null,"","","","","","","","","",2]
[301,null,null,null,null,null,null,null,null,null,null,null,null,null,null,null,null,null,"","","","","","","","","",2]
[302,null,null,null,null,null,null,null,null,null,null,null,null,null,null,null,null,null,"","","","","","","","","",2]
[303,null,null,null,null,null,null,null,null,null,null,null,null,null,null,null,null,null,"","","","","","","","","",2]
[304,null,null,null,null,null,null,null,null,null,null,null,null,null,null,null,null,null,"","","","","","","","","",2]
[305,null,null,null,null,null,null,null,null,null,null,null,null,null,null,null,null,null,"","","","","","","","","",2]
[306,null,null,null,null,null,null,null,null,null,null,null,null,null,null,null,null,null,"","","","","","","","","",2]
[307,null,null,null,null,null,null,null,null,null,null,null,null,null,null,null,null,null,"","","","","","","","","",2]
[308,null,null,null,null,null,null,null,null,null,null,null,null,null,null,null,null,null,"","","","","","","","","",2]
[309,null,null,null,null,null,null,null,null,null,null,null,null,null,null,null,null,null,"","","","","","","","","",2]
[310,null,null,null,null,null,null,null,null,null,null,null,null,null,null,null,null,null,"","","","","","","","","",2]
[311,null,null,null,null,null,null,null,null,null,null,null,null,null,null,null,null,null,"","","","","","","","","",2]
[312,null,null,null,null,null,null,null,null,null,null,null,null,null,null,null,null,null,"","","","","","","","","",2]
[313,null,null,null,null,null,null,null,null,null,null,null,null,null,null,null,null,null,"","","","","","","","","",2]
[314,null,null,null,null,null,null,null,null,null,null,null,null,null,null,null,null,null,"","","","","","","","","",2]
[315,null,null,null,null,null,null,null,null,null,null,null,null,null,null,null,null,null,"","","","","","","","","",2]
[316,null,null,null,null,null,null,null,null,null,null,null,null,null,null,null,null,null,"","","","","","","","","",2]
[317,null,null,null,null,null,null,null,null,null,null,null,null,null,null,null,null,null,"","","","","","","","","",2]
[318,null,null,null,null,null,null,null,null,null,null,null,null,null,null,null,null,null,"","","","","","","","","",2]
[319,null,null,null,null,null,null,null,null,null,null,null,null,null,null,null,null,null,"","","","","","","","","",2]
[320,null,null,null,null,null,null,null,null,null,null,null,null,null,null,null,null,null,"","","","","","","","","",2]
[321,null,null,null,null,null,null,null,null,null,null,null,null,null,null,null,null,null,{"$f":"IFERROR(ROUND(LEFT(P322,FIND(\":\",P322)-1)*60+MID(P322,FIND(\":\",P322)+1,LEN(P322)-FIND(\":\",P322)),2),\"\")","v":""},"","",{"$f":"IF(P322=\"\",\"\",IF(OR(P:P=\"disp\",Q:Q=\"disp\",R:R=\"disp\"),\"\",MIN(S322:U322)))","v":""},{"$f":"IF(V322=\"\",\"\",IF(F322=\"m\",IF(AND(V322<MIN(ZeitMänner),ISNUMBER(V322)),10,INDEX(WertungstabelleM,MATCH(V322,ZeitMänner,1)+1,2)),IF(AND(V322<MIN(ZeitFrauen),ISNUMBER(V322)),10,INDEX(WertungstabelleF,MATCH(V322,ZeitFrauen,1)+1,2))))","v":""},"","","",{"$f":"IF(W322=\"\",\"\",IF(F322=\"m\",VLOOKUP(W322,Note10_to_Qual_Männer,3,0),VLOOKUP(W322,Note10_to_Qual_Frauen,3,0)))","v":""},{"$f":"IF(OR(P:P<>\"\",Q:Q<>\"\",R:R<>\"\"),1,2)","v":2}]
[322,null,null,null,null,null,null,null,null,null,null,null,null,null,null,null,null,null,"","","","","","","",{"$f":"IF(Y323=\"\",\"\",IF(Y323>1,\"erfüllt\",\"nicht erfüllt\"))","v":""},"",2]
[323,null,null,null,null,null,null,null,null,null,null,null,null,null,null,null,null,null,"","","","","","","","","",2]
[324,null,null,null,null,null,null,null,null,null,null,null,null,null,null,null,null,null,"","","","","","","","","",2]
[325,null,null,null,null,null,null,null,null,null,null,null,null,null,null,null,null,null,"","","","","","","","","",2]
[326,null,null,null,null,null,null,null,null,null,null,null,null,null,null,null,null,null,"","","","","","","","","",2]
[327,null,null,null,null,null,null,null,null,null,null,null,null,null,null,null,null,null,"","","","","",{"$f":"IF(W328=\"\",\"\",IF(F328=\"m\",VLOOKUP(W328,Note10_to_Qual_Männer,2,0),VLOOKUP(W328,Note10_to_Qual_Frauen,2,0)))","v":""},{"$f":"IF(W328=\"\",\"\",IF(F328=\"m\",VLOOKUP(W328,Note10_to_Qual_Männer,4,0),VLOOKUP(W328,Note10_to_Qual_Frauen,4,0)))","v":""},"","",2]
[328,null,null,null,null,null,null,null,null,null,null,null,null,null,null,null,null,null,"","","","","","","","","",2]
[329,null,null,null,null,null,null,null,null,null,null,null,null,null,null,null,null,null,"","","","","","","","","",2]
[330,null,null,null,null,null,null,null,null,null,null,null,null,null,null,null,null,null,"","","","","","","","","",2]
[331,null,null,null,null,null,null,null,null,null,null,null,null,null,null,null,null,null,"","","","","","","","","",2]
[332,null,null,null,null,null,null,null,null,null,null,null,null,null,null,null,null,null,"","","","","","","","","",2]
[333,null,null,null,null,null,null,null,null,null,null,null,null,null,null,null,null,null,"","","","","","","","","",2]
[334,null,null,null,null,null,null,null,null,null,null,null,null,null,null,null,null,null,"","","","","","","","","",2]
[335,null,null,null,null,null,null,null,null,null,null,null,null,null,null,null,null,null,"","","","","","","","","",2]
[336,null,null,null,null,null,null,null,null,null,null,null,null,null,null,null,null,null,"","","","","","","","","",2]
[337,null,null,null,null,null,null,null,null,null,null,null,null,null,null,null,null,null,"","","","","","","","","",2]
[338,null,null,null,null,null,null,null,null,null,null,null,null,null,null,null,null,null,"","","","","","","","","",2]
[339,null,null,null,null,null,null,null,null,null,null,null,null,null,null,null,null,null,"","","","","","","","","",2]
[340,null,null,null,null,null,null,null,null,null,null,null,null,null,null,null,null,null,"","","","","","","","","",2]
[341,null,null,null,null,null,null,null,null,null,null,null,null,null,null,null,null,null,"","","","","","","","","",2]
[342,null,null,null,null,null,null,null,null,null,null,null,null,null,null,null,null,null,"","","","","","","","","",2]
[343,null,null,null,null,null,null,null,null,null,null,null,null,null,null,null,null,null,"","","","","","","","","",2]
[344,null,null,null,null,null,null,null,null,null,null,null,null,null,null,null,null,null,"","","","","","","","","",2]
[345,null,null,null,null,null,null,null,null,null,null,null,null,null,null,null,null,null,"","","","","","","","","",2]
[346,null,null,null,null,null,null,null,null,null,null,null,null,null,null,null,null,null,"","","","","","","","","",2]
[347,null,null,null,null,null,null,null,null,null,null,null,null,null,null,null,null,null,"","","","","","","","","",2]
[348,null,null,null,null,null,null,null,null,null,null,null,null,null,null,null,null,null,"","","","","","","","","",2]
[349,null,null,null,null,null,null,null,null,null,null,null,null,null,null,null,null,null,"","","","","","","","","",2]
[350,null,null,null,null,null,null,null,null,null,null,null,null,null,null,null,null,null,"","","","","","","","","",2]
[351,null,null,null,null,null,null,null,null,null,null,null,null,null,null,null,null,null,"","","","","","","","","",2]
[352,null,null,null,null,null,null,null,null,null,null,null,null,null,null,null,null,null,"","","","","","","","","",2]
[353,null,null,null,null,null,null,null,null,null,null,null,null,null,null,null,null,null,"","","","","","","","","",2]
[354,null,null,null,null,null,null,null,null,null,null,null,null,null,null,null,null,null,"","","","","","","","","",2]
[355,null,null,null,null,null,null,null,null,null,null,null,null,null,null,null,null,null,"","","","","","","","","",2]
[356,null,null,null,null,null,null,null,null,null,null,null,null,null,null,null,null,null,"","","","","","","","","",2]
[357,null,null,null,null,null,null,null,null,null,null,null,null,null,null,null,null,null,"","","","","","","","","",2]
[358,null,null,null,null,null,null,null,null,null,null,null,null,null,null,null,null,null,"","","","","","","","","",2]
[359,null,null,null,null,null,null,null,null,null,null,null,null,null,null,null,null,null,"","","","","","","","","",2]
[360,null,null,null,null,null,null,null,null,null,null,null,null,null,null,null,null,null,"","","","","","","","","",2]
[361,null,null,null,null,null,null,null,null,null,null,null,null,null,null,null,null,null,"","","","","","","","","",2]
[362,null,null,null,null,null,null,null,null,null,null,null,null,null,null,null,null,null,"","","","","","","","","",2]
[363,null,null,null,null,null,null,null,null,null,null,null,null,null,null,null,null,null,"","","","","","","","","",2]
[364,null,null,null,null,null,null,null,null,null,null,null,null,null,null,null,null,null,"","","","","","","","","",2]
[365,null,null,null,null,null,null,null,null,null,null,null,null,null,null,null,null,null,"","","","","","","","","",2]
[366,null,null,null,null,null,null,null,null,null,null,null,null,null,null,null,null,null,"","","","","","","","","",2]
[367,null,null,null,null,null,null,null,null,null,null,null,null,null,null,null,null,null,"","","","","","","","","",2]
[368,null,null,null,null,null,null,null,null,null,null,null,null,null,null,null,null,null,"","","","","","","","","",2]
[369,null,null,null,null,null,null,null,null,null,null,null,null,null,null,null,null,null,"","","","","","","","","",2]
[370,null,null,null,null,null,null,null,null,null,null,null,null,null,null,null,null,null,"","","","","","","","","",2]
[371,null,null,null,null,null,null,null,null,null,null,null,null,null,null,null,null,null,"","","","","","","","","",2]
[372,null,null,null,null,null,null,null,null,null,null,null,null,null,null,null,null,null,"","","","","","","","","",2]
[373,null,null,null,null,null,null,null,null,null,null,null,null,null,null,null,null,null,"","","","","","","","","",2]
[374,null,null,null,null,null,null,null,null,null,null,null,null,null,null,null,null,null,"","","","","","","","","",2]
[375,null,null,null,null,null,null,null,null,null,null,null,null,null,null,null,null,null,"","","","","","","","","",2]
[376,null,null,null,null,null,null,null,null,null,null,null,null,null,null,null,null,null,"","","","","","","","","",2]
[377,null,null,null,null,null,null,null,null,null,null,null,null,null,null,null,null,null,"","","","","","","","","",2]
[378,null,null,null,null,null,null,null,null,null,null,null,null,null,null,null,null,null,"","","","","","","","","",2]
[379,null,null,null,null,null,null,null,null,null,null,null,null,null,null,null,null,null,"","","","","","","","","",2]
[380,null,null,null,null,null,null,null,null,null,null,null,null,null,null,null,null,null,"","","","","","","","","",2]
[381,null,null,null,null,null,null,null,null,null,null,null,null,null,null,null,null,null,"","","","","","","","","",2]
[382,null,null,null,null,null,null,null,null,null,null,null,null,null,null,null,null,null,"","","","","","","","","",2]
[383,null,null,null,null,null,null,null,null,null,null,null,null,null,null,null,null,null,"","","","","","","","","",2]
[384,null,null,null,null,null,null,null,null,null,null,null,null,null,null,null,null,null,"","","","","","","","","",2]
[385,null,null,null,null,null,null,null,null,null,null,null,null,null,null,null,null,null,{"$f":"IFERROR(ROUND(LEFT(P386,FIND(\":\",P386)-1)*60+MID(P386,FIND(\":\",P386)+1,LEN(P386)-FIND(\":\",P386)),2),\"\")","v":""},"","",{"$f":"IF(P386=\"\",\"\",IF(OR(P:P=\"disp\",Q:Q=\"disp\",R:R=\"disp\"),\"\",MIN(S386:U386)))","v":""},{"$f":"IF(V386=\"\",\"\",IF(F386=\"m\",IF(AND(V386<MIN(ZeitMänner),ISNUMBER(V386)),10,INDEX(WertungstabelleM,MATCH(V386,ZeitMänner,1)+1,2)),IF(AND(V386<MIN(ZeitFrauen),ISNUMBER(V386)),10,INDEX(WertungstabelleF,MATCH(V386,ZeitFrauen,1)+1,2))))","v":""},"","","",{"$f":"IF(W386=\"\",\"\",IF(F386=\"m\",VLOOKUP(W386,Note10_to_Qual_Männer,3,0),VLOOKUP(W386,Note10_to_Qual_Frauen,3,0)))","v":""},{"$f":"IF(OR(P:P<>\"\",Q:Q<>\"\",R:R<>\"\"),1,2)","v":2}]
[386,null,null,null,null,null,null,null,null,null,null,null,null,null,null,null,null,null,"","","","","","","",{"$f":"IF(Y387=\"\",\"\",IF(Y387>1,\"erfüllt\",\"nicht erfüllt\"))","v":""},"",2]
[387,null,null,null,null,null,null,null,null,null,null,null,null,null,null,null,null,null,"","","","","","","","","",2]
[388,null,null,null,null,null,null,null,null,null,null,null,null,null,null,null,null,null,"","","","","","","","","",2]
[389,null,null,null,null,null,null,null,null,null,null,null,null,null,null,null,null,null,"","","","","","","","","",2]
[390,null,null,null,null,null,null,null,null,null,null,null,null,null,null,null,null,null,"","","","","","","","","",2]
[391,null,null,null,null,null,null,null,null,null,null,null,null,null,null,null,null,null,"","","","","",{"$f":"IF(W392=\"\",\"\",IF(F392=\"m\",VLOOKUP(W392,Note10_to_Qual_Männer,2,0),VLOOKUP(W392,Note10_to_Qual_Frauen,2,0)))","v":""},{"$f":"IF(W392=\"\",\"\",IF(F392=\"m\",VLOOKUP(W392,Note10_to_Qual_Männer,4,0),VLOOKUP(W392,Note10_to_Qual_Frauen,4,0)))","v":""},"","",2]
[392,null,null,null,null,null,null,null,null,null,null,null,null,null,null,null,null,null,"","","","","","","","","",2]
[393,null,null,null,null,null,null,null,null,null,null,null,null,null,null,null,null,null,"","","","","","","","","",2]
[394,null,null,null,null,null,null,null,null,null,null,null,null,null,null,null,null,null,"","","","","","","","","",2]
[395,null,null,null,null,null,null,null,null,null,null,null,null,null,null,null,null,null,"","","","","","","","","",2]
[396,null,null,null,null,null,null,null,null,null,null,null,null,null,null,null,null,null,"","","","","","","","","",2]
[397,null,null,null,null,null,null,null,null,null,null,null,null,null,null,null,null,null,"","","","","","","","","",2]
[398,null,null,null,null,null,null,null,null,null,null,null,null,null,null,null,null,null,"","","","","","","","","",2]
[399,null,null,null,null,null,null,null,null,null,null,null,null,null,null,null,null,null,"","","","","","","","","",2]
[400,null,null,null,null,null,null,null,null,null,null,null,null,null,null,null,null,null,"","","","","","","","","",2]
[401,null,null,null,null,null,null,null,null,null,null,null,null,null,null,null,null,null,"","","","","","","","","",2]
[402,null,null,null,null,null,null,null,null,null,null,null,null,null,null,null,null,null,"","","","","","","","","",2]
[403,null,null,null,null,null,null,null,null,null,null,null,null,null,null,null,null,null,"","","","","","","","","",2]
[404,null,null,null,null,null,null,null,null,null,null,null,null,null,null,null,null,null,"","","","","","","","","",2]
[405,null,null,null,null,null,null,null,null,null,null,null,null,null,null,null,null,null,"","","","","","","","","",2]
[406,null,null,null,null,null,null,null,null,null,null,null,null,null,null,null,null,null,"","","","","","","","","",2]
[407,null,null,null,null,null,null,null,null,null,null,null,null,null,null,null,null,null,"","","","","","","","","",2]
[408,null,null,null,null,null,null,null,null,null,null,null,null,null,null,null,null,null,"","","","","","","","","",2]
[409,null,null,null,null,null,null,null,null,null,null,null,null,null,null,null,null,null,"","","","","","","","","",2]
[410,null,null,null,null,null,null,null,null,null,null,null,null,null,null,null,null,null,"","","","","","","","","",2]
[411,null,null,null,null,null,null,null,null,null,null,null,null,null,null,null,null,null,"","","","","","","","","",2]
[412,null,null,null,null,null,null,null,null,null,null,null,null,null,null,null,null,null,"","","","","","","","","",2]
[413,null,null,null,null,null,null,null,null,null,null,null,null,null,null,null,null,null,"","","","","","","","","",2]
[414,null,null,null,null,null,null,null,null,null,null,null,null,null,null,null,null,null,"","","","","","","","","",2]
[415,null,null,null,null,null,null,null,null,null,null,null,null,null,null,null,null,null,"","","","","","","","","",2]
[416,null,null,null,null,null,null,null,null,null,null,null,null,null,null,null,null,null,"","","","","","","","","",2]
[417,null,null,null,null,null,null,null,null,null,null,null,null,null,null,null,null,null,"","","","","","","","","",2]
[418,null,null,null,null,null,null,null,null,null,null,null,null,null,null,null,null,null,"","","","","","","","","",2]
[419,null,null,null,null,null,null,null,null,null,null,null,null,null,null,null,null,null,"","","","","","","","","",2]
[420,null,null,null,null,null,null,null,null,null,null,null,null,null,null,null,null,null,"","","","","","","","","",2]
[421,null,null,null,null,null,null,null,null,null,null,null,null,null,null,null,null,null,"","","","","","","","","",2]
[422,null,null,null,null,null,null,null,null,null,null,null,null,null,null,null,null,null,"","","","","","","","","",2]
[423,null,null,null,null,null,null,null,null,null,null,null,null,null,null,null,null,null,"","","","","","","","","",2]
[424,null,null,null,null,null,null,null,null,null,null,null,null,null,null,null,null,null,"","","","","","","","","",2]
[425,null,null,null,null,null,null,null,null,null,null,null,null,null,null,null,null,null,"","","","","","","","","",2]
[426,null,null,null,null,null,null,null,null,null,null,null,null,null,null,null,null,null,"","","","","","","","","",2]
[427,null,null,null,null,null,null,null,null,null,null,null,null,null,null,null,null,null,"","","","","","","","","",2]
[428,null,null,null,null,null,null,null,null,null,null,null,null,null,null,null,null,null,"","","","","","","","","",2]
[429,null,null,null,null,null,null,null,null,null,null,null,null,null,null,null,null,null,"","","","","","","","","",2]
[430,null,null,null,null,null,null,null,null,null,null,null,null,null,null,null,null,null,"","","","","","","","","",2]
[431,null,null,null,null,null,null,null,null,null,null,null,null,null,null,null,null,null,"","","","","","","","","",2]
[432,null,null,null,null,null,null,null,null,null,null,null,null,null,null,null,null,null,"","","","","","","","","",2]
[433,null,null,null,null,null,null,null,null,null,null,null,null,null,null,null,null,null,"","","","","","","","","",2]
[434,null,null,null,null,null,null,null,null,null,null,null,null,null,null,null,null,null,"","","","","","","","","",2]
[435,null,null,null,null,null,null,null,null,null,null,null,null,null,null,null,null,null,"","","","","","","","","",2]
[436,null,null,null,null,null,null,null,null,null,null,null,null,null,null,null,null,null,"","","","","","","","","",2]
[437,null,null,null,null,null,null,null,null,null,null,null,null,null,null,null,null,null,"","","","","","","","","",2]
[438,null,null,null,null,null,null,null,null,null,null,null,null,null,null,null,null,null,"","","","","","","","","",2]
[439,null,null,null,null,null,null,null,null,null,null,null,null,null,null,null,null,null,"","","","","","","","","",2]
[440,null,null,null,null,null,null,null,null,null,null,null,null,null,null,null,null,null,"","","","","","","","","",2]
[441,null,null,null,null,null,null,null,null,null,null,null,null,null,null,null,null,null,"","","","","","","","","",2]
[442,null,null,null,null,null,null,null,null,null,null,null,null,null,null,null,null,null,"","","","","","","","","",2]
[443,null,null,null,null,null,null,null,null,null,null,null,null,null,null,null,null,null,"","","","","","","","","",2]
[444,null,null,null,null,null,null,null,null,null,null,null,null,null,null,null,null,null,"","","","","","","","","",2]
[445,null,null,null,null,null,null,null,null,null,null,null,null,null,null,null,null,null,"","","","","","","","","",2]
[446,null,null,null,null,null,null,null,null,null,null,null,null,null,null,null,null,null,"","","","","","","","","",2]
[447,null,null,null,null,null,null,null,null,null,null,null,null,null,null,null,null,null,"","","","","","","","","",2]
[448,null,null,null,null,null,null,null,null,null,null,null,null,null,null,null,null,null,"","","","","","","","","",2]
[449,null,null,null,null,null,null,null,null,null,null,null,null,null,null,null,null,null,{"$f":"IFERROR(ROUND(LEFT(P450,FIND(\":\",P450)-1)*60+MID(P450,FIND(\":\",P450)+1,LEN(P450)-FIND(\":\",P450)),2),\"\")","v":""},"","",{"$f":"IF(P450=\"\",\"\",IF(OR(P:P=\"disp\",Q:Q=\"disp\",R:R=\"disp\"),\"\",MIN(S450:U450)))","v":""},{"$f":"IF(V450=\"\",\"\",IF(F450=\"m\",IF(AND(V450<MIN(ZeitMänner),ISNUMBER(V450)),10,INDEX(WertungstabelleM,MATCH(V450,ZeitMänner,1)+1,2)),IF(AND(V450<MIN(ZeitFrauen),ISNUMBER(V450)),10,INDEX(WertungstabelleF,MATCH(V450,ZeitFrauen,1)+1,2))))","v":""},"","","",{"$f":"IF(W450=\"\",\"\",IF(F450=\"m\",VLOOKUP(W450,Note10_to_Qual_Männer,3,0),VLOOKUP(W450,Note10_to_Qual_Frauen,3,0)))","v":""},{"$f":"IF(OR(P:P<>\"\",Q:Q<>\"\",R:R<>\"\"),1,2)","v":2}]
[450,null,null,null,null,null,null,null,null,null,null,null,null,null,null,null,null,null,"","","","","","","",{"$f":"IF(Y451=\"\",\"\",IF(Y451>1,\"erfüllt\",\"nicht erfüllt\"))","v":""},"",2]
[451,null,null,null,null,null,null,null,null,null,null,null,null,null,null,null,null,null,"","","","","","","","","",2]
[452,null,null,null,null,null,null,null,null,null,null,null,null,null,null,null,null,null,"","","","","","","","","",2]
[453,null,null,null,null,null,null,null,null,null,null,null,null,null,null,null,null,null,"","","","","","","","","",2]
[454,null,null,null,null,null,null,null,null,null,null,null,null,null,null,null,null,null,"","","","","","","","","",2]
[455,null,null,null,null,null,null,null,null,null,null,null,null,null,null,null,null,null,"","","","","",{"$f":"IF(W456=\"\",\"\",IF(F456=\"m\",VLOOKUP(W456,Note10_to_Qual_Männer,2,0),VLOOKUP(W456,Note10_to_Qual_Frauen,2,0)))","v":""},{"$f":"IF(W456=\"\",\"\",IF(F456=\"m\",VLOOKUP(W456,Note10_to_Qual_Männer,4,0),VLOOKUP(W456,Note10_to_Qual_Frauen,4,0)))","v":""},"","",2]
[456,null,null,null,null,null,null,null,null,null,null,null,null,null,null,null,null,null,"","","","","","","","","",2]
[457,null,null,null,null,null,null,null,null,null,null,null,null,null,null,null,null,null,"","","","","","","","","",2]
[458,null,null,null,null,null,null,null,null,null,null,null,null,null,null,null,null,null,"","","","","","","","","",2]
[459,null,null,null,null,null,null,null,null,null,null,null,null,null,null,null,null,null,"","","","","","","","","",2]
[460,null,null,null,null,null,null,null,null,null,null,null,null,null,null,null,null,null,"","","","","","","","","",2]
[461,null,null,null,null,null,null,null,null,null,null,null,null,null,null,null,null,null,"","","","","","","","","",2]
[462,null,null,null,null,null,null,null,null,null,null,null,null,null,null,null,null,null,"","","","","","","","","",2]
[463,null,null,null,null,null,null,null,null,null,null,null,null,null,null,null,null,null,"","","","","","","","","",2]
[464,null,null,null,null,null,null,null,null,null,null,null,null,null,null,null,null,null,"","","","","","","","","",2]
[465,null,null,null,null,null,null,null,null,null,null,null,null,null,null,null,null,null,"","","","","","","","","",2]
[466,null,null,null,null,null,null,null,null,null,null,null,null,null,null,null,null,null,"","","","","","","","","",2]
[467,null,null,null,null,null,null,null,null,null,null,null,null,null,null,null,null,null,"","","","","","","","","",2]
[468,null,null,null,null,null,null,null,null,null,null,null,null,null,null,null,null,null,"","","","","","","","","",2]
[469,null,null,null,null,null,null,null,null,null,null,null,null,null,null,null,null,null,"","","","","","","","","",2]
[470,null,null,null,null,null,null,null,null,null,null,null,null,null,null,null,null,null,"","","","","","","","","",2]
[471,null,null,null,null,null,null,null,null,null,null,null,null,null,null,null,null,null,"","","","","","","","","",2]
[472,null,null,null,null,null,null,null,null,null,null,null,null,null,null,null,null,null,"","","","","","","","","",2]
[473,null,null,null,null,null,null,null,null,null,null,null,null,null,null,null,null,null,"","","","","","","","","",2]
[474,null,null,null,null,null,null,null,null,null,null,null,null,null,null,null,null,null,"","","","","","","","","",2]
[475,null,null,null,null,null,null,null,null,null,null,null,null,null,null,null,null,null,"","","","","","","","","",2]
[476,null,null,null,null,null,null,null,null,null,null,null,null,null,null,null,null,null,"","","","","","","","","",2]
[477,null,null,null,null,null,null,null,null,null,null,null,null,null,null,null,null,null,"","","","","","","","","",2]
[478,null,null,null,null,null,null,null,null,null,null,null,null,null,null,null,null,null,"","","","","","","","","",2]
[479,null,null,null,null,null,null,null,null,null,null,null,null,null,null,null,null,null,"","","","","","","","","",2]
[480,null,null,null,null,null,null,null,null,null,null,null,null,null,null,null,null,null,"","","","","","","","","",2]
[481,null,null,null,null,null,null,null,null,null,null,null,null,null,null,null,null,null,"","","","","","","","","",2]
[482,null,null,null,null,null,null,null,null,null,null,null,null,null,null,null,null,null,"","","","","","","","","",2]
[483,null,null,null,null,null,null,null,null,null,null,null,null,null,null,null,null,null,"","","","","","","","","",2]
[484,null,null,null,null,null,null,null,null,null,null,null,null,null,null,null,null,null,"","","","","","","","","",2]
[485,null,null,null,null,null,null,null,null,null,null,null,null,null,null,null,null,null,"","","","","","","","","",2]
[486,null,null,null,null,null,null,null,null,null,null,null,null,null,null,null,null,null,"","","","","","","","","",2]
[487,null,null,null,null,null,null,null,null,null,null,null,null,null,null,null,null,null,"","","","","","","","","",2]
[488,null,null,null,null,null,null,null,null,null,null,null,null,null,null,null,null,null,"","","","","","","","","",2]
[489,null,null,null,null,null,null,null,null,null,null,null,null,null,null,null,null,null,"","","","","","","","","",2]
[490,null,null,null,null,null,null,null,null,null,null,null,null,null,null,null,null,null,"","","","","","","","","",2]
[491,null,null,null,null,null,null,null,null,null,null,null,null,null,null,null,null,null,"","","","","","","","","",2]
[492,null,null,null,null,null,null,null,null,null,null,null,null,null,null,null,null,null,"","","","","","","","","",2]
[493,null,null,null,null,null,null,null,null,null,null,null,null,null,null,null,null,null,"","","","","","","","","",2]
[494,null,null,null,null,null,null,null,null,null,null,null,null,null,null,null,null,null,"","","","","","","","","",2]
[495,null,null,null,null,null,null,null,null,null,null,null,null,null,null,null,null,null,"","","","","","","","","",2]
[496,null,null,null,null,null,null,null,null,null,null,null,null,null,null,null,null,null,"","","","","","","","","",2]
[497,null,null,null,null,null,null,null,null,null,null,null,null,null,null,null,null,null,"","","","","","","","","",2]
[498,null,null,null,null,null,null,null,null,null,null,null,null,null,null,null,null,null,"","","","","","","","","",2]
[499,null,null,null,null,null,null,null,null,null,null,null,null,null,null,null,null,null,"","","","","","","","","",2]
[500,null,null,null,null,null,null,null,null,null,null,null,null,null,null,null,null,null,"","","","","","","","","",2]
[501,null,null,null,null,null,null,null,null,null,null,null,null,null,null,null,null,null,"","","","","","","","","",2]
[502,null,null,null,null,null,null,null,null,null,null,null,null,null,null,null,null,null,"","","","","","","","","",2]
[503,null,null,null,null,null,null,null,null,null,null,null,null,null,null,null,null,null,"","","","","","","","","",2]
[504,null,null,null,null,null,null,null,null,null,null,null,null,null,null,null,null,null,"","","","","","","","","",2]
[505,null,null,null,null,null,null,null,null,null,null,null,null,null,null,null,null,null,"","","","","","","","","",2]
[506,null,null,null,null,null,null,null,null,null,null,null,null,null,null,null,null,null,"","","","","","","","","",2]
[507,null,null,null,null,null,null,null,null,null,null,null,null,null,null,null,null,null,"","","","","","","","","",2]
[508,null,null,null,null,null,null,null,null,null,null,null,null,null,null,null,null,null,"","","","","","","","","",2]
[509,null,null,null,null,null,null,null,null,null,null,null,null,null,null,null,null,null,"","","","","","","","","",2]
[510,null,null,null,null,null,null,null,null,null,null,null,null,null,null,null,null,null,"","","","","","","","","",2]
[511,null,null,null,null,null,null,null,null,null,null,null,null,null,null,null,null,null,"","","","","","","","","",2]
[512,null,null,null,null,null,null,null,null,null,null,null,null,null,null,null,null,null,"","","","","","","","","",2]
[513,null,null,null,null,null,null,null,null,null,null,null,null,null,null,null,null,null,{"$f":"IFERROR(ROUND(LEFT(P514,FIND(\":\",P514)-1)*60+MID(P514,FIND(\":\",P514)+1,LEN(P514)-FIND(\":\",P514)),2),\"\")","v":""},"","",{"$f":"IF(P514=\"\",\"\",IF(OR(P:P=\"disp\",Q:Q=\"disp\",R:R=\"disp\"),\"\",MIN(S514:U514)))","v":""},{"$f":"IF(V514=\"\",\"\",IF(F514=\"m\",IF(AND(V514<MIN(ZeitMänner),ISNUMBER(V514)),10,INDEX(WertungstabelleM,MATCH(V514,ZeitMänner,1)+1,2)),IF(AND(V514<MIN(ZeitFrauen),ISNUMBER(V514)),10,INDEX(WertungstabelleF,MATCH(V514,ZeitFrauen,1)+1,2))))","v":""},"","","",{"$f":"IF(W514=\"\",\"\",IF(F514=\"m\",VLOOKUP(W514,Note10_to_Qual_Männer,3,0),VLOOKUP(W514,Note10_to_Qual_Frauen,3,0)))","v":""},{"$f":"IF(OR(P:P<>\"\",Q:Q<>\"\",R:R<>\"\"),1,2)","v":2}]
[514,null,null,null,null,null,null,null,null,null,null,null,null,null,null,null,null,null,"","","","","","","",{"$f":"IF(Y515=\"\",\"\",IF(Y515>1,\"erfüllt\",\"nicht erfüllt\"))","v":""},"",2]
[515,null,null,null,null,null,null,null,null,null,null,null,null,null,null,null,null,null,"","","","","","","","","",2]
[516,null,null,null,null,null,null,null,null,null,null,null,null,null,null,null,null,null,"","","","","","","","","",2]
[517,null,null,null,null,null,null,null,null,null,null,null,null,null,null,null,null,null,"","","","","","","","","",2]
[518,null,null,null,null,null,null,null,null,null,null,null,null,null,null,null,null,null,"","","","","","","","","",2]
[519,null,null,null,null,null,null,null,null,null,null,null,null,null,null,null,null,null,"","","","","",{"$f":"IF(W520=\"\",\"\",IF(F520=\"m\",VLOOKUP(W520,Note10_to_Qual_Männer,2,0),VLOOKUP(W520,Note10_to_Qual_Frauen,2,0)))","v":""},{"$f":"IF(W520=\"\",\"\",IF(F520=\"m\",VLOOKUP(W520,Note10_to_Qual_Männer,4,0),VLOOKUP(W520,Note10_to_Qual_Frauen,4,0)))","v":""},"","",2]
[520,null,null,null,null,null,null,null,null,null,null,null,null,null,null,null,null,null,"","","","","","","","","",2]
[521,null,null,null,null,null,null,null,null,null,null,null,null,null,null,null,null,null,"","","","","","","","","",2]
[522,null,null,null,null,null,null,null,null,null,null,null,null,null,null,null,null,null,"","","","","","","","","",2]
[523,null,null,null,null,null,null,null,null,null,null,null,null,null,null,null,null,null,"","","","","","","","","",2]
[524,null,null,null,null,null,null,null,null,null,null,null,null,null,null,null,null,null,"","","","","","","","","",2]
[525,null,null,null,null,null,null,null,null,null,null,null,null,null,null,null,null,null,"","","","","","","","","",2]
[526,null,null,null,null,null,null,null,null,null,null,null,null,null,null,null,null,null,"","","","","","","","","",2]
[527,null,null,null,null,null,null,null,null,null,null,null,null,null,null,null,null,null,"","","","","","","","","",2]
[528,null,null,null,null,null,null,null,null,null,null,null,null,null,null,null,null,null,"","","","","","","","","",2]
[529,null,null,null,null,null,null,null,null,null,null,null,null,null,null,null,null,null,"","","","","","","","","",2]
[530,null,null,null,null,null,null,null,null,null,null,null,null,null,null,null,null,null,"","","","","","","","","",2]
[531,null,null,null,null,null,null,null,null,null,null,null,null,null,null,null,null,null,"","","","","","","","","",2]
[532,null,null,null,null,null,null,null,null,null,null,null,null,null,null,null,null,null,"","","","","","","","","",2]
[533,null,null,null,null,null,null,null,null,null,null,null,null,null,null,null,null,null,"","","","","","","","","",2]
[534,null,null,null,null,null,null,null,null,null,null,null,null,null,null,null,null,null,"","","","","","","","","",2]
[535,null,null,null,null,null,null,null,null,null,null,null,null,null,null,null,null,null,"","","","","","","","","",2]
[536,null,null,null,null,null,null,null,null,null,null,null,null,null,null,null,null,null,"","","","","","","","","",2]
[537,null,null,null,null,null,null,null,null,null,null,null,null,null,null,null,null,null,"","","","","","","","","",2]
[538,null,null,null,null,null,null,null,null,null,null,null,null,null,null,null,null,null,"","","","","","","","","",2]
[539,null,null,null,null,null,null,null,null,null,null,null,null,null,null,null,null,null,"","","","","","","","","",2]
[540,null,null,null,null,null,null,null,null,null,null,null,null,null,null,null,null,null,"","","","","","","","","",2]
[541,null,null,null,null,null,null,null,null,null,null,null,null,null,null,null,null,null,"","","","","","","","","",2]
[542,null,null,null,null,null,null,null,null,null,null,null,null,null,null,null,null,null,"","","","","","","","","",2]
[543,null,null,null,null,null,null,null,null,null,null,null,null,null,null,null,null,null,"","","","","","","","","",2]
[544,null,null,null,null,null,null,null,null,null,null,null,null,null,null,null,null,null,"","","","","","","","","",2]
[545,null,null,null,null,null,null,null,null,null,null,null,null,null,null,null,null,null,"","","","","","","","","",2]
[546,null,null,null,null,null,null,null,null,null,null,null,null,null,null,null,null,null,"","","","","","","","","",2]
[547,null,null,null,null,null,null,null,null,null,null,null,null,null,null,null,null,null,"","","","","","","","","",2]
[548,null,null,null,null,null,null,null,null,null,null,null,null,null,null,null,null,null,"","","","","","","","","",2]
[549,null,null,null,null,null,null,null,null,null,null,null,null,null,null,null,null,null,"","","","","","","","","",2]
[550,null,null,null,null,null,null,null,null,null,null,null,null,null,null,null,null,null,"","","","","","","","","",2]
[551,null,null,null,null,null,null,null,null,null,null,null,null,null,null,null,null,null,"","","","","","","","","",2]
[552,null,null,null,null,null,null,null,null,null,null,null,null,null,null,null,null,null,"","","","","","","","","",2]
[553,null,null,null,null,null,null,null,null,null,null,null,null,null,null,null,null,null,"","","","","","","","","",2]
[554,null,null,null,null,null,null,null,null,null,null,null,null,null,null,null,null,null,"","","","","","","","","",2]
[555,null,null,null,null,null,null,null,null,null,null,null,null,null,null,null,null,null,"","","","","","","","","",2]
[556,null,null,null,null,null,null,null,null,null,null,null,null,null,null,null,null,null,"","","","","","","","","",2]
[557,null,null,null,null,null,null,null,null,null,null,null,null,null,null,null,null,null,"","","","","","","","","",2]
[558,null,null,null,null,null,null,null,null,null,null,null,null,null,null,null,null,null,"","","","","","","","","",2]
[559,null,null,null,null,null,null,null,null,null,null,null,null,null,null,null,null,null,"","","","","","","","","",2]
[560,null,null,null,null,null,null,null,null,null,null,null,null,null,null,null,null,null,"","","","","","","","","",2]
[561,null,null,null,null,null,null,null,null,null,null,null,null,null,null,null,null,null,"","","","","","","","","",2]
[562,null,null,null,null,null,null,null,null,null,null,null,null,null,null,null,null,null,"","","","","","","","","",2]
[563,null,null,null,null,null,null,null,null,null,null,null,null,null,null,null,null,null,"","","","","","","","","",2]
[564,null,null,null,null,null,null,null,null,null,null,null,null,null,null,null,null,null,"","","","","","","","","",2]
[565,null,null,null,null,null,null,null,null,null,null,null,null,null,null,null,null,null,"","","","","","","","","",2]
[566,null,null,null,null,null,null,null,null,null,null,null,null,null,null,null,null,null,"","","","","","","","","",2]
[567,null,null,null,null,null,null,null,null,null,null,null,null,null,null,null,null,null,"","","","","","","","","",2]
[568,null,null,null,null,null,null,null,null,null,null,null,null,null,null,null,null,null,"","","","","","","","","",2]
[569,null,null,null,null,null,null,null,null,null,null,null,null,null,null,null,null,null,"","","","","","","","","",2]
[570,null,null,null,null,null,null,null,null,null,null,null,null,null,null,null,null,null,"","","","","","","","","",2]
[571,null,null,null,null,null,null,null,null,null,null,null,null,null,null,null,null,null,"","","","","","","","","",2]
[572,null,null,null,null,null,null,null,null,null,null,null,null,null,null,null,null,null,"","","","","","","","","",2]
[573,null,null,null,null,null,null,null,null,null,null,null,null,null,null,null,null,null,"","","","","","","","","",2]
[574,null,null,null,null,null,null,null,null,null,null,null,null,null,null,null,null,null,"","","","","","","","","",2]
[575,null,null,null,null,null,null,null,null,null,null,null,null,null,null,null,null,null,"","","","","","","","","",2]
[576,null,null,null,null,null,null,null,null,null,null,null,null,null,null,null,null,null,"","","","","","","","","",2]
[577,null,null,null,null,null,null,null,null,null,null,null,null,null,null,null,null,null,{"$f":"IFERROR(ROUND(LEFT(P578,FIND(\":\",P578)-1)*60+MID(P578,FIND(\":\",P578)+1,LEN(P578)-FIND(\":\",P578)),2),\"\")","v":""},"","",{"$f":"IF(P578=\"\",\"\",IF(OR(P:P=\"disp\",Q:Q=\"disp\",R:R=\"disp\"),\"\",MIN(S578:U578)))","v":""},{"$f":"IF(V578=\"\",\"\",IF(F578=\"m\",IF(AND(V578<MIN(ZeitMänner),ISNUMBER(V578)),10,INDEX(WertungstabelleM,MATCH(V578,ZeitMänner,1)+1,2)),IF(AND(V578<MIN(ZeitFrauen),ISNUMBER(V578)),10,INDEX(WertungstabelleF,MATCH(V578,ZeitFrauen,1)+1,2))))","v":""},"","","",{"$f":"IF(W578=\"\",\"\",IF(F578=\"m\",VLOOKUP(W578,Note10_to_Qual_Männer,3,0),VLOOKUP(W578,Note10_to_Qual_Frauen,3,0)))","v":""},{"$f":"IF(OR(P:P<>\"\",Q:Q<>\"\",R:R<>\"\"),1,2)","v":2}]
[578,null,null,null,null,null,null,null,null,null,null,null,null,null,null,null,null,null,"","","","","","","",{"$f":"IF(Y579=\"\",\"\",IF(Y579>1,\"erfüllt\",\"nicht erfüllt\"))","v":""},"",2]
[579,null,null,null,null,null,null,null,null,null,null,null,null,null,null,null,null,null,"","","","","","","","","",2]
[580,null,null,null,null,null,null,null,null,null,null,null,null,null,null,null,null,null,"","","","","","","","","",2]
[581,null,null,null,null,null,null,null,null,null,null,null,null,null,null,null,null,null,"","","","","","","","","",2]
[582,null,null,null,null,null,null,null,null,null,null,null,null,null,null,null,null,null,"","","","","","","","","",2]
[583,null,null,null,null,null,null,null,null,null,null,null,null,null,null,null,null,null,"","","","","",{"$f":"IF(W584=\"\",\"\",IF(F584=\"m\",VLOOKUP(W584,Note10_to_Qual_Männer,2,0),VLOOKUP(W584,Note10_to_Qual_Frauen,2,0)))","v":""},{"$f":"IF(W584=\"\",\"\",IF(F584=\"m\",VLOOKUP(W584,Note10_to_Qual_Männer,4,0),VLOOKUP(W584,Note10_to_Qual_Frauen,4,0)))","v":""},"","",2]
[584,null,null,null,null,null,null,null,null,null,null,null,null,null,null,null,null,null,"","","","","","","","","",2]
[585,null,null,null,null,null,null,null,null,null,null,null,null,null,null,null,null,null,"","","","","","","","","",2]
[586,null,null,null,null,null,null,null,null,null,null,null,null,null,null,null,null,null,"","","","","","","","","",2]
[587,null,null,null,null,null,null,null,null,null,null,null,null,null,null,null,null,null,"","","","","","","","","",2]
[588,null,null,null,null,null,null,null,null,null,null,null,null,null,null,null,null,null,"","","","","","","","","",2]
[589,null,null,null,null,null,null,null,null,null,null,null,null,null,null,null,null,null,"","","","","","","","","",2]
[590,null,null,null,null,null,null,null,null,null,null,null,null,null,null,null,null,null,"","","","","","","","","",2]
[591,null,null,null,null,null,null,null,null,null,null,null,null,null,null,null,null,null,"","","","","","","","","",2]
[592,null,null,null,null,null,null,null,null,null,null,null,null,null,null,null,null,null,"","","","","","","","","",2]
[593,null,null,null,null,null,null,null,null,null,null,null,null,null,null,null,null,null,"","","","","","","","","",2]
[594,null,null,null,null,null,null,null,null,null,null,null,null,null,null,null,null,null,"","","","","","","","","",2]
[595,null,null,null,null,null,null,null,null,null,null,null,null,null,null,null,null,null,"","","","","","","","","",2]
[596,null,null,null,null,null,null,null,null,null,null,null,null,null,null,null,null,null,"","","","","","","","","",2]
[597,null,null,null,null,null,null,null,null,null,null,null,null,null,null,null,null,null,"","","","","","","","","",2]
[598,null,null,null,null,null,null,null,null,null,null,null,null,null,null,null,null,null,"","","","","","","","","",2]
[599,null,null,null,null,null,null,null,null,null,null,null,null,null,null,null,null,null,"","","","","","","","","",2]
[600,null,null,null,null,null,null,null,null,null,null,null,null,null,null,null,null,null,"","","","","","","","","",2]
[601,null,null,null,null,null,null,null,null,null,null,null,null,null,null,null,null,null,"","","","","","","","","",2]
[602,null,null,null,null,null,null,null,null,null,null,null,null,null,null,null,null,null,"","","","","","","","","",2]
[603,null,null,null,null,null,null,null,null,null,null,null,null,null,null,null,null,null,"","","","","","","","","",2]
[604,null,null,null,null,null,null,null,null,null,null,null,null,null,null,null,null,null,"","","","","","","","","",2]
[605,null,null,null,null,null,null,null,null,null,null,null,null,null,null,null,null,null,"","","","","","","","","",2]
[606,null,null,null,null,null,null,null,null,null,null,null,null,null,null,null,null,null,"","","","","","","","","",2]
[607,null,null,null,null,null,null,null,null,null,null,null,null,null,null,null,null,null,"","","","","","","","","",2]
[608,null,null,null,null,null,null,null,null,null,null,null,null,null,null,null,null,null,"","","","","","","","","",2]
[609,null,null,null,null,null,null,null,null,null,null,null,null,null,null,null,null,null,"","","","","","","","","",2]
[610,null,null,null,null,null,null,null,null,null,null,null,null,null,null,null,null,null,"","","","","","","","","",2]
[611,null,null,null,null,null,null,null,null,null,null,null,null,null,null,null,null,null,"","","","","","","","","",2]
[612,null,null,null,null,null,null,null,null,null,null,null,null,null,null,null,null,null,"","","","","","","","","",2]
[613,null,null,null,null,null,null,null,null,null,null,null,null,null,null,null,null,null,"","","","","","","","","",2]
[614,null,null,null,null,null,null,null,null,null,null,null,null,null,null,null,null,null,"","","","","","","","","",2]
[615,null,null,null,null,null,null,null,null,null,null,null,null,null,null,null,null,null,"","","","","","","","","",2]
[616,null,null,null,null,null,null,null,null,null,null,null,null,null,null,null,null,null,"","","","","","","","","",2]
[617,null,null,null,null,null,null,null,null,null,null,null,null,null,null,null,null,null,"","","","","","","","","",2]
[618,null,null,null,null,null,null,null,null,null,null,null,null,null,null,null,null,null,"","","","","","","","","",2]
[619,null,null,null,null,null,null,null,null,null,null,null,null,null,null,null,null,null,"","","","","","","","","",2]
[620,null,null,null,null,null,null,null,null,null,null,null,null,null,null,null,null,null,"","","","","","","","","",2]
[621,null,null,null,null,null,null,null,null,null,null,null,null,null,null,null,null,null,"","","","","","","","","",2]
[622,null,null,null,null,null,null,null,null,null,null,null,null,null,null,null,null,null,"","","","","","","","","",2]
[623,null,null,null,null,null,null,null,null,null,null,null,null,null,null,null,null,null,"","","","","","","","","",2]
[624,null,null,null,null,null,null,null,null,null,null,null,null,null,null,null,null,null,"","","","","","","","","",2]
[625,null,null,null,null,null,null,null,null,null,null,null,null,null,null,null,null,null,"","","","","","","","","",2]
[626,null,null,null,null,null,null,null,null,null,null,null,null,null,null,null,null,null,"","","","","","","","","",2]
[627,null,null,null,null,null,null,null,null,null,null,null,null,null,null,null,null,null,"","","","","","","","","",2]
[628,null,null,null,null,null,null,null,null,null,null,null,null,null,null,null,null,null,"","","","","","","","","",2]
[629,null,null,null,null,null,null,null,null,null,null,null,null,null,null,null,null,null,"","","","","","","","","",2]
[630,null,null,null,null,null,null,null,null,null,null,null,null,null,null,null,null,null,"","","","","","","","","",2]
[631,null,null,null,null,null,null,null,null,null,null,null,null,null,null,null,null,null,"","","","","","","","","",2]
[632,null,null,null,null,null,null,null,null,null,null,null,null,null,null,null,null,null,"","","","","","","","","",2]
[633,null,null,null,null,null,null,null,null,null,null,null,null,null,null,null,null,null,"","","","","","","","","",2]
[634,null,null,null,null,null,null,null,null,null,null,null,null,null,null,null,null,null,"","","","","","","","","",2]
[635,null,null,null,null,null,null,null,null,null,null,null,null,null,null,null,null,null,"","","","","","","","","",2]
[636,null,null,null,null,null,null,null,null,null,null,null,null,null,null,null,null,null,"","","","","","","","","",2]
[637,null,null,null,null,null,null,null,null,null,null,null,null,null,null,null,null,null,"","","","","","","","","",2]
[638,null,null,null,null,null,null,null,null,null,null,null,null,null,null,null,null,null,"","","","","","","","","",2]
[639,null,null,null,null,null,null,null,null,null,null,null,null,null,null,null,null,null,"","","","","","","","","",2]
[640,null,null,null,null,null,null,null,null,null,null,null,null,null,null,null,null,null,"","","","","","","","","",2]
[641,null,null,null,null,null,null,null,null,null,null,null,null,null,null,null,null,null,{"$f":"IFERROR(ROUND(LEFT(P642,FIND(\":\",P642)-1)*60+MID(P642,FIND(\":\",P642)+1,LEN(P642)-FIND(\":\",P642)),2),\"\")","v":""},"","",{"$f":"IF(P642=\"\",\"\",IF(OR(P:P=\"disp\",Q:Q=\"disp\",R:R=\"disp\"),\"\",MIN(S642:U642)))","v":""},{"$f":"IF(V642=\"\",\"\",IF(F642=\"m\",IF(AND(V642<MIN(ZeitMänner),ISNUMBER(V642)),10,INDEX(WertungstabelleM,MATCH(V642,ZeitMänner,1)+1,2)),IF(AND(V642<MIN(ZeitFrauen),ISNUMBER(V642)),10,INDEX(WertungstabelleF,MATCH(V642,ZeitFrauen,1)+1,2))))","v":""},"","","",{"$f":"IF(W642=\"\",\"\",IF(F642=\"m\",VLOOKUP(W642,Note10_to_Qual_Männer,3,0),VLOOKUP(W642,Note10_to_Qual_Frauen,3,0)))","v":""},{"$f":"IF(OR(P:P<>\"\",Q:Q<>\"\",R:R<>\"\"),1,2)","v":2}]
[642,null,null,null,null,null,null,null,null,null,null,null,null,null,null,null,null,null,"","","","","","","",{"$f":"IF(Y643=\"\",\"\",IF(Y643>1,\"erfüllt\",\"nicht erfüllt\"))","v":""},"",2]
[643,null,null,null,null,null,null,null,null,null,null,null,null,null,null,null,null,null,"","","","","","","","","",2]
[644,null,null,null,null,null,null,null,null,null,null,null,null,null,null,null,null,null,"","","","","","","","","",2]
[645,null,null,null,null,null,null,null,null,null,null,null,null,null,null,null,null,null,"","","","","","","","","",2]
[646,null,null,null,null,null,null,null,null,null,null,null,null,null,null,null,null,null,"","","","","","","","","",2]
[647,null,null,null,null,null,null,null,null,null,null,null,null,null,null,null,null,null,"","","","","",{"$f":"IF(W648=\"\",\"\",IF(F648=\"m\",VLOOKUP(W648,Note10_to_Qual_Männer,2,0),VLOOKUP(W648,Note10_to_Qual_Frauen,2,0)))","v":""},{"$f":"IF(W648=\"\",\"\",IF(F648=\"m\",VLOOKUP(W648,Note10_to_Qual_Männer,4,0),VLOOKUP(W648,Note10_to_Qual_Frauen,4,0)))","v":""},"","",2]
[648,null,null,null,null,null,null,null,null,null,null,null,null,null,null,null,null,null,"","","","","","","","","",2]
[649,null,null,null,null,null,null,null,null,null,null,null,null,null,null,null,null,null,"","","","","","","","","",2]
[650,null,null,null,null,null,null,null,null,null,null,null,null,null,null,null,null,null,"","","","","","","","","",2]
[651,null,null,null,null,null,null,null,null,null,null,null,null,null,null,null,null,null,"","","","","","","","","",2]
[652,null,null,null,null,null,null,null,null,null,null,null,null,null,null,null,null,null,"","","","","","","","","",2]
[653,null,null,null,null,null,null,null,null,null,null,null,null,null,null,null,null,null,"","","","","","","","","",2]
[654,null,null,null,null,null,null,null,null,null,null,null,null,null,null,null,null,null,"","","","","","","","","",2]
[655,null,null,null,null,null,null,null,null,null,null,null,null,null,null,null,null,null,"","","","","","","","","",2]
[656,null,null,null,null,null,null,null,null,null,null,null,null,null,null,null,null,null,"","","","","","","","","",2]
[657,null,null,null,null,null,null,null,null,null,null,null,null,null,null,null,null,null,"","","","","","","","","",2]
[658,null,null,null,null,null,null,null,null,null,null,null,null,null,null,null,null,null,"","","","","","","","","",2]
[659,null,null,null,null,null,null,null,null,null,null,null,null,null,null,null,null,null,"","","","","","","","","",2]
[660,null,null,null,null,null,null,null,null,null,null,null,null,null,null,null,null,null,"","","","","","","","","",2]
[661,null,null,null,null,null,null,null,null,null,null,null,null,null,null,null,null,null,"","","","","","","","","",2]
[662,null,null,null,null,null,null,null,null,null,null,null,null,null,null,null,null,null,"","","","","","","","","",2]
[663,null,null,null,null,null,null,null,null,null,null,null,null,null,null,null,null,null,"","","","","","","","","",2]
[664,null,null,null,null,null,null,null,null,null,null,null,null,null,null,null,null,null,"","","","","","","","","",2]
[665,null,null,null,null,null,null,null,null,null,null,null,null,null,null,null,null,null,"","","","","","","","","",2]
[666,null,null,null,null,null,null,null,null,null,null,null,null,null,null,null,null,null,"","","","","","","","","",2]
[667,null,null,null,null,null,null,null,null,null,null,null,null,null,null,null,null,null,"","","","","","","","","",2]
[668,null,null,null,null,null,null,null,null,null,null,null,null,null,null,null,null,null,"","","","","","","","","",2]
[669,null,null,null,null,null,null,null,null,null,null,null,null,null,null,null,null,null,"","","","","","","","","",2]
[670,null,null,null,null,null,null,null,null,null,null,null,null,null,null,null,null,null,"","","","","","","","","",2]
[671,null,null,null,null,null,null,null,null,null,null,null,null,null,null,null,null,null,"","","","","","","","","",2]
[672,null,null,null,null,null,null,null,null,null,null,null,null,null,null,null,null,null,"","","","","","","","","",2]
[673,null,null,null,null,null,null,null,null,null,null,null,null,null,null,null,null,null,"","","","","","","","","",2]
[674,null,null,null,null,null,null,null,null,null,null,null,null,null,null,null,null,null,"","","","","","","","","",2]
[675,null,null,null,null,null,null,null,null,null,null,null,null,null,null,null,null,null,"","","","","","","","","",2]
[676,null,null,null,null,null,null,null,null,null,null,null,null,null,null,null,null,null,"","","","","","","","","",2]
[677,null,null,null,null,null,null,null,null,null,null,null,null,null,null,null,null,null,"","","","","","","","","",2]
[678,null,null,null,null,null,null,null,null,null,null,null,null,null,null,null,null,null,"","","","","","","","","",2]
[679,null,null,null,null,null,null,null,null,null,null,null,null,null,null,null,null,null,"","","","","","","","","",2]
[680,null,null,null,null,null,null,null,null,null,null,null,null,null,null,null,null,null,"","","","","","","","","",2]
[681,null,null,null,null,null,null,null,null,null,null,null,null,null,null,null,null,null,"","","","","","","","","",2]
[682,null,null,null,null,null,null,null,null,null,null,null,null,null,null,null,null,null,"","","","","","","","","",2]
[683,null,null,null,null,null,null,null,null,null,null,null,null,null,null,null,null,null,"","","","","","","","","",2]
[684,null,null,null,null,null,null,null,null,null,null,null,null,null,null,null,null,null,"","","","","","","","","",2]
[685,null,null,null,null,null,null,null,null,null,null,null,null,null,null,null,null,null,"","","","","","","","","",2]
[686,null,null,null,null,null,null,null,null,null,null,null,null,null,null,null,null,null,"","","","","","","","","",2]
[687,null,null,null,null,null,null,null,null,null,null,null,null,null,null,null,null,null,"","","","","","","","","",2]
[688,null,null,null,null,null,null,null,null,null,null,null,null,null,null,null,null,null,"","","","","","","","","",2]
[689,null,null,null,null,null,null,null,null,null,null,null,null,null,null,null,null,null,"","","","","","","","","",2]
[690,null,null,null,null,null,null,null,null,null,null,null,null,null,null,null,null,null,"","","","","","","","","",2]
[691,null,null,null,null,null,null,null,null,null,null,null,null,null,null,null,null,null,"","","","","","","","","",2]
[692,null,null,null,null,null,null,null,null,null,null,null,null,null,null,null,null,null,"","","","","","","","","",2]
[693,null,null,null,null,null,null,null,null,null,null,null,null,null,null,null,null,null,"","","","","","","","","",2]
[694,null,null,null,null,null,null,null,null,null,null,null,null,null,null,null,null,null,"","","","","","","","","",2]
[695,null,null,null,null,null,null,null,null,null,null,null,null,null,null,null,null,null,"","","","","","","","","",2]
[696,null,null,null,null,null,null,null,null,null,null,null,null,null,null,null,null,null,"","","","","","","","","",2]
[697,null,null,null,null,null,null,null,null,null,null,null,null,null,null,null,null,null,"","","","","","","","","",2]
[698,null,null,null,null,null,null,null,null,null,null,null,null,null,null,null,null,null,"","","","","","","","","",2]
[699,null,null,null,null,null,null,null,null,null,null,null,null,null,null,null,null,null,"","","","","","","","","",2]
[700,null,null,null,null,null,null,null,null,null,null,null,null,null,null,null,null,null,"","","","","","","","","",2]
[701,null,null,null,null,null,null,null,null,null,null,null,null,null,null,null,null,null,"","","","","","","","","",2]
[702,null,null,null,null,null,null,null,null,null,null,null,null,null,null,null,null,null,"","","","","","","","","",2]
[703,null,null,null,null,null,null,null,null,null,null,null,null,null,null,null,null,null,"","","","","","","","","",2]
[704,null,null,null,null,null,null,null,null,null,null,null,null,null,null,null,null,null,"","","","","","","","","",2]
[705,null,null,null,null,null,null,null,null,null,null,null,null,null,null,null,null,null,{"$f":"IFERROR(ROUND(LEFT(P706,FIND(\":\",P706)-1)*60+MID(P706,FIND(\":\",P706)+1,LEN(P706)-FIND(\":\",P706)),2),\"\")","v":""},"","",{"$f":"IF(P706=\"\",\"\",IF(OR(P:P=\"disp\",Q:Q=\"disp\",R:R=\"disp\"),\"\",MIN(S706:U706)))","v":""},{"$f":"IF(V706=\"\",\"\",IF(F706=\"m\",IF(AND(V706<MIN(ZeitMänner),ISNUMBER(V706)),10,INDEX(WertungstabelleM,MATCH(V706,ZeitMänner,1)+1,2)),IF(AND(V706<MIN(ZeitFrauen),ISNUMBER(V706)),10,INDEX(WertungstabelleF,MATCH(V706,ZeitFrauen,1)+1,2))))","v":""},"","","",{"$f":"IF(W706=\"\",\"\",IF(F706=\"m\",VLOOKUP(W706,Note10_to_Qual_Männer,3,0),VLOOKUP(W706,Note10_to_Qual_Frauen,3,0)))","v":""},{"$f":"IF(OR(P:P<>\"\",Q:Q<>\"\",R:R<>\"\"),1,2)","v":2}]
[706,null,null,null,null,null,null,null,null,null,null,null,null,null,null,null,null,null,"","","","","","","",{"$f":"IF(Y707=\"\",\"\",IF(Y707>1,\"erfüllt\",\"nicht erfüllt\"))","v":""},"",2]
[707,null,null,null,null,null,null,null,null,null,null,null,null,null,null,null,null,null,"","","","","","","","","",2]
[708,null,null,null,null,null,null,null,null,null,null,null,null,null,null,null,null,null,"","","","","","","","","",2]
[709,null,null,null,null,null,null,null,null,null,null,null,null,null,null,null,null,null,"","","","","","","","","",2]
[710,null,null,null,null,null,null,null,null,null,null,null,null,null,null,null,null,null,"","","","","","","","","",2]
[711,null,null,null,null,null,null,null,null,null,null,null,null,null,null,null,null,null,"","","","","",{"$f":"IF(W712=\"\",\"\",IF(F712=\"m\",VLOOKUP(W712,Note10_to_Qual_Männer,2,0),VLOOKUP(W712,Note10_to_Qual_Frauen,2,0)))","v":""},{"$f":"IF(W712=\"\",\"\",IF(F712=\"m\",VLOOKUP(W712,Note10_to_Qual_Männer,4,0),VLOOKUP(W712,Note10_to_Qual_Frauen,4,0)))","v":""},"","",2]
[712,null,null,null,null,null,null,null,null,null,null,null,null,null,null,null,null,null,"","","","","","","","","",2]
[713,null,null,null,null,null,null,null,null,null,null,null,null,null,null,null,null,null,"","","","","","","","","",2]
[714,null,null,null,null,null,null,null,null,null,null,null,null,null,null,null,null,null,"","","","","","","","","",2]
[715,null,null,null,null,null,null,null,null,null,null,null,null,null,null,null,null,null,"","","","","","","","","",2]
[716,null,null,null,null,null,null,null,null,null,null,null,null,null,null,null,null,null,"","","","","","","","","",2]
[717,null,null,null,null,null,null,null,null,null,null,null,null,null,null,null,null,null,"","","","","","","","","",2]
[718,null,null,null,null,null,null,null,null,null,null,null,null,null,null,null,null,null,"","","","","","","","","",2]
[719,null,null,null,null,null,null,null,null,null,null,null,null,null,null,null,null,null,"","","","","","","","","",2]
[720,null,null,null,null,null,null,null,null,null,null,null,null,null,null,null,null,null,"","","","","","","","","",2]
[721,null,null,null,null,null,null,null,null,null,null,null,null,null,null,null,null,null,"","","","","","","","","",2]
[722,null,null,null,null,null,null,null,null,null,null,null,null,null,null,null,null,null,"","","","","","","","","",2]
[723,null,null,null,null,null,null,null,null,null,null,null,null,null,null,null,null,null,"","","","","","","","","",2]
[724,null,null,null,null,null,null,null,null,null,null,null,null,null,null,null,null,null,"","","","","","","","","",2]
[725,null,null,null,null,null,null,null,null,null,null,null,null,null,null,null,null,null,"","","","","","","","","",2]
[726,null,null,null,null,null,null,null,null,null,null,null,null,null,null,null,null,null,"","","","","","","","","",2]
[727,null,null,null,null,null,null,null,null,null,null,null,null,null,null,null,null,null,"","","","","","","","","",2]
[728,null,null,null,null,null,null,null,null,null,null,null,null,null,null,null,null,null,"","","","","","","","","",2]
[729,null,null,null,null,null,null,null,null,null,null,null,null,null,null,null,null,null,"","","","","","","","","",2]
[730,null,null,null,null,null,null,null,null,null,null,null,null,null,null,null,null,null,"","","","","","","","","",2]
[731,null,null,null,null,null,null,null,null,null,null,null,null,null,null,null,null,null,"","","","","","","","","",2]
[732,null,null,null,null,null,null,null,null,null,null,null,null,null,null,null,null,null,"","","","","","","","","",2]
[733,null,null,null,null,null,null,null,null,null,null,null,null,null,null,null,null,null,"","","","","","","","","",2]
[734,null,null,null,null,null,null,null,null,null,null,null,null,null,null,null,null,null,"","","","","","","","","",2]
[735,null,null,null,null,null,null,null,null,null,null,null,null,null,null,null,null,null,"","","","","","","","","",2]
[736,null,null,null,null,null,null,null,null,null,null,null,null,null,null,null,null,null,"","","","","","","","","",2]
[737,null,null,null,null,null,null,null,null,null,null,null,null,null,null,null,null,null,"","","","","","","","","",2]
[738,null,null,null,null,null,null,null,null,null,null,null,null,null,null,null,null,null,"","","","","","","","","",2]
[739,null,null,null,null,null,null,null,null,null,null,null,null,null,null,null,null,null,"","","","","","","","","",2]
[740,null,null,null,null,null,null,null,null,null,null,null,null,null,null,null,null,null,"","","","","","","","","",2]
[741,null,null,null,null,null,null,null,null,null,null,null,null,null,null,null,null,null,"","","","","","","","","",2]
[742,null,null,null,null,null,null,null,null,null,null,null,null,null,null,null,null,null,"","","","","","","","","",2]
[743,null,null,null,null,null,null,null,null,null,null,null,null,null,null,null,null,null,"","","","","","","","","",2]
[744,null,null,null,null,null,null,null,null,null,null,null,null,null,null,null,null,null,"","","","","","","","","",2]
[745,null,null,null,null,null,null,null,null,null,null,null,null,null,null,null,null,null,"","","","","","","","","",2]
[746,null,null,null,null,null,null,null,null,null,null,null,null,null,null,null,null,null,"","","","","","","","","",2]
[747,null,null,null,null,null,null,null,null,null,null,null,null,null,null,null,null,null,"","","","","","","","","",2]
[748,null,null,null,null,null,null,null,null,null,null,null,null,null,null,null,null,null,"","","","","","","","","",2]
[749,null,null,null,null,null,null,null,null,null,null,null,null,null,null,null,null,null,"","","","","","","","","",2]
[750,null,null,null,null,null,null,null,null,null,null,null,null,null,null,null,null,null,"","","","","","","","","",2]
[751,null,null,null,null,null,null,null,null,null,null,null,null,null,null,null,null,null,"","","","","","","","","",2]
[752,null,null,null,null,null,null,null,null,null,null,null,null,null,null,null,null,null,"","","","","","","","","",2]
[753,null,null,null,null,null,null,null,null,null,null,null,null,null,null,null,null,null,"","","","","","","","","",2]
[754,null,null,null,null,null,null,null,null,null,null,null,null,null,null,null,null,null,"","","","","","","","","",2]
[755,null,null,null,null,null,null,null,null,null,null,null,null,null,null,null,null,null,"","","","","","","","","",2]
[756,null,null,null,null,null,null,null,null,null,null,null,null,null,null,null,null,null,"","","","","","","","","",2]
[757,null,null,null,null,null,null,null,null,null,null,null,null,null,null,null,null,null,"","","","","","","","","",2]
[758,null,null,null,null,null,null,null,null,null,null,null,null,null,null,null,null,null,"","","","","","","","","",2]
[759,null,null,null,null,null,null,null,null,null,null,null,null,null,null,null,null,null,"","","","","","","","","",2]
[760,null,null,null,null,null,null,null,null,null,null,null,null,null,null,null,null,null,"","","","","","","","","",2]
[761,null,null,null,null,null,null,null,null,null,null,null,null,null,null,null,null,null,"","","","","","","","","",2]
[762,null,null,null,null,null,null,null,null,null,null,null,null,null,null,null,null,null,"","","","","","","","","",2]
[763,null,null,null,null,null,null,null,null,null,null,null,null,null,null,null,null,null,"","","","","","","","","",2]
[764,null,null,null,null,null,null,null,null,null,null,null,null,null,null,null,null,null,"","","","","","","","","",2]
[765,null,null,null,null,null,null,null,null,null,null,null,null,null,null,null,null,null,"","","","","","","","","",2]
[766,null,null,null,null,null,null,null,null,null,null,null,null,null,null,null,null,null,"","","","","","","","","",2]
[767,null,null,null,null,null,null,null,null,null,null,null,null,null,null,null,null,null,"","","","","","","","","",2]
[768,null,null,null,null,null,null,null,null,null,null,null,null,null,null,null,null,null,"","","","","","","","","",2]
[769,null,null,null,null,null,null,null,null,null,null,null,null,null,null,null,null,null,{"$f":"IFERROR(ROUND(LEFT(P770,FIND(\":\",P770)-1)*60+MID(P770,FIND(\":\",P770)+1,LEN(P770)-FIND(\":\",P770)),2),\"\")","v":""},"","",{"$f":"IF(P770=\"\",\"\",IF(OR(P:P=\"disp\",Q:Q=\"disp\",R:R=\"disp\"),\"\",MIN(S770:U770)))","v":""},{"$f":"IF(V770=\"\",\"\",IF(F770=\"m\",IF(AND(V770<MIN(ZeitMänner),ISNUMBER(V770)),10,INDEX(WertungstabelleM,MATCH(V770,ZeitMänner,1)+1,2)),IF(AND(V770<MIN(ZeitFrauen),ISNUMBER(V770)),10,INDEX(WertungstabelleF,MATCH(V770,ZeitFrauen,1)+1,2))))","v":""},"","","",{"$f":"IF(W770=\"\",\"\",IF(F770=\"m\",VLOOKUP(W770,Note10_to_Qual_Männer,3,0),VLOOKUP(W770,Note10_to_Qual_Frauen,3,0)))","v":""},{"$f":"IF(OR(P:P<>\"\",Q:Q<>\"\",R:R<>\"\"),1,2)","v":2}]
[770,null,null,null,null,null,null,null,null,null,null,null,null,null,null,null,null,null,"","","","","","","",{"$f":"IF(Y771=\"\",\"\",IF(Y771>1,\"erfüllt\",\"nicht erfüllt\"))","v":""},"",2]
[771,null,null,null,null,null,null,null,null,null,null,null,null,null,null,null,null,null,"","","","","","","","","",2]
[772,null,null,null,null,null,null,null,null,null,null,null,null,null,null,null,null,null,"","","","","","","","","",2]
[773,null,null,null,null,null,null,null,null,null,null,null,null,null,null,null,null,null,"","","","","","","","","",2]
[774,null,null,null,null,null,null,null,null,null,null,null,null,null,null,null,null,null,"","","","","","","","","",2]
[775,null,null,null,null,null,null,null,null,null,null,null,null,null,null,null,null,null,"","","","","",{"$f":"IF(W776=\"\",\"\",IF(F776=\"m\",VLOOKUP(W776,Note10_to_Qual_Männer,2,0),VLOOKUP(W776,Note10_to_Qual_Frauen,2,0)))","v":""},{"$f":"IF(W776=\"\",\"\",IF(F776=\"m\",VLOOKUP(W776,Note10_to_Qual_Männer,4,0),VLOOKUP(W776,Note10_to_Qual_Frauen,4,0)))","v":""},"","",2]
[776,null,null,null,null,null,null,null,null,null,null,null,null,null,null,null,null,null,"","","","","","","","","",2]
[777,null,null,null,null,null,null,null,null,null,null,null,null,null,null,null,null,null,"","","","","","","","","",2]
[778,null,null,null,null,null,null,null,null,null,null,null,null,null,null,null,null,null,"","","","","","","","","",2]
[779,null,null,null,null,null,null,null,null,null,null,null,null,null,null,null,null,null,"","","","","","","","","",2]
[780,null,null,null,null,null,null,null,null,null,null,null,null,null,null,null,null,null,"","","","","","","","","",2]
[781,null,null,null,null,null,null,null,null,null,null,null,null,null,null,null,null,null,"","","","","","","","","",2]
[782,null,null,null,null,null,null,null,null,null,null,null,null,null,null,null,null,null,"","","","","","","","","",2]
[783,null,null,null,null,null,null,null,null,null,null,null,null,null,null,null,null,null,"","","","","","","","","",2]
[784,null,null,null,null,null,null,null,null,null,null,null,null,null,null,null,null,null,"","","","","","","","","",2]
[785,null,null,null,null,null,null,null,null,null,null,null,null,null,null,null,null,null,"","","","","","","","","",2]
[786,null,null,null,null,null,null,null,null,null,null,null,null,null,null,null,null,null,"","","","","","","","","",2]
[787,null,null,null,null,null,null,null,null,null,null,null,null,null,null,null,null,null,"","","","","","","","","",2]
[788,null,null,null,null,null,null,null,null,null,null,null,null,null,null,null,null,null,"","","","","","","","","",2]
[789,null,null,null,null,null,null,null,null,null,null,null,null,null,null,null,null,null,"","","","","","","","","",2]
[790,null,null,null,null,null,null,null,null,null,null,null,null,null,null,null,null,null,"","","","","","","","","",2]
[791,null,null,null,null,null,null,null,null,null,null,null,null,null,null,null,null,null,"","","","","","","","","",2]
[792,null,null,null,null,null,null,null,null,null,null,null,null,null,null,null,null,null,"","","","","","","","","",2]
[793,null,null,null,null,null,null,null,null,null,null,null,null,null,null,null,null,null,"","","","","","","","","",2]
[794,null,null,null,null,null,null,null,null,null,null,null,null,null,null,null,null,null,"","","","","","","","","",2]
[795,null,null,null,null,null,null,null,null,null,null,null,null,null,null,null,null,null,"","","","","","","","","",2]
[796,null,null,null,null,null,null,null,null,null,null,null,null,null,null,null,null,null,"","","","","","","","","",2]
[797,null,null,null,null,null,null,null,null,null,null,null,null,null,null,null,null,null,"","","","","","","","","",2]
[798,null,null,null,null,null,null,null,null,null,null,null,null,null,null,null,null,null,"","","","","","","","","",2]
[799,null,null,null,null,null,null,null,null,null,null,null,null,null,null,null,null,null,"","","","","","","","","",2]
[800,null,null,null,null,null,null,null,null,null,null,null,null,null,null,null,null,null,"","","","","","","","","",2]
[801,null,null,null,null,null,null,null,null,null,null,null,null,null,null,null,null,null,"","","","","","","","","",2]
[802,null,null,null,null,null,null,null,null,null,null,null,null,null,null,null,null,null,"","","","","","","","","",2]
[803,null,null,null,null,null,null,null,null,null,null,null,null,null,null,null,null,null,"","","","","","","","","",2]
[804,null,null,null,null,null,null,null,null,null,null,null,null,null,null,null,null,null,"","","","","","","","","",2]
[805,null,null,null,null,null,null,null,null,null,null,null,null,null,null,null,null,null,"","","","","","","","","",2]
[806,null,null,null,null,null,null,null,null,null,null,null,null,null,null,null,null,null,"","","","","","","","","",2]
[807,null,null,null,null,null,null,null,null,null,null,null,null,null,null,null,null,null,"","","","","","","","","",2]
[808,null,null,null,null,null,null,null,null,null,null,null,null,null,null,null,null,null,"","","","","","","","","",2]
[809,null,null,null,null,null,null,null,null,null,null,null,null,null,null,null,null,null,"","","","","","","","","",2]
[810,null,null,null,null,null,null,null,null,null,null,null,null,null,null,null,null,null,"","","","","","","","","",2]
[811,null,null,null,null,null,null,null,null,null,null,null,null,null,null,null,null,null,"","","","","","","","","",2]
[812,null,null,null,null,null,null,null,null,null,null,null,null,null,null,null,null,null,"","","","","","","","","",2]
[813,null,null,null,null,null,null,null,null,null,null,null,null,null,null,null,null,null,"","","","","","","","","",2]
[814,null,null,null,null,null,null,null,null,null,null,null,null,null,null,null,null,null,"","","","","","","","","",2]
[815,null,null,null,null,null,null,null,null,null,null,null,null,null,null,null,null,null,"","","","","","","","","",2]
[816,null,null,null,null,null,null,null,null,null,null,null,null,null,null,null,null,null,"","","","","","","","","",2]
[817,null,null,null,null,null,null,null,null,null,null,null,null,null,null,null,null,null,"","","","","","","","","",2]
[818,null,null,null,null,null,null,null,null,null,null,null,null,null,null,null,null,null,"","","","","","","","","",2]
[819,null,null,null,null,null,null,null,null,null,null,null,null,null,null,null,null,null,"","","","","","","","","",2]
[820,null,null,null,null,null,null,null,null,null,null,null,null,null,null,null,null,null,"","","","","","","","","",2]
[821,null,null,null,null,null,null,null,null,null,null,null,null,null,null,null,null,null,"","","","","","","","","",2]
[822,null,null,null,null,null,null,null,null,null,null,null,null,null,null,null,null,null,"","","","","","","","","",2]
[823,null,null,null,null,null,null,null,null,null,null,null,null,null,null,null,null,null,"","","","","","","","","",2]
[824,null,null,null,null,null,null,null,null,null,null,null,null,null,null,null,null,null,"","","","","","","","","",2]
[825,null,null,null,null,null,null,null,null,null,null,null,null,null,null,null,null,null,"","","","","","","","","",2]
[826,null,null,null,null,null,null,null,null,null,null,null,null,null,null,null,null,null,"","","","","","","","","",2]
[827,null,null,null,null,null,null,null,null,null,null,null,null,null,null,null,null,null,"","","","","","","","","",2]
[828,null,null,null,null,null,null,null,null,null,null,null,null,null,null,null,null,null,"","","","","","","","","",2]
[829,null,null,null,null,null,null,null,null,null,null,null,null,null,null,null,null,null,"","","","","","","","","",2]
[830,null,null,null,null,null,null,null,null,null,null,null,null,null,null,null,null,null,"","","","","","","","","",2]
[831,null,null,null,null,null,null,null,null,null,null,null,null,null,null,null,null,null,"","","","","","","","","",2]
[832,null,null,null,null,null,null,null,null,null,null,null,null,null,null,null,null,null,"","","","","","","","","",2]
[833,null,null,null,null,null,null,null,null,null,null,null,null,null,null,null,null,null,{"$f":"IFERROR(ROUND(LEFT(P834,FIND(\":\",P834)-1)*60+MID(P834,FIND(\":\",P834)+1,LEN(P834)-FIND(\":\",P834)),2),\"\")","v":""},"","",{"$f":"IF(P834=\"\",\"\",IF(OR(P:P=\"disp\",Q:Q=\"disp\",R:R=\"disp\"),\"\",MIN(S834:U834)))","v":""},{"$f":"IF(V834=\"\",\"\",IF(F834=\"m\",IF(AND(V834<MIN(ZeitMänner),ISNUMBER(V834)),10,INDEX(WertungstabelleM,MATCH(V834,ZeitMänner,1)+1,2)),IF(AND(V834<MIN(ZeitFrauen),ISNUMBER(V834)),10,INDEX(WertungstabelleF,MATCH(V834,ZeitFrauen,1)+1,2))))","v":""},"","","",{"$f":"IF(W834=\"\",\"\",IF(F834=\"m\",VLOOKUP(W834,Note10_to_Qual_Männer,3,0),VLOOKUP(W834,Note10_to_Qual_Frauen,3,0)))","v":""},{"$f":"IF(OR(P:P<>\"\",Q:Q<>\"\",R:R<>\"\"),1,2)","v":2}]
[834,null,null,null,null,null,null,null,null,null,null,null,null,null,null,null,null,null,"","","","","","","",{"$f":"IF(Y835=\"\",\"\",IF(Y835>1,\"erfüllt\",\"nicht erfüllt\"))","v":""},"",2]
[835,null,null,null,null,null,null,null,null,null,null,null,null,null,null,null,null,null,"","","","","","","","","",2]
[836,null,null,null,null,null,null,null,null,null,null,null,null,null,null,null,null,null,"","","","","","","","","",2]
[837,null,null,null,null,null,null,null,null,null,null,null,null,null,null,null,null,null,"","","","","","","","","",2]
[838,null,null,null,null,null,null,null,null,null,null,null,null,null,null,null,null,null,"","","","","","","","","",2]
[839,null,null,null,null,null,null,null,null,null,null,null,null,null,null,null,null,null,"","","","","",{"$f":"IF(W840=\"\",\"\",IF(F840=\"m\",VLOOKUP(W840,Note10_to_Qual_Männer,2,0),VLOOKUP(W840,Note10_to_Qual_Frauen,2,0)))","v":""},{"$f":"IF(W840=\"\",\"\",IF(F840=\"m\",VLOOKUP(W840,Note10_to_Qual_Männer,4,0),VLOOKUP(W840,Note10_to_Qual_Frauen,4,0)))","v":""},"","",2]
[840,null,null,null,null,null,null,null,null,null,null,null,null,null,null,null,null,null,"","","","","","","","","",2]
[841,null,null,null,null,null,null,null,null,null,null,null,null,null,null,null,null,null,"","","","","","","","","",2]
[842,null,null,null,null,null,null,null,null,null,null,null,null,null,null,null,null,null,"","","","","","","","","",2]
[843,null,null,null,null,null,null,null,null,null,null,null,null,null,null,null,null,null,"","","","","","","","","",2]
[844,null,null,null,null,null,null,null,null,null,null,null,null,null,null,null,null,null,"","","","","","","","","",2]
[845,null,null,null,null,null,null,null,null,null,null,null,null,null,null,null,null,null,"","","","","","","","","",2]
[846,null,null,null,null,null,null,null,null,null,null,null,null,null,null,null,null,null,"","","","","","","","","",2]
[847,null,null,null,null,null,null,null,null,null,null,null,null,null,null,null,null,null,"","","","","","","","","",2]
[848,null,null,null,null,null,null,null,null,null,null,null,null,null,null,null,null,null,"","","","","","","","","",2]
[849,null,null,null,null,null,null,null,null,null,null,null,null,null,null,null,null,null,"","","","","","","","","",2]
[850,null,null,null,null,null,null,null,null,null,null,null,null,null,null,null,null,null,"","","","","","","","","",2]
[851,null,null,null,null,null,null,null,null,null,null,null,null,null,null,null,null,null,"","","","","","","","","",2]
[852,null,null,null,null,null,null,null,null,null,null,null,null,null,null,null,null,null,"","","","","","","","","",2]
[853,null,null,null,null,null,null,null,null,null,null,null,null,null,null,null,null,null,"","","","","","","","","",2]
[854,null,null,null,null,null,null,null,null,null,null,null,null,null,null,null,null,null,"","","","","","","","","",2]
[855,null,null,null,null,null,null,null,null,null,null,null,null,null,null,null,null,null,"","","","","","","","","",2]
[856,null,null,null,null,null,null,null,null,null,null,null,null,null,null,null,null,null,"","","","","","","","","",2]
[857,null,null,null,null,null,null,null,null,null,null,null,null,null,null,null,null,null,"","","","","","","","","",2]
[858,null,null,null,null,null,null,null,null,null,null,null,null,null,null,null,null,null,"","","","","","","","","",2]
[859,null,null,null,null,null,null,null,null,null,null,null,null,null,null,null,null,null,"","","","","","","","","",2]
[860,null,null,null,null,null,null,null,null,null,null,null,null,null,null,null,null,null,"","","","","","","","","",2]
[861,null,null,null,null,null,null,null,null,null,null,null,null,null,null,null,null,null,"","","","","","","","","",2]
[862,null,null,null,null,null,null,null,null,null,null,null,null,null,null,null,null,null,"","","","","","","","","",2]
[863,null,null,null,null,null,null,null,null,null,null,null,null,null,null,null,null,null,"","","","","","","","","",2]
[864,null,null,null,null,null,null,null,null,null,null,null,null,null,null,null,null,null,"","","","","","","","","",2]
[865,null,null,null,null,null,null,null,null,null,null,null,null,null,null,null,null,null,"","","","","","","","","",2]
[866,null,null,null,null,null,null,null,null,null,null,null,null,null,null,null,null,null,"","","","","","","","","",2]
[867,null,null,null,null,null,null,null,null,null,null,null,null,null,null,null,null,null,"","","","","","","","","",2]
[868,null,null,null,null,null,null,null,null,null,null,null,null,null,null,null,null,null,"","","","","","","","","",2]
[869,null,null,null,null,null,null,null,null,null,null,null,null,null,null,null,null,null,"","","","","","","","","",2]
[870,null,null,null,null,null,null,null,null,null,null,null,null,null,null,null,null,null,"","","","","","","","","",2]
[871,null,null,null,null,null,null,null,null,null,null,null,null,null,null,null,null,null,"","","","","","","","","",2]
[872,null,null,null,null,null,null,null,null,null,null,null,null,null,null,null,null,null,"","","","","","","","","",2]
[873,null,null,null,null,null,null,null,null,null,null,null,null,null,null,null,null,null,"","","","","","","","","",2]
[874,null,null,null,null,null,null,null,null,null,null,null,null,null,null,null,null,null,"","","","","","","","","",2]
[875,null,null,null,null,null,null,null,null,null,null,null,null,null,null,null,null,null,"","","","","","","","","",2]
[876,null,null,null,null,null,null,null,null,null,null,null,null,null,null,null,null,null,"","","","","","","","","",2]
[877,null,null,null,null,null,null,null,null,null,null,null,null,null,null,null,null,null,"","","","","","","","","",2]
[878,null,null,null,null,null,null,null,null,null,null,null,null,null,null,null,null,null,"","","","","","","","","",2]
[879,null,null,null,null,null,null,null,null,null,null,null,null,null,null,null,null,null,"","","","","","","","","",2]
[880,null,null,null,null,null,null,null,null,null,null,null,null,null,null,null,null,null,"","","","","","","","","",2]
[881,null,null,null,null,null,null,null,null,null,null,null,null,null,null,null,null,null,"","","","","","","","","",2]
[882,null,null,null,null,null,null,null,null,null,null,null,null,null,null,null,null,null,"","","","","","","","","",2]
[883,null,null,null,null,null,null,null,null,null,null,null,null,null,null,null,null,null,"","","","","","","","","",2]
[884,null,null,null,null,null,null,null,null,null,null,null,null,null,null,null,null,null,"","","","","","","","","",2]
[885,null,null,null,null,null,null,null,null,null,null,null,null,null,null,null,null,null,"","","","","","","","","",2]
[886,null,null,null,null,null,null,null,null,null,null,null,null,null,null,null,null,null,"","","","","","","","","",2]
[887,null,null,null,null,null,null,null,null,null,null,null,null,null,null,null,null,null,"","","","","","","","","",2]
[888,null,null,null,null,null,null,null,null,null,null,null,null,null,null,null,null,null,"","","","","","","","","",2]
[889,null,null,null,null,null,null,null,null,null,null,null,null,null,null,null,null,null,"","","","","","","","","",2]
[890,null,null,null,null,null,null,null,null,null,null,null,null,null,null,null,null,null,"","","","","","","","","",2]
[891,null,null,null,null,null,null,null,null,null,null,null,null,null,null,null,null,null,"","","","","","","","","",2]
[892,null,null,null,null,null,null,null,null,null,null,null,null,null,null,null,null,null,"","","","","","","","","",2]
[893,null,null,null,null,null,null,null,null,null,null,null,null,null,null,null,null,null,"","","","","","","","","",2]
[894,null,null,null,null,null,null,null,null,null,null,null,null,null,null,null,null,null,"","","","","","","","","",2]
[895,null,null,null,null,null,null,null,null,null,null,null,null,null,null,null,null,null,"","","","","","","","","",2]
[896,null,null,null,null,null,null,null,null,null,null,null,null,null,null,null,null,null,"","","","","","","","","",2]
[897,null,null,null,null,null,null,null,null,null,null,null,null,null,null,null,null,null,{"$f":"IFERROR(ROUND(LEFT(P898,FIND(\":\",P898)-1)*60+MID(P898,FIND(\":\",P898)+1,LEN(P898)-FIND(\":\",P898)),2),\"\")","v":""},"","",{"$f":"IF(P898=\"\",\"\",IF(OR(P:P=\"disp\",Q:Q=\"disp\",R:R=\"disp\"),\"\",MIN(S898:U898)))","v":""},{"$f":"IF(V898=\"\",\"\",IF(F898=\"m\",IF(AND(V898<MIN(ZeitMänner),ISNUMBER(V898)),10,INDEX(WertungstabelleM,MATCH(V898,ZeitMänner,1)+1,2)),IF(AND(V898<MIN(ZeitFrauen),ISNUMBER(V898)),10,INDEX(WertungstabelleF,MATCH(V898,ZeitFrauen,1)+1,2))))","v":""},"","","",{"$f":"IF(W898=\"\",\"\",IF(F898=\"m\",VLOOKUP(W898,Note10_to_Qual_Männer,3,0),VLOOKUP(W898,Note10_to_Qual_Frauen,3,0)))","v":""},{"$f":"IF(OR(P:P<>\"\",Q:Q<>\"\",R:R<>\"\"),1,2)","v":2}]
[898,null,null,null,null,null,null,null,null,null,null,null,null,null,null,null,null,null,"","","","","","","",{"$f":"IF(Y899=\"\",\"\",IF(Y899>1,\"erfüllt\",\"nicht erfüllt\"))","v":""},"",2]
[899,null,null,null,null,null,null,null,null,null,null,null,null,null,null,null,null,null,"","","","","","","","","",2]
[900,null,null,null,null,null,null,null,null,null,null,null,null,null,null,null,null,null,"","","","","","","","","",2]
[901,null,null,null,null,null,null,null,null,null,null,null,null,null,null,null,null,null,"","","","","","","","","",2]
[902,null,null,null,null,null,null,null,null,null,null,null,null,null,null,null,null,null,"","","","","","","","","",2]
[903,null,null,null,null,null,null,null,null,null,null,null,null,null,null,null,null,null,"","","","","",{"$f":"IF(W904=\"\",\"\",IF(F904=\"m\",VLOOKUP(W904,Note10_to_Qual_Männer,2,0),VLOOKUP(W904,Note10_to_Qual_Frauen,2,0)))","v":""},{"$f":"IF(W904=\"\",\"\",IF(F904=\"m\",VLOOKUP(W904,Note10_to_Qual_Männer,4,0),VLOOKUP(W904,Note10_to_Qual_Frauen,4,0)))","v":""},"","",2]
[904,null,null,null,null,null,null,null,null,null,null,null,null,null,null,null,null,null,"","","","","","","","","",2]
[905,null,null,null,null,null,null,null,null,null,null,null,null,null,null,null,null,null,"","","","","","","","","",2]
[906,null,null,null,null,null,null,null,null,null,null,null,null,null,null,null,null,null,"","","","","","","","","",2]
[907,null,null,null,null,null,null,null,null,null,null,null,null,null,null,null,null,null,"","","","","","","","","",2]
[908,null,null,null,null,null,null,null,null,null,null,null,null,null,null,null,null,null,"","","","","","","","","",2]
[909,null,null,null,null,null,null,null,null,null,null,null,null,null,null,null,null,null,"","","","","","","","","",2]
[910,null,null,null,null,null,null,null,null,null,null,null,null,null,null,null,null,null,"","","","","","","","","",2]
[911,null,null,null,null,null,null,null,null,null,null,null,null,null,null,null,null,null,"","","","","","","","","",2]
[912,null,null,null,null,null,null,null,null,null,null,null,null,null,null,null,null,null,"","","","","","","","","",2]
[913,null,null,null,null,null,null,null,null,null,null,null,null,null,null,null,null,null,"","","","","","","","","",2]
[914,null,null,null,null,null,null,null,null,null,null,null,null,null,null,null,null,null,"","","","","","","","","",2]
[915,null,null,null,null,null,null,null,null,null,null,null,null,null,null,null,null,null,"","","","","","","","","",2]
[916,null,null,null,null,null,null,null,null,null,null,null,null,null,null,null,null,null,"","","","","","","","","",2]
[917,null,null,null,null,null,null,null,null,null,null,null,null,null,null,null,null,null,"","","","","","","","","",2]
[918,null,null,null,null,null,null,null,null,null,null,null,null,null,null,null,null,null,"","","","","","","","","",2]
[919,null,null,null,null,null,null,null,null,null,null,null,null,null,null,null,null,null,"","","","","","","","","",2]
[920,null,null,null,null,null,null,null,null,null,null,null,null,null,null,null,null,null,"","","","","","","","","",2]
[921,null,null,null,null,null,null,null,null,null,null,null,null,null,null,null,null,null,"","","","","","","","","",2]
[922,null,null,null,null,null,null,null,null,null,null,null,null,null,null,null,null,null,"","","","","","","","","",2]
[923,null,null,null,null,null,null,null,null,null,null,null,null,null,null,null,null,null,"","","","","","","","","",2]
[924,null,null,null,null,null,null,null,null,null,null,null,null,null,null,null,null,null,"","","","","","","","","",2]
[925,null,null,null,null,null,null,null,null,null,null,null,null,null,null,null,null,null,"","","","","","","","","",2]
[926,null,null,null,null,null,null,null,null,null,null,null,null,null,null,null,null,null,"","","","","","","","","",2]
[927,null,null,null,null,null,null,null,null,null,null,null,null,null,null,null,null,null,"","","","","","","","","",2]
[928,null,null,null,null,null,null,null,null,null,null,null,null,null,null,null,null,null,"","","","","","","","","",2]
[929,null,null,null,null,null,null,null,null,null,null,null,null,null,null,null,null,null,"","","","","","","","","",2]
[930,null,null,null,null,null,null,null,null,null,null,null,null,null,null,null,null,null,"","","","","","","","","",2]
[931,null,null,null,null,null,null,null,null,null,null,null,null,null,null,null,null,null,"","","","","","","","","",2]
[932,null,null,null,null,null,null,null,null,null,null,null,null,null,null,null,null,null,"","","","","","","","","",2]
[933,null,null,null,null,null,null,null,null,null,null,null,null,null,null,null,null,null,"","","","","","","","","",2]
[934,null,null,null,null,null,null,null,null,null,null,null,null,null,null,null,null,null,"","","","","","","","","",2]
[935,null,null,null,null,null,null,null,null,null,null,null,null,null,null,null,null,null,"","","","","","","","","",2]
[936,null,null,null,null,null,null,null,null,null,null,null,null,null,null,null,null,null,"","","","","","","","","",2]
[937,null,null,null,null,null,null,null,null,null,null,null,null,null,null,null,null,null,"","","","","","","","","",2]
[938,null,null,null,null,null,null,null,null,null,null,null,null,null,null,null,null,null,"","","","","","","","","",2]
[939,null,null,null,null,null,null,null,null,null,null,null,null,null,null,null,null,null,"","","","","","","","","",2]
[940,null,null,null,null,null,null,null,null,null,null,null,null,null,null,null,null,null,"","","","","","","","","",2]
[941,null,null,null,null,null,null,null,null,null,null,null,null,null,null,null,null,null,"","","","","","","","","",2]
[942,null,null,null,null,null,null,null,null,null,null,null,null,null,null,null,null,null,"","","","","","","","","",2]
[943,null,null,null,null,null,null,null,null,null,null,null,null,null,null,null,null,null,"","","","","","","","","",2]
[944,null,null,null,null,null,null,null,null,null,null,null,null,null,null,null,null,null,"","","","","","","","","",2]
[945,null,null,null,null,null,null,null,null,null,null,null,null,null,null,null,null,null,"","","","","","","","","",2]
[946,null,null,null,null,null,null,null,null,null,null,null,null,null,null,null,null,null,"","","","","","","","","",2]
[947,null,null,null,null,null,null,null,null,null,null,null,null,null,null,null,null,null,"","","","","","","","","",2]
[948,null,null,null,null,null,null,null,null,null,null,null,null,null,null,null,null,null,"","","","","","","","","",2]
[949,null,null,null,null,null,null,null,null,null,null,null,null,null,null,null,null,null,"","","","","","","","","",2]
[950,null,null,null,null,null,null,null,null,null,null,null,null,null,null,null,null,null,"","","","","","","","","",2]
[951,null,null,null,null,null,null,null,null,null,null,null,null,null,null,null,null,null,"","","","","","","","","",2]
[952,null,null,null,null,null,null,null,null,null,null,null,null,null,null,null,null,null,"","","","","","","","","",2]
[953,null,null,null,null,null,null,null,null,null,null,null,null,null,null,null,null,null,"","","","","","","","","",2]
[954,null,null,null,null,null,null,null,null,null,null,null,null,null,null,null,null,null,"","","","","","","","","",2]
[955,null,null,null,null,null,null,null,null,null,null,null,null,null,null,null,null,null,"","","","","","","","","",2]
[956,null,null,null,null,null,null,null,null,null,null,null,null,null,null,null,null,null,"","","","","","","","","",2]
[957,null,null,null,null,null,null,null,null,null,null,null,null,null,null,null,null,null,"","","","","","","","","",2]
[958,null,null,null,null,null,null,null,null,null,null,null,null,null,null,null,null,null,"","","","","","","","","",2]
[959,null,null,null,null,null,null,null,null,null,null,null,null,null,null,null,null,null,"","","","","","","","","",2]
[960,null,null,null,null,null,null,null,null,null,null,null,null,null,null,null,null,null,"","","","","","","","","",2]
[961,null,null,null,null,null,null,null,null,null,null,null,null,null,null,null,null,null,{"$f":"IFERROR(ROUND(LEFT(P962,FIND(\":\",P962)-1)*60+MID(P962,FIND(\":\",P962)+1,LEN(P962)-FIND(\":\",P962)),2),\"\")","v":""},"","",{"$f":"IF(P962=\"\",\"\",IF(OR(P:P=\"disp\",Q:Q=\"disp\",R:R=\"disp\"),\"\",MIN(S962:U962)))","v":""},{"$f":"IF(V962=\"\",\"\",IF(F962=\"m\",IF(AND(V962<MIN(ZeitMänner),ISNUMBER(V962)),10,INDEX(WertungstabelleM,MATCH(V962,ZeitMänner,1)+1,2)),IF(AND(V962<MIN(ZeitFrauen),ISNUMBER(V962)),10,INDEX(WertungstabelleF,MATCH(V962,ZeitFrauen,1)+1,2))))","v":""},"","","",{"$f":"IF(W962=\"\",\"\",IF(F962=\"m\",VLOOKUP(W962,Note10_to_Qual_Männer,3,0),VLOOKUP(W962,Note10_to_Qual_Frauen,3,0)))","v":""},{"$f":"IF(OR(P:P<>\"\",Q:Q<>\"\",R:R<>\"\"),1,2)","v":2}]
[962,null,null,null,null,null,null,null,null,null,null,null,null,null,null,null,null,null,"","","","","","","",{"$f":"IF(Y963=\"\",\"\",IF(Y963>1,\"erfüllt\",\"nicht erfüllt\"))","v":""},"",2]
[963,null,null,null,null,null,null,null,null,null,null,null,null,null,null,null,null,null,"","","","","","","","","",2]
[964,null,null,null,null,null,null,null,null,null,null,null,null,null,null,null,null,null,"","","","","","","","","",2]
[965,null,null,null,null,null,null,null,null,null,null,null,null,null,null,null,null,null,"","","","","","","","","",2]
[966,null,null,null,null,null,null,null,null,null,null,null,null,null,null,null,null,null,"","","","","","","","","",2]
[967,null,null,null,null,null,null,null,null,null,null,null,null,null,null,null,null,null,"","","","","",{"$f":"IF(W968=\"\",\"\",IF(F968=\"m\",VLOOKUP(W968,Note10_to_Qual_Männer,2,0),VLOOKUP(W968,Note10_to_Qual_Frauen,2,0)))","v":""},{"$f":"IF(W968=\"\",\"\",IF(F968=\"m\",VLOOKUP(W968,Note10_to_Qual_Männer,4,0),VLOOKUP(W968,Note10_to_Qual_Frauen,4,0)))","v":""},"","",2]
[968,null,null,null,null,null,null,null,null,null,null,null,null,null,null,null,null,null,"","","","","","","","","",2]
[969,null,null,null,null,null,null,null,null,null,null,null,null,null,null,null,null,null,"","","","","","","","","",2]
[970,null,null,null,null,null,null,null,null,null,null,null,null,null,null,null,null,null,"","","","","","","","","",2]
[971,null,null,null,null,null,null,null,null,null,null,null,null,null,null,null,null,null,"","","","","","","","","",2]
[972,null,null,null,null,null,null,null,null,null,null,null,null,null,null,null,null,null,"","","","","","","","","",2]
[973,null,null,null,null,null,null,null,null,null,null,null,null,null,null,null,null,null,"","","","","","","","","",2]
[974,null,null,null,null,null,null,null,null,null,null,null,null,null,null,null,null,null,"","","","","","","","","",2]
[975,null,null,null,null,null,null,null,null,null,null,null,null,null,null,null,null,null,"","","","","","","","","",2]
[976,null,null,null,null,null,null,null,null,null,null,null,null,null,null,null,null,null,"","","","","","","","","",2]
[977,null,null,null,null,null,null,null,null,null,null,null,null,null,null,null,null,null,"","","","","","","","","",2]
[978,null,null,null,null,null,null,null,null,null,null,null,null,null,null,null,null,null,"","","","","","","","","",2]
[979,null,null,null,null,null,null,null,null,null,null,null,null,null,null,null,null,null,"","","","","","","","","",2]
[980,null,null,null,null,null,null,null,null,null,null,null,null,null,null,null,null,null,"","","","","","","","","",2]
[981,null,null,null,null,null,null,null,null,null,null,null,null,null,null,null,null,null,"","","","","","","","","",2]
[982,null,null,null,null,null,null,null,null,null,null,null,null,null,null,null,null,null,"","","","","","","","","",2]
[983,null,null,null,null,null,null,null,null,null,null,null,null,null,null,null,null,null,"","","","","","","","","",2]
[984,null,null,null,null,null,null,null,null,null,null,null,null,null,null,null,null,null,"","","","","","","","","",2]
[985,null,null,null,null,null,null,null,null,null,null,null,null,null,null,null,null,null,"","","","","","","","","",2]
[986,null,null,null,null,null,null,null,null,null,null,null,null,null,null,null,null,null,"","","","","","","","","",2]
[987,null,null,null,null,null,null,null,null,null,null,null,null,null,null,null,null,null,"","","","","","","","","",2]
[988,null,null,null,null,null,null,null,null,null,null,null,null,null,null,null,null,null,"","","","","","","","","",2]
[989,null,null,null,null,null,null,null,null,null,null,null,null,null,null,null,null,null,"","","","","","","","","",2]
[990,null,null,null,null,null,null,null,null,null,null,null,null,null,null,null,null,null,"","","","","","","","","",2]
[991,null,null,null,null,null,null,null,null,null,null,null,null,null,null,null,null,null,"","","","","","","","","",2]
[992,null,null,null,null,null,null,null,null,null,null,null,null,null,null,null,null,null,"","","","","","","","","",2]
[993,null,null,null,null,null,null,null,null,null,null,null,null,null,null,null,null,null,"","","","","","","","","",2]
[994,null,null,null,null,null,null,null,null,null,null,null,null,null,null,null,null,null,"","","","","","","","","",2]
[995,null,null,null,null,null,null,null,null,null,null,null,null,null,null,null,null,null,"","","","","","","","","",2]
[996,null,null,null,null,null,null,null,null,null,null,null,null,null,null,null,null,null,"","","","","","","","","",2]
[997,null,null,null,null,null,null,null,null,null,null,null,null,null,null,null,null,null,"","","","","","","","","",2]
[998,null,null,null,null,null,null,null,null,null,null,null,null,null,null,null,null,null,"","","","","","","","","",2]
[999,null,null,null,null,null,null,null,null,null,null,null,null,null,null,null,null,null,"","","","","","","","","",2]
[1000]
[1001]
[1002]
[1003]
[1004]
[1005]
[1006]
[1007]
[1008]
[1009]
[1010]
[1011]
[1012]
[1013]
[1014]
[1015]
[1016]
[1017]
[1018]
[1019]
[1020]
[1021]
[1022]
[1023]
[1024]
[1025]
[1026]
[1027]
[1028]
[1029]
[1030]
[1031]
[1032]
[1033]
[1034]
[1035]
[1036]
[1037]
[1038]
[1039]
[1040]
[1041]
[1042]
[1043]
[1044]
[1045]
[1046]
[1047]
[1048]
[1049]
[1050]
[1051]
[1052]
[1053]
[1054]
[1055]
[1056]
[1057]
[1058]
[1059]
[1060]
[1061]
[1062]
[1063]
[1064]
[1065]
[1066]
[1067]
[1068]
[1069]
[1070]
[1071]
[1072]
[1073]
[1074]
[1075]
[1076]
[1077]
[1078]
[1079]
[1080]
[1081]
[1082]
[1083]
[1084]
[1085]
[1086]
[1087]
[1088]
[1089]
[1090]
[1091]
[1092]
[1093]
[1094]
[1095]
[1096]
[1097]
[1098]
[1099]
[1100]
[1101]
[1102]
[1103]
[1104]
[1105]
[1106]
[1107]
[1108]
[1109]
[1110]
[1111]
[1112]
[1113]
[1114]
[1115]
[1116]
[1117]
[1118]
[1119]
[1120]
[1121]
[1122]
[1123]
[1124]
[1125]
[1126]
[1127]
[1128]
[1129]
[1130]
[1131]
[1132]
[1133]
[1134]
[1135]
[1136]
[1137]
[1138]
[1139]
[1140]
[1141]
[1142]
[1143]
[1144]
[1145]
[1146]
[1147]
[1148]
[1149]
[1150]
[1151]
[1152]
[1153]
[1154]
[1155]
[1156]
[1157]
[1158]
[1159]
[1160]
[1161]
[1162]
[1163]
[1164]
[1165]
[1166]
[1167]
[1168]
[1169]
[1170]
[1171]
[1172]
[1173]
[1174]
[1175]
[1176]
[1177]
[1178]
[1179]
[1180]
[1181]
[1182]
[1183]
[1184]
[1185]
[1186]
[1187]
[1188]
[1189]
[1190]
[1191]
[1192]
[1193]
[1194]
[1195]
[1196]
[1197]
[1198]
[1199]
[1200]
[1201]
[1202]
[1203]
[1204]
[1205]
[1206]
[1207]
[1208]
[1209]
[1210]
[1211]
[1212]
[1213]
[1214]
[1215]
[1216]
[1217]
[1218]
[1219]
[1220]
[1221]
[1222]
[1223]
[1224]
[1225]
[1226]
[1227]
[1228]
[1229]
[1230]
[1231]
[1232]
[1233]
[1234]
[1235]
[1236]
[1237]
[1238]
[1239]
[1240]
[1241]
[1242]
[1243]
[1244]
[1245]
[1246]
[1247]
[1248]
[1249]
[1250]
[1251]
[1252]
[1253]
[1254]
[1255]
[1256]
[1257]
[1258]
[1259]
[1260]
[1261]
[1262]
[1263]
[1264]
[1265]
[1266]
[1267]
[1268]
[1269]
[1270]
[1271]
[1272]
[1273]
[1274]
[1275]
[1276]
[1277]
[1278]
[1279]
[1280]
[1281]
[1282]
[1283]
[1284]
[1285]
[1286]
[1287]
[1288]
[1289]
[1290]
[1291]
[1292]
[1293]
[1294]
[1295]
[1296]
[1297]
[1298]
[1299]
[1300]
[1301]
[1302]
[1303]
[1304]
[1305]
[1306]
[1307]
[1308]
[1309]
[1310]
[1311]
[1312]
[1313]
[1314]
[1315]
[1316]
[1317]
[1318]
[1319]
[1320]
[1321]
[1322]
[1323]
[1324]
[1325]
[1326]
[1327]
[1328]
[1329]
[1330]
[1331]
[1332]
[1333]
[1334]
[1335]
[1336]
[1337]
[1338]
[1339]
[1340]
[1341]
[1342]
[1343]
[1344]
[1345]
[1346]
[1347]
[1348]
[1349]
[1350]
[1351]
[1352]
[1353]
[1354]
[1355]
[1356]
[1357]
[1358]
[1359]
[1360]
[1361]
[1362]
[1363]
[1364]
[1365]
[1366]
[1367]
[1368]
[1369]
[1370]
[1371]
[1372]
[1373]
[1374]
[1375]
[1376]
[1377]
[1378]
[1379]
[1380]
[1381]
[1382]
[1383]
[1384]
[1385]
[1386]
[1387]
[1388]
[1389]
[1390]
[1391]
[1392]
[1393]
[1394]
[1395]
[1396]
[1397]
[1398]
[1399]
[1400]
[1401]
[1402]
[1403]
[1404]
[1405]
[1406]
[1407]
[1408]
[1409]
[1410]
[1411]
[1412]
[1413]
[1414]
[1415]
[1416]
[1417]
[1418]
[1419]
[1420]
[1421]
[1422]
[1423]
[1424]
[1425]
[1426]
[1427]
[1428]
[1429]
[1430]
[1431]
[1432]
[1433]
[1434]
[1435]
[1436]
[1437]
[1438]
[1439]
[1440]
[1441]
[1442]
[1443]
[1444]
[1445]
[1446]
[1447]
[1448]
[1449]
[1450]
[1451]
[1452]
[1453]
[1454]
[1455]
[1456]
[1457]
[1458]
[1459]
[1460]
[1461]
[1462]
[1463]
[1464]
[1465]
[1466]
[1467]
[1468]
[1469]
[1470]
[1471]
[1472]
[1473]
[1474]
[1475]
[1476]
[1477]
[1478]
[1479]
[1480]
[1481]
[1482]
[1483]
[1484]
[1485]
[1486]
[1487]
[1488]
[1489]
[1490]
[1491]
[1492]
[1493]
[1494]
[1495]
[1496]
[1497]
[1498]
[1499]
[1500]
[1501]
[1502]
[1503]
[1504]
[1505]
[1506]
[1507]
[1508]
[1509]
[1510]
[1511]
[1512]
[1513]
[1514]
[1515]
[1516]
[1517]
[1518]
[1519]
[1520]
[1521]
[1522]
[1523]
[1524]
[1525]
[1526]
[1527]
[1528]
[1529]
[1530]
[1531]
[1532]
[1533]
[1534]
[1535]
[1536]
[1537]
[1538]
[1539]
[1540]
[1541]
[1542]
[1543]
[1544]
[1545]
[1546]
[1547]
[1548]
[1549]
[1550]
[1551]
[1552]
[1553]
[1554]
[1555]
[1556]
[1557]
[1558]
[1559]
[1560]
[1561]
[1562]
[1563]
[1564]
[1565]
[1566]
[1567]
[1568]
[1569]
[1570]
[1571]
[1572]
[1573]
[1574]
[1575]
[1576]
[1577]
[1578]
[1579]
[1580]
[1581]
[1582]
[1583]
[1584]
[1585]
[1586]
[1587]
[1588]
[1589]
[1590]
[1591]
[1592]
[1593]
[1594]
[1595]
[1596]
[1597]
[1598]
[1599]
[1600]
[1601]
[1602]
[1603]
[1604]
[1605]
[1606]
[1607]
[1608]
[1609]
[1610]
[1611]
[1612]
[1613]
[1614]
[1615]
[1616]
[1617]
[1618]
[1619]
[1620]
[1621]
[1622]
[1623]
[1624]
[1625]
[1626]
[1627]
[1628]
[1629]
[1630]
[1631]
[1632]
[1633]
[1634]
[1635]
[1636]
[1637]
[1638]
[1639]
[1640]
[1641]
[1642]
[1643]
[1644]
[1645]
[1646]
[1647]
[1648]
[1649]
[1650]
[1651]
[1652]
[1653]
[1654]
[1655]
[1656]
[1657]
[1658]
[1659]
[1660]
[1661]
[1662]
[1663]
[1664]
[1665]
[1666]
[1667]
[1668]
[1669]
[1670]
[1671]
[1672]
[1673]
[1674]
[1675]
[1676]
[1677]
[1678]
[1679]
[1680]
[1681]
[1682]
[1683]
[1684]
[1685]
[1686]
[1687]
[1688]
[1689]
[1690]
[1691]
[1692]
[1693]
[1694]
[1695]
[1696]
[1697]
[1698]
[1699]
[1700]
[1701]
[1702]
[1703]
[1704]
[1705]
[1706]
[1707]
[1708]
[1709]
[1710]
[1711]
[1712]
[1713]
[1714]
[1715]
[1716]
[1717]
[1718]
[1719]
[1720]
[1721]
[1722]
[1723]
[1724]
[1725]
[1726]
[1727]
[1728]
[1729]
[1730]
[1731]
[1732]
[1733]
[1734]
[1735]
[1736]
[1737]
[1738]
[1739]
[1740]
[1741]
[1742]
[1743]
[1744]
[1745]
[1746]
[1747]
[1748]
[1749]
[1750]
[1751]
[1752]
[1753]
[1754]
[1755]
[1756]
[1757]
[1758]
[1759]
[1760]
[1761]
[1762]
[1763]
[1764]
[1765]
[1766]
[1767]
[1768]
[1769]
[1770]
[1771]
[1772]
[1773]
[1774]
[1775]
[1776]
[1777]
[1778]
[1779]
[1780]
[1781]
[1782]
[1783]
[1784]
[1785]
[1786]
[1787]
[1788]
[1789]
[1790]
[1791]
[1792]
[1793]
[1794]
[1795]
[1796]
[1797]
[1798]
[1799]
[1800]
[1801]
[1802]
[1803]
[1804]
[1805]
[1806]
[1807]
[1808]
[1809]
[1810]
[1811]
[1812]
[1813]
[1814]
[1815]
[1816]
[1817]
[1818]
[1819]
[1820]
[1821]
[1822]
[1823]
[1824]
[1825]
[1826]
[1827]
[1828]
[1829]
[1830]
[1831]
[1832]
[1833]
[1834]
[1835]
[1836]
[1837]
[1838]
[1839]
[1840]
[1841]
[1842]
[1843]
[1844]
[1845]
[1846]
[1847]
[1848]
[1849]
[1850]
[1851]
[1852]
[1853]
[1854]
[1855]
[1856]
[1857]
[1858]
[1859]
[1860]
[1861]
[1862]
[1863]
[1864]
[1865]
[1866]
[1867]
[1868]
[1869]
[1870]
[1871]
[1872]
[1873]
[1874]
[1875]
[1876]
[1877]
[1878]
[1879]
[1880]
[1881]
[1882]
[1883]
[1884]
[1885]
[1886]
[1887]
[1888]
[1889]
[1890]
[1891]
[1892]
[1893]
[1894]
[1895]
[1896]
[1897]
[1898]
[1899]
[1900]
[1901]
[1902]
[1903]
[1904]
[1905]
[1906]
[1907]
[1908]
[1909]
[1910]
[1911]
[1912]
[1913]
[1914]
[1915]
[1916]
[1917]
[1918]
[1919]
[1920]
[1921]
[1922]
[1923]
[1924]
[1925]
[1926]
[1927]
[1928]
[1929]
[1930]
[1931]
[1932]
[1933]
[1934]
[1935]
[1936]
[1937]
[1938]
[1939]
[1940]
[1941]
[1942]
[1943]
[1944]
[1945]
[1946]
[1947]
[1948]
[1949]
[1950]
[1951]
[1952]
[1953]
[1954]
[1955]
[1956]
[1957]
[1958]
[1959]
[1960]
[1961]
[1962]
[1963]
[1964]
[1965]
[1966]
[1967]
[1968]
[1969]
[1970]
[1971]
[1972]
[1973]
[1974]
[1975]
[1976]
[1977]
[1978]
[1979]
[1980]
[1981]
[1982]
[1983]
[1984]
[1985]
[1986]
[1987]
[1988]
[1989]
[1990]
[1991]
[1992]
[1993]
[1994]
[1995]
[1996]
[1997]
[1998]
[1999]
[2000]
[2001]
[2002]
[2003]
[2004]
[2005]
[2006]
[2007]
[2008]
[2009]
[2010]
[2011]
[2012]
[2013]
[2014]
[2015]
[2016]
[2017]
[2018]
[2019]
[2020]
[2021]
[2022]
[2023]
[2024]
[2025]
[2026]
[2027]
[2028]
[2029]
[2030]
[2031]
[2032]
[2033]
[2034]
[2035]
[2036]
[2037]
[2038]
[2039]
[2040]
[2041]
[2042]
[2043]
[2044]
[2045]
[2046]
[2047]
[2048]
[2049]
[2050]
[2051]
[2052]
[2053]
[2054]
[2055]
[2056]
[2057]
[2058]
[2059]
[2060]
[2061]
[2062]
[2063]
[2064]
[2065]
[2066]
[2067]
[2068]
[2069]
[2070]
[2071]
[2072]
[2073]
[2074]
[2075]
[2076]
[2077]
[2078]
[2079]
[2080]
[2081]
[2082]
[2083]
[2084]
[2085]
[2086]
[2087]
[2088]
[2089]
[2090]
[2091]
[2092]
[2093]
[2094]
[2095]
[2096]
[2097]
[2098]
[2099]
[2100]
[2101]
[2102]
[2103]
[2104]
[2105]
[2106]
[2107]
[2108]
[2109]
[2110]
[2111]
[2112]
[2113]
[2114]
[2115]
[2116]
[2117]
[2118]
[2119]
[2120]
[2121]
[2122]
[2123]
[2124]
[2125]
[2126]
[2127]
[2128]
[2129]
[2130]
[2131]
[2132]
[2133]
[2134]
[2135]
[2136]
[2137]
[2138]
[2139]
[2140]
[2141]
[2142]
[2143]
[2144]
[2145]
[2146]
[2147]
[2148]
[2149]
[2150]
[2151]
[2152]
[2153]
[2154]
[2155]
[2156]
[2157]
[2158]
[2159]
[2160]
[2161]
[2162]
[2163]
[2164]
[2165]
[2166]
[2167]
[2168]
[2169]
[2170]
[2171]
[2172]
[2173]
[2174]
[2175]
[2176]
[2177]
[2178]
[2179]
[2180]
[2181]
[2182]
[2183]
[2184]
[2185]
[2186]
[2187]
[2188]
[2189]
[2190]
[2191]
[2192]
[2193]
[2194]
[2195]
[2196]
[2197]
[2198]
[2199]
[2200]
[2201]
[2202]
[2203]
[2204]
[2205]
[2206]
[2207]
[2208]
[2209]
[2210]
[2211]
[2212]
[2213]
[2214]
[2215]
[2216]
[2217]
[2218]
[2219]
[2220]
[2221]
[2222]
[2223]
[2224]
[2225]
[2226]
[2227]
[2228]
[2229]
[2230]
[2231]
[2232]
[2233]
[2234]
[2235]
[2236]
[2237]
[2238]
[2239]
[2240]
[2241]
[2242]
[2243]
[2244]
[2245]
[2246]
[2247]
[2248]
[2249]
[2250]
[2251]
[2252]
[2253]
[2254]
[2255]
[2256]
[2257]
[2258]
[2259]
[2260]
[2261]
[2262]
[2263]
[2264]
[2265]
[2266]
[2267]
[2268]
[2269]
[2270]
[2271]
[2272]
[2273]
[2274]
[2275]
[2276]
[2277]
[2278]
[2279]
[2280]
[2281]
[2282]
[2283]
[2284]
[2285]
[2286]
[2287]
[2288]
[2289]
[2290]
[2291]
[2292]
[2293]
[2294]
[2295]
[2296]
[2297]
[2298]
[2299]
[2300]
[2301]
[2302]
[2303]
[2304]
[2305]
[2306]
[2307]
[2308]
[2309]
[2310]
[2311]
[2312]
[2313]
[2314]
[2315]
[2316]
[2317]
[2318]
[2319]
[2320]
[2321]
[2322]
[2323]
[2324]
[2325]
[2326]
[2327]
[2328]
[2329]
[2330]
[2331]
[2332]
[2333]
[2334]
[2335]
[2336]
[2337]
[2338]
[2339]
[2340]
[2341]
[2342]
[2343]
[2344]
[2345]
[2346]
[2347]
[2348]
[2349]
[2350]
[2351]
[2352]
[2353]
[2354]
[2355]
[2356]
[2357]
[2358]
[2359]
[2360]
[2361]
[2362]
[2363]
[2364]
[2365]
[2366]
[2367]
[2368]
[2369]
[2370]
[2371]
[2372]
[2373]
[2374]
[2375]
[2376]
[2377]
[2378]
[2379]
[2380]
[2381]
[2382]
[2383]
[2384]
[2385]
[2386]
[2387]
[2388]
[2389]
[2390]
[2391]
[2392]
[2393]
[2394]
[2395]
[2396]
[2397]
[2398]
[2399]
[2400]
[2401]
[2402]
[2403]
[2404]
[2405]
[2406]
[2407]
[2408]
[2409]
[2410]
[2411]
[2412]
[2413]
[2414]
[2415]
[2416]
[2417]
[2418]
[2419]
[2420]
[2421]
[2422]
[2423]
[2424]
[2425]
[2426]
[2427]
[2428]
[2429]
[2430]
[2431]
[2432]
[2433]
[2434]
[2435]
[2436]
[2437]
[2438]
[2439]
[2440]
[2441]
[2442]
[2443]
[2444]
[2445]
[2446]
[2447]
[2448]
[2449]
[2450]
[2451]
[2452]
[2453]
[2454]
[2455]
[2456]
[2457]
[2458]
[2459]
[2460]
[2461]
[2462]
[2463]
[2464]
[2465]
[2466]
[2467]
[2468]
[2469]
[2470]
[2471]
[2472]
[2473]
[2474]
[2475]
[2476]
[2477]
[2478]
[2479]
[2480]
[2481]
[2482]
[2483]
[2484]
[2485]
[2486]
[2487]
[2488]
[2489]
[2490]
[2491]
[2492]
[2493]
[2494]
[2495]
[2496]
[2497]
[2498]
[2499]
[2500]
[2501]
[2502]
[2503]
[2504]
[2505]
[2506]
[2507]
[2508]
[2509]
[2510]
[2511]
[2512]
[2513]
[2514]
[2515]
[2516]
[2517]
[2518]
[2519]
[2520]
[2521]
[2522]
[2523]
[2524]
[2525]
[2526]
[2527]
[2528]
[2529]
[2530]
[2531]
[2532]
[2533]
[2534]
[2535]
[2536]
[2537]
[2538]
[2539]
[2540]
[2541]
[2542]
[2543]
[2544]
[2545]
[2546]
[2547]
[2548]
[2549]
[2550]
[2551]
[2552]
[2553]
[2554]
[2555]
[2556]
[2557]
[2558]
[2559]
[2560]
[2561]
[2562]
[2563]
[2564]
[2565]
[2566]
[2567]
[2568]
[2569]
[2570]
[2571]
[2572]
[2573]
[2574]
[2575]
[2576]
[2577]
[2578]
[2579]
[2580]
[2581]
[2582]
[2583]
[2584]
[2585]
[2586]
[2587]
[2588]
[2589]
[2590]
[2591]
[2592]
[2593]
[2594]
[2595]
[2596]
[2597]
[2598]
[2599]
[2600]
[2601]
[2602]
[2603]
[2604]
[2605]
[2606]
[2607]
[2608]
[2609]
[2610]
[2611]
[2612]
[2613]
[2614]
[2615]
[2616]
[2617]
[2618]
[2619]
[2620]
[2621]
[2622]
[2623]
[2624]
[2625]
[2626]
[2627]
[2628]
[2629]
[2630]
[2631]
[2632]
[2633]
[2634]
[2635]
[2636]
[2637]
[2638]
[2639]
[2640]
[2641]
[2642]
[2643]
[2644]
[2645]
[2646]
[2647]
[2648]
[2649]
[2650]
[2651]
[2652]
[2653]
[2654]
[2655]
[2656]
[2657]
[2658]
[2659]
[2660]
[2661]
[2662]
[2663]
[2664]
[2665]
[2666]
[2667]
[2668]
[2669]
[2670]
[2671]
[2672]
[2673]
[2674]
[2675]
[2676]
[2677]
[2678]
[2679]
[2680]
[2681]
[2682]
[2683]
[2684]
[2685]
[2686]
[2687]
[2688]
[2689]
[2690]
[2691]
[2692]
[2693]
[2694]
[2695]
[2696]
[2697]
[2698]
[2699]
[2700]
[2701]
[2702]
[2703]
[2704]
[2705]
[2706]
[2707]
[2708]
[2709]
[2710]
[2711]
[2712]
[2713]
[2714]
[2715]
[2716]
[2717]
[2718]
[2719]
[2720]
[2721]
[2722]
[2723]
[2724]
[2725]
[2726]
[2727]
[2728]
[2729]
[2730]
[2731]
[2732]
[2733]
[2734]
[2735]
[2736]
[2737]
[2738]
[2739]
[2740]
[2741]
[2742]
[2743]
[2744]
[2745]
[2746]
[2747]
[2748]
[2749]
[2750]

{"sheet":"Vorlage Rangliste - Note","index":2,"n_rows":100,"n_cols":28,"rows_kept":100,"cut":false,"hidden":true,"merged":[]}
[null,"Name\nNom\nNome","Vorname\nPrénom\nPrenome","Versicherten Nummer\nNuméro sécurité social\nNumero di assicurati\n[756.0000.0000.00]","Jahrgang\nAnnée\nAnni\n[JJJJ]","Geschlecht\nSexe\nSexe\n[m/f]","Anstellung\nEmploi\nImpiego","Grad\nGrade\nGrado","AO1\nOA1\nOE1","AO2\nOA2\nOE2","AO3\nOA3\nOE3","AO4\nOA4\nOE4","AO5\nOA5\nOE5","AO6\nOA6\nOE6","Klasse / Zug\nClasse / Section\nClasse / Sezione","Versuch 1\nEssai 1\nTentativo 1\n[mm:ss.00]","Versuch 2\nEssai 2\nTentativo 2\n[mm:ss.00]","Versuch 3\nEssai 3\nTentativo 3\n[mm:ss.00]","Versuch 1\nEssai 1\nTentativo 1\n[s]","Versuch 2\nEssai 2\nTentativo 2\n[s]","Versuch 3\nEssai 3\nTentativo 3\n[s]","Bester Versuch\nMeilleur résultat\nMiglior risultato\n[s]","Wertung\nBarème\nScala\n1-10","Note\nNote\nVota\n1-5","Qualifikation\nQualification\nQualificazione","Test erfüllt\nTest réussi\nTest successo","Beurteilung\nÉvaluation\nValutazione",{"$f":"IF(Masterblatt!AB1=\"\",\"\",Masterblatt!AB1)","v":"Hat irgend ein Resultat und soll daher direkt nach Resultaten mit Punkten kommen, aber vor jenen Namen, die gar keine Resultate hatten"}]
[null,{"$f":"IF(Masterblatt!B2=\"\",\"\",Masterblatt!B2)","v":""},{"$f":"IF(Masterblatt!C2=\"\",\"\",Masterblatt!C2)","v":""},{"$f":"IF(Masterblatt!D2=\"\",\"\",Masterblatt!D2)","v":""},{"$f":"IF(Masterblatt!E2=\"\",\"\",Masterblatt!E2)","v":""},{"$f":"IF(Masterblatt!F2=\"\",\"\",Masterblatt!F2)","v":""},{"$f":"IF(Masterblatt!G2=\"\",\"\",Masterblatt!G2)","v":""},{"$f":"IF(Masterblatt!H2=\"\",\"\",Masterblatt!H2)","v":""},{"$f":"IF(Masterblatt!I2=\"\",\"\",Masterblatt!I2)","v":""},{"$f":"IF(Masterblatt!J2=\"\",\"\",Masterblatt!J2)","v":""},{"$f":"IF(Masterblatt!K2=\"\",\"\",Masterblatt!K2)","v":""},{"$f":"IF(Masterblatt!L2=\"\",\"\",Masterblatt!L2)","v":""},{"$f":"IF(Masterblatt!M2=\"\",\"\",Masterblatt!M2)","v":""},{"$f":"IF(Masterblatt!N2=\"\",\"\",Masterblatt!N2)","v":""},{"$f":"IF(Masterblatt!O2=\"\",\"\",Masterblatt!O2)","v":""},{"$f":"IF(Masterblatt!P2=\"\",\"\",Masterblatt!P2)","v":""},{"$f":"IF(Masterblatt!Q2=\"\",\"\",Masterblatt!Q2)","v":""},{"$f":"IF(Masterblatt!R2=\"\",\"\",Masterblatt!R2)","v":""},{"$f":"IF(Masterblatt!S2=\"\",\"\",Masterblatt!S2)","v":""},{"$f":"IF(Masterblatt!T2=\"\",\"\",Masterblatt!T2)","v":""},{"$f":"IF(Masterblatt!U2=\"\",\"\",Masterblatt!U2)","v":""},{"$f":"IF(Masterblatt!V2=\"\",\"\",Masterblatt!V2)","v":""},{"$f":"IF(Masterblatt!W2=\"\",\"\",Masterblatt!W2)","v":""},{"$f":"IF(Masterblatt!X2=\"\",\"\",Masterblatt!X2)","v":""},{"$f":"IF(Masterblatt!Y2=\"\",\"\",Masterblatt!Y2)","v":""},{"$f":"IF(Masterblatt!Z2=\"\",\"\",Masterblatt!Z2)","v":""},{"$f":"IF(Masterblatt!AA2=\"\",\"\",Masterblatt!AA2)","v":""},{"$f":"IF(Masterblatt!AB2=\"\",\"\",Masterblatt!AB2)","v":2}]
[null,{"$f":"IF(Masterblatt!B3=\"\",\"\",Masterblatt!B3)","v":""},{"$f":"IF(Masterblatt!C3=\"\",\"\",Masterblatt!C3)","v":""},{"$f":"IF(Masterblatt!D3=\"\",\"\",Masterblatt!D3)","v":""},{"$f":"IF(Masterblatt!E3=\"\",\"\",Masterblatt!E3)","v":""},{"$f":"IF(Masterblatt!F3=\"\",\"\",Masterblatt!F3)","v":""},{"$f":"IF(Masterblatt!G3=\"\",\"\",Masterblatt!G3)","v":""},{"$f":"IF(Masterblatt!H3=\"\",\"\",Masterblatt!H3)","v":""},{"$f":"IF(Masterblatt!I3=\"\",\"\",Masterblatt!I3)","v":""},{"$f":"IF(Masterblatt!J3=\"\",\"\",Masterblatt!J3)","v":""},{"$f":"IF(Masterblatt!K3=\"\",\"\",Masterblatt!K3)","v":""},{"$f":"IF(Masterblatt!L3=\"\",\"\",Masterblatt!L3)","v":""},{"$f":"IF(Masterblatt!M3=\"\",\"\",Masterblatt!M3)","v":""},{"$f":"IF(Masterblatt!N3=\"\",\"\",Masterblatt!N3)","v":""},{"$f":"IF(Masterblatt!O3=\"\",\"\",Masterblatt!O3)","v":""},{"$f":"IF(Masterblatt!P3=\"\",\"\",Masterblatt!P3)","v":""},{"$f":"IF(Masterblatt!Q3=\"\",\"\",Masterblatt!Q3)","v":""},{"$f":"IF(Masterblatt!R3=\"\",\"\",Masterblatt!R3)","v":""},{"$f":"IF(Masterblatt!S3=\"\",\"\",Masterblatt!S3)","v":""},{"$f":"IF(Masterblatt!T3=\"\",\"\",Masterblatt!T3)","v":""},{"$f":"IF(Masterblatt!U3=\"\",\"\",Masterblatt!U3)","v":""},{"$f":"IF(Masterblatt!V3=\"\",\"\",Masterblatt!V3)","v":""},{"$f":"IF(Masterblatt!W3=\"\",\"\",Masterblatt!W3)","v":""},{"$f":"IF(Masterblatt!X3=\"\",\"\",Masterblatt!X3)","v":""},{"$f":"IF(Masterblatt!Y3=\"\",\"\",Masterblatt!Y3)","v":""},{"$f":"IF(Masterblatt!Z3=\"\",\"\",Masterblatt!Z3)","v":""},{"$f":"IF(Masterblatt!AA3=\"\",\"\",Masterblatt!AA3)","v":""},{"$f":"IF(Masterblatt!AB3=\"\",\"\",Masterblatt!AB3)","v":2}]
[null,{"$f":"IF(Masterblatt!B4=\"\",\"\",Masterblatt!B4)","v":""},{"$f":"IF(Masterblatt!C4=\"\",\"\",Masterblatt!C4)","v":""},{"$f":"IF(Masterblatt!D4=\"\",\"\",Masterblatt!D4)","v":""},{"$f":"IF(Masterblatt!E4=\"\",\"\",Masterblatt!E4)","v":""},{"$f":"IF(Masterblatt!F4=\"\",\"\",Masterblatt!F4)","v":""},{"$f":"IF(Masterblatt!G4=\"\",\"\",Masterblatt!G4)","v":""},{"$f":"IF(Masterblatt!H4=\"\",\"\",Masterblatt!H4)","v":""},{"$f":"IF(Masterblatt!I4=\"\",\"\",Masterblatt!I4)","v":""},{"$f":"IF(Masterblatt!J4=\"\",\"\",Masterblatt!J4)","v":""},{"$f":"IF(Masterblatt!K4=\"\",\"\",Masterblatt!K4)","v":""},{"$f":"IF(Masterblatt!L4=\"\",\"\",Masterblatt!L4)","v":""},{"$f":"IF(Masterblatt!M4=\"\",\"\",Masterblatt!M4)","v":""},{"$f":"IF(Masterblatt!N4=\"\",\"\",Masterblatt!N4)","v":""},{"$f":"IF(Masterblatt!O4=\"\",\"\",Masterblatt!O4)","v":""},{"$f":"IF(Masterblatt!P4=\"\",\"\",Masterblatt!P4)","v":""},{"$f":"IF(Masterblatt!Q4=\"\",\"\",Masterblatt!Q4)","v":""},{"$f":"IF(Masterblatt!R4=\"\",\"\",Masterblatt!R4)","v":""},{"$f":"IF(Masterblatt!S4=\"\",\"\",Masterblatt!S4)","v":""},{"$f":"IF(Masterblatt!T4=\"\",\"\",Masterblatt!T4)","v":""},{"$f":"IF(Masterblatt!U4=\"\",\"\",Masterblatt!U4)","v":""},{"$f":"IF(Masterblatt!V4=\"\",\"\",Masterblatt!V4)","v":""},{"$f":"IF(Masterblatt!W4=\"\",\"\",Masterblatt!W4)","v":""},{"$f":"IF(Masterblatt!X4=\"\",\"\",Masterblatt!X4)","v":""},{"$f":"IF(Masterblatt!Y4=\"\",\"\",Masterblatt!Y4)","v":""},{"$f":"IF(Masterblatt!Z4=\"\",\"\",Masterblatt!Z4)","v":""},{"$f":"IF(Masterblatt!AA4=\"\",\"\",Masterblatt!AA4)","v":""},{"$f":"IF(Masterblatt!AB4=\"\",\"\",Masterblatt!AB4)","v":2}]
[null,{"$f":"IF(Masterblatt!B5=\"\",\"\",Masterblatt!B5)","v":""},{"$f":"IF(Masterblatt!C5=\"\",\"\",Masterblatt!C5)","v":""},{"$f":"IF(Masterblatt!D5=\"\",\"\",Masterblatt!D5)","v":""},{"$f":"IF(Masterblatt!E5=\"\",\"\",Masterblatt!E5)","v":""},{"$f":"IF(Masterblatt!F5=\"\",\"\",Masterblatt!F5)","v":""},{"$f":"IF(Masterblatt!G5=\"\",\"\",Masterblatt!G5)","v":""},{"$f":"IF(Masterblatt!H5=\"\",\"\",Masterblatt!H5)","v":""},{"$f":"IF(Masterblatt!I5=\"\",\"\",Masterblatt!I5)","v":""},{"$f":"IF(Masterblatt!J5=\"\",\"\",Masterblatt!J5)","v":""},{"$f":"IF(Masterblatt!K5=\"\",\"\",Masterblatt!K5)","v":""},{"$f":"IF(Masterblatt!L5=\"\",\"\",Masterblatt!L5)","v":""},{"$f":"IF(Masterblatt!M5=\"\",\"\",Masterblatt!M5)","v":""},{"$f":"IF(Masterblatt!N5=\"\",\"\",Masterblatt!N5)","v":""},{"$f":"IF(Masterblatt!O5=\"\",\"\",Masterblatt!O5)","v":""},{"$f":"IF(Masterblatt!P5=\"\",\"\",Masterblatt!P5)","v":""},{"$f":"IF(Masterblatt!Q5=\"\",\"\",Masterblatt!Q5)","v":""},{"$f":"IF(Masterblatt!R5=\"\",\"\",Masterblatt!R5)","v":""},{"$f":"IF(Masterblatt!S5=\"\",\"\",Masterblatt!S5)","v":""},{"$f":"IF(Masterblatt!T5=\"\",\"\",Masterblatt!T5)","v":""},{"$f":"IF(Masterblatt!U5=\"\",\"\",Masterblatt!U5)","v":""},{"$f":"IF(Masterblatt!V5=\"\",\"\",Masterblatt!V5)","v":""},{"$f":"IF(Masterblatt!W5=\"\",\"\",Masterblatt!W5)","v":""},{"$f":"IF(Masterblatt!X5=\"\",\"\",Masterblatt!X5)","v":""},{"$f":"IF(Masterblatt!Y5=\"\",\"\",Masterblatt!Y5)","v":""},{"$f":"IF(Masterblatt!Z5=\"\",\"\",Masterblatt!Z5)","v":""},{"$f":"IF(Masterblatt!AA5=\"\",\"\",Masterblatt!AA5)","v":""},{"$f":"IF(Masterblatt!AB5=\"\",\"\",Masterblatt!AB5)","v":2}]
[null,{"$f":"IF(Masterblatt!B6=\"\",\"\",Masterblatt!B6)","v":""},{"$f":"IF(Masterblatt!C6=\"\",\"\",Masterblatt!C6)","v":""},{"$f":"IF(Masterblatt!D6=\"\",\"\",Masterblatt!D6)","v":""},{"$f":"IF(Masterblatt!E6=\"\",\"\",Masterblatt!E6)","v":""},{"$f":"IF(Masterblatt!F6=\"\",\"\",Masterblatt!F6)","v":""},{"$f":"IF(Masterblatt!G6=\"\",\"\",Masterblatt!G6)","v":""},{"$f":"IF(Masterblatt!H6=\"\",\"\",Masterblatt!H6)","v":""},{"$f":"IF(Masterblatt!I6=\"\",\"\",Masterblatt!I6)","v":""},{"$f":"IF(Masterblatt!J6=\"\",\"\",Masterblatt!J6)","v":""},{"$f":"IF(Masterblatt!K6=\"\",\"\",Masterblatt!K6)","v":""},{"$f":"IF(Masterblatt!L6=\"\",\"\",Masterblatt!L6)","v":""},{"$f":"IF(Masterblatt!M6=\"\",\"\",Masterblatt!M6)","v":""},{"$f":"IF(Masterblatt!N6=\"\",\"\",Masterblatt!N6)","v":""},{"$f":"IF(Masterblatt!O6=\"\",\"\",Masterblatt!O6)","v":""},{"$f":"IF(Masterblatt!P6=\"\",\"\",Masterblatt!P6)","v":""},{"$f":"IF(Masterblatt!Q6=\"\",\"\",Masterblatt!Q6)","v":""},{"$f":"IF(Masterblatt!R6=\"\",\"\",Masterblatt!R6)","v":""},{"$f":"IF(Masterblatt!S6=\"\",\"\",Masterblatt!S6)","v":""},{"$f":"IF(Masterblatt!T6=\"\",\"\",Masterblatt!T6)","v":""},{"$f":"IF(Masterblatt!U6=\"\",\"\",Masterblatt!U6)","v":""},{"$f":"IF(Masterblatt!V6=\"\",\"\",Masterblatt!V6)","v":""},{"$f":"IF(Masterblatt!W6=\"\",\"\",Masterblatt!W6)","v":""},{"$f":"IF(Masterblatt!X6=\"\",\"\",Masterblatt!X6)","v":""},{"$f":"IF(Masterblatt!Y6=\"\",\"\",Masterblatt!Y6)","v":""},{"$f":"IF(Masterblatt!Z6=\"\",\"\",Masterblatt!Z6)","v":""},{"$f":"IF(Masterblatt!AA6=\"\",\"\",Masterblatt!AA6)","v":""},{"$f":"IF(Masterblatt!AB6=\"\",\"\",Masterblatt!AB6)","v":2}]
[null,{"$f":"IF(Masterblatt!B7=\"\",\"\",Masterblatt!B7)","v":""},{"$f":"IF(Masterblatt!C7=\"\",\"\",Masterblatt!C7)","v":""},{"$f":"IF(Masterblatt!D7=\"\",\"\",Masterblatt!D7)","v":""},{"$f":"IF(Masterblatt!E7=\"\",\"\",Masterblatt!E7)","v":""},{"$f":"IF(Masterblatt!F7=\"\",\"\",Masterblatt!F7)","v":""},{"$f":"IF(Masterblatt!G7=\"\",\"\",Masterblatt!G7)","v":""},{"$f":"IF(Masterblatt!H7=\"\",\"\",Masterblatt!H7)","v":""},{"$f":"IF(Masterblatt!I7=\"\",\"\",Masterblatt!I7)","v":""},{"$f":"IF(Masterblatt!J7=\"\",\"\",Masterblatt!J7)","v":""},{"$f":"IF(Masterblatt!K7=\"\",\"\",Masterblatt!K7)","v":""},{"$f":"IF(Masterblatt!L7=\"\",\"\",Masterblatt!L7)","v":""},{"$f":"IF(Masterblatt!M7=\"\",\"\",Masterblatt!M7)","v":""},{"$f":"IF(Masterblatt!N7=\"\",\"\",Masterblatt!N7)","v":""},{"$f":"IF(Masterblatt!O7=\"\",\"\",Masterblatt!O7)","v":""},{"$f":"IF(Masterblatt!P7=\"\",\"\",Masterblatt!P7)","v":""},{"$f":"IF(Masterblatt!Q7=\"\",\"\",Masterblatt!Q7)","v":""},{"$f":"IF(Masterblatt!R7=\"\",\"\",Masterblatt!R7)","v":""},{"$f":"IF(Masterblatt!S7=\"\",\"\",Masterblatt!S7)","v":""},{"$f":"IF(Masterblatt!T7=\"\",\"\",Masterblatt!T7)","v":""},{"$f":"IF(Masterblatt!U7=\"\",\"\",Masterblatt!U7)","v":""},{"$f":"IF(Masterblatt!V7=\"\",\"\",Masterblatt!V7)","v":""},{"$f":"IF(Masterblatt!W7=\"\",\"\",Masterblatt!W7)","v":""},{"$f":"IF(Masterblatt!X7=\"\",\"\",Masterblatt!X7)","v":""},{"$f":"IF(Masterblatt!Y7=\"\",\"\",Masterblatt!Y7)","v":""},{"$f":"IF(Masterblatt!Z7=\"\",\"\",Masterblatt!Z7)","v":""},{"$f":"IF(Masterblatt!AA7=\"\",\"\",Masterblatt!AA7)","v":""},{"$f":"IF(Masterblatt!AB7=\"\",\"\",Masterblatt!AB7)","v":2}]
[null,{"$f":"IF(Masterblatt!B8=\"\",\"\",Masterblatt!B8)","v":""},{"$f":"IF(Masterblatt!C8=\"\",\"\",Masterblatt!C8)","v":""},{"$f":"IF(Masterblatt!D8=\"\",\"\",Masterblatt!D8)","v":""},{"$f":"IF(Masterblatt!E8=\"\",\"\",Masterblatt!E8)","v":""},{"$f":"IF(Masterblatt!F8=\"\",\"\",Masterblatt!F8)","v":""},{"$f":"IF(Masterblatt!G8=\"\",\"\",Masterblatt!G8)","v":""},{"$f":"IF(Masterblatt!H8=\"\",\"\",Masterblatt!H8)","v":""},{"$f":"IF(Masterblatt!I8=\"\",\"\",Masterblatt!I8)","v":""},{"$f":"IF(Masterblatt!J8=\"\",\"\",Masterblatt!J8)","v":""},{"$f":"IF(Masterblatt!K8=\"\",\"\",Masterblatt!K8)","v":""},{"$f":"IF(Masterblatt!L8=\"\",\"\",Masterblatt!L8)","v":""},{"$f":"IF(Masterblatt!M8=\"\",\"\",Masterblatt!M8)","v":""},{"$f":"IF(Masterblatt!N8=\"\",\"\",Masterblatt!N8)","v":""},{"$f":"IF(Masterblatt!O8=\"\",\"\",Masterblatt!O8)","v":""},{"$f":"IF(Masterblatt!P8=\"\",\"\",Masterblatt!P8)","v":""},{"$f":"IF(Masterblatt!Q8=\"\",\"\",Masterblatt!Q8)","v":""},{"$f":"IF(Masterblatt!R8=\"\",\"\",Masterblatt!R8)","v":""},{"$f":"IF(Masterblatt!S8=\"\",\"\",Masterblatt!S8)","v":""},{"$f":"IF(Masterblatt!T8=\"\",\"\",Masterblatt!T8)","v":""},{"$f":"IF(Masterblatt!U8=\"\",\"\",Masterblatt!U8)","v":""},{"$f":"IF(Masterblatt!V8=\"\",\"\",Masterblatt!V8)","v":""},{"$f":"IF(Masterblatt!W8=\"\",\"\",Masterblatt!W8)","v":""},{"$f":"IF(Masterblatt!X8=\"\",\"\",Masterblatt!X8)","v":""},{"$f":"IF(Masterblatt!Y8=\"\",\"\",Masterblatt!Y8)","v":""},{"$f":"IF(Masterblatt!Z8=\"\",\"\",Masterblatt!Z8)","v":""},{"$f":"IF(Masterblatt!AA8=\"\",\"\",Masterblatt!AA8)","v":""},{"$f":"IF(Masterblatt!AB8=\"\",\"\",Masterblatt!AB8)","v":2}]
[null,{"$f":"IF(Masterblatt!B9=\"\",\"\",Masterblatt!B9)","v":""},{"$f":"IF(Masterblatt!C9=\"\",\"\",Masterblatt!C9)","v":""},{"$f":"IF(Masterblatt!D9=\"\",\"\",Masterblatt!D9)","v":""},{"$f":"IF(Masterblatt!E9=\"\",\"\",Masterblatt!E9)","v":""},{"$f":"IF(Masterblatt!F9=\"\",\"\",Masterblatt!F9)","v":""},{"$f":"IF(Masterblatt!G9=\"\",\"\",Masterblatt!G9)","v":""},{"$f":"IF(Masterblatt!H9=\"\",\"\",Masterblatt!H9)","v":""},{"$f":"IF(Masterblatt!I9=\"\",\"\",Masterblatt!I9)","v":""},{"$f":"IF(Masterblatt!J9=\"\",\"\",Masterblatt!J9)","v":""},{"$f":"IF(Masterblatt!K9=\"\",\"\",Masterblatt!K9)","v":""},{"$f":"IF(Masterblatt!L9=\"\",\"\",Masterblatt!L9)","v":""},{"$f":"IF(Masterblatt!M9=\"\",\"\",Masterblatt!M9)","v":""},{"$f":"IF(Masterblatt!N9=\"\",\"\",Masterblatt!N9)","v":""},{"$f":"IF(Masterblatt!O9=\"\",\"\",Masterblatt!O9)","v":""},{"$f":"IF(Masterblatt!P9=\"\",\"\",Masterblatt!P9)","v":""},{"$f":"IF(Masterblatt!Q9=\"\",\"\",Masterblatt!Q9)","v":""},{"$f":"IF(Masterblatt!R9=\"\",\"\",Masterblatt!R9)","v":""},{"$f":"IF(Masterblatt!S9=\"\",\"\",Masterblatt!S9)","v":""},{"$f":"IF(Masterblatt!T9=\"\",\"\",Masterblatt!T9)","v":""},{"$f":"IF(Masterblatt!U9=\"\",\"\",Masterblatt!U9)","v":""},{"$f":"IF(Masterblatt!V9=\"\",\"\",Masterblatt!V9)","v":""},{"$f":"IF(Masterblatt!W9=\"\",\"\",Masterblatt!W9)","v":""},{"$f":"IF(Masterblatt!X9=\"\",\"\",Masterblatt!X9)","v":""},{"$f":"IF(Masterblatt!Y9=\"\",\"\",Masterblatt!Y9)","v":""},{"$f":"IF(Masterblatt!Z9=\"\",\"\",Masterblatt!Z9)","v":""},{"$f":"IF(Masterblatt!AA9=\"\",\"\",Masterblatt!AA9)","v":""},{"$f":"IF(Masterblatt!AB9=\"\",\"\",Masterblatt!AB9)","v":2}]
[null,{"$f":"IF(Masterblatt!B10=\"\",\"\",Masterblatt!B10)","v":""},{"$f":"IF(Masterblatt!C10=\"\",\"\",Masterblatt!C10)","v":""},{"$f":"IF(Masterblatt!D10=\"\",\"\",Masterblatt!D10)","v":""},{"$f":"IF(Masterblatt!E10=\"\",\"\",Masterblatt!E10)","v":""},{"$f":"IF(Masterblatt!F10=\"\",\"\",Masterblatt!F10)","v":""},{"$f":"IF(Masterblatt!G10=\"\",\"\",Masterblatt!G10)","v":""},{"$f":"IF(Masterblatt!H10=\"\",\"\",Masterblatt!H10)","v":""},{"$f":"IF(Masterblatt!I10=\"\",\"\",Masterblatt!I10)","v":""},{"$f":"IF(Masterblatt!J10=\"\",\"\",Masterblatt!J10)","v":""},{"$f":"IF(Masterblatt!K10=\"\",\"\",Masterblatt!K10)","v":""},{"$f":"IF(Masterblatt!L10=\"\",\"\",Masterblatt!L10)","v":""},{"$f":"IF(Masterblatt!M10=\"\",\"\",Masterblatt!M10)","v":""},{"$f":"IF(Masterblatt!N10=\"\",\"\",Masterblatt!N10)","v":""},{"$f":"IF(Masterblatt!O10=\"\",\"\",Masterblatt!O10)","v":""},{"$f":"IF(Masterblatt!P10=\"\",\"\",Masterblatt!P10)","v":""},{"$f":"IF(Masterblatt!Q10=\"\",\"\",Masterblatt!Q10)","v":""},{"$f":"IF(Masterblatt!R10=\"\",\"\",Masterblatt!R10)","v":""},{"$f":"IF(Masterblatt!S10=\"\",\"\",Masterblatt!S10)","v":""},{"$f":"IF(Masterblatt!T10=\"\",\"\",Masterblatt!T10)","v":""},{"$f":"IF(Masterblatt!U10=\"\",\"\",Masterblatt!U10)","v":""},{"$f":"IF(Masterblatt!V10=\"\",\"\",Masterblatt!V10)","v":""},{"$f":"IF(Masterblatt!W10=\"\",\"\",Masterblatt!W10)","v":""},{"$f":"IF(Masterblatt!X10=\"\",\"\",Masterblatt!X10)","v":""},{"$f":"IF(Masterblatt!Y10=\"\",\"\",Masterblatt!Y10)","v":""},{"$f":"IF(Masterblatt!Z10=\"\",\"\",Masterblatt!Z10)","v":""},{"$f":"IF(Masterblatt!AA10=\"\",\"\",Masterblatt!AA10)","v":""},{"$f":"IF(Masterblatt!AB10=\"\",\"\",Masterblatt!AB10)","v":2}]
[null,{"$f":"IF(Masterblatt!B11=\"\",\"\",Masterblatt!B11)","v":""},{"$f":"IF(Masterblatt!C11=\"\",\"\",Masterblatt!C11)","v":""},{"$f":"IF(Masterblatt!D11=\"\",\"\",Masterblatt!D11)","v":""},{"$f":"IF(Masterblatt!E11=\"\",\"\",Masterblatt!E11)","v":""},{"$f":"IF(Masterblatt!F11=\"\",\"\",Masterblatt!F11)","v":""},{"$f":"IF(Masterblatt!G11=\"\",\"\",Masterblatt!G11)","v":""},{"$f":"IF(Masterblatt!H11=\"\",\"\",Masterblatt!H11)","v":""},{"$f":"IF(Masterblatt!I11=\"\",\"\",Masterblatt!I11)","v":""},{"$f":"IF(Masterblatt!J11=\"\",\"\",Masterblatt!J11)","v":""},{"$f":"IF(Masterblatt!K11=\"\",\"\",Masterblatt!K11)","v":""},{"$f":"IF(Masterblatt!L11=\"\",\"\",Masterblatt!L11)","v":""},{"$f":"IF(Masterblatt!M11=\"\",\"\",Masterblatt!M11)","v":""},{"$f":"IF(Masterblatt!N11=\"\",\"\",Masterblatt!N11)","v":""},{"$f":"IF(Masterblatt!O11=\"\",\"\",Masterblatt!O11)","v":""},{"$f":"IF(Masterblatt!P11=\"\",\"\",Masterblatt!P11)","v":""},{"$f":"IF(Masterblatt!Q11=\"\",\"\",Masterblatt!Q11)","v":""},{"$f":"IF(Masterblatt!R11=\"\",\"\",Masterblatt!R11)","v":""},{"$f":"IF(Masterblatt!S11=\"\",\"\",Masterblatt!S11)","v":""},{"$f":"IF(Masterblatt!T11=\"\",\"\",Masterblatt!T11)","v":""},{"$f":"IF(Masterblatt!U11=\"\",\"\",Masterblatt!U11)","v":""},{"$f":"IF(Masterblatt!V11=\"\",\"\",Masterblatt!V11)","v":""},{"$f":"IF(Masterblatt!W11=\"\",\"\",Masterblatt!W11)","v":""},{"$f":"IF(Masterblatt!X11=\"\",\"\",Masterblatt!X11)","v":""},{"$f":"IF(Masterblatt!Y11=\"\",\"\",Masterblatt!Y11)","v":""},{"$f":"IF(Masterblatt!Z11=\"\",\"\",Masterblatt!Z11)","v":""},{"$f":"IF(Masterblatt!AA11=\"\",\"\",Masterblatt!AA11)","v":""},{"$f":"IF(Masterblatt!AB11=\"\",\"\",Masterblatt!AB11)","v":2}]
[null,{"$f":"IF(Masterblatt!B12=\"\",\"\",Masterblatt!B12)","v":""},{"$f":"IF(Masterblatt!C12=\"\",\"\",Masterblatt!C12)","v":""},{"$f":"IF(Masterblatt!D12=\"\",\"\",Masterblatt!D12)","v":""},{"$f":"IF(Masterblatt!E12=\"\",\"\",Masterblatt!E12)","v":""},{"$f":"IF(Masterblatt!F12=\"\",\"\",Masterblatt!F12)","v":""},{"$f":"IF(Masterblatt!G12=\"\",\"\",Masterblatt!G12)","v":""},{"$f":"IF(Masterblatt!H12=\"\",\"\",Masterblatt!H12)","v":""},{"$f":"IF(Masterblatt!I12=\"\",\"\",Masterblatt!I12)","v":""},{"$f":"IF(Masterblatt!J12=\"\",\"\",Masterblatt!J12)","v":""},{"$f":"IF(Masterblatt!K12=\"\",\"\",Masterblatt!K12)","v":""},{"$f":"IF(Masterblatt!L12=\"\",\"\",Masterblatt!L12)","v":""},{"$f":"IF(Masterblatt!M12=\"\",\"\",Masterblatt!M12)","v":""},{"$f":"IF(Masterblatt!N12=\"\",\"\",Masterblatt!N12)","v":""},{"$f":"IF(Masterblatt!O12=\"\",\"\",Masterblatt!O12)","v":""},{"$f":"IF(Masterblatt!P12=\"\",\"\",Masterblatt!P12)","v":""},{"$f":"IF(Masterblatt!Q12=\"\",\"\",Masterblatt!Q12)","v":""},{"$f":"IF(Masterblatt!R12=\"\",\"\",Masterblatt!R12)","v":""},{"$f":"IF(Masterblatt!S12=\"\",\"\",Masterblatt!S12)","v":""},{"$f":"IF(Masterblatt!T12=\"\",\"\",Masterblatt!T12)","v":""},{"$f":"IF(Masterblatt!U12=\"\",\"\",Masterblatt!U12)","v":""},{"$f":"IF(Masterblatt!V12=\"\",\"\",Masterblatt!V12)","v":""},{"$f":"IF(Masterblatt!W12=\"\",\"\",Masterblatt!W12)","v":""},{"$f":"IF(Masterblatt!X12=\"\",\"\",Masterblatt!X12)","v":""},{"$f":"IF(Masterblatt!Y12=\"\",\"\",Masterblatt!Y12)","v":""},{"$f":"IF(Masterblatt!Z12=\"\",\"\",Masterblatt!Z12)","v":""},{"$f":"IF(Masterblatt!AA12=\"\",\"\",Masterblatt!AA12)","v":""},{"$f":"IF(Masterblatt!AB12=\"\",\"\",Masterblatt!AB12)","v":2}]
[null,{"$f":"IF(Masterblatt!B13=\"\",\"\",Masterblatt!B13)","v":""},{"$f":"IF(Masterblatt!C13=\"\",\"\",Masterblatt!C13)","v":""},{"$f":"IF(Masterblatt!D13=\"\",\"\",Masterblatt!D13)","v":""},{"$f":"IF(Masterblatt!E13=\"\",\"\",Masterblatt!E13)","v":""},{"$f":"IF(Masterblatt!F13=\"\",\"\",Masterblatt!F13)","v":""},{"$f":"IF(Masterblatt!G13=\"\",\"\",Masterblatt!G13)","v":""},{"$f":"IF(Masterblatt!H13=\"\",\"\",Masterblatt!H13)","v":""},{"$f":"IF(Masterblatt!I13=\"\",\"\",Masterblatt!I13)","v":""},{"$f":"IF(Masterblatt!J13=\"\",\"\",Masterblatt!J13)","v":""},{"$f":"IF(Masterblatt!K13=\"\",\"\",Masterblatt!K13)","v":""},{"$f":"IF(Masterblatt!L13=\"\",\"\",Masterblatt!L13)","v":""},{"$f":"IF(Masterblatt!M13=\"\",\"\",Masterblatt!M13)","v":""},{"$f":"IF(Masterblatt!N13=\"\",\"\",Masterblatt!N13)","v":""},{"$f":"IF(Masterblatt!O13=\"\",\"\",Masterblatt!O13)","v":""},{"$f":"IF(Masterblatt!P13=\"\",\"\",Masterblatt!P13)","v":""},{"$f":"IF(Masterblatt!Q13=\"\",\"\",Masterblatt!Q13)","v":""},{"$f":"IF(Masterblatt!R13=\"\",\"\",Masterblatt!R13)","v":""},{"$f":"IF(Masterblatt!S13=\"\",\"\",Masterblatt!S13)","v":""},{"$f":"IF(Masterblatt!T13=\"\",\"\",Masterblatt!T13)","v":""},{"$f":"IF(Masterblatt!U13=\"\",\"\",Masterblatt!U13)","v":""},{"$f":"IF(Masterblatt!V13=\"\",\"\",Masterblatt!V13)","v":""},{"$f":"IF(Masterblatt!W13=\"\",\"\",Masterblatt!W13)","v":""},{"$f":"IF(Masterblatt!X13=\"\",\"\",Masterblatt!X13)","v":""},{"$f":"IF(Masterblatt!Y13=\"\",\"\",Masterblatt!Y13)","v":""},{"$f":"IF(Masterblatt!Z13=\"\",\"\",Masterblatt!Z13)","v":""},{"$f":"IF(Masterblatt!AA13=\"\",\"\",Masterblatt!AA13)","v":""},{"$f":"IF(Masterblatt!AB13=\"\",\"\",Masterblatt!AB13)","v":2}]
[null,{"$f":"IF(Masterblatt!B14=\"\",\"\",Masterblatt!B14)","v":""},{"$f":"IF(Masterblatt!C14=\"\",\"\",Masterblatt!C14)","v":""},{"$f":"IF(Masterblatt!D14=\"\",\"\",Masterblatt!D14)","v":""},{"$f":"IF(Masterblatt!E14=\"\",\"\",Masterblatt!E14)","v":""},{"$f":"IF(Masterblatt!F14=\"\",\"\",Masterblatt!F14)","v":""},{"$f":"IF(Masterblatt!G14=\"\",\"\",Masterblatt!G14)","v":""},{"$f":"IF(Masterblatt!H14=\"\",\"\",Masterblatt!H14)","v":""},{"$f":"IF(Masterblatt!I14=\"\",\"\",Masterblatt!I14)","v":""},{"$f":"IF(Masterblatt!J14=\"\",\"\",Masterblatt!J14)","v":""},{"$f":"IF(Masterblatt!K14=\"\",\"\",Masterblatt!K14)","v":""},{"$f":"IF(Masterblatt!L14=\"\",\"\",Masterblatt!L14)","v":""},{"$f":"IF(Masterblatt!M14=\"\",\"\",Masterblatt!M14)","v":""},{"$f":"IF(Masterblatt!N14=\"\",\"\",Masterblatt!N14)","v":""},{"$f":"IF(Masterblatt!O14=\"\",\"\",Masterblatt!O14)","v":""},{"$f":"IF(Masterblatt!P14=\"\",\"\",Masterblatt!P14)","v":""},{"$f":"IF(Masterblatt!Q14=\"\",\"\",Masterblatt!Q14)","v":""},{"$f":"IF(Masterblatt!R14=\"\",\"\",Masterblatt!R14)","v":""},{"$f":"IF(Masterblatt!S14=\"\",\"\",Masterblatt!S14)","v":""},{"$f":"IF(Masterblatt!T14=\"\",\"\",Masterblatt!T14)","v":""},{"$f":"IF(Masterblatt!U14=\"\",\"\",Masterblatt!U14)","v":""},{"$f":"IF(Masterblatt!V14=\"\",\"\",Masterblatt!V14)","v":""},{"$f":"IF(Masterblatt!W14=\"\",\"\",Masterblatt!W14)","v":""},{"$f":"IF(Masterblatt!X14=\"\",\"\",Masterblatt!X14)","v":""},{"$f":"IF(Masterblatt!Y14=\"\",\"\",Masterblatt!Y14)","v":""},{"$f":"IF(Masterblatt!Z14=\"\",\"\",Masterblatt!Z14)","v":""},{"$f":"IF(Masterblatt!AA14=\"\",\"\",Masterblatt!AA14)","v":""},{"$f":"IF(Masterblatt!AB14=\"\",\"\",Masterblatt!AB14)","v":2}]
[null,{"$f":"IF(Masterblatt!B15=\"\",\"\",Masterblatt!B15)","v":""},{"$f":"IF(Masterblatt!C15=\"\",\"\",Masterblatt!C15)","v":""},{"$f":"IF(Masterblatt!D15=\"\",\"\",Masterblatt!D15)","v":""},{"$f":"IF(Masterblatt!E15=\"\",\"\",Masterblatt!E15)","v":""},{"$f":"IF(Masterblatt!F15=\"\",\"\",Masterblatt!F15)","v":""},{"$f":"IF(Masterblatt!G15=\"\",\"\",Masterblatt!G15)","v":""},{"$f":"IF(Masterblatt!H15=\"\",\"\",Masterblatt!H15)","v":""},{"$f":"IF(Masterblatt!I15=\"\",\"\",Masterblatt!I15)","v":""},{"$f":"IF(Masterblatt!J15=\"\",\"\",Masterblatt!J15)","v":""},{"$f":"IF(Masterblatt!K15=\"\",\"\",Masterblatt!K15)","v":""},{"$f":"IF(Masterblatt!L15=\"\",\"\",Masterblatt!L15)","v":""},{"$f":"IF(Masterblatt!M15=\"\",\"\",Masterblatt!M15)","v":""},{"$f":"IF(Masterblatt!N15=\"\",\"\",Masterblatt!N15)","v":""},{"$f":"IF(Masterblatt!O15=\"\",\"\",Masterblatt!O15)","v":""},{"$f":"IF(Masterblatt!P15=\"\",\"\",Masterblatt!P15)","v":""},{"$f":"IF(Masterblatt!Q15=\"\",\"\",Masterblatt!Q15)","v":""},{"$f":"IF(Masterblatt!R15=\"\",\"\",Masterblatt!R15)","v":""},{"$f":"IF(Masterblatt!S15=\"\",\"\",Masterblatt!S15)","v":""},{"$f":"IF(Masterblatt!T15=\"\",\"\",Masterblatt!T15)","v":""},{"$f":"IF(Masterblatt!U15=\"\",\"\",Masterblatt!U15)","v":""},{"$f":"IF(Masterblatt!V15=\"\",\"\",Masterblatt!V15)","v":""},{"$f":"IF(Masterblatt!W15=\"\",\"\",Masterblatt!W15)","v":""},{"$f":"IF(Masterblatt!X15=\"\",\"\",Masterblatt!X15)","v":""},{"$f":"IF(Masterblatt!Y15=\"\",\"\",Masterblatt!Y15)","v":""},{"$f":"IF(Masterblatt!Z15=\"\",\"\",Masterblatt!Z15)","v":""},{"$f":"IF(Masterblatt!AA15=\"\",\"\",Masterblatt!AA15)","v":""},{"$f":"IF(Masterblatt!AB15=\"\",\"\",Masterblatt!AB15)","v":2}]
[null,{"$f":"IF(Masterblatt!B16=\"\",\"\",Masterblatt!B16)","v":""},{"$f":"IF(Masterblatt!C16=\"\",\"\",Masterblatt!C16)","v":""},{"$f":"IF(Masterblatt!D16=\"\",\"\",Masterblatt!D16)","v":""},{"$f":"IF(Masterblatt!E16=\"\",\"\",Masterblatt!E16)","v":""},{"$f":"IF(Masterblatt!F16=\"\",\"\",Masterblatt!F16)","v":""},{"$f":"IF(Masterblatt!G16=\"\",\"\",Masterblatt!G16)","v":""},{"$f":"IF(Masterblatt!H16=\"\",\"\",Masterblatt!H16)","v":""},{"$f":"IF(Masterblatt!I16=\"\",\"\",Masterblatt!I16)","v":""},{"$f":"IF(Masterblatt!J16=\"\",\"\",Masterblatt!J16)","v":""},{"$f":"IF(Masterblatt!K16=\"\",\"\",Masterblatt!K16)","v":""},{"$f":"IF(Masterblatt!L16=\"\",\"\",Masterblatt!L16)","v":""},{"$f":"IF(Masterblatt!M16=\"\",\"\",Masterblatt!M16)","v":""},{"$f":"IF(Masterblatt!N16=\"\",\"\",Masterblatt!N16)","v":""},{"$f":"IF(Masterblatt!O16=\"\",\"\",Masterblatt!O16)","v":""},{"$f":"IF(Masterblatt!P16=\"\",\"\",Masterblatt!P16)","v":""},{"$f":"IF(Masterblatt!Q16=\"\",\"\",Masterblatt!Q16)","v":""},{"$f":"IF(Masterblatt!R16=\"\",\"\",Masterblatt!R16)","v":""},{"$f":"IF(Masterblatt!S16=\"\",\"\",Masterblatt!S16)","v":""},{"$f":"IF(Masterblatt!T16=\"\",\"\",Masterblatt!T16)","v":""},{"$f":"IF(Masterblatt!U16=\"\",\"\",Masterblatt!U16)","v":""},{"$f":"IF(Masterblatt!V16=\"\",\"\",Masterblatt!V16)","v":""},{"$f":"IF(Masterblatt!W16=\"\",\"\",Masterblatt!W16)","v":""},{"$f":"IF(Masterblatt!X16=\"\",\"\",Masterblatt!X16)","v":""},{"$f":"IF(Masterblatt!Y16=\"\",\"\",Masterblatt!Y16)","v":""},{"$f":"IF(Masterblatt!Z16=\"\",\"\",Masterblatt!Z16)","v":""},{"$f":"IF(Masterblatt!AA16=\"\",\"\",Masterblatt!AA16)","v":""},{"$f":"IF(Masterblatt!AB16=\"\",\"\",Masterblatt!AB16)","v":2}]
[null,{"$f":"IF(Masterblatt!B17=\"\",\"\",Masterblatt!B17)","v":""},{"$f":"IF(Masterblatt!C17=\"\",\"\",Masterblatt!C17)","v":""},{"$f":"IF(Masterblatt!D17=\"\",\"\",Masterblatt!D17)","v":""},{"$f":"IF(Masterblatt!E17=\"\",\"\",Masterblatt!E17)","v":""},{"$f":"IF(Masterblatt!F17=\"\",\"\",Masterblatt!F17)","v":""},{"$f":"IF(Masterblatt!G17=\"\",\"\",Masterblatt!G17)","v":""},{"$f":"IF(Masterblatt!H17=\"\",\"\",Masterblatt!H17)","v":""},{"$f":"IF(Masterblatt!I17=\"\",\"\",Masterblatt!I17)","v":""},{"$f":"IF(Masterblatt!J17=\"\",\"\",Masterblatt!J17)","v":""},{"$f":"IF(Masterblatt!K17=\"\",\"\",Masterblatt!K17)","v":""},{"$f":"IF(Masterblatt!L17=\"\",\"\",Masterblatt!L17)","v":""},{"$f":"IF(Masterblatt!M17=\"\",\"\",Masterblatt!M17)","v":""},{"$f":"IF(Masterblatt!N17=\"\",\"\",Masterblatt!N17)","v":""},{"$f":"IF(Masterblatt!O17=\"\",\"\",Masterblatt!O17)","v":""},{"$f":"IF(Masterblatt!P17=\"\",\"\",Masterblatt!P17)","v":""},{"$f":"IF(Masterblatt!Q17=\"\",\"\",Masterblatt!Q17)","v":""},{"$f":"IF(Masterblatt!R17=\"\",\"\",Masterblatt!R17)","v":""},{"$f":"IF(Masterblatt!S17=\"\",\"\",Masterblatt!S17)","v":""},{"$f":"IF(Masterblatt!T17=\"\",\"\",Masterblatt!T17)","v":""},{"$f":"IF(Masterblatt!U17=\"\",\"\",Masterblatt!U17)","v":""},{"$f":"IF(Masterblatt!V17=\"\",\"\",Masterblatt!V17)","v":""},{"$f":"IF(Masterblatt!W17=\"\",\"\",Masterblatt!W17)","v":""},{"$f":"IF(Masterblatt!X17=\"\",\"\",Masterblatt!X17)","v":""},{"$f":"IF(Masterblatt!Y17=\"\",\"\",Masterblatt!Y17)","v":""},{"$f":"IF(Masterblatt!Z17=\"\",\"\",Masterblatt!Z17)","v":""},{"$f":"IF(Masterblatt!AA17=\"\",\"\",Masterblatt!AA17)","v":""},{"$f":"IF(Masterblatt!AB17=\"\",\"\",Masterblatt!AB17)","v":2}]
[null,{"$f":"IF(Masterblatt!B18=\"\",\"\",Masterblatt!B18)","v":""},{"$f":"IF(Masterblatt!C18=\"\",\"\",Masterblatt!C18)","v":""},{"$f":"IF(Masterblatt!D18=\"\",\"\",Masterblatt!D18)","v":""},{"$f":"IF(Masterblatt!E18=\"\",\"\",Masterblatt!E18)","v":""},{"$f":"IF(Masterblatt!F18=\"\",\"\",Masterblatt!F18)","v":""},{"$f":"IF(Masterblatt!G18=\"\",\"\",Masterblatt!G18)","v":""},{"$f":"IF(Masterblatt!H18=\"\",\"\",Masterblatt!H18)","v":""},{"$f":"IF(Masterblatt!I18=\"\",\"\",Masterblatt!I18)","v":""},{"$f":"IF(Masterblatt!J18=\"\",\"\",Masterblatt!J18)","v":""},{"$f":"IF(Masterblatt!K18=\"\",\"\",Masterblatt!K18)","v":""},{"$f":"IF(Masterblatt!L18=\"\",\"\",Masterblatt!L18)","v":""},{"$f":"IF(Masterblatt!M18=\"\",\"\",Masterblatt!M18)","v":""},{"$f":"IF(Masterblatt!N18=\"\",\"\",Masterblatt!N18)","v":""},{"$f":"IF(Masterblatt!O18=\"\",\"\",Masterblatt!O18)","v":""},{"$f":"IF(Masterblatt!P18=\"\",\"\",Masterblatt!P18)","v":""},{"$f":"IF(Masterblatt!Q18=\"\",\"\",Masterblatt!Q18)","v":""},{"$f":"IF(Masterblatt!R18=\"\",\"\",Masterblatt!R18)","v":""},{"$f":"IF(Masterblatt!S18=\"\",\"\",Masterblatt!S18)","v":""},{"$f":"IF(Masterblatt!T18=\"\",\"\",Masterblatt!T18)","v":""},{"$f":"IF(Masterblatt!U18=\"\",\"\",Masterblatt!U18)","v":""},{"$f":"IF(Masterblatt!V18=\"\",\"\",Masterblatt!V18)","v":""},{"$f":"IF(Masterblatt!W18=\"\",\"\",Masterblatt!W18)","v":""},{"$f":"IF(Masterblatt!X18=\"\",\"\",Masterblatt!X18)","v":""},{"$f":"IF(Masterblatt!Y18=\"\",\"\",Masterblatt!Y18)","v":""},{"$f":"IF(Masterblatt!Z18=\"\",\"\",Masterblatt!Z18)","v":""},{"$f":"IF(Masterblatt!AA18=\"\",\"\",Masterblatt!AA18)","v":""},{"$f":"IF(Masterblatt!AB18=\"\",\"\",Masterblatt!AB18)","v":2}]
[null,{"$f":"IF(Masterblatt!B19=\"\",\"\",Masterblatt!B19)","v":""},{"$f":"IF(Masterblatt!C19=\"\",\"\",Masterblatt!C19)","v":""},{"$f":"IF(Masterblatt!D19=\"\",\"\",Masterblatt!D19)","v":""},{"$f":"IF(Masterblatt!E19=\"\",\"\",Masterblatt!E19)","v":""},{"$f":"IF(Masterblatt!F19=\"\",\"\",Masterblatt!F19)","v":""},{"$f":"IF(Masterblatt!G19=\"\",\"\",Masterblatt!G19)","v":""},{"$f":"IF(Masterblatt!H19=\"\",\"\",Masterblatt!H19)","v":""},{"$f":"IF(Masterblatt!I19=\"\",\"\",Masterblatt!I19)","v":""},{"$f":"IF(Masterblatt!J19=\"\",\"\",Masterblatt!J19)","v":""},{"$f":"IF(Masterblatt!K19=\"\",\"\",Masterblatt!K19)","v":""},{"$f":"IF(Masterblatt!L19=\"\",\"\",Masterblatt!L19)","v":""},{"$f":"IF(Masterblatt!M19=\"\",\"\",Masterblatt!M19)","v":""},{"$f":"IF(Masterblatt!N19=\"\",\"\",Masterblatt!N19)","v":""},{"$f":"IF(Masterblatt!O19=\"\",\"\",Masterblatt!O19)","v":""},{"$f":"IF(Masterblatt!P19=\"\",\"\",Masterblatt!P19)","v":""},{"$f":"IF(Masterblatt!Q19=\"\",\"\",Masterblatt!Q19)","v":""},{"$f":"IF(Masterblatt!R19=\"\",\"\",Masterblatt!R19)","v":""},{"$f":"IF(Masterblatt!S19=\"\",\"\",Masterblatt!S19)","v":""},{"$f":"IF(Masterblatt!T19=\"\",\"\",Masterblatt!T19)","v":""},{"$f":"IF(Masterblatt!U19=\"\",\"\",Masterblatt!U19)","v":""},{"$f":"IF(Masterblatt!V19=\"\",\"\",Masterblatt!V19)","v":""},{"$f":"IF(Masterblatt!W19=\"\",\"\",Masterblatt!W19)","v":""},{"$f":"IF(Masterblatt!X19=\"\",\"\",Masterblatt!X19)","v":""},{"$f":"IF(Masterblatt!Y19=\"\",\"\",Masterblatt!Y19)","v":""},{"$f":"IF(Masterblatt!Z19=\"\",\"\",Masterblatt!Z19)","v":""},{"$f":"IF(Masterblatt!AA19=\"\",\"\",Masterblatt!AA19)","v":""},{"$f":"IF(Masterblatt!AB19=\"\",\"\",Masterblatt!AB19)","v":2}]
[null,{"$f":"IF(Masterblatt!B20=\"\",\"\",Masterblatt!B20)","v":""},{"$f":"IF(Masterblatt!C20=\"\",\"\",Masterblatt!C20)","v":""},{"$f":"IF(Masterblatt!D20=\"\",\"\",Masterblatt!D20)","v":""},{"$f":"IF(Masterblatt!E20=\"\",\"\",Masterblatt!E20)","v":""},{"$f":"IF(Masterblatt!F20=\"\",\"\",Masterblatt!F20)","v":""},{"$f":"IF(Masterblatt!G20=\"\",\"\",Masterblatt!G20)","v":""},{"$f":"IF(Masterblatt!H20=\"\",\"\",Masterblatt!H20)","v":""},{"$f":"IF(Masterblatt!I20=\"\",\"\",Masterblatt!I20)","v":""},{"$f":"IF(Masterblatt!J20=\"\",\"\",Masterblatt!J20)","v":""},{"$f":"IF(Masterblatt!K20=\"\",\"\",Masterblatt!K20)","v":""},{"$f":"IF(Masterblatt!L20=\"\",\"\",Masterblatt!L20)","v":""},{"$f":"IF(Masterblatt!M20=\"\",\"\",Masterblatt!M20)","v":""},{"$f":"IF(Masterblatt!N20=\"\",\"\",Masterblatt!N20)","v":""},{"$f":"IF(Masterblatt!O20=\"\",\"\",Masterblatt!O20)","v":""},{"$f":"IF(Masterblatt!P20=\"\",\"\",Masterblatt!P20)","v":""},{"$f":"IF(Masterblatt!Q20=\"\",\"\",Masterblatt!Q20)","v":""},{"$f":"IF(Masterblatt!R20=\"\",\"\",Masterblatt!R20)","v":""},{"$f":"IF(Masterblatt!S20=\"\",\"\",Masterblatt!S20)","v":""},{"$f":"IF(Masterblatt!T20=\"\",\"\",Masterblatt!T20)","v":""},{"$f":"IF(Masterblatt!U20=\"\",\"\",Masterblatt!U20)","v":""},{"$f":"IF(Masterblatt!V20=\"\",\"\",Masterblatt!V20)","v":""},{"$f":"IF(Masterblatt!W20=\"\",\"\",Masterblatt!W20)","v":""},{"$f":"IF(Masterblatt!X20=\"\",\"\",Masterblatt!X20)","v":""},{"$f":"IF(Masterblatt!Y20=\"\",\"\",Masterblatt!Y20)","v":""},{"$f":"IF(Masterblatt!Z20=\"\",\"\",Masterblatt!Z20)","v":""},{"$f":"IF(Masterblatt!AA20=\"\",\"\",Masterblatt!AA20)","v":""},{"$f":"IF(Masterblatt!AB20=\"\",\"\",Masterblatt!AB20)","v":2}]
[null,{"$f":"IF(Masterblatt!B21=\"\",\"\",Masterblatt!B21)","v":""},{"$f":"IF(Masterblatt!C21=\"\",\"\",Masterblatt!C21)","v":""},{"$f":"IF(Masterblatt!D21=\"\",\"\",Masterblatt!D21)","v":""},{"$f":"IF(Masterblatt!E21=\"\",\"\",Masterblatt!E21)","v":""},{"$f":"IF(Masterblatt!F21=\"\",\"\",Masterblatt!F21)","v":""},{"$f":"IF(Masterblatt!G21=\"\",\"\",Masterblatt!G21)","v":""},{"$f":"IF(Masterblatt!H21=\"\",\"\",Masterblatt!H21)","v":""},{"$f":"IF(Masterblatt!I21=\"\",\"\",Masterblatt!I21)","v":""},{"$f":"IF(Masterblatt!J21=\"\",\"\",Masterblatt!J21)","v":""},{"$f":"IF(Masterblatt!K21=\"\",\"\",Masterblatt!K21)","v":""},{"$f":"IF(Masterblatt!L21=\"\",\"\",Masterblatt!L21)","v":""},{"$f":"IF(Masterblatt!M21=\"\",\"\",Masterblatt!M21)","v":""},{"$f":"IF(Masterblatt!N21=\"\",\"\",Masterblatt!N21)","v":""},{"$f":"IF(Masterblatt!O21=\"\",\"\",Masterblatt!O21)","v":""},{"$f":"IF(Masterblatt!P21=\"\",\"\",Masterblatt!P21)","v":""},{"$f":"IF(Masterblatt!Q21=\"\",\"\",Masterblatt!Q21)","v":""},{"$f":"IF(Masterblatt!R21=\"\",\"\",Masterblatt!R21)","v":""},{"$f":"IF(Masterblatt!S21=\"\",\"\",Masterblatt!S21)","v":""},{"$f":"IF(Masterblatt!T21=\"\",\"\",Masterblatt!T21)","v":""},{"$f":"IF(Masterblatt!U21=\"\",\"\",Masterblatt!U21)","v":""},{"$f":"IF(Masterblatt!V21=\"\",\"\",Masterblatt!V21)","v":""},{"$f":"IF(Masterblatt!W21=\"\",\"\",Masterblatt!W21)","v":""},{"$f":"IF(Masterblatt!X21=\"\",\"\",Masterblatt!X21)","v":""},{"$f":"IF(Masterblatt!Y21=\"\",\"\",Masterblatt!Y21)","v":""},{"$f":"IF(Masterblatt!Z21=\"\",\"\",Masterblatt!Z21)","v":""},{"$f":"IF(Masterblatt!AA21=\"\",\"\",Masterblatt!AA21)","v":""},{"$f":"IF(Masterblatt!AB21=\"\",\"\",Masterblatt!AB21)","v":2}]
[null,{"$f":"IF(Masterblatt!B22=\"\",\"\",Masterblatt!B22)","v":""},{"$f":"IF(Masterblatt!C22=\"\",\"\",Masterblatt!C22)","v":""},{"$f":"IF(Masterblatt!D22=\"\",\"\",Masterblatt!D22)","v":""},{"$f":"IF(Masterblatt!E22=\"\",\"\",Masterblatt!E22)","v":""},{"$f":"IF(Masterblatt!F22=\"\",\"\",Masterblatt!F22)","v":""},{"$f":"IF(Masterblatt!G22=\"\",\"\",Masterblatt!G22)","v":""},{"$f":"IF(Masterblatt!H22=\"\",\"\",Masterblatt!H22)","v":""},{"$f":"IF(Masterblatt!I22=\"\",\"\",Masterblatt!I22)","v":""},{"$f":"IF(Masterblatt!J22=\"\",\"\",Masterblatt!J22)","v":""},{"$f":"IF(Masterblatt!K22=\"\",\"\",Masterblatt!K22)","v":""},{"$f":"IF(Masterblatt!L22=\"\",\"\",Masterblatt!L22)","v":""},{"$f":"IF(Masterblatt!M22=\"\",\"\",Masterblatt!M22)","v":""},{"$f":"IF(Masterblatt!N22=\"\",\"\",Masterblatt!N22)","v":""},{"$f":"IF(Masterblatt!O22=\"\",\"\",Masterblatt!O22)","v":""},{"$f":"IF(Masterblatt!P22=\"\",\"\",Masterblatt!P22)","v":""},{"$f":"IF(Masterblatt!Q22=\"\",\"\",Masterblatt!Q22)","v":""},{"$f":"IF(Masterblatt!R22=\"\",\"\",Masterblatt!R22)","v":""},{"$f":"IF(Masterblatt!S22=\"\",\"\",Masterblatt!S22)","v":""},{"$f":"IF(Masterblatt!T22=\"\",\"\",Masterblatt!T22)","v":""},{"$f":"IF(Masterblatt!U22=\"\",\"\",Masterblatt!U22)","v":""},{"$f":"IF(Masterblatt!V22=\"\",\"\",Masterblatt!V22)","v":""},{"$f":"IF(Masterblatt!W22=\"\",\"\",Masterblatt!W22)","v":""},{"$f":"IF(Masterblatt!X22=\"\",\"\",Masterblatt!X22)","v":""},{"$f":"IF(Masterblatt!Y22=\"\",\"\",Masterblatt!Y22)","v":""},{"$f":"IF(Masterblatt!Z22=\"\",\"\",Masterblatt!Z22)","v":""},{"$f":"IF(Masterblatt!AA22=\"\",\"\",Masterblatt!AA22)","v":""},{"$f":"IF(Masterblatt!AB22=\"\",\"\",Masterblatt!AB22)","v":2}]
[null,{"$f":"IF(Masterblatt!B23=\"\",\"\",Masterblatt!B23)","v":""},{"$f":"IF(Masterblatt!C23=\"\",\"\",Masterblatt!C23)","v":""},{"$f":"IF(Masterblatt!D23=\"\",\"\",Masterblatt!D23)","v":""},{"$f":"IF(Masterblatt!E23=\"\",\"\",Masterblatt!E23)","v":""},{"$f":"IF(Masterblatt!F23=\"\",\"\",Masterblatt!F23)","v":""},{"$f":"IF(Masterblatt!G23=\"\",\"\",Masterblatt!G23)","v":""},{"$f":"IF(Masterblatt!H23=\"\",\"\",Masterblatt!H23)","v":""},{"$f":"IF(Masterblatt!I23=\"\",\"\",Masterblatt!I23)","v":""},{"$f":"IF(Masterblatt!J23=\"\",\"\",Masterblatt!J23)","v":""},{"$f":"IF(Masterblatt!K23=\"\",\"\",Masterblatt!K23)","v":""},{"$f":"IF(Masterblatt!L23=\"\",\"\",Masterblatt!L23)","v":""},{"$f":"IF(Masterblatt!M23=\"\",\"\",Masterblatt!M23)","v":""},{"$f":"IF(Masterblatt!N23=\"\",\"\",Masterblatt!N23)","v":""},{"$f":"IF(Masterblatt!O23=\"\",\"\",Masterblatt!O23)","v":""},{"$f":"IF(Masterblatt!P23=\"\",\"\",Masterblatt!P23)","v":""},{"$f":"IF(Masterblatt!Q23=\"\",\"\",Masterblatt!Q23)","v":""},{"$f":"IF(Masterblatt!R23=\"\",\"\",Masterblatt!R23)","v":""},{"$f":"IF(Masterblatt!S23=\"\",\"\",Masterblatt!S23)","v":""},{"$f":"IF(Masterblatt!T23=\"\",\"\",Masterblatt!T23)","v":""},{"$f":"IF(Masterblatt!U23=\"\",\"\",Masterblatt!U23)","v":""},{"$f":"IF(Masterblatt!V23=\"\",\"\",Masterblatt!V23)","v":""},{"$f":"IF(Masterblatt!W23=\"\",\"\",Masterblatt!W23)","v":""},{"$f":"IF(Masterblatt!X23=\"\",\"\",Masterblatt!X23)","v":""},{"$f":"IF(Masterblatt!Y23=\"\",\"\",Masterblatt!Y23)","v":""},{"$f":"IF(Masterblatt!Z23=\"\",\"\",Masterblatt!Z23)","v":""},{"$f":"IF(Masterblatt!AA23=\"\",\"\",Masterblatt!AA23)","v":""},{"$f":"IF(Masterblatt!AB23=\"\",\"\",Masterblatt!AB23)","v":2}]
[null,{"$f":"IF(Masterblatt!B24=\"\",\"\",Masterblatt!B24)","v":""},{"$f":"IF(Masterblatt!C24=\"\",\"\",Masterblatt!C24)","v":""},{"$f":"IF(Masterblatt!D24=\"\",\"\",Masterblatt!D24)","v":""},{"$f":"IF(Masterblatt!E24=\"\",\"\",Masterblatt!E24)","v":""},{"$f":"IF(Masterblatt!F24=\"\",\"\",Masterblatt!F24)","v":""},{"$f":"IF(Masterblatt!G24=\"\",\"\",Masterblatt!G24)","v":""},{"$f":"IF(Masterblatt!H24=\"\",\"\",Masterblatt!H24)","v":""},{"$f":"IF(Masterblatt!I24=\"\",\"\",Masterblatt!I24)","v":""},{"$f":"IF(Masterblatt!J24=\"\",\"\",Masterblatt!J24)","v":""},{"$f":"IF(Masterblatt!K24=\"\",\"\",Masterblatt!K24)","v":""},{"$f":"IF(Masterblatt!L24=\"\",\"\",Masterblatt!L24)","v":""},{"$f":"IF(Masterblatt!M24=\"\",\"\",Masterblatt!M24)","v":""},{"$f":"IF(Masterblatt!N24=\"\",\"\",Masterblatt!N24)","v":""},{"$f":"IF(Masterblatt!O24=\"\",\"\",Masterblatt!O24)","v":""},{"$f":"IF(Masterblatt!P24=\"\",\"\",Masterblatt!P24)","v":""},{"$f":"IF(Masterblatt!Q24=\"\",\"\",Masterblatt!Q24)","v":""},{"$f":"IF(Masterblatt!R24=\"\",\"\",Masterblatt!R24)","v":""},{"$f":"IF(Masterblatt!S24=\"\",\"\",Masterblatt!S24)","v":""},{"$f":"IF(Masterblatt!T24=\"\",\"\",Masterblatt!T24)","v":""},{"$f":"IF(Masterblatt!U24=\"\",\"\",Masterblatt!U24)","v":""},{"$f":"IF(Masterblatt!V24=\"\",\"\",Masterblatt!V24)","v":""},{"$f":"IF(Masterblatt!W24=\"\",\"\",Masterblatt!W24)","v":""},{"$f":"IF(Masterblatt!X24=\"\",\"\",Masterblatt!X24)","v":""},{"$f":"IF(Masterblatt!Y24=\"\",\"\",Masterblatt!Y24)","v":""},{"$f":"IF(Masterblatt!Z24=\"\",\"\",Masterblatt!Z24)","v":""},{"$f":"IF(Masterblatt!AA24=\"\",\"\",Masterblatt!AA24)","v":""},{"$f":"IF(Masterblatt!AB24=\"\",\"\",Masterblatt!AB24)","v":2}]
[null,{"$f":"IF(Masterblatt!B25=\"\",\"\",Masterblatt!B25)","v":""},{"$f":"IF(Masterblatt!C25=\"\",\"\",Masterblatt!C25)","v":""},{"$f":"IF(Masterblatt!D25=\"\",\"\",Masterblatt!D25)","v":""},{"$f":"IF(Masterblatt!E25=\"\",\"\",Masterblatt!E25)","v":""},{"$f":"IF(Masterblatt!F25=\"\",\"\",Masterblatt!F25)","v":""},{"$f":"IF(Masterblatt!G25=\"\",\"\",Masterblatt!G25)","v":""},{"$f":"IF(Masterblatt!H25=\"\",\"\",Masterblatt!H25)","v":""},{"$f":"IF(Masterblatt!I25=\"\",\"\",Masterblatt!I25)","v":""},{"$f":"IF(Masterblatt!J25=\"\",\"\",Masterblatt!J25)","v":""},{"$f":"IF(Masterblatt!K25=\"\",\"\",Masterblatt!K25)","v":""},{"$f":"IF(Masterblatt!L25=\"\",\"\",Masterblatt!L25)","v":""},{"$f":"IF(Masterblatt!M25=\"\",\"\",Masterblatt!M25)","v":""},{"$f":"IF(Masterblatt!N25=\"\",\"\",Masterblatt!N25)","v":""},{"$f":"IF(Masterblatt!O25=\"\",\"\",Masterblatt!O25)","v":""},{"$f":"IF(Masterblatt!P25=\"\",\"\",Masterblatt!P25)","v":""},{"$f":"IF(Masterblatt!Q25=\"\",\"\",Masterblatt!Q25)","v":""},{"$f":"IF(Masterblatt!R25=\"\",\"\",Masterblatt!R25)","v":""},{"$f":"IF(Masterblatt!S25=\"\",\"\",Masterblatt!S25)","v":""},{"$f":"IF(Masterblatt!T25=\"\",\"\",Masterblatt!T25)","v":""},{"$f":"IF(Masterblatt!U25=\"\",\"\",Masterblatt!U25)","v":""},{"$f":"IF(Masterblatt!V25=\"\",\"\",Masterblatt!V25)","v":""},{"$f":"IF(Masterblatt!W25=\"\",\"\",Masterblatt!W25)","v":""},{"$f":"IF(Masterblatt!X25=\"\",\"\",Masterblatt!X25)","v":""},{"$f":"IF(Masterblatt!Y25=\"\",\"\",Masterblatt!Y25)","v":""},{"$f":"IF(Masterblatt!Z25=\"\",\"\",Masterblatt!Z25)","v":""},{"$f":"IF(Masterblatt!AA25=\"\",\"\",Masterblatt!AA25)","v":""},{"$f":"IF(Masterblatt!AB25=\"\",\"\",Masterblatt!AB25)","v":2}]
[null,{"$f":"IF(Masterblatt!B26=\"\",\"\",Masterblatt!B26)","v":""},{"$f":"IF(Masterblatt!C26=\"\",\"\",Masterblatt!C26)","v":""},{"$f":"IF(Masterblatt!D26=\"\",\"\",Masterblatt!D26)","v":""},{"$f":"IF(Masterblatt!E26=\"\",\"\",Masterblatt!E26)","v":""},{"$f":"IF(Masterblatt!F26=\"\",\"\",Masterblatt!F26)","v":""},{"$f":"IF(Masterblatt!G26=\"\",\"\",Masterblatt!G26)","v":""},{"$f":"IF(Masterblatt!H26=\"\",\"\",Masterblatt!H26)","v":""},{"$f":"IF(Masterblatt!I26=\"\",\"\",Masterblatt!I26)","v":""},{"$f":"IF(Masterblatt!J26=\"\",\"\",Masterblatt!J26)","v":""},{"$f":"IF(Masterblatt!K26=\"\",\"\",Masterblatt!K26)","v":""},{"$f":"IF(Masterblatt!L26=\"\",\"\",Masterblatt!L26)","v":""},{"$f":"IF(Masterblatt!M26=\"\",\"\",Masterblatt!M26)","v":""},{"$f":"IF(Masterblatt!N26=\"\",\"\",Masterblatt!N26)","v":""},{"$f":"IF(Masterblatt!O26=\"\",\"\",Masterblatt!O26)","v":""},{"$f":"IF(Masterblatt!P26=\"\",\"\",Masterblatt!P26)","v":""},{"$f":"IF(Masterblatt!Q26=\"\",\"\",Masterblatt!Q26)","v":""},{"$f":"IF(Masterblatt!R26=\"\",\"\",Masterblatt!R26)","v":""},{"$f":"IF(Masterblatt!S26=\"\",\"\",Masterblatt!S26)","v":""},{"$f":"IF(Masterblatt!T26=\"\",\"\",Masterblatt!T26)","v":""},{"$f":"IF(Masterblatt!U26=\"\",\"\",Masterblatt!U26)","v":""},{"$f":"IF(Masterblatt!V26=\"\",\"\",Masterblatt!V26)","v":""},{"$f":"IF(Masterblatt!W26=\"\",\"\",Masterblatt!W26)","v":""},{"$f":"IF(Masterblatt!X26=\"\",\"\",Masterblatt!X26)","v":""},{"$f":"IF(Masterblatt!Y26=\"\",\"\",Masterblatt!Y26)","v":""},{"$f":"IF(Masterblatt!Z26=\"\",\"\",Masterblatt!Z26)","v":""},{"$f":"IF(Masterblatt!AA26=\"\",\"\",Masterblatt!AA26)","v":""},{"$f":"IF(Masterblatt!AB26=\"\",\"\",Masterblatt!AB26)","v":2}]
[null,{"$f":"IF(Masterblatt!B27=\"\",\"\",Masterblatt!B27)","v":""},{"$f":"IF(Masterblatt!C27=\"\",\"\",Masterblatt!C27)","v":""},{"$f":"IF(Masterblatt!D27=\"\",\"\",Masterblatt!D27)","v":""},{"$f":"IF(Masterblatt!E27=\"\",\"\",Masterblatt!E27)","v":""},{"$f":"IF(Masterblatt!F27=\"\",\"\",Masterblatt!F27)","v":""},{"$f":"IF(Masterblatt!G27=\"\",\"\",Masterblatt!G27)","v":""},{"$f":"IF(Masterblatt!H27=\"\",\"\",Masterblatt!H27)","v":""},{"$f":"IF(Masterblatt!I27=\"\",\"\",Masterblatt!I27)","v":""},{"$f":"IF(Masterblatt!J27=\"\",\"\",Masterblatt!J27)","v":""},{"$f":"IF(Masterblatt!K27=\"\",\"\",Masterblatt!K27)","v":""},{"$f":"IF(Masterblatt!L27=\"\",\"\",Masterblatt!L27)","v":""},{"$f":"IF(Masterblatt!M27=\"\",\"\",Masterblatt!M27)","v":""},{"$f":"IF(Masterblatt!N27=\"\",\"\",Masterblatt!N27)","v":""},{"$f":"IF(Masterblatt!O27=\"\",\"\",Masterblatt!O27)","v":""},{"$f":"IF(Masterblatt!P27=\"\",\"\",Masterblatt!P27)","v":""},{"$f":"IF(Masterblatt!Q27=\"\",\"\",Masterblatt!Q27)","v":""},{"$f":"IF(Masterblatt!R27=\"\",\"\",Masterblatt!R27)","v":""},{"$f":"IF(Masterblatt!S27=\"\",\"\",Masterblatt!S27)","v":""},{"$f":"IF(Masterblatt!T27=\"\",\"\",Masterblatt!T27)","v":""},{"$f":"IF(Masterblatt!U27=\"\",\"\",Masterblatt!U27)","v":""},{"$f":"IF(Masterblatt!V27=\"\",\"\",Masterblatt!V27)","v":""},{"$f":"IF(Masterblatt!W27=\"\",\"\",Masterblatt!W27)","v":""},{"$f":"IF(Masterblatt!X27=\"\",\"\",Masterblatt!X27)","v":""},{"$f":"IF(Masterblatt!Y27=\"\",\"\",Masterblatt!Y27)","v":""},{"$f":"IF(Masterblatt!Z27=\"\",\"\",Masterblatt!Z27)","v":""},{"$f":"IF(Masterblatt!AA27=\"\",\"\",Masterblatt!AA27)","v":""},{"$f":"IF(Masterblatt!AB27=\"\",\"\",Masterblatt!AB27)","v":2}]
[null,{"$f":"IF(Masterblatt!B28=\"\",\"\",Masterblatt!B28)","v":""},{"$f":"IF(Masterblatt!C28=\"\",\"\",Masterblatt!C28)","v":""},{"$f":"IF(Masterblatt!D28=\"\",\"\",Masterblatt!D28)","v":""},{"$f":"IF(Masterblatt!E28=\"\",\"\",Masterblatt!E28)","v":""},{"$f":"IF(Masterblatt!F28=\"\",\"\",Masterblatt!F28)","v":""},{"$f":"IF(Masterblatt!G28=\"\",\"\",Masterblatt!G28)","v":""},{"$f":"IF(Masterblatt!H28=\"\",\"\",Masterblatt!H28)","v":""},{"$f":"IF(Masterblatt!I28=\"\",\"\",Masterblatt!I28)","v":""},{"$f":"IF(Masterblatt!J28=\"\",\"\",Masterblatt!J28)","v":""},{"$f":"IF(Masterblatt!K28=\"\",\"\",Masterblatt!K28)","v":""},{"$f":"IF(Masterblatt!L28=\"\",\"\",Masterblatt!L28)","v":""},{"$f":"IF(Masterblatt!M28=\"\",\"\",Masterblatt!M28)","v":""},{"$f":"IF(Masterblatt!N28=\"\",\"\",Masterblatt!N28)","v":""},{"$f":"IF(Masterblatt!O28=\"\",\"\",Masterblatt!O28)","v":""},{"$f":"IF(Masterblatt!P28=\"\",\"\",Masterblatt!P28)","v":""},{"$f":"IF(Masterblatt!Q28=\"\",\"\",Masterblatt!Q28)","v":""},{"$f":"IF(Masterblatt!R28=\"\",\"\",Masterblatt!R28)","v":""},{"$f":"IF(Masterblatt!S28=\"\",\"\",Masterblatt!S28)","v":""},{"$f":"IF(Masterblatt!T28=\"\",\"\",Masterblatt!T28)","v":""},{"$f":"IF(Masterblatt!U28=\"\",\"\",Masterblatt!U28)","v":""},{"$f":"IF(Masterblatt!V28=\"\",\"\",Masterblatt!V28)","v":""},{"$f":"IF(Masterblatt!W28=\"\",\"\",Masterblatt!W28)","v":""},{"$f":"IF(Masterblatt!X28=\"\",\"\",Masterblatt!X28)","v":""},{"$f":"IF(Masterblatt!Y28=\"\",\"\",Masterblatt!Y28)","v":""},{"$f":"IF(Masterblatt!Z28=\"\",\"\",Masterblatt!Z28)","v":""},{"$f":"IF(Masterblatt!AA28=\"\",\"\",Masterblatt!AA28)","v":""},{"$f":"IF(Masterblatt!AB28=\"\",\"\",Masterblatt!AB28)","v":2}]
[null,{"$f":"IF(Masterblatt!B29=\"\",\"\",Masterblatt!B29)","v":""},{"$f":"IF(Masterblatt!C29=\"\",\"\",Masterblatt!C29)","v":""},{"$f":"IF(Masterblatt!D29=\"\",\"\",Masterblatt!D29)","v":""},{"$f":"IF(Masterblatt!E29=\"\",\"\",Masterblatt!E29)","v":""},{"$f":"IF(Masterblatt!F29=\"\",\"\",Masterblatt!F29)","v":""},{"$f":"IF(Masterblatt!G29=\"\",\"\",Masterblatt!G29)","v":""},{"$f":"IF(Masterblatt!H29=\"\",\"\",Masterblatt!H29)","v":""},{"$f":"IF(Masterblatt!I29=\"\",\"\",Masterblatt!I29)","v":""},{"$f":"IF(Masterblatt!J29=\"\",\"\",Masterblatt!J29)","v":""},{"$f":"IF(Masterblatt!K29=\"\",\"\",Masterblatt!K29)","v":""},{"$f":"IF(Masterblatt!L29=\"\",\"\",Masterblatt!L29)","v":""},{"$f":"IF(Masterblatt!M29=\"\",\"\",Masterblatt!M29)","v":""},{"$f":"IF(Masterblatt!N29=\"\",\"\",Masterblatt!N29)","v":""},{"$f":"IF(Masterblatt!O29=\"\",\"\",Masterblatt!O29)","v":""},{"$f":"IF(Masterblatt!P29=\"\",\"\",Masterblatt!P29)","v":""},{"$f":"IF(Masterblatt!Q29=\"\",\"\",Masterblatt!Q29)","v":""},{"$f":"IF(Masterblatt!R29=\"\",\"\",Masterblatt!R29)","v":""},{"$f":"IF(Masterblatt!S29=\"\",\"\",Masterblatt!S29)","v":""},{"$f":"IF(Masterblatt!T29=\"\",\"\",Masterblatt!T29)","v":""},{"$f":"IF(Masterblatt!U29=\"\",\"\",Masterblatt!U29)","v":""},{"$f":"IF(Masterblatt!V29=\"\",\"\",Masterblatt!V29)","v":""},{"$f":"IF(Masterblatt!W29=\"\",\"\",Masterblatt!W29)","v":""},{"$f":"IF(Masterblatt!X29=\"\",\"\",Masterblatt!X29)","v":""},{"$f":"IF(Masterblatt!Y29=\"\",\"\",Masterblatt!Y29)","v":""},{"$f":"IF(Masterblatt!Z29=\"\",\"\",Masterblatt!Z29)","v":""},{"$f":"IF(Masterblatt!AA29=\"\",\"\",Masterblatt!AA29)","v":""},{"$f":"IF(Masterblatt!AB29=\"\",\"\",Masterblatt!AB29)","v":2}]
[null,{"$f":"IF(Masterblatt!B30=\"\",\"\",Masterblatt!B30)","v":""},{"$f":"IF(Masterblatt!C30=\"\",\"\",Masterblatt!C30)","v":""},{"$f":"IF(Masterblatt!D30=\"\",\"\",Masterblatt!D30)","v":""},{"$f":"IF(Masterblatt!E30=\"\",\"\",Masterblatt!E30)","v":""},{"$f":"IF(Masterblatt!F30=\"\",\"\",Masterblatt!F30)","v":""},{"$f":"IF(Masterblatt!G30=\"\",\"\",Masterblatt!G30)","v":""},{"$f":"IF(Masterblatt!H30=\"\",\"\",Masterblatt!H30)","v":""},{"$f":"IF(Masterblatt!I30=\"\",\"\",Masterblatt!I30)","v":""},{"$f":"IF(Masterblatt!J30=\"\",\"\",Masterblatt!J30)","v":""},{"$f":"IF(Masterblatt!K30=\"\",\"\",Masterblatt!K30)","v":""},{"$f":"IF(Masterblatt!L30=\"\",\"\",Masterblatt!L30)","v":""},{"$f":"IF(Masterblatt!M30=\"\",\"\",Masterblatt!M30)","v":""},{"$f":"IF(Masterblatt!N30=\"\",\"\",Masterblatt!N30)","v":""},{"$f":"IF(Masterblatt!O30=\"\",\"\",Masterblatt!O30)","v":""},{"$f":"IF(Masterblatt!P30=\"\",\"\",Masterblatt!P30)","v":""},{"$f":"IF(Masterblatt!Q30=\"\",\"\",Masterblatt!Q30)","v":""},{"$f":"IF(Masterblatt!R30=\"\",\"\",Masterblatt!R30)","v":""},{"$f":"IF(Masterblatt!S30=\"\",\"\",Masterblatt!S30)","v":""},{"$f":"IF(Masterblatt!T30=\"\",\"\",Masterblatt!T30)","v":""},{"$f":"IF(Masterblatt!U30=\"\",\"\",Masterblatt!U30)","v":""},{"$f":"IF(Masterblatt!V30=\"\",\"\",Masterblatt!V30)","v":""},{"$f":"IF(Masterblatt!W30=\"\",\"\",Masterblatt!W30)","v":""},{"$f":"IF(Masterblatt!X30=\"\",\"\",Masterblatt!X30)","v":""},{"$f":"IF(Masterblatt!Y30=\"\",\"\",Masterblatt!Y30)","v":""},{"$f":"IF(Masterblatt!Z30=\"\",\"\",Masterblatt!Z30)","v":""},{"$f":"IF(Masterblatt!AA30=\"\",\"\",Masterblatt!AA30)","v":""},{"$f":"IF(Masterblatt!AB30=\"\",\"\",Masterblatt!AB30)","v":2}]
[null,{"$f":"IF(Masterblatt!B31=\"\",\"\",Masterblatt!B31)","v":""},{"$f":"IF(Masterblatt!C31=\"\",\"\",Masterblatt!C31)","v":""},{"$f":"IF(Masterblatt!D31=\"\",\"\",Masterblatt!D31)","v":""},{"$f":"IF(Masterblatt!E31=\"\",\"\",Masterblatt!E31)","v":""},{"$f":"IF(Masterblatt!F31=\"\",\"\",Masterblatt!F31)","v":""},{"$f":"IF(Masterblatt!G31=\"\",\"\",Masterblatt!G31)","v":""},{"$f":"IF(Masterblatt!H31=\"\",\"\",Masterblatt!H31)","v":""},{"$f":"IF(Masterblatt!I31=\"\",\"\",Masterblatt!I31)","v":""},{"$f":"IF(Masterblatt!J31=\"\",\"\",Masterblatt!J31)","v":""},{"$f":"IF(Masterblatt!K31=\"\",\"\",Masterblatt!K31)","v":""},{"$f":"IF(Masterblatt!L31=\"\",\"\",Masterblatt!L31)","v":""},{"$f":"IF(Masterblatt!M31=\"\",\"\",Masterblatt!M31)","v":""},{"$f":"IF(Masterblatt!N31=\"\",\"\",Masterblatt!N31)","v":""},{"$f":"IF(Masterblatt!O31=\"\",\"\",Masterblatt!O31)","v":""},{"$f":"IF(Masterblatt!P31=\"\",\"\",Masterblatt!P31)","v":""},{"$f":"IF(Masterblatt!Q31=\"\",\"\",Masterblatt!Q31)","v":""},{"$f":"IF(Masterblatt!R31=\"\",\"\",Masterblatt!R31)","v":""},{"$f":"IF(Masterblatt!S31=\"\",\"\",Masterblatt!S31)","v":""},{"$f":"IF(Masterblatt!T31=\"\",\"\",Masterblatt!T31)","v":""},{"$f":"IF(Masterblatt!U31=\"\",\"\",Masterblatt!U31)","v":""},{"$f":"IF(Masterblatt!V31=\"\",\"\",Masterblatt!V31)","v":""},{"$f":"IF(Masterblatt!W31=\"\",\"\",Masterblatt!W31)","v":""},{"$f":"IF(Masterblatt!X31=\"\",\"\",Masterblatt!X31)","v":""},{"$f":"IF(Masterblatt!Y31=\"\",\"\",Masterblatt!Y31)","v":""},{"$f":"IF(Masterblatt!Z31=\"\",\"\",Masterblatt!Z31)","v":""},{"$f":"IF(Masterblatt!AA31=\"\",\"\",Masterblatt!AA31)","v":""},{"$f":"IF(Masterblatt!AB31=\"\",\"\",Masterblatt!AB31)","v":2}]
[null,{"$f":"IF(Masterblatt!B32=\"\",\"\",Masterblatt!B32)","v":""},{"$f":"IF(Masterblatt!C32=\"\",\"\",Masterblatt!C32)","v":""},{"$f":"IF(Masterblatt!D32=\"\",\"\",Masterblatt!D32)","v":""},{"$f":"IF(Masterblatt!E32=\"\",\"\",Masterblatt!E32)","v":""},{"$f":"IF(Masterblatt!F32=\"\",\"\",Masterblatt!F32)","v":""},{"$f":"IF(Masterblatt!G32=\"\",\"\",Masterblatt!G32)","v":""},{"$f":"IF(Masterblatt!H32=\"\",\"\",Masterblatt!H32)","v":""},{"$f":"IF(Masterblatt!I32=\"\",\"\",Masterblatt!I32)","v":""},{"$f":"IF(Masterblatt!J32=\"\",\"\",Masterblatt!J32)","v":""},{"$f":"IF(Masterblatt!K32=\"\",\"\",Masterblatt!K32)","v":""},{"$f":"IF(Masterblatt!L32=\"\",\"\",Masterblatt!L32)","v":""},{"$f":"IF(Masterblatt!M32=\"\",\"\",Masterblatt!M32)","v":""},{"$f":"IF(Masterblatt!N32=\"\",\"\",Masterblatt!N32)","v":""},{"$f":"IF(Masterblatt!O32=\"\",\"\",Masterblatt!O32)","v":""},{"$f":"IF(Masterblatt!P32=\"\",\"\",Masterblatt!P32)","v":""},{"$f":"IF(Masterblatt!Q32=\"\",\"\",Masterblatt!Q32)","v":""},{"$f":"IF(Masterblatt!R32=\"\",\"\",Masterblatt!R32)","v":""},{"$f":"IF(Masterblatt!S32=\"\",\"\",Masterblatt!S32)","v":""},{"$f":"IF(Masterblatt!T32=\"\",\"\",Masterblatt!T32)","v":""},{"$f":"IF(Masterblatt!U32=\"\",\"\",Masterblatt!U32)","v":""},{"$f":"IF(Masterblatt!V32=\"\",\"\",Masterblatt!V32)","v":""},{"$f":"IF(Masterblatt!W32=\"\",\"\",Masterblatt!W32)","v":""},{"$f":"IF(Masterblatt!X32=\"\",\"\",Masterblatt!X32)","v":""},{"$f":"IF(Masterblatt!Y32=\"\",\"\",Masterblatt!Y32)","v":""},{"$f":"IF(Masterblatt!Z32=\"\",\"\",Masterblatt!Z32)","v":""},{"$f":"IF(Masterblatt!AA32=\"\",\"\",Masterblatt!AA32)","v":""},{"$f":"IF(Masterblatt!AB32=\"\",\"\",Masterblatt!AB32)","v":2}]
[null,{"$f":"IF(Masterblatt!B33=\"\",\"\",Masterblatt!B33)","v":""},{"$f":"IF(Masterblatt!C33=\"\",\"\",Masterblatt!C33)","v":""},{"$f":"IF(Masterblatt!D33=\"\",\"\",Masterblatt!D33)","v":""},{"$f":"IF(Masterblatt!E33=\"\",\"\",Masterblatt!E33)","v":""},{"$f":"IF(Masterblatt!F33=\"\",\"\",Masterblatt!F33)","v":""},{"$f":"IF(Masterblatt!G33=\"\",\"\",Masterblatt!G33)","v":""},{"$f":"IF(Masterblatt!H33=\"\",\"\",Masterblatt!H33)","v":""},{"$f":"IF(Masterblatt!I33=\"\",\"\",Masterblatt!I33)","v":""},{"$f":"IF(Masterblatt!J33=\"\",\"\",Masterblatt!J33)","v":""},{"$f":"IF(Masterblatt!K33=\"\",\"\",Masterblatt!K33)","v":""},{"$f":"IF(Masterblatt!L33=\"\",\"\",Masterblatt!L33)","v":""},{"$f":"IF(Masterblatt!M33=\"\",\"\",Masterblatt!M33)","v":""},{"$f":"IF(Masterblatt!N33=\"\",\"\",Masterblatt!N33)","v":""},{"$f":"IF(Masterblatt!O33=\"\",\"\",Masterblatt!O33)","v":""},{"$f":"IF(Masterblatt!P33=\"\",\"\",Masterblatt!P33)","v":""},{"$f":"IF(Masterblatt!Q33=\"\",\"\",Masterblatt!Q33)","v":""},{"$f":"IF(Masterblatt!R33=\"\",\"\",Masterblatt!R33)","v":""},{"$f":"IF(Masterblatt!S33=\"\",\"\",Masterblatt!S33)","v":""},{"$f":"IF(Masterblatt!T33=\"\",\"\",Masterblatt!T33)","v":""},{"$f":"IF(Masterblatt!U33=\"\",\"\",Masterblatt!U33)","v":""},{"$f":"IF(Masterblatt!V33=\"\",\"\",Masterblatt!V33)","v":""},{"$f":"IF(Masterblatt!W33=\"\",\"\",Masterblatt!W33)","v":""},{"$f":"IF(Masterblatt!X33=\"\",\"\",Masterblatt!X33)","v":""},{"$f":"IF(Masterblatt!Y33=\"\",\"\",Masterblatt!Y33)","v":""},{"$f":"IF(Masterblatt!Z33=\"\",\"\",Masterblatt!Z33)","v":""},{"$f":"IF(Masterblatt!AA33=\"\",\"\",Masterblatt!AA33)","v":""},{"$f":"IF(Masterblatt!AB33=\"\",\"\",Masterblatt!AB33)","v":2}]
[null,{"$f":"IF(Masterblatt!B34=\"\",\"\",Masterblatt!B34)","v":""},{"$f":"IF(Masterblatt!C34=\"\",\"\",Masterblatt!C34)","v":""},{"$f":"IF(Masterblatt!D34=\"\",\"\",Masterblatt!D34)","v":""},{"$f":"IF(Masterblatt!E34=\"\",\"\",Masterblatt!E34)","v":""},{"$f":"IF(Masterblatt!F34=\"\",\"\",Masterblatt!F34)","v":""},{"$f":"IF(Masterblatt!G34=\"\",\"\",Masterblatt!G34)","v":""},{"$f":"IF(Masterblatt!H34=\"\",\"\",Masterblatt!H34)","v":""},{"$f":"IF(Masterblatt!I34=\"\",\"\",Masterblatt!I34)","v":""},{"$f":"IF(Masterblatt!J34=\"\",\"\",Masterblatt!J34)","v":""},{"$f":"IF(Masterblatt!K34=\"\",\"\",Masterblatt!K34)","v":""},{"$f":"IF(Masterblatt!L34=\"\",\"\",Masterblatt!L34)","v":""},{"$f":"IF(Masterblatt!M34=\"\",\"\",Masterblatt!M34)","v":""},{"$f":"IF(Masterblatt!N34=\"\",\"\",Masterblatt!N34)","v":""},{"$f":"IF(Masterblatt!O34=\"\",\"\",Masterblatt!O34)","v":""},{"$f":"IF(Masterblatt!P34=\"\",\"\",Masterblatt!P34)","v":""},{"$f":"IF(Masterblatt!Q34=\"\",\"\",Masterblatt!Q34)","v":""},{"$f":"IF(Masterblatt!R34=\"\",\"\",Masterblatt!R34)","v":""},{"$f":"IF(Masterblatt!S34=\"\",\"\",Masterblatt!S34)","v":""},{"$f":"IF(Masterblatt!T34=\"\",\"\",Masterblatt!T34)","v":""},{"$f":"IF(Masterblatt!U34=\"\",\"\",Masterblatt!U34)","v":""},{"$f":"IF(Masterblatt!V34=\"\",\"\",Masterblatt!V34)","v":""},{"$f":"IF(Masterblatt!W34=\"\",\"\",Masterblatt!W34)","v":""},{"$f":"IF(Masterblatt!X34=\"\",\"\",Masterblatt!X34)","v":""},{"$f":"IF(Masterblatt!Y34=\"\",\"\",Masterblatt!Y34)","v":""},{"$f":"IF(Masterblatt!Z34=\"\",\"\",Masterblatt!Z34)","v":""},{"$f":"IF(Masterblatt!AA34=\"\",\"\",Masterblatt!AA34)","v":""},{"$f":"IF(Masterblatt!AB34=\"\",\"\",Masterblatt!AB34)","v":2}]
[null,{"$f":"IF(Masterblatt!B35=\"\",\"\",Masterblatt!B35)","v":""},{"$f":"IF(Masterblatt!C35=\"\",\"\",Masterblatt!C35)","v":""},{"$f":"IF(Masterblatt!D35=\"\",\"\",Masterblatt!D35)","v":""},{"$f":"IF(Masterblatt!E35=\"\",\"\",Masterblatt!E35)","v":""},{"$f":"IF(Masterblatt!F35=\"\",\"\",Masterblatt!F35)","v":""},{"$f":"IF(Masterblatt!G35=\"\",\"\",Masterblatt!G35)","v":""},{"$f":"IF(Masterblatt!H35=\"\",\"\",Masterblatt!H35)","v":""},{"$f":"IF(Masterblatt!I35=\"\",\"\",Masterblatt!I35)","v":""},{"$f":"IF(Masterblatt!J35=\"\",\"\",Masterblatt!J35)","v":""},{"$f":"IF(Masterblatt!K35=\"\",\"\",Masterblatt!K35)","v":""},{"$f":"IF(Masterblatt!L35=\"\",\"\",Masterblatt!L35)","v":""},{"$f":"IF(Masterblatt!M35=\"\",\"\",Masterblatt!M35)","v":""},{"$f":"IF(Masterblatt!N35=\"\",\"\",Masterblatt!N35)","v":""},{"$f":"IF(Masterblatt!O35=\"\",\"\",Masterblatt!O35)","v":""},{"$f":"IF(Masterblatt!P35=\"\",\"\",Masterblatt!P35)","v":""},{"$f":"IF(Masterblatt!Q35=\"\",\"\",Masterblatt!Q35)","v":""},{"$f":"IF(Masterblatt!R35=\"\",\"\",Masterblatt!R35)","v":""},{"$f":"IF(Masterblatt!S35=\"\",\"\",Masterblatt!S35)","v":""},{"$f":"IF(Masterblatt!T35=\"\",\"\",Masterblatt!T35)","v":""},{"$f":"IF(Masterblatt!U35=\"\",\"\",Masterblatt!U35)","v":""},{"$f":"IF(Masterblatt!V35=\"\",\"\",Masterblatt!V35)","v":""},{"$f":"IF(Masterblatt!W35=\"\",\"\",Masterblatt!W35)","v":""},{"$f":"IF(Masterblatt!X35=\"\",\"\",Masterblatt!X35)","v":""},{"$f":"IF(Masterblatt!Y35=\"\",\"\",Masterblatt!Y35)","v":""},{"$f":"IF(Masterblatt!Z35=\"\",\"\",Masterblatt!Z35)","v":""},{"$f":"IF(Masterblatt!AA35=\"\",\"\",Masterblatt!AA35)","v":""},{"$f":"IF(Masterblatt!AB35=\"\",\"\",Masterblatt!AB35)","v":2}]
[null,{"$f":"IF(Masterblatt!B36=\"\",\"\",Masterblatt!B36)","v":""},{"$f":"IF(Masterblatt!C36=\"\",\"\",Masterblatt!C36)","v":""},{"$f":"IF(Masterblatt!D36=\"\",\"\",Masterblatt!D36)","v":""},{"$f":"IF(Masterblatt!E36=\"\",\"\",Masterblatt!E36)","v":""},{"$f":"IF(Masterblatt!F36=\"\",\"\",Masterblatt!F36)","v":""},{"$f":"IF(Masterblatt!G36=\"\",\"\",Masterblatt!G36)","v":""},{"$f":"IF(Masterblatt!H36=\"\",\"\",Masterblatt!H36)","v":""},{"$f":"IF(Masterblatt!I36=\"\",\"\",Masterblatt!I36)","v":""},{"$f":"IF(Masterblatt!J36=\"\",\"\",Masterblatt!J36)","v":""},{"$f":"IF(Masterblatt!K36=\"\",\"\",Masterblatt!K36)","v":""},{"$f":"IF(Masterblatt!L36=\"\",\"\",Masterblatt!L36)","v":""},{"$f":"IF(Masterblatt!M36=\"\",\"\",Masterblatt!M36)","v":""},{"$f":"IF(Masterblatt!N36=\"\",\"\",Masterblatt!N36)","v":""},{"$f":"IF(Masterblatt!O36=\"\",\"\",Masterblatt!O36)","v":""},{"$f":"IF(Masterblatt!P36=\"\",\"\",Masterblatt!P36)","v":""},{"$f":"IF(Masterblatt!Q36=\"\",\"\",Masterblatt!Q36)","v":""},{"$f":"IF(Masterblatt!R36=\"\",\"\",Masterblatt!R36)","v":""},{"$f":"IF(Masterblatt!S36=\"\",\"\",Masterblatt!S36)","v":""},{"$f":"IF(Masterblatt!T36=\"\",\"\",Masterblatt!T36)","v":""},{"$f":"IF(Masterblatt!U36=\"\",\"\",Masterblatt!U36)","v":""},{"$f":"IF(Masterblatt!V36=\"\",\"\",Masterblatt!V36)","v":""},{"$f":"IF(Masterblatt!W36=\"\",\"\",Masterblatt!W36)","v":""},{"$f":"IF(Masterblatt!X36=\"\",\"\",Masterblatt!X36)","v":""},{"$f":"IF(Masterblatt!Y36=\"\",\"\",Masterblatt!Y36)","v":""},{"$f":"IF(Masterblatt!Z36=\"\",\"\",Masterblatt!Z36)","v":""},{"$f":"IF(Masterblatt!AA36=\"\",\"\",Masterblatt!AA36)","v":""},{"$f":"IF(Masterblatt!AB36=\"\",\"\",Masterblatt!AB36)","v":2}]
[null,{"$f":"IF(Masterblatt!B37=\"\",\"\",Masterblatt!B37)","v":""},{"$f":"IF(Masterblatt!C37=\"\",\"\",Masterblatt!C37)","v":""},{"$f":"IF(Masterblatt!D37=\"\",\"\",Masterblatt!D37)","v":""},{"$f":"IF(Masterblatt!E37=\"\",\"\",Masterblatt!E37)","v":""},{"$f":"IF(Masterblatt!F37=\"\",\"\",Masterblatt!F37)","v":""},{"$f":"IF(Masterblatt!G37=\"\",\"\",Masterblatt!G37)","v":""},{"$f":"IF(Masterblatt!H37=\"\",\"\",Masterblatt!H37)","v":""},{"$f":"IF(Masterblatt!I37=\"\",\"\",Masterblatt!I37)","v":""},{"$f":"IF(Masterblatt!J37=\"\",\"\",Masterblatt!J37)","v":""},{"$f":"IF(Masterblatt!K37=\"\",\"\",Masterblatt!K37)","v":""},{"$f":"IF(Masterblatt!L37=\"\",\"\",Masterblatt!L37)","v":""},{"$f":"IF(Masterblatt!M37=\"\",\"\",Masterblatt!M37)","v":""},{"$f":"IF(Masterblatt!N37=\"\",\"\",Masterblatt!N37)","v":""},{"$f":"IF(Masterblatt!O37=\"\",\"\",Masterblatt!O37)","v":""},{"$f":"IF(Masterblatt!P37=\"\",\"\",Masterblatt!P37)","v":""},{"$f":"IF(Masterblatt!Q37=\"\",\"\",Masterblatt!Q37)","v":""},{"$f":"IF(Masterblatt!R37=\"\",\"\",Masterblatt!R37)","v":""},{"$f":"IF(Masterblatt!S37=\"\",\"\",Masterblatt!S37)","v":""},{"$f":"IF(Masterblatt!T37=\"\",\"\",Masterblatt!T37)","v":""},{"$f":"IF(Masterblatt!U37=\"\",\"\",Masterblatt!U37)","v":""},{"$f":"IF(Masterblatt!V37=\"\",\"\",Masterblatt!V37)","v":""},{"$f":"IF(Masterblatt!W37=\"\",\"\",Masterblatt!W37)","v":""},{"$f":"IF(Masterblatt!X37=\"\",\"\",Masterblatt!X37)","v":""},{"$f":"IF(Masterblatt!Y37=\"\",\"\",Masterblatt!Y37)","v":""},{"$f":"IF(Masterblatt!Z37=\"\",\"\",Masterblatt!Z37)","v":""},{"$f":"IF(Masterblatt!AA37=\"\",\"\",Masterblatt!AA37)","v":""},{"$f":"IF(Masterblatt!AB37=\"\",\"\",Masterblatt!AB37)","v":2}]
[null,{"$f":"IF(Masterblatt!B38=\"\",\"\",Masterblatt!B38)","v":""},{"$f":"IF(Masterblatt!C38=\"\",\"\",Masterblatt!C38)","v":""},{"$f":"IF(Masterblatt!D38=\"\",\"\",Masterblatt!D38)","v":""},{"$f":"IF(Masterblatt!E38=\"\",\"\",Masterblatt!E38)","v":""},{"$f":"IF(Masterblatt!F38=\"\",\"\",Masterblatt!F38)","v":""},{"$f":"IF(Masterblatt!G38=\"\",\"\",Masterblatt!G38)","v":""},{"$f":"IF(Masterblatt!H38=\"\",\"\",Masterblatt!H38)","v":""},{"$f":"IF(Masterblatt!I38=\"\",\"\",Masterblatt!I38)","v":""},{"$f":"IF(Masterblatt!J38=\"\",\"\",Masterblatt!J38)","v":""},{"$f":"IF(Masterblatt!K38=\"\",\"\",Masterblatt!K38)","v":""},{"$f":"IF(Masterblatt!L38=\"\",\"\",Masterblatt!L38)","v":""},{"$f":"IF(Masterblatt!M38=\"\",\"\",Masterblatt!M38)","v":""},{"$f":"IF(Masterblatt!N38=\"\",\"\",Masterblatt!N38)","v":""},{"$f":"IF(Masterblatt!O38=\"\",\"\",Masterblatt!O38)","v":""},{"$f":"IF(Masterblatt!P38=\"\",\"\",Masterblatt!P38)","v":""},{"$f":"IF(Masterblatt!Q38=\"\",\"\",Masterblatt!Q38)","v":""},{"$f":"IF(Masterblatt!R38=\"\",\"\",Masterblatt!R38)","v":""},{"$f":"IF(Masterblatt!S38=\"\",\"\",Masterblatt!S38)","v":""},{"$f":"IF(Masterblatt!T38=\"\",\"\",Masterblatt!T38)","v":""},{"$f":"IF(Masterblatt!U38=\"\",\"\",Masterblatt!U38)","v":""},{"$f":"IF(Masterblatt!V38=\"\",\"\",Masterblatt!V38)","v":""},{"$f":"IF(Masterblatt!W38=\"\",\"\",Masterblatt!W38)","v":""},{"$f":"IF(Masterblatt!X38=\"\",\"\",Masterblatt!X38)","v":""},{"$f":"IF(Masterblatt!Y38=\"\",\"\",Masterblatt!Y38)","v":""},{"$f":"IF(Masterblatt!Z38=\"\",\"\",Masterblatt!Z38)","v":""},{"$f":"IF(Masterblatt!AA38=\"\",\"\",Masterblatt!AA38)","v":""},{"$f":"IF(Masterblatt!AB38=\"\",\"\",Masterblatt!AB38)","v":2}]
[null,{"$f":"IF(Masterblatt!B39=\"\",\"\",Masterblatt!B39)","v":""},{"$f":"IF(Masterblatt!C39=\"\",\"\",Masterblatt!C39)","v":""},{"$f":"IF(Masterblatt!D39=\"\",\"\",Masterblatt!D39)","v":""},{"$f":"IF(Masterblatt!E39=\"\",\"\",Masterblatt!E39)","v":""},{"$f":"IF(Masterblatt!F39=\"\",\"\",Masterblatt!F39)","v":""},{"$f":"IF(Masterblatt!G39=\"\",\"\",Masterblatt!G39)","v":""},{"$f":"IF(Masterblatt!H39=\"\",\"\",Masterblatt!H39)","v":""},{"$f":"IF(Masterblatt!I39=\"\",\"\",Masterblatt!I39)","v":""},{"$f":"IF(Masterblatt!J39=\"\",\"\",Masterblatt!J39)","v":""},{"$f":"IF(Masterblatt!K39=\"\",\"\",Masterblatt!K39)","v":""},{"$f":"IF(Masterblatt!L39=\"\",\"\",Masterblatt!L39)","v":""},{"$f":"IF(Masterblatt!M39=\"\",\"\",Masterblatt!M39)","v":""},{"$f":"IF(Masterblatt!N39=\"\",\"\",Masterblatt!N39)","v":""},{"$f":"IF(Masterblatt!O39=\"\",\"\",Masterblatt!O39)","v":""},{"$f":"IF(Masterblatt!P39=\"\",\"\",Masterblatt!P39)","v":""},{"$f":"IF(Masterblatt!Q39=\"\",\"\",Masterblatt!Q39)","v":""},{"$f":"IF(Masterblatt!R39=\"\",\"\",Masterblatt!R39)","v":""},{"$f":"IF(Masterblatt!S39=\"\",\"\",Masterblatt!S39)","v":""},{"$f":"IF(Masterblatt!T39=\"\",\"\",Masterblatt!T39)","v":""},{"$f":"IF(Masterblatt!U39=\"\",\"\",Masterblatt!U39)","v":""},{"$f":"IF(Masterblatt!V39=\"\",\"\",Masterblatt!V39)","v":""},{"$f":"IF(Masterblatt!W39=\"\",\"\",Masterblatt!W39)","v":""},{"$f":"IF(Masterblatt!X39=\"\",\"\",Masterblatt!X39)","v":""},{"$f":"IF(Masterblatt!Y39=\"\",\"\",Masterblatt!Y39)","v":""},{"$f":"IF(Masterblatt!Z39=\"\",\"\",Masterblatt!Z39)","v":""},{"$f":"IF(Masterblatt!AA39=\"\",\"\",Masterblatt!AA39)","v":""},{"$f":"IF(Masterblatt!AB39=\"\",\"\",Masterblatt!AB39)","v":2}]
[null,{"$f":"IF(Masterblatt!B40=\"\",\"\",Masterblatt!B40)","v":""},{"$f":"IF(Masterblatt!C40=\"\",\"\",Masterblatt!C40)","v":""},{"$f":"IF(Masterblatt!D40=\"\",\"\",Masterblatt!D40)","v":""},{"$f":"IF(Masterblatt!E40=\"\",\"\",Masterblatt!E40)","v":""},{"$f":"IF(Masterblatt!F40=\"\",\"\",Masterblatt!F40)","v":""},{"$f":"IF(Masterblatt!G40=\"\",\"\",Masterblatt!G40)","v":""},{"$f":"IF(Masterblatt!H40=\"\",\"\",Masterblatt!H40)","v":""},{"$f":"IF(Masterblatt!I40=\"\",\"\",Masterblatt!I40)","v":""},{"$f":"IF(Masterblatt!J40=\"\",\"\",Masterblatt!J40)","v":""},{"$f":"IF(Masterblatt!K40=\"\",\"\",Masterblatt!K40)","v":""},{"$f":"IF(Masterblatt!L40=\"\",\"\",Masterblatt!L40)","v":""},{"$f":"IF(Masterblatt!M40=\"\",\"\",Masterblatt!M40)","v":""},{"$f":"IF(Masterblatt!N40=\"\",\"\",Masterblatt!N40)","v":""},{"$f":"IF(Masterblatt!O40=\"\",\"\",Masterblatt!O40)","v":""},{"$f":"IF(Masterblatt!P40=\"\",\"\",Masterblatt!P40)","v":""},{"$f":"IF(Masterblatt!Q40=\"\",\"\",Masterblatt!Q40)","v":""},{"$f":"IF(Masterblatt!R40=\"\",\"\",Masterblatt!R40)","v":""},{"$f":"IF(Masterblatt!S40=\"\",\"\",Masterblatt!S40)","v":""},{"$f":"IF(Masterblatt!T40=\"\",\"\",Masterblatt!T40)","v":""},{"$f":"IF(Masterblatt!U40=\"\",\"\",Masterblatt!U40)","v":""},{"$f":"IF(Masterblatt!V40=\"\",\"\",Masterblatt!V40)","v":""},{"$f":"IF(Masterblatt!W40=\"\",\"\",Masterblatt!W40)","v":""},{"$f":"IF(Masterblatt!X40=\"\",\"\",Masterblatt!X40)","v":""},{"$f":"IF(Masterblatt!Y40=\"\",\"\",Masterblatt!Y40)","v":""},{"$f":"IF(Masterblatt!Z40=\"\",\"\",Masterblatt!Z40)","v":""},{"$f":"IF(Masterblatt!AA40=\"\",\"\",Masterblatt!AA40)","v":""},{"$f":"IF(Masterblatt!AB40=\"\",\"\",Masterblatt!AB40)","v":2}]
[null,{"$f":"IF(Masterblatt!B41=\"\",\"\",Masterblatt!B41)","v":""},{"$f":"IF(Masterblatt!C41=\"\",\"\",Masterblatt!C41)","v":""},{"$f":"IF(Masterblatt!D41=\"\",\"\",Masterblatt!D41)","v":""},{"$f":"IF(Masterblatt!E41=\"\",\"\",Masterblatt!E41)","v":""},{"$f":"IF(Masterblatt!F41=\"\",\"\",Masterblatt!F41)","v":""},{"$f":"IF(Masterblatt!G41=\"\",\"\",Masterblatt!G41)","v":""},{"$f":"IF(Masterblatt!H41=\"\",\"\",Masterblatt!H41)","v":""},{"$f":"IF(Masterblatt!I41=\"\",\"\",Masterblatt!I41)","v":""},{"$f":"IF(Masterblatt!J41=\"\",\"\",Masterblatt!J41)","v":""},{"$f":"IF(Masterblatt!K41=\"\",\"\",Masterblatt!K41)","v":""},{"$f":"IF(Masterblatt!L41=\"\",\"\",Masterblatt!L41)","v":""},{"$f":"IF(Masterblatt!M41=\"\",\"\",Masterblatt!M41)","v":""},{"$f":"IF(Masterblatt!N41=\"\",\"\",Masterblatt!N41)","v":""},{"$f":"IF(Masterblatt!O41=\"\",\"\",Masterblatt!O41)","v":""},{"$f":"IF(Masterblatt!P41=\"\",\"\",Masterblatt!P41)","v":""},{"$f":"IF(Masterblatt!Q41=\"\",\"\",Masterblatt!Q41)","v":""},{"$f":"IF(Masterblatt!R41=\"\",\"\",Masterblatt!R41)","v":""},{"$f":"IF(Masterblatt!S41=\"\",\"\",Masterblatt!S41)","v":""},{"$f":"IF(Masterblatt!T41=\"\",\"\",Masterblatt!T41)","v":""},{"$f":"IF(Masterblatt!U41=\"\",\"\",Masterblatt!U41)","v":""},{"$f":"IF(Masterblatt!V41=\"\",\"\",Masterblatt!V41)","v":""},{"$f":"IF(Masterblatt!W41=\"\",\"\",Masterblatt!W41)","v":""},{"$f":"IF(Masterblatt!X41=\"\",\"\",Masterblatt!X41)","v":""},{"$f":"IF(Masterblatt!Y41=\"\",\"\",Masterblatt!Y41)","v":""},{"$f":"IF(Masterblatt!Z41=\"\",\"\",Masterblatt!Z41)","v":""},{"$f":"IF(Masterblatt!AA41=\"\",\"\",Masterblatt!AA41)","v":""},{"$f":"IF(Masterblatt!AB41=\"\",\"\",Masterblatt!AB41)","v":2}]
[null,{"$f":"IF(Masterblatt!B42=\"\",\"\",Masterblatt!B42)","v":""},{"$f":"IF(Masterblatt!C42=\"\",\"\",Masterblatt!C42)","v":""},{"$f":"IF(Masterblatt!D42=\"\",\"\",Masterblatt!D42)","v":""},{"$f":"IF(Masterblatt!E42=\"\",\"\",Masterblatt!E42)","v":""},{"$f":"IF(Masterblatt!F42=\"\",\"\",Masterblatt!F42)","v":""},{"$f":"IF(Masterblatt!G42=\"\",\"\",Masterblatt!G42)","v":""},{"$f":"IF(Masterblatt!H42=\"\",\"\",Masterblatt!H42)","v":""},{"$f":"IF(Masterblatt!I42=\"\",\"\",Masterblatt!I42)","v":""},{"$f":"IF(Masterblatt!J42=\"\",\"\",Masterblatt!J42)","v":""},{"$f":"IF(Masterblatt!K42=\"\",\"\",Masterblatt!K42)","v":""},{"$f":"IF(Masterblatt!L42=\"\",\"\",Masterblatt!L42)","v":""},{"$f":"IF(Masterblatt!M42=\"\",\"\",Masterblatt!M42)","v":""},{"$f":"IF(Masterblatt!N42=\"\",\"\",Masterblatt!N42)","v":""},{"$f":"IF(Masterblatt!O42=\"\",\"\",Masterblatt!O42)","v":""},{"$f":"IF(Masterblatt!P42=\"\",\"\",Masterblatt!P42)","v":""},{"$f":"IF(Masterblatt!Q42=\"\",\"\",Masterblatt!Q42)","v":""},{"$f":"IF(Masterblatt!R42=\"\",\"\",Masterblatt!R42)","v":""},{"$f":"IF(Masterblatt!S42=\"\",\"\",Masterblatt!S42)","v":""},{"$f":"IF(Masterblatt!T42=\"\",\"\",Masterblatt!T42)","v":""},{"$f":"IF(Masterblatt!U42=\"\",\"\",Masterblatt!U42)","v":""},{"$f":"IF(Masterblatt!V42=\"\",\"\",Masterblatt!V42)","v":""},{"$f":"IF(Masterblatt!W42=\"\",\"\",Masterblatt!W42)","v":""},{"$f":"IF(Masterblatt!X42=\"\",\"\",Masterblatt!X42)","v":""},{"$f":"IF(Masterblatt!Y42=\"\",\"\",Masterblatt!Y42)","v":""},{"$f":"IF(Masterblatt!Z42=\"\",\"\",Masterblatt!Z42)","v":""},{"$f":"IF(Masterblatt!AA42=\"\",\"\",Masterblatt!AA42)","v":""},{"$f":"IF(Masterblatt!AB42=\"\",\"\",Masterblatt!AB42)","v":2}]
[null,{"$f":"IF(Masterblatt!B43=\"\",\"\",Masterblatt!B43)","v":""},{"$f":"IF(Masterblatt!C43=\"\",\"\",Masterblatt!C43)","v":""},{"$f":"IF(Masterblatt!D43=\"\",\"\",Masterblatt!D43)","v":""},{"$f":"IF(Masterblatt!E43=\"\",\"\",Masterblatt!E43)","v":""},{"$f":"IF(Masterblatt!F43=\"\",\"\",Masterblatt!F43)","v":""},{"$f":"IF(Masterblatt!G43=\"\",\"\",Masterblatt!G43)","v":""},{"$f":"IF(Masterblatt!H43=\"\",\"\",Masterblatt!H43)","v":""},{"$f":"IF(Masterblatt!I43=\"\",\"\",Masterblatt!I43)","v":""},{"$f":"IF(Masterblatt!J43=\"\",\"\",Masterblatt!J43)","v":""},{"$f":"IF(Masterblatt!K43=\"\",\"\",Masterblatt!K43)","v":""},{"$f":"IF(Masterblatt!L43=\"\",\"\",Masterblatt!L43)","v":""},{"$f":"IF(Masterblatt!M43=\"\",\"\",Masterblatt!M43)","v":""},{"$f":"IF(Masterblatt!N43=\"\",\"\",Masterblatt!N43)","v":""},{"$f":"IF(Masterblatt!O43=\"\",\"\",Masterblatt!O43)","v":""},{"$f":"IF(Masterblatt!P43=\"\",\"\",Masterblatt!P43)","v":""},{"$f":"IF(Masterblatt!Q43=\"\",\"\",Masterblatt!Q43)","v":""},{"$f":"IF(Masterblatt!R43=\"\",\"\",Masterblatt!R43)","v":""},{"$f":"IF(Masterblatt!S43=\"\",\"\",Masterblatt!S43)","v":""},{"$f":"IF(Masterblatt!T43=\"\",\"\",Masterblatt!T43)","v":""},{"$f":"IF(Masterblatt!U43=\"\",\"\",Masterblatt!U43)","v":""},{"$f":"IF(Masterblatt!V43=\"\",\"\",Masterblatt!V43)","v":""},{"$f":"IF(Masterblatt!W43=\"\",\"\",Masterblatt!W43)","v":""},{"$f":"IF(Masterblatt!X43=\"\",\"\",Masterblatt!X43)","v":""},{"$f":"IF(Masterblatt!Y43=\"\",\"\",Masterblatt!Y43)","v":""},{"$f":"IF(Masterblatt!Z43=\"\",\"\",Masterblatt!Z43)","v":""},{"$f":"IF(Masterblatt!AA43=\"\",\"\",Masterblatt!AA43)","v":""},{"$f":"IF(Masterblatt!AB43=\"\",\"\",Masterblatt!AB43)","v":2}]
[null,{"$f":"IF(Masterblatt!B44=\"\",\"\",Masterblatt!B44)","v":""},{"$f":"IF(Masterblatt!C44=\"\",\"\",Masterblatt!C44)","v":""},{"$f":"IF(Masterblatt!D44=\"\",\"\",Masterblatt!D44)","v":""},{"$f":"IF(Masterblatt!E44=\"\",\"\",Masterblatt!E44)","v":""},{"$f":"IF(Masterblatt!F44=\"\",\"\",Masterblatt!F44)","v":""},{"$f":"IF(Masterblatt!G44=\"\",\"\",Masterblatt!G44)","v":""},{"$f":"IF(Masterblatt!H44=\"\",\"\",Masterblatt!H44)","v":""},{"$f":"IF(Masterblatt!I44=\"\",\"\",Masterblatt!I44)","v":""},{"$f":"IF(Masterblatt!J44=\"\",\"\",Masterblatt!J44)","v":""},{"$f":"IF(Masterblatt!K44=\"\",\"\",Masterblatt!K44)","v":""},{"$f":"IF(Masterblatt!L44=\"\",\"\",Masterblatt!L44)","v":""},{"$f":"IF(Masterblatt!M44=\"\",\"\",Masterblatt!M44)","v":""},{"$f":"IF(Masterblatt!N44=\"\",\"\",Masterblatt!N44)","v":""},{"$f":"IF(Masterblatt!O44=\"\",\"\",Masterblatt!O44)","v":""},{"$f":"IF(Masterblatt!P44=\"\",\"\",Masterblatt!P44)","v":""},{"$f":"IF(Masterblatt!Q44=\"\",\"\",Masterblatt!Q44)","v":""},{"$f":"IF(Masterblatt!R44=\"\",\"\",Masterblatt!R44)","v":""},{"$f":"IF(Masterblatt!S44=\"\",\"\",Masterblatt!S44)","v":""},{"$f":"IF(Masterblatt!T44=\"\",\"\",Masterblatt!T44)","v":""},{"$f":"IF(Masterblatt!U44=\"\",\"\",Masterblatt!U44)","v":""},{"$f":"IF(Masterblatt!V44=\"\",\"\",Masterblatt!V44)","v":""},{"$f":"IF(Masterblatt!W44=\"\",\"\",Masterblatt!W44)","v":""},{"$f":"IF(Masterblatt!X44=\"\",\"\",Masterblatt!X44)","v":""},{"$f":"IF(Masterblatt!Y44=\"\",\"\",Masterblatt!Y44)","v":""},{"$f":"IF(Masterblatt!Z44=\"\",\"\",Masterblatt!Z44)","v":""},{"$f":"IF(Masterblatt!AA44=\"\",\"\",Masterblatt!AA44)","v":""},{"$f":"IF(Masterblatt!AB44=\"\",\"\",Masterblatt!AB44)","v":2}]
[null,{"$f":"IF(Masterblatt!B45=\"\",\"\",Masterblatt!B45)","v":""},{"$f":"IF(Masterblatt!C45=\"\",\"\",Masterblatt!C45)","v":""},{"$f":"IF(Masterblatt!D45=\"\",\"\",Masterblatt!D45)","v":""},{"$f":"IF(Masterblatt!E45=\"\",\"\",Masterblatt!E45)","v":""},{"$f":"IF(Masterblatt!F45=\"\",\"\",Masterblatt!F45)","v":""},{"$f":"IF(Masterblatt!G45=\"\",\"\",Masterblatt!G45)","v":""},{"$f":"IF(Masterblatt!H45=\"\",\"\",Masterblatt!H45)","v":""},{"$f":"IF(Masterblatt!I45=\"\",\"\",Masterblatt!I45)","v":""},{"$f":"IF(Masterblatt!J45=\"\",\"\",Masterblatt!J45)","v":""},{"$f":"IF(Masterblatt!K45=\"\",\"\",Masterblatt!K45)","v":""},{"$f":"IF(Masterblatt!L45=\"\",\"\",Masterblatt!L45)","v":""},{"$f":"IF(Masterblatt!M45=\"\",\"\",Masterblatt!M45)","v":""},{"$f":"IF(Masterblatt!N45=\"\",\"\",Masterblatt!N45)","v":""},{"$f":"IF(Masterblatt!O45=\"\",\"\",Masterblatt!O45)","v":""},{"$f":"IF(Masterblatt!P45=\"\",\"\",Masterblatt!P45)","v":""},{"$f":"IF(Masterblatt!Q45=\"\",\"\",Masterblatt!Q45)","v":""},{"$f":"IF(Masterblatt!R45=\"\",\"\",Masterblatt!R45)","v":""},{"$f":"IF(Masterblatt!S45=\"\",\"\",Masterblatt!S45)","v":""},{"$f":"IF(Masterblatt!T45=\"\",\"\",Masterblatt!T45)","v":""},{"$f":"IF(Masterblatt!U45=\"\",\"\",Masterblatt!U45)","v":""},{"$f":"IF(Masterblatt!V45=\"\",\"\",Masterblatt!V45)","v":""},{"$f":"IF(Masterblatt!W45=\"\",\"\",Masterblatt!W45)","v":""},{"$f":"IF(Masterblatt!X45=\"\",\"\",Masterblatt!X45)","v":""},{"$f":"IF(Masterblatt!Y45=\"\",\"\",Masterblatt!Y45)","v":""},{"$f":"IF(Masterblatt!Z45=\"\",\"\",Masterblatt!Z45)","v":""},{"$f":"IF(Masterblatt!AA45=\"\",\"\",Masterblatt!AA45)","v":""},{"$f":"IF(Masterblatt!AB45=\"\",\"\",Masterblatt!AB45)","v":2}]
[null,{"$f":"IF(Masterblatt!B46=\"\",\"\",Masterblatt!B46)","v":""},{"$f":"IF(Masterblatt!C46=\"\",\"\",Masterblatt!C46)","v":""},{"$f":"IF(Masterblatt!D46=\"\",\"\",Masterblatt!D46)","v":""},{"$f":"IF(Masterblatt!E46=\"\",\"\",Masterblatt!E46)","v":""},{"$f":"IF(Masterblatt!F46=\"\",\"\",Masterblatt!F46)","v":""},{"$f":"IF(Masterblatt!G46=\"\",\"\",Masterblatt!G46)","v":""},{"$f":"IF(Masterblatt!H46=\"\",\"\",Masterblatt!H46)","v":""},{"$f":"IF(Masterblatt!I46=\"\",\"\",Masterblatt!I46)","v":""},{"$f":"IF(Masterblatt!J46=\"\",\"\",Masterblatt!J46)","v":""},{"$f":"IF(Masterblatt!K46=\"\",\"\",Masterblatt!K46)","v":""},{"$f":"IF(Masterblatt!L46=\"\",\"\",Masterblatt!L46)","v":""},{"$f":"IF(Masterblatt!M46=\"\",\"\",Masterblatt!M46)","v":""},{"$f":"IF(Masterblatt!N46=\"\",\"\",Masterblatt!N46)","v":""},{"$f":"IF(Masterblatt!O46=\"\",\"\",Masterblatt!O46)","v":""},{"$f":"IF(Masterblatt!P46=\"\",\"\",Masterblatt!P46)","v":""},{"$f":"IF(Masterblatt!Q46=\"\",\"\",Masterblatt!Q46)","v":""},{"$f":"IF(Masterblatt!R46=\"\",\"\",Masterblatt!R46)","v":""},{"$f":"IF(Masterblatt!S46=\"\",\"\",Masterblatt!S46)","v":""},{"$f":"IF(Masterblatt!T46=\"\",\"\",Masterblatt!T46)","v":""},{"$f":"IF(Masterblatt!U46=\"\",\"\",Masterblatt!U46)","v":""},{"$f":"IF(Masterblatt!V46=\"\",\"\",Masterblatt!V46)","v":""},{"$f":"IF(Masterblatt!W46=\"\",\"\",Masterblatt!W46)","v":""},{"$f":"IF(Masterblatt!X46=\"\",\"\",Masterblatt!X46)","v":""},{"$f":"IF(Masterblatt!Y46=\"\",\"\",Masterblatt!Y46)","v":""},{"$f":"IF(Masterblatt!Z46=\"\",\"\",Masterblatt!Z46)","v":""},{"$f":"IF(Masterblatt!AA46=\"\",\"\",Masterblatt!AA46)","v":""},{"$f":"IF(Masterblatt!AB46=\"\",\"\",Masterblatt!AB46)","v":2}]
[null,{"$f":"IF(Masterblatt!B47=\"\",\"\",Masterblatt!B47)","v":""},{"$f":"IF(Masterblatt!C47=\"\",\"\",Masterblatt!C47)","v":""},{"$f":"IF(Masterblatt!D47=\"\",\"\",Masterblatt!D47)","v":""},{"$f":"IF(Masterblatt!E47=\"\",\"\",Masterblatt!E47)","v":""},{"$f":"IF(Masterblatt!F47=\"\",\"\",Masterblatt!F47)","v":""},{"$f":"IF(Masterblatt!G47=\"\",\"\",Masterblatt!G47)","v":""},{"$f":"IF(Masterblatt!H47=\"\",\"\",Masterblatt!H47)","v":""},{"$f":"IF(Masterblatt!I47=\"\",\"\",Masterblatt!I47)","v":""},{"$f":"IF(Masterblatt!J47=\"\",\"\",Masterblatt!J47)","v":""},{"$f":"IF(Masterblatt!K47=\"\",\"\",Masterblatt!K47)","v":""},{"$f":"IF(Masterblatt!L47=\"\",\"\",Masterblatt!L47)","v":""},{"$f":"IF(Masterblatt!M47=\"\",\"\",Masterblatt!M47)","v":""},{"$f":"IF(Masterblatt!N47=\"\",\"\",Masterblatt!N47)","v":""},{"$f":"IF(Masterblatt!O47=\"\",\"\",Masterblatt!O47)","v":""},{"$f":"IF(Masterblatt!P47=\"\",\"\",Masterblatt!P47)","v":""},{"$f":"IF(Masterblatt!Q47=\"\",\"\",Masterblatt!Q47)","v":""},{"$f":"IF(Masterblatt!R47=\"\",\"\",Masterblatt!R47)","v":""},{"$f":"IF(Masterblatt!S47=\"\",\"\",Masterblatt!S47)","v":""},{"$f":"IF(Masterblatt!T47=\"\",\"\",Masterblatt!T47)","v":""},{"$f":"IF(Masterblatt!U47=\"\",\"\",Masterblatt!U47)","v":""},{"$f":"IF(Masterblatt!V47=\"\",\"\",Masterblatt!V47)","v":""},{"$f":"IF(Masterblatt!W47=\"\",\"\",Masterblatt!W47)","v":""},{"$f":"IF(Masterblatt!X47=\"\",\"\",Masterblatt!X47)","v":""},{"$f":"IF(Masterblatt!Y47=\"\",\"\",Masterblatt!Y47)","v":""},{"$f":"IF(Masterblatt!Z47=\"\",\"\",Masterblatt!Z47)","v":""},{"$f":"IF(Masterblatt!AA47=\"\",\"\",Masterblatt!AA47)","v":""},{"$f":"IF(Masterblatt!AB47=\"\",\"\",Masterblatt!AB47)","v":2}]
[null,{"$f":"IF(Masterblatt!B48=\"\",\"\",Masterblatt!B48)","v":""},{"$f":"IF(Masterblatt!C48=\"\",\"\",Masterblatt!C48)","v":""},{"$f":"IF(Masterblatt!D48=\"\",\"\",Masterblatt!D48)","v":""},{"$f":"IF(Masterblatt!E48=\"\",\"\",Masterblatt!E48)","v":""},{"$f":"IF(Masterblatt!F48=\"\",\"\",Masterblatt!F48)","v":""},{"$f":"IF(Masterblatt!G48=\"\",\"\",Masterblatt!G48)","v":""},{"$f":"IF(Masterblatt!H48=\"\",\"\",Masterblatt!H48)","v":""},{"$f":"IF(Masterblatt!I48=\"\",\"\",Masterblatt!I48)","v":""},{"$f":"IF(Masterblatt!J48=\"\",\"\",Masterblatt!J48)","v":""},{"$f":"IF(Masterblatt!K48=\"\",\"\",Masterblatt!K48)","v":""},{"$f":"IF(Masterblatt!L48=\"\",\"\",Masterblatt!L48)","v":""},{"$f":"IF(Masterblatt!M48=\"\",\"\",Masterblatt!M48)","v":""},{"$f":"IF(Masterblatt!N48=\"\",\"\",Masterblatt!N48)","v":""},{"$f":"IF(Masterblatt!O48=\"\",\"\",Masterblatt!O48)","v":""},{"$f":"IF(Masterblatt!P48=\"\",\"\",Masterblatt!P48)","v":""},{"$f":"IF(Masterblatt!Q48=\"\",\"\",Masterblatt!Q48)","v":""},{"$f":"IF(Masterblatt!R48=\"\",\"\",Masterblatt!R48)","v":""},{"$f":"IF(Masterblatt!S48=\"\",\"\",Masterblatt!S48)","v":""},{"$f":"IF(Masterblatt!T48=\"\",\"\",Masterblatt!T48)","v":""},{"$f":"IF(Masterblatt!U48=\"\",\"\",Masterblatt!U48)","v":""},{"$f":"IF(Masterblatt!V48=\"\",\"\",Masterblatt!V48)","v":""},{"$f":"IF(Masterblatt!W48=\"\",\"\",Masterblatt!W48)","v":""},{"$f":"IF(Masterblatt!X48=\"\",\"\",Masterblatt!X48)","v":""},{"$f":"IF(Masterblatt!Y48=\"\",\"\",Masterblatt!Y48)","v":""},{"$f":"IF(Masterblatt!Z48=\"\",\"\",Masterblatt!Z48)","v":""},{"$f":"IF(Masterblatt!AA48=\"\",\"\",Masterblatt!AA48)","v":""},{"$f":"IF(Masterblatt!AB48=\"\",\"\",Masterblatt!AB48)","v":2}]
[null,{"$f":"IF(Masterblatt!B49=\"\",\"\",Masterblatt!B49)","v":""},{"$f":"IF(Masterblatt!C49=\"\",\"\",Masterblatt!C49)","v":""},{"$f":"IF(Masterblatt!D49=\"\",\"\",Masterblatt!D49)","v":""},{"$f":"IF(Masterblatt!E49=\"\",\"\",Masterblatt!E49)","v":""},{"$f":"IF(Masterblatt!F49=\"\",\"\",Masterblatt!F49)","v":""},{"$f":"IF(Masterblatt!G49=\"\",\"\",Masterblatt!G49)","v":""},{"$f":"IF(Masterblatt!H49=\"\",\"\",Masterblatt!H49)","v":""},{"$f":"IF(Masterblatt!I49=\"\",\"\",Masterblatt!I49)","v":""},{"$f":"IF(Masterblatt!J49=\"\",\"\",Masterblatt!J49)","v":""},{"$f":"IF(Masterblatt!K49=\"\",\"\",Masterblatt!K49)","v":""},{"$f":"IF(Masterblatt!L49=\"\",\"\",Masterblatt!L49)","v":""},{"$f":"IF(Masterblatt!M49=\"\",\"\",Masterblatt!M49)","v":""},{"$f":"IF(Masterblatt!N49=\"\",\"\",Masterblatt!N49)","v":""},{"$f":"IF(Masterblatt!O49=\"\",\"\",Masterblatt!O49)","v":""},{"$f":"IF(Masterblatt!P49=\"\",\"\",Masterblatt!P49)","v":""},{"$f":"IF(Masterblatt!Q49=\"\",\"\",Masterblatt!Q49)","v":""},{"$f":"IF(Masterblatt!R49=\"\",\"\",Masterblatt!R49)","v":""},{"$f":"IF(Masterblatt!S49=\"\",\"\",Masterblatt!S49)","v":""},{"$f":"IF(Masterblatt!T49=\"\",\"\",Masterblatt!T49)","v":""},{"$f":"IF(Masterblatt!U49=\"\",\"\",Masterblatt!U49)","v":""},{"$f":"IF(Masterblatt!V49=\"\",\"\",Masterblatt!V49)","v":""},{"$f":"IF(Masterblatt!W49=\"\",\"\",Masterblatt!W49)","v":""},{"$f":"IF(Masterblatt!X49=\"\",\"\",Masterblatt!X49)","v":""},{"$f":"IF(Masterblatt!Y49=\"\",\"\",Masterblatt!Y49)","v":""},{"$f":"IF(Masterblatt!Z49=\"\",\"\",Masterblatt!Z49)","v":""},{"$f":"IF(Masterblatt!AA49=\"\",\"\",Masterblatt!AA49)","v":""},{"$f":"IF(Masterblatt!AB49=\"\",\"\",Masterblatt!AB49)","v":2}]
[null,{"$f":"IF(Masterblatt!B50=\"\",\"\",Masterblatt!B50)","v":""},{"$f":"IF(Masterblatt!C50=\"\",\"\",Masterblatt!C50)","v":""},{"$f":"IF(Masterblatt!D50=\"\",\"\",Masterblatt!D50)","v":""},{"$f":"IF(Masterblatt!E50=\"\",\"\",Masterblatt!E50)","v":""},{"$f":"IF(Masterblatt!F50=\"\",\"\",Masterblatt!F50)","v":""},{"$f":"IF(Masterblatt!G50=\"\",\"\",Masterblatt!G50)","v":""},{"$f":"IF(Masterblatt!H50=\"\",\"\",Masterblatt!H50)","v":""},{"$f":"IF(Masterblatt!I50=\"\",\"\",Masterblatt!I50)","v":""},{"$f":"IF(Masterblatt!J50=\"\",\"\",Masterblatt!J50)","v":""},{"$f":"IF(Masterblatt!K50=\"\",\"\",Masterblatt!K50)","v":""},{"$f":"IF(Masterblatt!L50=\"\",\"\",Masterblatt!L50)","v":""},{"$f":"IF(Masterblatt!M50=\"\",\"\",Masterblatt!M50)","v":""},{"$f":"IF(Masterblatt!N50=\"\",\"\",Masterblatt!N50)","v":""},{"$f":"IF(Masterblatt!O50=\"\",\"\",Masterblatt!O50)","v":""},{"$f":"IF(Masterblatt!P50=\"\",\"\",Masterblatt!P50)","v":""},{"$f":"IF(Masterblatt!Q50=\"\",\"\",Masterblatt!Q50)","v":""},{"$f":"IF(Masterblatt!R50=\"\",\"\",Masterblatt!R50)","v":""},{"$f":"IF(Masterblatt!S50=\"\",\"\",Masterblatt!S50)","v":""},{"$f":"IF(Masterblatt!T50=\"\",\"\",Masterblatt!T50)","v":""},{"$f":"IF(Masterblatt!U50=\"\",\"\",Masterblatt!U50)","v":""},{"$f":"IF(Masterblatt!V50=\"\",\"\",Masterblatt!V50)","v":""},{"$f":"IF(Masterblatt!W50=\"\",\"\",Masterblatt!W50)","v":""},{"$f":"IF(Masterblatt!X50=\"\",\"\",Masterblatt!X50)","v":""},{"$f":"IF(Masterblatt!Y50=\"\",\"\",Masterblatt!Y50)","v":""},{"$f":"IF(Masterblatt!Z50=\"\",\"\",Masterblatt!Z50)","v":""},{"$f":"IF(Masterblatt!AA50=\"\",\"\",Masterblatt!AA50)","v":""},{"$f":"IF(Masterblatt!AB50=\"\",\"\",Masterblatt!AB50)","v":2}]
[null,{"$f":"IF(Masterblatt!B51=\"\",\"\",Masterblatt!B51)","v":""},{"$f":"IF(Masterblatt!C51=\"\",\"\",Masterblatt!C51)","v":""},{"$f":"IF(Masterblatt!D51=\"\",\"\",Masterblatt!D51)","v":""},{"$f":"IF(Masterblatt!E51=\"\",\"\",Masterblatt!E51)","v":""},{"$f":"IF(Masterblatt!F51=\"\",\"\",Masterblatt!F51)","v":""},{"$f":"IF(Masterblatt!G51=\"\",\"\",Masterblatt!G51)","v":""},{"$f":"IF(Masterblatt!H51=\"\",\"\",Masterblatt!H51)","v":""},{"$f":"IF(Masterblatt!I51=\"\",\"\",Masterblatt!I51)","v":""},{"$f":"IF(Masterblatt!J51=\"\",\"\",Masterblatt!J51)","v":""},{"$f":"IF(Masterblatt!K51=\"\",\"\",Masterblatt!K51)","v":""},{"$f":"IF(Masterblatt!L51=\"\",\"\",Masterblatt!L51)","v":""},{"$f":"IF(Masterblatt!M51=\"\",\"\",Masterblatt!M51)","v":""},{"$f":"IF(Masterblatt!N51=\"\",\"\",Masterblatt!N51)","v":""},{"$f":"IF(Masterblatt!O51=\"\",\"\",Masterblatt!O51)","v":""},{"$f":"IF(Masterblatt!P51=\"\",\"\",Masterblatt!P51)","v":""},{"$f":"IF(Masterblatt!Q51=\"\",\"\",Masterblatt!Q51)","v":""},{"$f":"IF(Masterblatt!R51=\"\",\"\",Masterblatt!R51)","v":""},{"$f":"IF(Masterblatt!S51=\"\",\"\",Masterblatt!S51)","v":""},{"$f":"IF(Masterblatt!T51=\"\",\"\",Masterblatt!T51)","v":""},{"$f":"IF(Masterblatt!U51=\"\",\"\",Masterblatt!U51)","v":""},{"$f":"IF(Masterblatt!V51=\"\",\"\",Masterblatt!V51)","v":""},{"$f":"IF(Masterblatt!W51=\"\",\"\",Masterblatt!W51)","v":""},{"$f":"IF(Masterblatt!X51=\"\",\"\",Masterblatt!X51)","v":""},{"$f":"IF(Masterblatt!Y51=\"\",\"\",Masterblatt!Y51)","v":""},{"$f":"IF(Masterblatt!Z51=\"\",\"\",Masterblatt!Z51)","v":""},{"$f":"IF(Masterblatt!AA51=\"\",\"\",Masterblatt!AA51)","v":""},{"$f":"IF(Masterblatt!AB51=\"\",\"\",Masterblatt!AB51)","v":2}]
[null,{"$f":"IF(Masterblatt!B52=\"\",\"\",Masterblatt!B52)","v":""},{"$f":"IF(Masterblatt!C52=\"\",\"\",Masterblatt!C52)","v":""},{"$f":"IF(Masterblatt!D52=\"\",\"\",Masterblatt!D52)","v":""},{"$f":"IF(Masterblatt!E52=\"\",\"\",Masterblatt!E52)","v":""},{"$f":"IF(Masterblatt!F52=\"\",\"\",Masterblatt!F52)","v":""},{"$f":"IF(Masterblatt!G52=\"\",\"\",Masterblatt!G52)","v":""},{"$f":"IF(Masterblatt!H52=\"\",\"\",Masterblatt!H52)","v":""},{"$f":"IF(Masterblatt!I52=\"\",\"\",Masterblatt!I52)","v":""},{"$f":"IF(Masterblatt!J52=\"\",\"\",Masterblatt!J52)","v":""},{"$f":"IF(Masterblatt!K52=\"\",\"\",Masterblatt!K52)","v":""},{"$f":"IF(Masterblatt!L52=\"\",\"\",Masterblatt!L52)","v":""},{"$f":"IF(Masterblatt!M52=\"\",\"\",Masterblatt!M52)","v":""},{"$f":"IF(Masterblatt!N52=\"\",\"\",Masterblatt!N52)","v":""},{"$f":"IF(Masterblatt!O52=\"\",\"\",Masterblatt!O52)","v":""},{"$f":"IF(Masterblatt!P52=\"\",\"\",Masterblatt!P52)","v":""},{"$f":"IF(Masterblatt!Q52=\"\",\"\",Masterblatt!Q52)","v":""},{"$f":"IF(Masterblatt!R52=\"\",\"\",Masterblatt!R52)","v":""},{"$f":"IF(Masterblatt!S52=\"\",\"\",Masterblatt!S52)","v":""},{"$f":"IF(Masterblatt!T52=\"\",\"\",Masterblatt!T52)","v":""},{"$f":"IF(Masterblatt!U52=\"\",\"\",Masterblatt!U52)","v":""},{"$f":"IF(Masterblatt!V52=\"\",\"\",Masterblatt!V52)","v":""},{"$f":"IF(Masterblatt!W52=\"\",\"\",Masterblatt!W52)","v":""},{"$f":"IF(Masterblatt!X52=\"\",\"\",Masterblatt!X52)","v":""},{"$f":"IF(Masterblatt!Y52=\"\",\"\",Masterblatt!Y52)","v":""},{"$f":"IF(Masterblatt!Z52=\"\",\"\",Masterblatt!Z52)","v":""},{"$f":"IF(Masterblatt!AA52=\"\",\"\",Masterblatt!AA52)","v":""},{"$f":"IF(Masterblatt!AB52=\"\",\"\",Masterblatt!AB52)","v":2}]
[null,{"$f":"IF(Masterblatt!B53=\"\",\"\",Masterblatt!B53)","v":""},{"$f":"IF(Masterblatt!C53=\"\",\"\",Masterblatt!C53)","v":""},{"$f":"IF(Masterblatt!D53=\"\",\"\",Masterblatt!D53)","v":""},{"$f":"IF(Masterblatt!E53=\"\",\"\",Masterblatt!E53)","v":""},{"$f":"IF(Masterblatt!F53=\"\",\"\",Masterblatt!F53)","v":""},{"$f":"IF(Masterblatt!G53=\"\",\"\",Masterblatt!G53)","v":""},{"$f":"IF(Masterblatt!H53=\"\",\"\",Masterblatt!H53)","v":""},{"$f":"IF(Masterblatt!I53=\"\",\"\",Masterblatt!I53)","v":""},{"$f":"IF(Masterblatt!J53=\"\",\"\",Masterblatt!J53)","v":""},{"$f":"IF(Masterblatt!K53=\"\",\"\",Masterblatt!K53)","v":""},{"$f":"IF(Masterblatt!L53=\"\",\"\",Masterblatt!L53)","v":""},{"$f":"IF(Masterblatt!M53=\"\",\"\",Masterblatt!M53)","v":""},{"$f":"IF(Masterblatt!N53=\"\",\"\",Masterblatt!N53)","v":""},{"$f":"IF(Masterblatt!O53=\"\",\"\",Masterblatt!O53)","v":""},{"$f":"IF(Masterblatt!P53=\"\",\"\",Masterblatt!P53)","v":""},{"$f":"IF(Masterblatt!Q53=\"\",\"\",Masterblatt!Q53)","v":""},{"$f":"IF(Masterblatt!R53=\"\",\"\",Masterblatt!R53)","v":""},{"$f":"IF(Masterblatt!S53=\"\",\"\",Masterblatt!S53)","v":""},{"$f":"IF(Masterblatt!T53=\"\",\"\",Masterblatt!T53)","v":""},{"$f":"IF(Masterblatt!U53=\"\",\"\",Masterblatt!U53)","v":""},{"$f":"IF(Masterblatt!V53=\"\",\"\",Masterblatt!V53)","v":""},{"$f":"IF(Masterblatt!W53=\"\",\"\",Masterblatt!W53)","v":""},{"$f":"IF(Masterblatt!X53=\"\",\"\",Masterblatt!X53)","v":""},{"$f":"IF(Masterblatt!Y53=\"\",\"\",Masterblatt!Y53)","v":""},{"$f":"IF(Masterblatt!Z53=\"\",\"\",Masterblatt!Z53)","v":""},{"$f":"IF(Masterblatt!AA53=\"\",\"\",Masterblatt!AA53)","v":""},{"$f":"IF(Masterblatt!AB53=\"\",\"\",Masterblatt!AB53)","v":2}]
[null,{"$f":"IF(Masterblatt!B54=\"\",\"\",Masterblatt!B54)","v":""},{"$f":"IF(Masterblatt!C54=\"\",\"\",Masterblatt!C54)","v":""},{"$f":"IF(Masterblatt!D54=\"\",\"\",Masterblatt!D54)","v":""},{"$f":"IF(Masterblatt!E54=\"\",\"\",Masterblatt!E54)","v":""},{"$f":"IF(Masterblatt!F54=\"\",\"\",Masterblatt!F54)","v":""},{"$f":"IF(Masterblatt!G54=\"\",\"\",Masterblatt!G54)","v":""},{"$f":"IF(Masterblatt!H54=\"\",\"\",Masterblatt!H54)","v":""},{"$f":"IF(Masterblatt!I54=\"\",\"\",Masterblatt!I54)","v":""},{"$f":"IF(Masterblatt!J54=\"\",\"\",Masterblatt!J54)","v":""},{"$f":"IF(Masterblatt!K54=\"\",\"\",Masterblatt!K54)","v":""},{"$f":"IF(Masterblatt!L54=\"\",\"\",Masterblatt!L54)","v":""},{"$f":"IF(Masterblatt!M54=\"\",\"\",Masterblatt!M54)","v":""},{"$f":"IF(Masterblatt!N54=\"\",\"\",Masterblatt!N54)","v":""},{"$f":"IF(Masterblatt!O54=\"\",\"\",Masterblatt!O54)","v":""},{"$f":"IF(Masterblatt!P54=\"\",\"\",Masterblatt!P54)","v":""},{"$f":"IF(Masterblatt!Q54=\"\",\"\",Masterblatt!Q54)","v":""},{"$f":"IF(Masterblatt!R54=\"\",\"\",Masterblatt!R54)","v":""},{"$f":"IF(Masterblatt!S54=\"\",\"\",Masterblatt!S54)","v":""},{"$f":"IF(Masterblatt!T54=\"\",\"\",Masterblatt!T54)","v":""},{"$f":"IF(Masterblatt!U54=\"\",\"\",Masterblatt!U54)","v":""},{"$f":"IF(Masterblatt!V54=\"\",\"\",Masterblatt!V54)","v":""},{"$f":"IF(Masterblatt!W54=\"\",\"\",Masterblatt!W54)","v":""},{"$f":"IF(Masterblatt!X54=\"\",\"\",Masterblatt!X54)","v":""},{"$f":"IF(Masterblatt!Y54=\"\",\"\",Masterblatt!Y54)","v":""},{"$f":"IF(Masterblatt!Z54=\"\",\"\",Masterblatt!Z54)","v":""},{"$f":"IF(Masterblatt!AA54=\"\",\"\",Masterblatt!AA54)","v":""},{"$f":"IF(Masterblatt!AB54=\"\",\"\",Masterblatt!AB54)","v":2}]
[null,{"$f":"IF(Masterblatt!B55=\"\",\"\",Masterblatt!B55)","v":""},{"$f":"IF(Masterblatt!C55=\"\",\"\",Masterblatt!C55)","v":""},{"$f":"IF(Masterblatt!D55=\"\",\"\",Masterblatt!D55)","v":""},{"$f":"IF(Masterblatt!E55=\"\",\"\",Masterblatt!E55)","v":""},{"$f":"IF(Masterblatt!F55=\"\",\"\",Masterblatt!F55)","v":""},{"$f":"IF(Masterblatt!G55=\"\",\"\",Masterblatt!G55)","v":""},{"$f":"IF(Masterblatt!H55=\"\",\"\",Masterblatt!H55)","v":""},{"$f":"IF(Masterblatt!I55=\"\",\"\",Masterblatt!I55)","v":""},{"$f":"IF(Masterblatt!J55=\"\",\"\",Masterblatt!J55)","v":""},{"$f":"IF(Masterblatt!K55=\"\",\"\",Masterblatt!K55)","v":""},{"$f":"IF(Masterblatt!L55=\"\",\"\",Masterblatt!L55)","v":""},{"$f":"IF(Masterblatt!M55=\"\",\"\",Masterblatt!M55)","v":""},{"$f":"IF(Masterblatt!N55=\"\",\"\",Masterblatt!N55)","v":""},{"$f":"IF(Masterblatt!O55=\"\",\"\",Masterblatt!O55)","v":""},{"$f":"IF(Masterblatt!P55=\"\",\"\",Masterblatt!P55)","v":""},{"$f":"IF(Masterblatt!Q55=\"\",\"\",Masterblatt!Q55)","v":""},{"$f":"IF(Masterblatt!R55=\"\",\"\",Masterblatt!R55)","v":""},{"$f":"IF(Masterblatt!S55=\"\",\"\",Masterblatt!S55)","v":""},{"$f":"IF(Masterblatt!T55=\"\",\"\",Masterblatt!T55)","v":""},{"$f":"IF(Masterblatt!U55=\"\",\"\",Masterblatt!U55)","v":""},{"$f":"IF(Masterblatt!V55=\"\",\"\",Masterblatt!V55)","v":""},{"$f":"IF(Masterblatt!W55=\"\",\"\",Masterblatt!W55)","v":""},{"$f":"IF(Masterblatt!X55=\"\",\"\",Masterblatt!X55)","v":""},{"$f":"IF(Masterblatt!Y55=\"\",\"\",Masterblatt!Y55)","v":""},{"$f":"IF(Masterblatt!Z55=\"\",\"\",Masterblatt!Z55)","v":""},{"$f":"IF(Masterblatt!AA55=\"\",\"\",Masterblatt!AA55)","v":""},{"$f":"IF(Masterblatt!AB55=\"\",\"\",Masterblatt!AB55)","v":2}]
[null,{"$f":"IF(Masterblatt!B56=\"\",\"\",Masterblatt!B56)","v":""},{"$f":"IF(Masterblatt!C56=\"\",\"\",Masterblatt!C56)","v":""},{"$f":"IF(Masterblatt!D56=\"\",\"\",Masterblatt!D56)","v":""},{"$f":"IF(Masterblatt!E56=\"\",\"\",Masterblatt!E56)","v":""},{"$f":"IF(Masterblatt!F56=\"\",\"\",Masterblatt!F56)","v":""},{"$f":"IF(Masterblatt!G56=\"\",\"\",Masterblatt!G56)","v":""},{"$f":"IF(Masterblatt!H56=\"\",\"\",Masterblatt!H56)","v":""},{"$f":"IF(Masterblatt!I56=\"\",\"\",Masterblatt!I56)","v":""},{"$f":"IF(Masterblatt!J56=\"\",\"\",Masterblatt!J56)","v":""},{"$f":"IF(Masterblatt!K56=\"\",\"\",Masterblatt!K56)","v":""},{"$f":"IF(Masterblatt!L56=\"\",\"\",Masterblatt!L56)","v":""},{"$f":"IF(Masterblatt!M56=\"\",\"\",Masterblatt!M56)","v":""},{"$f":"IF(Masterblatt!N56=\"\",\"\",Masterblatt!N56)","v":""},{"$f":"IF(Masterblatt!O56=\"\",\"\",Masterblatt!O56)","v":""},{"$f":"IF(Masterblatt!P56=\"\",\"\",Masterblatt!P56)","v":""},{"$f":"IF(Masterblatt!Q56=\"\",\"\",Masterblatt!Q56)","v":""},{"$f":"IF(Masterblatt!R56=\"\",\"\",Masterblatt!R56)","v":""},{"$f":"IF(Masterblatt!S56=\"\",\"\",Masterblatt!S56)","v":""},{"$f":"IF(Masterblatt!T56=\"\",\"\",Masterblatt!T56)","v":""},{"$f":"IF(Masterblatt!U56=\"\",\"\",Masterblatt!U56)","v":""},{"$f":"IF(Masterblatt!V56=\"\",\"\",Masterblatt!V56)","v":""},{"$f":"IF(Masterblatt!W56=\"\",\"\",Masterblatt!W56)","v":""},{"$f":"IF(Masterblatt!X56=\"\",\"\",Masterblatt!X56)","v":""},{"$f":"IF(Masterblatt!Y56=\"\",\"\",Masterblatt!Y56)","v":""},{"$f":"IF(Masterblatt!Z56=\"\",\"\",Masterblatt!Z56)","v":""},{"$f":"IF(Masterblatt!AA56=\"\",\"\",Masterblatt!AA56)","v":""},{"$f":"IF(Masterblatt!AB56=\"\",\"\",Masterblatt!AB56)","v":2}]
[null,{"$f":"IF(Masterblatt!B57=\"\",\"\",Masterblatt!B57)","v":""},{"$f":"IF(Masterblatt!C57=\"\",\"\",Masterblatt!C57)","v":""},{"$f":"IF(Masterblatt!D57=\"\",\"\",Masterblatt!D57)","v":""},{"$f":"IF(Masterblatt!E57=\"\",\"\",Masterblatt!E57)","v":""},{"$f":"IF(Masterblatt!F57=\"\",\"\",Masterblatt!F57)","v":""},{"$f":"IF(Masterblatt!G57=\"\",\"\",Masterblatt!G57)","v":""},{"$f":"IF(Masterblatt!H57=\"\",\"\",Masterblatt!H57)","v":""},{"$f":"IF(Masterblatt!I57=\"\",\"\",Masterblatt!I57)","v":""},{"$f":"IF(Masterblatt!J57=\"\",\"\",Masterblatt!J57)","v":""},{"$f":"IF(Masterblatt!K57=\"\",\"\",Masterblatt!K57)","v":""},{"$f":"IF(Masterblatt!L57=\"\",\"\",Masterblatt!L57)","v":""},{"$f":"IF(Masterblatt!M57=\"\",\"\",Masterblatt!M57)","v":""},{"$f":"IF(Masterblatt!N57=\"\",\"\",Masterblatt!N57)","v":""},{"$f":"IF(Masterblatt!O57=\"\",\"\",Masterblatt!O57)","v":""},{"$f":"IF(Masterblatt!P57=\"\",\"\",Masterblatt!P57)","v":""},{"$f":"IF(Masterblatt!Q57=\"\",\"\",Masterblatt!Q57)","v":""},{"$f":"IF(Masterblatt!R57=\"\",\"\",Masterblatt!R57)","v":""},{"$f":"IF(Masterblatt!S57=\"\",\"\",Masterblatt!S57)","v":""},{"$f":"IF(Masterblatt!T57=\"\",\"\",Masterblatt!T57)","v":""},{"$f":"IF(Masterblatt!U57=\"\",\"\",Masterblatt!U57)","v":""},{"$f":"IF(Masterblatt!V57=\"\",\"\",Masterblatt!V57)","v":""},{"$f":"IF(Masterblatt!W57=\"\",\"\",Masterblatt!W57)","v":""},{"$f":"IF(Masterblatt!X57=\"\",\"\",Masterblatt!X57)","v":""},{"$f":"IF(Masterblatt!Y57=\"\",\"\",Masterblatt!Y57)","v":""},{"$f":"IF(Masterblatt!Z57=\"\",\"\",Masterblatt!Z57)","v":""},{"$f":"IF(Masterblatt!AA57=\"\",\"\",Masterblatt!AA57)","v":""},{"$f":"IF(Masterblatt!AB57=\"\",\"\",Masterblatt!AB57)","v":2}]
[null,{"$f":"IF(Masterblatt!B58=\"\",\"\",Masterblatt!B58)","v":""},{"$f":"IF(Masterblatt!C58=\"\",\"\",Masterblatt!C58)","v":""},{"$f":"IF(Masterblatt!D58=\"\",\"\",Masterblatt!D58)","v":""},{"$f":"IF(Masterblatt!E58=\"\",\"\",Masterblatt!E58)","v":""},{"$f":"IF(Masterblatt!F58=\"\",\"\",Masterblatt!F58)","v":""},{"$f":"IF(Masterblatt!G58=\"\",\"\",Masterblatt!G58)","v":""},{"$f":"IF(Masterblatt!H58=\"\",\"\",Masterblatt!H58)","v":""},{"$f":"IF(Masterblatt!I58=\"\",\"\",Masterblatt!I58)","v":""},{"$f":"IF(Masterblatt!J58=\"\",\"\",Masterblatt!J58)","v":""},{"$f":"IF(Masterblatt!K58=\"\",\"\",Masterblatt!K58)","v":""},{"$f":"IF(Masterblatt!L58=\"\",\"\",Masterblatt!L58)","v":""},{"$f":"IF(Masterblatt!M58=\"\",\"\",Masterblatt!M58)","v":""},{"$f":"IF(Masterblatt!N58=\"\",\"\",Masterblatt!N58)","v":""},{"$f":"IF(Masterblatt!O58=\"\",\"\",Masterblatt!O58)","v":""},{"$f":"IF(Masterblatt!P58=\"\",\"\",Masterblatt!P58)","v":""},{"$f":"IF(Masterblatt!Q58=\"\",\"\",Masterblatt!Q58)","v":""},{"$f":"IF(Masterblatt!R58=\"\",\"\",Masterblatt!R58)","v":""},{"$f":"IF(Masterblatt!S58=\"\",\"\",Masterblatt!S58)","v":""},{"$f":"IF(Masterblatt!T58=\"\",\"\",Masterblatt!T58)","v":""},{"$f":"IF(Masterblatt!U58=\"\",\"\",Masterblatt!U58)","v":""},{"$f":"IF(Masterblatt!V58=\"\",\"\",Masterblatt!V58)","v":""},{"$f":"IF(Masterblatt!W58=\"\",\"\",Masterblatt!W58)","v":""},{"$f":"IF(Masterblatt!X58=\"\",\"\",Masterblatt!X58)","v":""},{"$f":"IF(Masterblatt!Y58=\"\",\"\",Masterblatt!Y58)","v":""},{"$f":"IF(Masterblatt!Z58=\"\",\"\",Masterblatt!Z58)","v":""},{"$f":"IF(Masterblatt!AA58=\"\",\"\",Masterblatt!AA58)","v":""},{"$f":"IF(Masterblatt!AB58=\"\",\"\",Masterblatt!AB58)","v":2}]
[null,{"$f":"IF(Masterblatt!B59=\"\",\"\",Masterblatt!B59)","v":""},{"$f":"IF(Masterblatt!C59=\"\",\"\",Masterblatt!C59)","v":""},{"$f":"IF(Masterblatt!D59=\"\",\"\",Masterblatt!D59)","v":""},{"$f":"IF(Masterblatt!E59=\"\",\"\",Masterblatt!E59)","v":""},{"$f":"IF(Masterblatt!F59=\"\",\"\",Masterblatt!F59)","v":""},{"$f":"IF(Masterblatt!G59=\"\",\"\",Masterblatt!G59)","v":""},{"$f":"IF(Masterblatt!H59=\"\",\"\",Masterblatt!H59)","v":""},{"$f":"IF(Masterblatt!I59=\"\",\"\",Masterblatt!I59)","v":""},{"$f":"IF(Masterblatt!J59=\"\",\"\",Masterblatt!J59)","v":""},{"$f":"IF(Masterblatt!K59=\"\",\"\",Masterblatt!K59)","v":""},{"$f":"IF(Masterblatt!L59=\"\",\"\",Masterblatt!L59)","v":""},{"$f":"IF(Masterblatt!M59=\"\",\"\",Masterblatt!M59)","v":""},{"$f":"IF(Masterblatt!N59=\"\",\"\",Masterblatt!N59)","v":""},{"$f":"IF(Masterblatt!O59=\"\",\"\",Masterblatt!O59)","v":""},{"$f":"IF(Masterblatt!P59=\"\",\"\",Masterblatt!P59)","v":""},{"$f":"IF(Masterblatt!Q59=\"\",\"\",Masterblatt!Q59)","v":""},{"$f":"IF(Masterblatt!R59=\"\",\"\",Masterblatt!R59)","v":""},{"$f":"IF(Masterblatt!S59=\"\",\"\",Masterblatt!S59)","v":""},{"$f":"IF(Masterblatt!T59=\"\",\"\",Masterblatt!T59)","v":""},{"$f":"IF(Masterblatt!U59=\"\",\"\",Masterblatt!U59)","v":""},{"$f":"IF(Masterblatt!V59=\"\",\"\",Masterblatt!V59)","v":""},{"$f":"IF(Masterblatt!W59=\"\",\"\",Masterblatt!W59)","v":""},{"$f":"IF(Masterblatt!X59=\"\",\"\",Masterblatt!X59)","v":""},{"$f":"IF(Masterblatt!Y59=\"\",\"\",Masterblatt!Y59)","v":""},{"$f":"IF(Masterblatt!Z59=\"\",\"\",Masterblatt!Z59)","v":""},{"$f":"IF(Masterblatt!AA59=\"\",\"\",Masterblatt!AA59)","v":""},{"$f":"IF(Masterblatt!AB59=\"\",\"\",Masterblatt!AB59)","v":2}]
[null,{"$f":"IF(Masterblatt!B60=\"\",\"\",Masterblatt!B60)","v":""},{"$f":"IF(Masterblatt!C60=\"\",\"\",Masterblatt!C60)","v":""},{"$f":"IF(Masterblatt!D60=\"\",\"\",Masterblatt!D60)","v":""},{"$f":"IF(Masterblatt!E60=\"\",\"\",Masterblatt!E60)","v":""},{"$f":"IF(Masterblatt!F60=\"\",\"\",Masterblatt!F60)","v":""},{"$f":"IF(Masterblatt!G60=\"\",\"\",Masterblatt!G60)","v":""},{"$f":"IF(Masterblatt!H60=\"\",\"\",Masterblatt!H60)","v":""},{"$f":"IF(Masterblatt!I60=\"\",\"\",Masterblatt!I60)","v":""},{"$f":"IF(Masterblatt!J60=\"\",\"\",Masterblatt!J60)","v":""},{"$f":"IF(Masterblatt!K60=\"\",\"\",Masterblatt!K60)","v":""},{"$f":"IF(Masterblatt!L60=\"\",\"\",Masterblatt!L60)","v":""},{"$f":"IF(Masterblatt!M60=\"\",\"\",Masterblatt!M60)","v":""},{"$f":"IF(Masterblatt!N60=\"\",\"\",Masterblatt!N60)","v":""},{"$f":"IF(Masterblatt!O60=\"\",\"\",Masterblatt!O60)","v":""},{"$f":"IF(Masterblatt!P60=\"\",\"\",Masterblatt!P60)","v":""},{"$f":"IF(Masterblatt!Q60=\"\",\"\",Masterblatt!Q60)","v":""},{"$f":"IF(Masterblatt!R60=\"\",\"\",Masterblatt!R60)","v":""},{"$f":"IF(Masterblatt!S60=\"\",\"\",Masterblatt!S60)","v":""},{"$f":"IF(Masterblatt!T60=\"\",\"\",Masterblatt!T60)","v":""},{"$f":"IF(Masterblatt!U60=\"\",\"\",Masterblatt!U60)","v":""},{"$f":"IF(Masterblatt!V60=\"\",\"\",Masterblatt!V60)","v":""},{"$f":"IF(Masterblatt!W60=\"\",\"\",Masterblatt!W60)","v":""},{"$f":"IF(Masterblatt!X60=\"\",\"\",Masterblatt!X60)","v":""},{"$f":"IF(Masterblatt!Y60=\"\",\"\",Masterblatt!Y60)","v":""},{"$f":"IF(Masterblatt!Z60=\"\",\"\",Masterblatt!Z60)","v":""},{"$f":"IF(Masterblatt!AA60=\"\",\"\",Masterblatt!AA60)","v":""},{"$f":"IF(Masterblatt!AB60=\"\",\"\",Masterblatt!AB60)","v":2}]
[null,{"$f":"IF(Masterblatt!B61=\"\",\"\",Masterblatt!B61)","v":""},{"$f":"IF(Masterblatt!C61=\"\",\"\",Masterblatt!C61)","v":""},{"$f":"IF(Masterblatt!D61=\"\",\"\",Masterblatt!D61)","v":""},{"$f":"IF(Masterblatt!E61=\"\",\"\",Masterblatt!E61)","v":""},{"$f":"IF(Masterblatt!F61=\"\",\"\",Masterblatt!F61)","v":""},{"$f":"IF(Masterblatt!G61=\"\",\"\",Masterblatt!G61)","v":""},{"$f":"IF(Masterblatt!H61=\"\",\"\",Masterblatt!H61)","v":""},{"$f":"IF(Masterblatt!I61=\"\",\"\",Masterblatt!I61)","v":""},{"$f":"IF(Masterblatt!J61=\"\",\"\",Masterblatt!J61)","v":""},{"$f":"IF(Masterblatt!K61=\"\",\"\",Masterblatt!K61)","v":""},{"$f":"IF(Masterblatt!L61=\"\",\"\",Masterblatt!L61)","v":""},{"$f":"IF(Masterblatt!M61=\"\",\"\",Masterblatt!M61)","v":""},{"$f":"IF(Masterblatt!N61=\"\",\"\",Masterblatt!N61)","v":""},{"$f":"IF(Masterblatt!O61=\"\",\"\",Masterblatt!O61)","v":""},{"$f":"IF(Masterblatt!P61=\"\",\"\",Masterblatt!P61)","v":""},{"$f":"IF(Masterblatt!Q61=\"\",\"\",Masterblatt!Q61)","v":""},{"$f":"IF(Masterblatt!R61=\"\",\"\",Masterblatt!R61)","v":""},{"$f":"IF(Masterblatt!S61=\"\",\"\",Masterblatt!S61)","v":""},{"$f":"IF(Masterblatt!T61=\"\",\"\",Masterblatt!T61)","v":""},{"$f":"IF(Masterblatt!U61=\"\",\"\",Masterblatt!U61)","v":""},{"$f":"IF(Masterblatt!V61=\"\",\"\",Masterblatt!V61)","v":""},{"$f":"IF(Masterblatt!W61=\"\",\"\",Masterblatt!W61)","v":""},{"$f":"IF(Masterblatt!X61=\"\",\"\",Masterblatt!X61)","v":""},{"$f":"IF(Masterblatt!Y61=\"\",\"\",Masterblatt!Y61)","v":""},{"$f":"IF(Masterblatt!Z61=\"\",\"\",Masterblatt!Z61)","v":""},{"$f":"IF(Masterblatt!AA61=\"\",\"\",Masterblatt!AA61)","v":""},{"$f":"IF(Masterblatt!AB61=\"\",\"\",Masterblatt!AB61)","v":2}]
[null,{"$f":"IF(Masterblatt!B62=\"\",\"\",Masterblatt!B62)","v":""},{"$f":"IF(Masterblatt!C62=\"\",\"\",Masterblatt!C62)","v":""},{"$f":"IF(Masterblatt!D62=\"\",\"\",Masterblatt!D62)","v":""},{"$f":"IF(Masterblatt!E62=\"\",\"\",Masterblatt!E62)","v":""},{"$f":"IF(Masterblatt!F62=\"\",\"\",Masterblatt!F62)","v":""},{"$f":"IF(Masterblatt!G62=\"\",\"\",Masterblatt!G62)","v":""},{"$f":"IF(Masterblatt!H62=\"\",\"\",Masterblatt!H62)","v":""},{"$f":"IF(Masterblatt!I62=\"\",\"\",Masterblatt!I62)","v":""},{"$f":"IF(Masterblatt!J62=\"\",\"\",Masterblatt!J62)","v":""},{"$f":"IF(Masterblatt!K62=\"\",\"\",Masterblatt!K62)","v":""},{"$f":"IF(Masterblatt!L62=\"\",\"\",Masterblatt!L62)","v":""},{"$f":"IF(Masterblatt!M62=\"\",\"\",Masterblatt!M62)","v":""},{"$f":"IF(Masterblatt!N62=\"\",\"\",Masterblatt!N62)","v":""},{"$f":"IF(Masterblatt!O62=\"\",\"\",Masterblatt!O62)","v":""},{"$f":"IF(Masterblatt!P62=\"\",\"\",Masterblatt!P62)","v":""},{"$f":"IF(Masterblatt!Q62=\"\",\"\",Masterblatt!Q62)","v":""},{"$f":"IF(Masterblatt!R62=\"\",\"\",Masterblatt!R62)","v":""},{"$f":"IF(Masterblatt!S62=\"\",\"\",Masterblatt!S62)","v":""},{"$f":"IF(Masterblatt!T62=\"\",\"\",Masterblatt!T62)","v":""},{"$f":"IF(Masterblatt!U62=\"\",\"\",Masterblatt!U62)","v":""},{"$f":"IF(Masterblatt!V62=\"\",\"\",Masterblatt!V62)","v":""},{"$f":"IF(Masterblatt!W62=\"\",\"\",Masterblatt!W62)","v":""},{"$f":"IF(Masterblatt!X62=\"\",\"\",Masterblatt!X62)","v":""},{"$f":"IF(Masterblatt!Y62=\"\",\"\",Masterblatt!Y62)","v":""},{"$f":"IF(Masterblatt!Z62=\"\",\"\",Masterblatt!Z62)","v":""},{"$f":"IF(Masterblatt!AA62=\"\",\"\",Masterblatt!AA62)","v":""},{"$f":"IF(Masterblatt!AB62=\"\",\"\",Masterblatt!AB62)","v":2}]
[null,{"$f":"IF(Masterblatt!B63=\"\",\"\",Masterblatt!B63)","v":""},{"$f":"IF(Masterblatt!C63=\"\",\"\",Masterblatt!C63)","v":""},{"$f":"IF(Masterblatt!D63=\"\",\"\",Masterblatt!D63)","v":""},{"$f":"IF(Masterblatt!E63=\"\",\"\",Masterblatt!E63)","v":""},{"$f":"IF(Masterblatt!F63=\"\",\"\",Masterblatt!F63)","v":""},{"$f":"IF(Masterblatt!G63=\"\",\"\",Masterblatt!G63)","v":""},{"$f":"IF(Masterblatt!H63=\"\",\"\",Masterblatt!H63)","v":""},{"$f":"IF(Masterblatt!I63=\"\",\"\",Masterblatt!I63)","v":""},{"$f":"IF(Masterblatt!J63=\"\",\"\",Masterblatt!J63)","v":""},{"$f":"IF(Masterblatt!K63=\"\",\"\",Masterblatt!K63)","v":""},{"$f":"IF(Masterblatt!L63=\"\",\"\",Masterblatt!L63)","v":""},{"$f":"IF(Masterblatt!M63=\"\",\"\",Masterblatt!M63)","v":""},{"$f":"IF(Masterblatt!N63=\"\",\"\",Masterblatt!N63)","v":""},{"$f":"IF(Masterblatt!O63=\"\",\"\",Masterblatt!O63)","v":""},{"$f":"IF(Masterblatt!P63=\"\",\"\",Masterblatt!P63)","v":""},{"$f":"IF(Masterblatt!Q63=\"\",\"\",Masterblatt!Q63)","v":""},{"$f":"IF(Masterblatt!R63=\"\",\"\",Masterblatt!R63)","v":""},{"$f":"IF(Masterblatt!S63=\"\",\"\",Masterblatt!S63)","v":""},{"$f":"IF(Masterblatt!T63=\"\",\"\",Masterblatt!T63)","v":""},{"$f":"IF(Masterblatt!U63=\"\",\"\",Masterblatt!U63)","v":""},{"$f":"IF(Masterblatt!V63=\"\",\"\",Masterblatt!V63)","v":""},{"$f":"IF(Masterblatt!W63=\"\",\"\",Masterblatt!W63)","v":""},{"$f":"IF(Masterblatt!X63=\"\",\"\",Masterblatt!X63)","v":""},{"$f":"IF(Masterblatt!Y63=\"\",\"\",Masterblatt!Y63)","v":""},{"$f":"IF(Masterblatt!Z63=\"\",\"\",Masterblatt!Z63)","v":""},{"$f":"IF(Masterblatt!AA63=\"\",\"\",Masterblatt!AA63)","v":""},{"$f":"IF(Masterblatt!AB63=\"\",\"\",Masterblatt!AB63)","v":2}]
[null,{"$f":"IF(Masterblatt!B64=\"\",\"\",Masterblatt!B64)","v":""},{"$f":"IF(Masterblatt!C64=\"\",\"\",Masterblatt!C64)","v":""},{"$f":"IF(Masterblatt!D64=\"\",\"\",Masterblatt!D64)","v":""},{"$f":"IF(Masterblatt!E64=\"\",\"\",Masterblatt!E64)","v":""},{"$f":"IF(Masterblatt!F64=\"\",\"\",Masterblatt!F64)","v":""},{"$f":"IF(Masterblatt!G64=\"\",\"\",Masterblatt!G64)","v":""},{"$f":"IF(Masterblatt!H64=\"\",\"\",Masterblatt!H64)","v":""},{"$f":"IF(Masterblatt!I64=\"\",\"\",Masterblatt!I64)","v":""},{"$f":"IF(Masterblatt!J64=\"\",\"\",Masterblatt!J64)","v":""},{"$f":"IF(Masterblatt!K64=\"\",\"\",Masterblatt!K64)","v":""},{"$f":"IF(Masterblatt!L64=\"\",\"\",Masterblatt!L64)","v":""},{"$f":"IF(Masterblatt!M64=\"\",\"\",Masterblatt!M64)","v":""},{"$f":"IF(Masterblatt!N64=\"\",\"\",Masterblatt!N64)","v":""},{"$f":"IF(Masterblatt!O64=\"\",\"\",Masterblatt!O64)","v":""},{"$f":"IF(Masterblatt!P64=\"\",\"\",Masterblatt!P64)","v":""},{"$f":"IF(Masterblatt!Q64=\"\",\"\",Masterblatt!Q64)","v":""},{"$f":"IF(Masterblatt!R64=\"\",\"\",Masterblatt!R64)","v":""},{"$f":"IF(Masterblatt!S64=\"\",\"\",Masterblatt!S64)","v":""},{"$f":"IF(Masterblatt!T64=\"\",\"\",Masterblatt!T64)","v":""},{"$f":"IF(Masterblatt!U64=\"\",\"\",Masterblatt!U64)","v":""},{"$f":"IF(Masterblatt!V64=\"\",\"\",Masterblatt!V64)","v":""},{"$f":"IF(Masterblatt!W64=\"\",\"\",Masterblatt!W64)","v":""},{"$f":"IF(Masterblatt!X64=\"\",\"\",Masterblatt!X64)","v":""},{"$f":"IF(Masterblatt!Y64=\"\",\"\",Masterblatt!Y64)","v":""},{"$f":"IF(Masterblatt!Z64=\"\",\"\",Masterblatt!Z64)","v":""},{"$f":"IF(Masterblatt!AA64=\"\",\"\",Masterblatt!AA64)","v":""},{"$f":"IF(Masterblatt!AB64=\"\",\"\",Masterblatt!AB64)","v":2}]
[null,{"$f":"IF(Masterblatt!B65=\"\",\"\",Masterblatt!B65)","v":""},{"$f":"IF(Masterblatt!C65=\"\",\"\",Masterblatt!C65)","v":""},{"$f":"IF(Masterblatt!D65=\"\",\"\",Masterblatt!D65)","v":""},{"$f":"IF(Masterblatt!E65=\"\",\"\",Masterblatt!E65)","v":""},{"$f":"IF(Masterblatt!F65=\"\",\"\",Masterblatt!F65)","v":""},{"$f":"IF(Masterblatt!G65=\"\",\"\",Masterblatt!G65)","v":""},{"$f":"IF(Masterblatt!H65=\"\",\"\",Masterblatt!H65)","v":""},{"$f":"IF(Masterblatt!I65=\"\",\"\",Masterblatt!I65)","v":""},{"$f":"IF(Masterblatt!J65=\"\",\"\",Masterblatt!J65)","v":""},{"$f":"IF(Masterblatt!K65=\"\",\"\",Masterblatt!K65)","v":""},{"$f":"IF(Masterblatt!L65=\"\",\"\",Masterblatt!L65)","v":""},{"$f":"IF(Masterblatt!M65=\"\",\"\",Masterblatt!M65)","v":""},{"$f":"IF(Masterblatt!N65=\"\",\"\",Masterblatt!N65)","v":""},{"$f":"IF(Masterblatt!O65=\"\",\"\",Masterblatt!O65)","v":""},{"$f":"IF(Masterblatt!P65=\"\",\"\",Masterblatt!P65)","v":""},{"$f":"IF(Masterblatt!Q65=\"\",\"\",Masterblatt!Q65)","v":""},{"$f":"IF(Masterblatt!R65=\"\",\"\",Masterblatt!R65)","v":""},{"$f":"IF(Masterblatt!S65=\"\",\"\",Masterblatt!S65)","v":""},{"$f":"IF(Masterblatt!T65=\"\",\"\",Masterblatt!T65)","v":""},{"$f":"IF(Masterblatt!U65=\"\",\"\",Masterblatt!U65)","v":""},{"$f":"IF(Masterblatt!V65=\"\",\"\",Masterblatt!V65)","v":""},{"$f":"IF(Masterblatt!W65=\"\",\"\",Masterblatt!W65)","v":""},{"$f":"IF(Masterblatt!X65=\"\",\"\",Masterblatt!X65)","v":""},{"$f":"IF(Masterblatt!Y65=\"\",\"\",Masterblatt!Y65)","v":""},{"$f":"IF(Masterblatt!Z65=\"\",\"\",Masterblatt!Z65)","v":""},{"$f":"IF(Masterblatt!AA65=\"\",\"\",Masterblatt!AA65)","v":""},{"$f":"IF(Masterblatt!AB65=\"\",\"\",Masterblatt!AB65)","v":2}]
[null,{"$f":"IF(Masterblatt!B66=\"\",\"\",Masterblatt!B66)","v":""},{"$f":"IF(Masterblatt!C66=\"\",\"\",Masterblatt!C66)","v":""},{"$f":"IF(Masterblatt!D66=\"\",\"\",Masterblatt!D66)","v":""},{"$f":"IF(Masterblatt!E66=\"\",\"\",Masterblatt!E66)","v":""},{"$f":"IF(Masterblatt!F66=\"\",\"\",Masterblatt!F66)","v":""},{"$f":"IF(Masterblatt!G66=\"\",\"\",Masterblatt!G66)","v":""},{"$f":"IF(Masterblatt!H66=\"\",\"\",Masterblatt!H66)","v":""},{"$f":"IF(Masterblatt!I66=\"\",\"\",Masterblatt!I66)","v":""},{"$f":"IF(Masterblatt!J66=\"\",\"\",Masterblatt!J66)","v":""},{"$f":"IF(Masterblatt!K66=\"\",\"\",Masterblatt!K66)","v":""},{"$f":"IF(Masterblatt!L66=\"\",\"\",Masterblatt!L66)","v":""},{"$f":"IF(Masterblatt!M66=\"\",\"\",Masterblatt!M66)","v":""},{"$f":"IF(Masterblatt!N66=\"\",\"\",Masterblatt!N66)","v":""},{"$f":"IF(Masterblatt!O66=\"\",\"\",Masterblatt!O66)","v":""},{"$f":"IF(Masterblatt!P66=\"\",\"\",Masterblatt!P66)","v":""},{"$f":"IF(Masterblatt!Q66=\"\",\"\",Masterblatt!Q66)","v":""},{"$f":"IF(Masterblatt!R66=\"\",\"\",Masterblatt!R66)","v":""},{"$f":"IF(Masterblatt!S66=\"\",\"\",Masterblatt!S66)","v":""},{"$f":"IF(Masterblatt!T66=\"\",\"\",Masterblatt!T66)","v":""},{"$f":"IF(Masterblatt!U66=\"\",\"\",Masterblatt!U66)","v":""},{"$f":"IF(Masterblatt!V66=\"\",\"\",Masterblatt!V66)","v":""},{"$f":"IF(Masterblatt!W66=\"\",\"\",Masterblatt!W66)","v":""},{"$f":"IF(Masterblatt!X66=\"\",\"\",Masterblatt!X66)","v":""},{"$f":"IF(Masterblatt!Y66=\"\",\"\",Masterblatt!Y66)","v":""},{"$f":"IF(Masterblatt!Z66=\"\",\"\",Masterblatt!Z66)","v":""},{"$f":"IF(Masterblatt!AA66=\"\",\"\",Masterblatt!AA66)","v":""},{"$f":"IF(Masterblatt!AB66=\"\",\"\",Masterblatt!AB66)","v":2}]
[null,{"$f":"IF(Masterblatt!B67=\"\",\"\",Masterblatt!B67)","v":""},{"$f":"IF(Masterblatt!C67=\"\",\"\",Masterblatt!C67)","v":""},{"$f":"IF(Masterblatt!D67=\"\",\"\",Masterblatt!D67)","v":""},{"$f":"IF(Masterblatt!E67=\"\",\"\",Masterblatt!E67)","v":""},{"$f":"IF(Masterblatt!F67=\"\",\"\",Masterblatt!F67)","v":""},{"$f":"IF(Masterblatt!G67=\"\",\"\",Masterblatt!G67)","v":""},{"$f":"IF(Masterblatt!H67=\"\",\"\",Masterblatt!H67)","v":""},{"$f":"IF(Masterblatt!I67=\"\",\"\",Masterblatt!I67)","v":""},{"$f":"IF(Masterblatt!J67=\"\",\"\",Masterblatt!J67)","v":""},{"$f":"IF(Masterblatt!K67=\"\",\"\",Masterblatt!K67)","v":""},{"$f":"IF(Masterblatt!L67=\"\",\"\",Masterblatt!L67)","v":""},{"$f":"IF(Masterblatt!M67=\"\",\"\",Masterblatt!M67)","v":""},{"$f":"IF(Masterblatt!N67=\"\",\"\",Masterblatt!N67)","v":""},{"$f":"IF(Masterblatt!O67=\"\",\"\",Masterblatt!O67)","v":""},{"$f":"IF(Masterblatt!P67=\"\",\"\",Masterblatt!P67)","v":""},{"$f":"IF(Masterblatt!Q67=\"\",\"\",Masterblatt!Q67)","v":""},{"$f":"IF(Masterblatt!R67=\"\",\"\",Masterblatt!R67)","v":""},{"$f":"IF(Masterblatt!S67=\"\",\"\",Masterblatt!S67)","v":""},{"$f":"IF(Masterblatt!T67=\"\",\"\",Masterblatt!T67)","v":""},{"$f":"IF(Masterblatt!U67=\"\",\"\",Masterblatt!U67)","v":""},{"$f":"IF(Masterblatt!V67=\"\",\"\",Masterblatt!V67)","v":""},{"$f":"IF(Masterblatt!W67=\"\",\"\",Masterblatt!W67)","v":""},{"$f":"IF(Masterblatt!X67=\"\",\"\",Masterblatt!X67)","v":""},{"$f":"IF(Masterblatt!Y67=\"\",\"\",Masterblatt!Y67)","v":""},{"$f":"IF(Masterblatt!Z67=\"\",\"\",Masterblatt!Z67)","v":""},{"$f":"IF(Masterblatt!AA67=\"\",\"\",Masterblatt!AA67)","v":""},{"$f":"IF(Masterblatt!AB67=\"\",\"\",Masterblatt!AB67)","v":2}]
[null,{"$f":"IF(Masterblatt!B68=\"\",\"\",Masterblatt!B68)","v":""},{"$f":"IF(Masterblatt!C68=\"\",\"\",Masterblatt!C68)","v":""},{"$f":"IF(Masterblatt!D68=\"\",\"\",Masterblatt!D68)","v":""},{"$f":"IF(Masterblatt!E68=\"\",\"\",Masterblatt!E68)","v":""},{"$f":"IF(Masterblatt!F68=\"\",\"\",Masterblatt!F68)","v":""},{"$f":"IF(Masterblatt!G68=\"\",\"\",Masterblatt!G68)","v":""},{"$f":"IF(Masterblatt!H68=\"\",\"\",Masterblatt!H68)","v":""},{"$f":"IF(Masterblatt!I68=\"\",\"\",Masterblatt!I68)","v":""},{"$f":"IF(Masterblatt!J68=\"\",\"\",Masterblatt!J68)","v":""},{"$f":"IF(Masterblatt!K68=\"\",\"\",Masterblatt!K68)","v":""},{"$f":"IF(Masterblatt!L68=\"\",\"\",Masterblatt!L68)","v":""},{"$f":"IF(Masterblatt!M68=\"\",\"\",Masterblatt!M68)","v":""},{"$f":"IF(Masterblatt!N68=\"\",\"\",Masterblatt!N68)","v":""},{"$f":"IF(Masterblatt!O68=\"\",\"\",Masterblatt!O68)","v":""},{"$f":"IF(Masterblatt!P68=\"\",\"\",Masterblatt!P68)","v":""},{"$f":"IF(Masterblatt!Q68=\"\",\"\",Masterblatt!Q68)","v":""},{"$f":"IF(Masterblatt!R68=\"\",\"\",Masterblatt!R68)","v":""},{"$f":"IF(Masterblatt!S68=\"\",\"\",Masterblatt!S68)","v":""},{"$f":"IF(Masterblatt!T68=\"\",\"\",Masterblatt!T68)","v":""},{"$f":"IF(Masterblatt!U68=\"\",\"\",Masterblatt!U68)","v":""},{"$f":"IF(Masterblatt!V68=\"\",\"\",Masterblatt!V68)","v":""},{"$f":"IF(Masterblatt!W68=\"\",\"\",Masterblatt!W68)","v":""},{"$f":"IF(Masterblatt!X68=\"\",\"\",Masterblatt!X68)","v":""},{"$f":"IF(Masterblatt!Y68=\"\",\"\",Masterblatt!Y68)","v":""},{"$f":"IF(Masterblatt!Z68=\"\",\"\",Masterblatt!Z68)","v":""},{"$f":"IF(Masterblatt!AA68=\"\",\"\",Masterblatt!AA68)","v":""},{"$f":"IF(Masterblatt!AB68=\"\",\"\",Masterblatt!AB68)","v":2}]
[null,{"$f":"IF(Masterblatt!B69=\"\",\"\",Masterblatt!B69)","v":""},{"$f":"IF(Masterblatt!C69=\"\",\"\",Masterblatt!C69)","v":""},{"$f":"IF(Masterblatt!D69=\"\",\"\",Masterblatt!D69)","v":""},{"$f":"IF(Masterblatt!E69=\"\",\"\",Masterblatt!E69)","v":""},{"$f":"IF(Masterblatt!F69=\"\",\"\",Masterblatt!F69)","v":""},{"$f":"IF(Masterblatt!G69=\"\",\"\",Masterblatt!G69)","v":""},{"$f":"IF(Masterblatt!H69=\"\",\"\",Masterblatt!H69)","v":""},{"$f":"IF(Masterblatt!I69=\"\",\"\",Masterblatt!I69)","v":""},{"$f":"IF(Masterblatt!J69=\"\",\"\",Masterblatt!J69)","v":""},{"$f":"IF(Masterblatt!K69=\"\",\"\",Masterblatt!K69)","v":""},{"$f":"IF(Masterblatt!L69=\"\",\"\",Masterblatt!L69)","v":""},{"$f":"IF(Masterblatt!M69=\"\",\"\",Masterblatt!M69)","v":""},{"$f":"IF(Masterblatt!N69=\"\",\"\",Masterblatt!N69)","v":""},{"$f":"IF(Masterblatt!O69=\"\",\"\",Masterblatt!O69)","v":""},{"$f":"IF(Masterblatt!P69=\"\",\"\",Masterblatt!P69)","v":""},{"$f":"IF(Masterblatt!Q69=\"\",\"\",Masterblatt!Q69)","v":""},{"$f":"IF(Masterblatt!R69=\"\",\"\",Masterblatt!R69)","v":""},{"$f":"IF(Masterblatt!S69=\"\",\"\",Masterblatt!S69)","v":""},{"$f":"IF(Masterblatt!T69=\"\",\"\",Masterblatt!T69)","v":""},{"$f":"IF(Masterblatt!U69=\"\",\"\",Masterblatt!U69)","v":""},{"$f":"IF(Masterblatt!V69=\"\",\"\",Masterblatt!V69)","v":""},{"$f":"IF(Masterblatt!W69=\"\",\"\",Masterblatt!W69)","v":""},{"$f":"IF(Masterblatt!X69=\"\",\"\",Masterblatt!X69)","v":""},{"$f":"IF(Masterblatt!Y69=\"\",\"\",Masterblatt!Y69)","v":""},{"$f":"IF(Masterblatt!Z69=\"\",\"\",Masterblatt!Z69)","v":""},{"$f":"IF(Masterblatt!AA69=\"\",\"\",Masterblatt!AA69)","v":""},{"$f":"IF(Masterblatt!AB69=\"\",\"\",Masterblatt!AB69)","v":2}]
[null,{"$f":"IF(Masterblatt!B70=\"\",\"\",Masterblatt!B70)","v":""},{"$f":"IF(Masterblatt!C70=\"\",\"\",Masterblatt!C70)","v":""},{"$f":"IF(Masterblatt!D70=\"\",\"\",Masterblatt!D70)","v":""},{"$f":"IF(Masterblatt!E70=\"\",\"\",Masterblatt!E70)","v":""},{"$f":"IF(Masterblatt!F70=\"\",\"\",Masterblatt!F70)","v":""},{"$f":"IF(Masterblatt!G70=\"\",\"\",Masterblatt!G70)","v":""},{"$f":"IF(Masterblatt!H70=\"\",\"\",Masterblatt!H70)","v":""},{"$f":"IF(Masterblatt!I70=\"\",\"\",Masterblatt!I70)","v":""},{"$f":"IF(Masterblatt!J70=\"\",\"\",Masterblatt!J70)","v":""},{"$f":"IF(Masterblatt!K70=\"\",\"\",Masterblatt!K70)","v":""},{"$f":"IF(Masterblatt!L70=\"\",\"\",Masterblatt!L70)","v":""},{"$f":"IF(Masterblatt!M70=\"\",\"\",Masterblatt!M70)","v":""},{"$f":"IF(Masterblatt!N70=\"\",\"\",Masterblatt!N70)","v":""},{"$f":"IF(Masterblatt!O70=\"\",\"\",Masterblatt!O70)","v":""},{"$f":"IF(Masterblatt!P70=\"\",\"\",Masterblatt!P70)","v":""},{"$f":"IF(Masterblatt!Q70=\"\",\"\",Masterblatt!Q70)","v":""},{"$f":"IF(Masterblatt!R70=\"\",\"\",Masterblatt!R70)","v":""},{"$f":"IF(Masterblatt!S70=\"\",\"\",Masterblatt!S70)","v":""},{"$f":"IF(Masterblatt!T70=\"\",\"\",Masterblatt!T70)","v":""},{"$f":"IF(Masterblatt!U70=\"\",\"\",Masterblatt!U70)","v":""},{"$f":"IF(Masterblatt!V70=\"\",\"\",Masterblatt!V70)","v":""},{"$f":"IF(Masterblatt!W70=\"\",\"\",Masterblatt!W70)","v":""},{"$f":"IF(Masterblatt!X70=\"\",\"\",Masterblatt!X70)","v":""},{"$f":"IF(Masterblatt!Y70=\"\",\"\",Masterblatt!Y70)","v":""},{"$f":"IF(Masterblatt!Z70=\"\",\"\",Masterblatt!Z70)","v":""},{"$f":"IF(Masterblatt!AA70=\"\",\"\",Masterblatt!AA70)","v":""},{"$f":"IF(Masterblatt!AB70=\"\",\"\",Masterblatt!AB70)","v":2}]
[null,{"$f":"IF(Masterblatt!B71=\"\",\"\",Masterblatt!B71)","v":""},{"$f":"IF(Masterblatt!C71=\"\",\"\",Masterblatt!C71)","v":""},{"$f":"IF(Masterblatt!D71=\"\",\"\",Masterblatt!D71)","v":""},{"$f":"IF(Masterblatt!E71=\"\",\"\",Masterblatt!E71)","v":""},{"$f":"IF(Masterblatt!F71=\"\",\"\",Masterblatt!F71)","v":""},{"$f":"IF(Masterblatt!G71=\"\",\"\",Masterblatt!G71)","v":""},{"$f":"IF(Masterblatt!H71=\"\",\"\",Masterblatt!H71)","v":""},{"$f":"IF(Masterblatt!I71=\"\",\"\",Masterblatt!I71)","v":""},{"$f":"IF(Masterblatt!J71=\"\",\"\",Masterblatt!J71)","v":""},{"$f":"IF(Masterblatt!K71=\"\",\"\",Masterblatt!K71)","v":""},{"$f":"IF(Masterblatt!L71=\"\",\"\",Masterblatt!L71)","v":""},{"$f":"IF(Masterblatt!M71=\"\",\"\",Masterblatt!M71)","v":""},{"$f":"IF(Masterblatt!N71=\"\",\"\",Masterblatt!N71)","v":""},{"$f":"IF(Masterblatt!O71=\"\",\"\",Masterblatt!O71)","v":""},{"$f":"IF(Masterblatt!P71=\"\",\"\",Masterblatt!P71)","v":""},{"$f":"IF(Masterblatt!Q71=\"\",\"\",Masterblatt!Q71)","v":""},{"$f":"IF(Masterblatt!R71=\"\",\"\",Masterblatt!R71)","v":""},{"$f":"IF(Masterblatt!S71=\"\",\"\",Masterblatt!S71)","v":""},{"$f":"IF(Masterblatt!T71=\"\",\"\",Masterblatt!T71)","v":""},{"$f":"IF(Masterblatt!U71=\"\",\"\",Masterblatt!U71)","v":""},{"$f":"IF(Masterblatt!V71=\"\",\"\",Masterblatt!V71)","v":""},{"$f":"IF(Masterblatt!W71=\"\",\"\",Masterblatt!W71)","v":""},{"$f":"IF(Masterblatt!X71=\"\",\"\",Masterblatt!X71)","v":""},{"$f":"IF(Masterblatt!Y71=\"\",\"\",Masterblatt!Y71)","v":""},{"$f":"IF(Masterblatt!Z71=\"\",\"\",Masterblatt!Z71)","v":""},{"$f":"IF(Masterblatt!AA71=\"\",\"\",Masterblatt!AA71)","v":""},{"$f":"IF(Masterblatt!AB71=\"\",\"\",Masterblatt!AB71)","v":2}]
[null,{"$f":"IF(Masterblatt!B72=\"\",\"\",Masterblatt!B72)","v":""},{"$f":"IF(Masterblatt!C72=\"\",\"\",Masterblatt!C72)","v":""},{"$f":"IF(Masterblatt!D72=\"\",\"\",Masterblatt!D72)","v":""},{"$f":"IF(Masterblatt!E72=\"\",\"\",Masterblatt!E72)","v":""},{"$f":"IF(Masterblatt!F72=\"\",\"\",Masterblatt!F72)","v":""},{"$f":"IF(Masterblatt!G72=\"\",\"\",Masterblatt!G72)","v":""},{"$f":"IF(Masterblatt!H72=\"\",\"\",Masterblatt!H72)","v":""},{"$f":"IF(Masterblatt!I72=\"\",\"\",Masterblatt!I72)","v":""},{"$f":"IF(Masterblatt!J72=\"\",\"\",Masterblatt!J72)","v":""},{"$f":"IF(Masterblatt!K72=\"\",\"\",Masterblatt!K72)","v":""},{"$f":"IF(Masterblatt!L72=\"\",\"\",Masterblatt!L72)","v":""},{"$f":"IF(Masterblatt!M72=\"\",\"\",Masterblatt!M72)","v":""},{"$f":"IF(Masterblatt!N72=\"\",\"\",Masterblatt!N72)","v":""},{"$f":"IF(Masterblatt!O72=\"\",\"\",Masterblatt!O72)","v":""},{"$f":"IF(Masterblatt!P72=\"\",\"\",Masterblatt!P72)","v":""},{"$f":"IF(Masterblatt!Q72=\"\",\"\",Masterblatt!Q72)","v":""},{"$f":"IF(Masterblatt!R72=\"\",\"\",Masterblatt!R72)","v":""},{"$f":"IF(Masterblatt!S72=\"\",\"\",Masterblatt!S72)","v":""},{"$f":"IF(Masterblatt!T72=\"\",\"\",Masterblatt!T72)","v":""},{"$f":"IF(Masterblatt!U72=\"\",\"\",Masterblatt!U72)","v":""},{"$f":"IF(Masterblatt!V72=\"\",\"\",Masterblatt!V72)","v":""},{"$f":"IF(Masterblatt!W72=\"\",\"\",Masterblatt!W72)","v":""},{"$f":"IF(Masterblatt!X72=\"\",\"\",Masterblatt!X72)","v":""},{"$f":"IF(Masterblatt!Y72=\"\",\"\",Masterblatt!Y72)","v":""},{"$f":"IF(Masterblatt!Z72=\"\",\"\",Masterblatt!Z72)","v":""},{"$f":"IF(Masterblatt!AA72=\"\",\"\",Masterblatt!AA72)","v":""},{"$f":"IF(Masterblatt!AB72=\"\",\"\",Masterblatt!AB72)","v":2}]
[null,{"$f":"IF(Masterblatt!B73=\"\",\"\",Masterblatt!B73)","v":""},{"$f":"IF(Masterblatt!C73=\"\",\"\",Masterblatt!C73)","v":""},{"$f":"IF(Masterblatt!D73=\"\",\"\",Masterblatt!D73)","v":""},{"$f":"IF(Masterblatt!E73=\"\",\"\",Masterblatt!E73)","v":""},{"$f":"IF(Masterblatt!F73=\"\",\"\",Masterblatt!F73)","v":""},{"$f":"IF(Masterblatt!G73=\"\",\"\",Masterblatt!G73)","v":""},{"$f":"IF(Masterblatt!H73=\"\",\"\",Masterblatt!H73)","v":""},{"$f":"IF(Masterblatt!I73=\"\",\"\",Masterblatt!I73)","v":""},{"$f":"IF(Masterblatt!J73=\"\",\"\",Masterblatt!J73)","v":""},{"$f":"IF(Masterblatt!K73=\"\",\"\",Masterblatt!K73)","v":""},{"$f":"IF(Masterblatt!L73=\"\",\"\",Masterblatt!L73)","v":""},{"$f":"IF(Masterblatt!M73=\"\",\"\",Masterblatt!M73)","v":""},{"$f":"IF(Masterblatt!N73=\"\",\"\",Masterblatt!N73)","v":""},{"$f":"IF(Masterblatt!O73=\"\",\"\",Masterblatt!O73)","v":""},{"$f":"IF(Masterblatt!P73=\"\",\"\",Masterblatt!P73)","v":""},{"$f":"IF(Masterblatt!Q73=\"\",\"\",Masterblatt!Q73)","v":""},{"$f":"IF(Masterblatt!R73=\"\",\"\",Masterblatt!R73)","v":""},{"$f":"IF(Masterblatt!S73=\"\",\"\",Masterblatt!S73)","v":""},{"$f":"IF(Masterblatt!T73=\"\",\"\",Masterblatt!T73)","v":""},{"$f":"IF(Masterblatt!U73=\"\",\"\",Masterblatt!U73)","v":""},{"$f":"IF(Masterblatt!V73=\"\",\"\",Masterblatt!V73)","v":""},{"$f":"IF(Masterblatt!W73=\"\",\"\",Masterblatt!W73)","v":""},{"$f":"IF(Masterblatt!X73=\"\",\"\",Masterblatt!X73)","v":""},{"$f":"IF(Masterblatt!Y73=\"\",\"\",Masterblatt!Y73)","v":""},{"$f":"IF(Masterblatt!Z73=\"\",\"\",Masterblatt!Z73)","v":""},{"$f":"IF(Masterblatt!AA73=\"\",\"\",Masterblatt!AA73)","v":""},{"$f":"IF(Masterblatt!AB73=\"\",\"\",Masterblatt!AB73)","v":2}]
[null,{"$f":"IF(Masterblatt!B74=\"\",\"\",Masterblatt!B74)","v":""},{"$f":"IF(Masterblatt!C74=\"\",\"\",Masterblatt!C74)","v":""},{"$f":"IF(Masterblatt!D74=\"\",\"\",Masterblatt!D74)","v":""},{"$f":"IF(Masterblatt!E74=\"\",\"\",Masterblatt!E74)","v":""},{"$f":"IF(Masterblatt!F74=\"\",\"\",Masterblatt!F74)","v":""},{"$f":"IF(Masterblatt!G74=\"\",\"\",Masterblatt!G74)","v":""},{"$f":"IF(Masterblatt!H74=\"\",\"\",Masterblatt!H74)","v":""},{"$f":"IF(Masterblatt!I74=\"\",\"\",Masterblatt!I74)","v":""},{"$f":"IF(Masterblatt!J74=\"\",\"\",Masterblatt!J74)","v":""},{"$f":"IF(Masterblatt!K74=\"\",\"\",Masterblatt!K74)","v":""},{"$f":"IF(Masterblatt!L74=\"\",\"\",Masterblatt!L74)","v":""},{"$f":"IF(Masterblatt!M74=\"\",\"\",Masterblatt!M74)","v":""},{"$f":"IF(Masterblatt!N74=\"\",\"\",Masterblatt!N74)","v":""},{"$f":"IF(Masterblatt!O74=\"\",\"\",Masterblatt!O74)","v":""},{"$f":"IF(Masterblatt!P74=\"\",\"\",Masterblatt!P74)","v":""},{"$f":"IF(Masterblatt!Q74=\"\",\"\",Masterblatt!Q74)","v":""},{"$f":"IF(Masterblatt!R74=\"\",\"\",Masterblatt!R74)","v":""},{"$f":"IF(Masterblatt!S74=\"\",\"\",Masterblatt!S74)","v":""},{"$f":"IF(Masterblatt!T74=\"\",\"\",Masterblatt!T74)","v":""},{"$f":"IF(Masterblatt!U74=\"\",\"\",Masterblatt!U74)","v":""},{"$f":"IF(Masterblatt!V74=\"\",\"\",Masterblatt!V74)","v":""},{"$f":"IF(Masterblatt!W74=\"\",\"\",Masterblatt!W74)","v":""},{"$f":"IF(Masterblatt!X74=\"\",\"\",Masterblatt!X74)","v":""},{"$f":"IF(Masterblatt!Y74=\"\",\"\",Masterblatt!Y74)","v":""},{"$f":"IF(Masterblatt!Z74=\"\",\"\",Masterblatt!Z74)","v":""},{"$f":"IF(Masterblatt!AA74=\"\",\"\",Masterblatt!AA74)","v":""},{"$f":"IF(Masterblatt!AB74=\"\",\"\",Masterblatt!AB74)","v":2}]
[null,{"$f":"IF(Masterblatt!B75=\"\",\"\",Masterblatt!B75)","v":""},{"$f":"IF(Masterblatt!C75=\"\",\"\",Masterblatt!C75)","v":""},{"$f":"IF(Masterblatt!D75=\"\",\"\",Masterblatt!D75)","v":""},{"$f":"IF(Masterblatt!E75=\"\",\"\",Masterblatt!E75)","v":""},{"$f":"IF(Masterblatt!F75=\"\",\"\",Masterblatt!F75)","v":""},{"$f":"IF(Masterblatt!G75=\"\",\"\",Masterblatt!G75)","v":""},{"$f":"IF(Masterblatt!H75=\"\",\"\",Masterblatt!H75)","v":""},{"$f":"IF(Masterblatt!I75=\"\",\"\",Masterblatt!I75)","v":""},{"$f":"IF(Masterblatt!J75=\"\",\"\",Masterblatt!J75)","v":""},{"$f":"IF(Masterblatt!K75=\"\",\"\",Masterblatt!K75)","v":""},{"$f":"IF(Masterblatt!L75=\"\",\"\",Masterblatt!L75)","v":""},{"$f":"IF(Masterblatt!M75=\"\",\"\",Masterblatt!M75)","v":""},{"$f":"IF(Masterblatt!N75=\"\",\"\",Masterblatt!N75)","v":""},{"$f":"IF(Masterblatt!O75=\"\",\"\",Masterblatt!O75)","v":""},{"$f":"IF(Masterblatt!P75=\"\",\"\",Masterblatt!P75)","v":""},{"$f":"IF(Masterblatt!Q75=\"\",\"\",Masterblatt!Q75)","v":""},{"$f":"IF(Masterblatt!R75=\"\",\"\",Masterblatt!R75)","v":""},{"$f":"IF(Masterblatt!S75=\"\",\"\",Masterblatt!S75)","v":""},{"$f":"IF(Masterblatt!T75=\"\",\"\",Masterblatt!T75)","v":""},{"$f":"IF(Masterblatt!U75=\"\",\"\",Masterblatt!U75)","v":""},{"$f":"IF(Masterblatt!V75=\"\",\"\",Masterblatt!V75)","v":""},{"$f":"IF(Masterblatt!W75=\"\",\"\",Masterblatt!W75)","v":""},{"$f":"IF(Masterblatt!X75=\"\",\"\",Masterblatt!X75)","v":""},{"$f":"IF(Masterblatt!Y75=\"\",\"\",Masterblatt!Y75)","v":""},{"$f":"IF(Masterblatt!Z75=\"\",\"\",Masterblatt!Z75)","v":""},{"$f":"IF(Masterblatt!AA75=\"\",\"\",Masterblatt!AA75)","v":""},{"$f":"IF(Masterblatt!AB75=\"\",\"\",Masterblatt!AB75)","v":2}]
[null,{"$f":"IF(Masterblatt!B76=\"\",\"\",Masterblatt!B76)","v":""},{"$f":"IF(Masterblatt!C76=\"\",\"\",Masterblatt!C76)","v":""},{"$f":"IF(Masterblatt!D76=\"\",\"\",Masterblatt!D76)","v":""},{"$f":"IF(Masterblatt!E76=\"\",\"\",Masterblatt!E76)","v":""},{"$f":"IF(Masterblatt!F76=\"\",\"\",Masterblatt!F76)","v":""},{"$f":"IF(Masterblatt!G76=\"\",\"\",Masterblatt!G76)","v":""},{"$f":"IF(Masterblatt!H76=\"\",\"\",Masterblatt!H76)","v":""},{"$f":"IF(Masterblatt!I76=\"\",\"\",Masterblatt!I76)","v":""},{"$f":"IF(Masterblatt!J76=\"\",\"\",Masterblatt!J76)","v":""},{"$f":"IF(Masterblatt!K76=\"\",\"\",Masterblatt!K76)","v":""},{"$f":"IF(Masterblatt!L76=\"\",\"\",Masterblatt!L76)","v":""},{"$f":"IF(Masterblatt!M76=\"\",\"\",Masterblatt!M76)","v":""},{"$f":"IF(Masterblatt!N76=\"\",\"\",Masterblatt!N76)","v":""},{"$f":"IF(Masterblatt!O76=\"\",\"\",Masterblatt!O76)","v":""},{"$f":"IF(Masterblatt!P76=\"\",\"\",Masterblatt!P76)","v":""},{"$f":"IF(Masterblatt!Q76=\"\",\"\",Masterblatt!Q76)","v":""},{"$f":"IF(Masterblatt!R76=\"\",\"\",Masterblatt!R76)","v":""},{"$f":"IF(Masterblatt!S76=\"\",\"\",Masterblatt!S76)","v":""},{"$f":"IF(Masterblatt!T76=\"\",\"\",Masterblatt!T76)","v":""},{"$f":"IF(Masterblatt!U76=\"\",\"\",Masterblatt!U76)","v":""},{"$f":"IF(Masterblatt!V76=\"\",\"\",Masterblatt!V76)","v":""},{"$f":"IF(Masterblatt!W76=\"\",\"\",Masterblatt!W76)","v":""},{"$f":"IF(Masterblatt!X76=\"\",\"\",Masterblatt!X76)","v":""},{"$f":"IF(Masterblatt!Y76=\"\",\"\",Masterblatt!Y76)","v":""},{"$f":"IF(Masterblatt!Z76=\"\",\"\",Masterblatt!Z76)","v":""},{"$f":"IF(Masterblatt!AA76=\"\",\"\",Masterblatt!AA76)","v":""},{"$f":"IF(Masterblatt!AB76=\"\",\"\",Masterblatt!AB76)","v":2}]
[null,{"$f":"IF(Masterblatt!B77=\"\",\"\",Masterblatt!B77)","v":""},{"$f":"IF(Masterblatt!C77=\"\",\"\",Masterblatt!C77)","v":""},{"$f":"IF(Masterblatt!D77=\"\",\"\",Masterblatt!D77)","v":""},{"$f":"IF(Masterblatt!E77=\"\",\"\",Masterblatt!E77)","v":""},{"$f":"IF(Masterblatt!F77=\"\",\"\",Masterblatt!F77)","v":""},{"$f":"IF(Masterblatt!G77=\"\",\"\",Masterblatt!G77)","v":""},{"$f":"IF(Masterblatt!H77=\"\",\"\",Masterblatt!H77)","v":""},{"$f":"IF(Masterblatt!I77=\"\",\"\",Masterblatt!I77)","v":""},{"$f":"IF(Masterblatt!J77=\"\",\"\",Masterblatt!J77)","v":""},{"$f":"IF(Masterblatt!K77=\"\",\"\",Masterblatt!K77)","v":""},{"$f":"IF(Masterblatt!L77=\"\",\"\",Masterblatt!L77)","v":""},{"$f":"IF(Masterblatt!M77=\"\",\"\",Masterblatt!M77)","v":""},{"$f":"IF(Masterblatt!N77=\"\",\"\",Masterblatt!N77)","v":""},{"$f":"IF(Masterblatt!O77=\"\",\"\",Masterblatt!O77)","v":""},{"$f":"IF(Masterblatt!P77=\"\",\"\",Masterblatt!P77)","v":""},{"$f":"IF(Masterblatt!Q77=\"\",\"\",Masterblatt!Q77)","v":""},{"$f":"IF(Masterblatt!R77=\"\",\"\",Masterblatt!R77)","v":""},{"$f":"IF(Masterblatt!S77=\"\",\"\",Masterblatt!S77)","v":""},{"$f":"IF(Masterblatt!T77=\"\",\"\",Masterblatt!T77)","v":""},{"$f":"IF(Masterblatt!U77=\"\",\"\",Masterblatt!U77)","v":""},{"$f":"IF(Masterblatt!V77=\"\",\"\",Masterblatt!V77)","v":""},{"$f":"IF(Masterblatt!W77=\"\",\"\",Masterblatt!W77)","v":""},{"$f":"IF(Masterblatt!X77=\"\",\"\",Masterblatt!X77)","v":""},{"$f":"IF(Masterblatt!Y77=\"\",\"\",Masterblatt!Y77)","v":""},{"$f":"IF(Masterblatt!Z77=\"\",\"\",Masterblatt!Z77)","v":""},{"$f":"IF(Masterblatt!AA77=\"\",\"\",Masterblatt!AA77)","v":""},{"$f":"IF(Masterblatt!AB77=\"\",\"\",Masterblatt!AB77)","v":2}]
[null,{"$f":"IF(Masterblatt!B78=\"\",\"\",Masterblatt!B78)","v":""},{"$f":"IF(Masterblatt!C78=\"\",\"\",Masterblatt!C78)","v":""},{"$f":"IF(Masterblatt!D78=\"\",\"\",Masterblatt!D78)","v":""},{"$f":"IF(Masterblatt!E78=\"\",\"\",Masterblatt!E78)","v":""},{"$f":"IF(Masterblatt!F78=\"\",\"\",Masterblatt!F78)","v":""},{"$f":"IF(Masterblatt!G78=\"\",\"\",Masterblatt!G78)","v":""},{"$f":"IF(Masterblatt!H78=\"\",\"\",Masterblatt!H78)","v":""},{"$f":"IF(Masterblatt!I78=\"\",\"\",Masterblatt!I78)","v":""},{"$f":"IF(Masterblatt!J78=\"\",\"\",Masterblatt!J78)","v":""},{"$f":"IF(Masterblatt!K78=\"\",\"\",Masterblatt!K78)","v":""},{"$f":"IF(Masterblatt!L78=\"\",\"\",Masterblatt!L78)","v":""},{"$f":"IF(Masterblatt!M78=\"\",\"\",Masterblatt!M78)","v":""},{"$f":"IF(Masterblatt!N78=\"\",\"\",Masterblatt!N78)","v":""},{"$f":"IF(Masterblatt!O78=\"\",\"\",Masterblatt!O78)","v":""},{"$f":"IF(Masterblatt!P78=\"\",\"\",Masterblatt!P78)","v":""},{"$f":"IF(Masterblatt!Q78=\"\",\"\",Masterblatt!Q78)","v":""},{"$f":"IF(Masterblatt!R78=\"\",\"\",Masterblatt!R78)","v":""},{"$f":"IF(Masterblatt!S78=\"\",\"\",Masterblatt!S78)","v":""},{"$f":"IF(Masterblatt!T78=\"\",\"\",Masterblatt!T78)","v":""},{"$f":"IF(Masterblatt!U78=\"\",\"\",Masterblatt!U78)","v":""},{"$f":"IF(Masterblatt!V78=\"\",\"\",Masterblatt!V78)","v":""},{"$f":"IF(Masterblatt!W78=\"\",\"\",Masterblatt!W78)","v":""},{"$f":"IF(Masterblatt!X78=\"\",\"\",Masterblatt!X78)","v":""},{"$f":"IF(Masterblatt!Y78=\"\",\"\",Masterblatt!Y78)","v":""},{"$f":"IF(Masterblatt!Z78=\"\",\"\",Masterblatt!Z78)","v":""},{"$f":"IF(Masterblatt!AA78=\"\",\"\",Masterblatt!AA78)","v":""},{"$f":"IF(Masterblatt!AB78=\"\",\"\",Masterblatt!AB78)","v":2}]
[null,{"$f":"IF(Masterblatt!B79=\"\",\"\",Masterblatt!B79)","v":""},{"$f":"IF(Masterblatt!C79=\"\",\"\",Masterblatt!C79)","v":""},{"$f":"IF(Masterblatt!D79=\"\",\"\",Masterblatt!D79)","v":""},{"$f":"IF(Masterblatt!E79=\"\",\"\",Masterblatt!E79)","v":""},{"$f":"IF(Masterblatt!F79=\"\",\"\",Masterblatt!F79)","v":""},{"$f":"IF(Masterblatt!G79=\"\",\"\",Masterblatt!G79)","v":""},{"$f":"IF(Masterblatt!H79=\"\",\"\",Masterblatt!H79)","v":""},{"$f":"IF(Masterblatt!I79=\"\",\"\",Masterblatt!I79)","v":""},{"$f":"IF(Masterblatt!J79=\"\",\"\",Masterblatt!J79)","v":""},{"$f":"IF(Masterblatt!K79=\"\",\"\",Masterblatt!K79)","v":""},{"$f":"IF(Masterblatt!L79=\"\",\"\",Masterblatt!L79)","v":""},{"$f":"IF(Masterblatt!M79=\"\",\"\",Masterblatt!M79)","v":""},{"$f":"IF(Masterblatt!N79=\"\",\"\",Masterblatt!N79)","v":""},{"$f":"IF(Masterblatt!O79=\"\",\"\",Masterblatt!O79)","v":""},{"$f":"IF(Masterblatt!P79=\"\",\"\",Masterblatt!P79)","v":""},{"$f":"IF(Masterblatt!Q79=\"\",\"\",Masterblatt!Q79)","v":""},{"$f":"IF(Masterblatt!R79=\"\",\"\",Masterblatt!R79)","v":""},{"$f":"IF(Masterblatt!S79=\"\",\"\",Masterblatt!S79)","v":""},{"$f":"IF(Masterblatt!T79=\"\",\"\",Masterblatt!T79)","v":""},{"$f":"IF(Masterblatt!U79=\"\",\"\",Masterblatt!U79)","v":""},{"$f":"IF(Masterblatt!V79=\"\",\"\",Masterblatt!V79)","v":""},{"$f":"IF(Masterblatt!W79=\"\",\"\",Masterblatt!W79)","v":""},{"$f":"IF(Masterblatt!X79=\"\",\"\",Masterblatt!X79)","v":""},{"$f":"IF(Masterblatt!Y79=\"\",\"\",Masterblatt!Y79)","v":""},{"$f":"IF(Masterblatt!Z79=\"\",\"\",Masterblatt!Z79)","v":""},{"$f":"IF(Masterblatt!AA79=\"\",\"\",Masterblatt!AA79)","v":""},{"$f":"IF(Masterblatt!AB79=\"\",\"\",Masterblatt!AB79)","v":2}]
[null,{"$f":"IF(Masterblatt!B80=\"\",\"\",Masterblatt!B80)","v":""},{"$f":"IF(Masterblatt!C80=\"\",\"\",Masterblatt!C80)","v":""},{"$f":"IF(Masterblatt!D80=\"\",\"\",Masterblatt!D80)","v":""},{"$f":"IF(Masterblatt!E80=\"\",\"\",Masterblatt!E80)","v":""},{"$f":"IF(Masterblatt!F80=\"\",\"\",Masterblatt!F80)","v":""},{"$f":"IF(Masterblatt!G80=\"\",\"\",Masterblatt!G80)","v":""},{"$f":"IF(Masterblatt!H80=\"\",\"\",Masterblatt!H80)","v":""},{"$f":"IF(Masterblatt!I80=\"\",\"\",Masterblatt!I80)","v":""},{"$f":"IF(Masterblatt!J80=\"\",\"\",Masterblatt!J80)","v":""},{"$f":"IF(Masterblatt!K80=\"\",\"\",Masterblatt!K80)","v":""},{"$f":"IF(Masterblatt!L80=\"\",\"\",Masterblatt!L80)","v":""},{"$f":"IF(Masterblatt!M80=\"\",\"\",Masterblatt!M80)","v":""},{"$f":"IF(Masterblatt!N80=\"\",\"\",Masterblatt!N80)","v":""},{"$f":"IF(Masterblatt!O80=\"\",\"\",Masterblatt!O80)","v":""},{"$f":"IF(Masterblatt!P80=\"\",\"\",Masterblatt!P80)","v":""},{"$f":"IF(Masterblatt!Q80=\"\",\"\",Masterblatt!Q80)","v":""},{"$f":"IF(Masterblatt!R80=\"\",\"\",Masterblatt!R80)","v":""},{"$f":"IF(Masterblatt!S80=\"\",\"\",Masterblatt!S80)","v":""},{"$f":"IF(Masterblatt!T80=\"\",\"\",Masterblatt!T80)","v":""},{"$f":"IF(Masterblatt!U80=\"\",\"\",Masterblatt!U80)","v":""},{"$f":"IF(Masterblatt!V80=\"\",\"\",Masterblatt!V80)","v":""},{"$f":"IF(Masterblatt!W80=\"\",\"\",Masterblatt!W80)","v":""},{"$f":"IF(Masterblatt!X80=\"\",\"\",Masterblatt!X80)","v":""},{"$f":"IF(Masterblatt!Y80=\"\",\"\",Masterblatt!Y80)","v":""},{"$f":"IF(Masterblatt!Z80=\"\",\"\",Masterblatt!Z80)","v":""},{"$f":"IF(Masterblatt!AA80=\"\",\"\",Masterblatt!AA80)","v":""},{"$f":"IF(Masterblatt!AB80=\"\",\"\",Masterblatt!AB80)","v":2}]
[null,{"$f":"IF(Masterblatt!B81=\"\",\"\",Masterblatt!B81)","v":""},{"$f":"IF(Masterblatt!C81=\"\",\"\",Masterblatt!C81)","v":""},{"$f":"IF(Masterblatt!D81=\"\",\"\",Masterblatt!D81)","v":""},{"$f":"IF(Masterblatt!E81=\"\",\"\",Masterblatt!E81)","v":""},{"$f":"IF(Masterblatt!F81=\"\",\"\",Masterblatt!F81)","v":""},{"$f":"IF(Masterblatt!G81=\"\",\"\",Masterblatt!G81)","v":""},{"$f":"IF(Masterblatt!H81=\"\",\"\",Masterblatt!H81)","v":""},{"$f":"IF(Masterblatt!I81=\"\",\"\",Masterblatt!I81)","v":""},{"$f":"IF(Masterblatt!J81=\"\",\"\",Masterblatt!J81)","v":""},{"$f":"IF(Masterblatt!K81=\"\",\"\",Masterblatt!K81)","v":""},{"$f":"IF(Masterblatt!L81=\"\",\"\",Masterblatt!L81)","v":""},{"$f":"IF(Masterblatt!M81=\"\",\"\",Masterblatt!M81)","v":""},{"$f":"IF(Masterblatt!N81=\"\",\"\",Masterblatt!N81)","v":""},{"$f":"IF(Masterblatt!O81=\"\",\"\",Masterblatt!O81)","v":""},{"$f":"IF(Masterblatt!P81=\"\",\"\",Masterblatt!P81)","v":""},{"$f":"IF(Masterblatt!Q81=\"\",\"\",Masterblatt!Q81)","v":""},{"$f":"IF(Masterblatt!R81=\"\",\"\",Masterblatt!R81)","v":""},{"$f":"IF(Masterblatt!S81=\"\",\"\",Masterblatt!S81)","v":""},{"$f":"IF(Masterblatt!T81=\"\",\"\",Masterblatt!T81)","v":""},{"$f":"IF(Masterblatt!U81=\"\",\"\",Masterblatt!U81)","v":""},{"$f":"IF(Masterblatt!V81=\"\",\"\",Masterblatt!V81)","v":""},{"$f":"IF(Masterblatt!W81=\"\",\"\",Masterblatt!W81)","v":""},{"$f":"IF(Masterblatt!X81=\"\",\"\",Masterblatt!X81)","v":""},{"$f":"IF(Masterblatt!Y81=\"\",\"\",Masterblatt!Y81)","v":""},{"$f":"IF(Masterblatt!Z81=\"\",\"\",Masterblatt!Z81)","v":""},{"$f":"IF(Masterblatt!AA81=\"\",\"\",Masterblatt!AA81)","v":""},{"$f":"IF(Masterblatt!AB81=\"\",\"\",Masterblatt!AB81)","v":2}]
[null,{"$f":"IF(Masterblatt!B82=\"\",\"\",Masterblatt!B82)","v":""},{"$f":"IF(Masterblatt!C82=\"\",\"\",Masterblatt!C82)","v":""},{"$f":"IF(Masterblatt!D82=\"\",\"\",Masterblatt!D82)","v":""},{"$f":"IF(Masterblatt!E82=\"\",\"\",Masterblatt!E82)","v":""},{"$f":"IF(Masterblatt!F82=\"\",\"\",Masterblatt!F82)","v":""},{"$f":"IF(Masterblatt!G82=\"\",\"\",Masterblatt!G82)","v":""},{"$f":"IF(Masterblatt!H82=\"\",\"\",Masterblatt!H82)","v":""},{"$f":"IF(Masterblatt!I82=\"\",\"\",Masterblatt!I82)","v":""},{"$f":"IF(Masterblatt!J82=\"\",\"\",Masterblatt!J82)","v":""},{"$f":"IF(Masterblatt!K82=\"\",\"\",Masterblatt!K82)","v":""},{"$f":"IF(Masterblatt!L82=\"\",\"\",Masterblatt!L82)","v":""},{"$f":"IF(Masterblatt!M82=\"\",\"\",Masterblatt!M82)","v":""},{"$f":"IF(Masterblatt!N82=\"\",\"\",Masterblatt!N82)","v":""},{"$f":"IF(Masterblatt!O82=\"\",\"\",Masterblatt!O82)","v":""},{"$f":"IF(Masterblatt!P82=\"\",\"\",Masterblatt!P82)","v":""},{"$f":"IF(Masterblatt!Q82=\"\",\"\",Masterblatt!Q82)","v":""},{"$f":"IF(Masterblatt!R82=\"\",\"\",Masterblatt!R82)","v":""},{"$f":"IF(Masterblatt!S82=\"\",\"\",Masterblatt!S82)","v":""},{"$f":"IF(Masterblatt!T82=\"\",\"\",Masterblatt!T82)","v":""},{"$f":"IF(Masterblatt!U82=\"\",\"\",Masterblatt!U82)","v":""},{"$f":"IF(Masterblatt!V82=\"\",\"\",Masterblatt!V82)","v":""},{"$f":"IF(Masterblatt!W82=\"\",\"\",Masterblatt!W82)","v":""},{"$f":"IF(Masterblatt!X82=\"\",\"\",Masterblatt!X82)","v":""},{"$f":"IF(Masterblatt!Y82=\"\",\"\",Masterblatt!Y82)","v":""},{"$f":"IF(Masterblatt!Z82=\"\",\"\",Masterblatt!Z82)","v":""},{"$f":"IF(Masterblatt!AA82=\"\",\"\",Masterblatt!AA82)","v":""},{"$f":"IF(Masterblatt!AB82=\"\",\"\",Masterblatt!AB82)","v":2}]
[null,{"$f":"IF(Masterblatt!B83=\"\",\"\",Masterblatt!B83)","v":""},{"$f":"IF(Masterblatt!C83=\"\",\"\",Masterblatt!C83)","v":""},{"$f":"IF(Masterblatt!D83=\"\",\"\",Masterblatt!D83)","v":""},{"$f":"IF(Masterblatt!E83=\"\",\"\",Masterblatt!E83)","v":""},{"$f":"IF(Masterblatt!F83=\"\",\"\",Masterblatt!F83)","v":""},{"$f":"IF(Masterblatt!G83=\"\",\"\",Masterblatt!G83)","v":""},{"$f":"IF(Masterblatt!H83=\"\",\"\",Masterblatt!H83)","v":""},{"$f":"IF(Masterblatt!I83=\"\",\"\",Masterblatt!I83)","v":""},{"$f":"IF(Masterblatt!J83=\"\",\"\",Masterblatt!J83)","v":""},{"$f":"IF(Masterblatt!K83=\"\",\"\",Masterblatt!K83)","v":""},{"$f":"IF(Masterblatt!L83=\"\",\"\",Masterblatt!L83)","v":""},{"$f":"IF(Masterblatt!M83=\"\",\"\",Masterblatt!M83)","v":""},{"$f":"IF(Masterblatt!N83=\"\",\"\",Masterblatt!N83)","v":""},{"$f":"IF(Masterblatt!O83=\"\",\"\",Masterblatt!O83)","v":""},{"$f":"IF(Masterblatt!P83=\"\",\"\",Masterblatt!P83)","v":""},{"$f":"IF(Masterblatt!Q83=\"\",\"\",Masterblatt!Q83)","v":""},{"$f":"IF(Masterblatt!R83=\"\",\"\",Masterblatt!R83)","v":""},{"$f":"IF(Masterblatt!S83=\"\",\"\",Masterblatt!S83)","v":""},{"$f":"IF(Masterblatt!T83=\"\",\"\",Masterblatt!T83)","v":""},{"$f":"IF(Masterblatt!U83=\"\",\"\",Masterblatt!U83)","v":""},{"$f":"IF(Masterblatt!V83=\"\",\"\",Masterblatt!V83)","v":""},{"$f":"IF(Masterblatt!W83=\"\",\"\",Masterblatt!W83)","v":""},{"$f":"IF(Masterblatt!X83=\"\",\"\",Masterblatt!X83)","v":""},{"$f":"IF(Masterblatt!Y83=\"\",\"\",Masterblatt!Y83)","v":""},{"$f":"IF(Masterblatt!Z83=\"\",\"\",Masterblatt!Z83)","v":""},{"$f":"IF(Masterblatt!AA83=\"\",\"\",Masterblatt!AA83)","v":""},{"$f":"IF(Masterblatt!AB83=\"\",\"\",Masterblatt!AB83)","v":2}]
[null,{"$f":"IF(Masterblatt!B84=\"\",\"\",Masterblatt!B84)","v":""},{"$f":"IF(Masterblatt!C84=\"\",\"\",Masterblatt!C84)","v":""},{"$f":"IF(Masterblatt!D84=\"\",\"\",Masterblatt!D84)","v":""},{"$f":"IF(Masterblatt!E84=\"\",\"\",Masterblatt!E84)","v":""},{"$f":"IF(Masterblatt!F84=\"\",\"\",Masterblatt!F84)","v":""},{"$f":"IF(Masterblatt!G84=\"\",\"\",Masterblatt!G84)","v":""},{"$f":"IF(Masterblatt!H84=\"\",\"\",Masterblatt!H84)","v":""},{"$f":"IF(Masterblatt!I84=\"\",\"\",Masterblatt!I84)","v":""},{"$f":"IF(Masterblatt!J84=\"\",\"\",Masterblatt!J84)","v":""},{"$f":"IF(Masterblatt!K84=\"\",\"\",Masterblatt!K84)","v":""},{"$f":"IF(Masterblatt!L84=\"\",\"\",Masterblatt!L84)","v":""},{"$f":"IF(Masterblatt!M84=\"\",\"\",Masterblatt!M84)","v":""},{"$f":"IF(Masterblatt!N84=\"\",\"\",Masterblatt!N84)","v":""},{"$f":"IF(Masterblatt!O84=\"\",\"\",Masterblatt!O84)","v":""},{"$f":"IF(Masterblatt!P84=\"\",\"\",Masterblatt!P84)","v":""},{"$f":"IF(Masterblatt!Q84=\"\",\"\",Masterblatt!Q84)","v":""},{"$f":"IF(Masterblatt!R84=\"\",\"\",Masterblatt!R84)","v":""},{"$f":"IF(Masterblatt!S84=\"\",\"\",Masterblatt!S84)","v":""},{"$f":"IF(Masterblatt!T84=\"\",\"\",Masterblatt!T84)","v":""},{"$f":"IF(Masterblatt!U84=\"\",\"\",Masterblatt!U84)","v":""},{"$f":"IF(Masterblatt!V84=\"\",\"\",Masterblatt!V84)","v":""},{"$f":"IF(Masterblatt!W84=\"\",\"\",Masterblatt!W84)","v":""},{"$f":"IF(Masterblatt!X84=\"\",\"\",Masterblatt!X84)","v":""},{"$f":"IF(Masterblatt!Y84=\"\",\"\",Masterblatt!Y84)","v":""},{"$f":"IF(Masterblatt!Z84=\"\",\"\",Masterblatt!Z84)","v":""},{"$f":"IF(Masterblatt!AA84=\"\",\"\",Masterblatt!AA84)","v":""},{"$f":"IF(Masterblatt!AB84=\"\",\"\",Masterblatt!AB84)","v":2}]
[null,{"$f":"IF(Masterblatt!B85=\"\",\"\",Masterblatt!B85)","v":""},{"$f":"IF(Masterblatt!C85=\"\",\"\",Masterblatt!C85)","v":""},{"$f":"IF(Masterblatt!D85=\"\",\"\",Masterblatt!D85)","v":""},{"$f":"IF(Masterblatt!E85=\"\",\"\",Masterblatt!E85)","v":""},{"$f":"IF(Masterblatt!F85=\"\",\"\",Masterblatt!F85)","v":""},{"$f":"IF(Masterblatt!G85=\"\",\"\",Masterblatt!G85)","v":""},{"$f":"IF(Masterblatt!H85=\"\",\"\",Masterblatt!H85)","v":""},{"$f":"IF(Masterblatt!I85=\"\",\"\",Masterblatt!I85)","v":""},{"$f":"IF(Masterblatt!J85=\"\",\"\",Masterblatt!J85)","v":""},{"$f":"IF(Masterblatt!K85=\"\",\"\",Masterblatt!K85)","v":""},{"$f":"IF(Masterblatt!L85=\"\",\"\",Masterblatt!L85)","v":""},{"$f":"IF(Masterblatt!M85=\"\",\"\",Masterblatt!M85)","v":""},{"$f":"IF(Masterblatt!N85=\"\",\"\",Masterblatt!N85)","v":""},{"$f":"IF(Masterblatt!O85=\"\",\"\",Masterblatt!O85)","v":""},{"$f":"IF(Masterblatt!P85=\"\",\"\",Masterblatt!P85)","v":""},{"$f":"IF(Masterblatt!Q85=\"\",\"\",Masterblatt!Q85)","v":""},{"$f":"IF(Masterblatt!R85=\"\",\"\",Masterblatt!R85)","v":""},{"$f":"IF(Masterblatt!S85=\"\",\"\",Masterblatt!S85)","v":""},{"$f":"IF(Masterblatt!T85=\"\",\"\",Masterblatt!T85)","v":""},{"$f":"IF(Masterblatt!U85=\"\",\"\",Masterblatt!U85)","v":""},{"$f":"IF(Masterblatt!V85=\"\",\"\",Masterblatt!V85)","v":""},{"$f":"IF(Masterblatt!W85=\"\",\"\",Masterblatt!W85)","v":""},{"$f":"IF(Masterblatt!X85=\"\",\"\",Masterblatt!X85)","v":""},{"$f":"IF(Masterblatt!Y85=\"\",\"\",Masterblatt!Y85)","v":""},{"$f":"IF(Masterblatt!Z85=\"\",\"\",Masterblatt!Z85)","v":""},{"$f":"IF(Masterblatt!AA85=\"\",\"\",Masterblatt!AA85)","v":""},{"$f":"IF(Masterblatt!AB85=\"\",\"\",Masterblatt!AB85)","v":2}]
[null,{"$f":"IF(Masterblatt!B86=\"\",\"\",Masterblatt!B86)","v":""},{"$f":"IF(Masterblatt!C86=\"\",\"\",Masterblatt!C86)","v":""},{"$f":"IF(Masterblatt!D86=\"\",\"\",Masterblatt!D86)","v":""},{"$f":"IF(Masterblatt!E86=\"\",\"\",Masterblatt!E86)","v":""},{"$f":"IF(Masterblatt!F86=\"\",\"\",Masterblatt!F86)","v":""},{"$f":"IF(Masterblatt!G86=\"\",\"\",Masterblatt!G86)","v":""},{"$f":"IF(Masterblatt!H86=\"\",\"\",Masterblatt!H86)","v":""},{"$f":"IF(Masterblatt!I86=\"\",\"\",Masterblatt!I86)","v":""},{"$f":"IF(Masterblatt!J86=\"\",\"\",Masterblatt!J86)","v":""},{"$f":"IF(Masterblatt!K86=\"\",\"\",Masterblatt!K86)","v":""},{"$f":"IF(Masterblatt!L86=\"\",\"\",Masterblatt!L86)","v":""},{"$f":"IF(Masterblatt!M86=\"\",\"\",Masterblatt!M86)","v":""},{"$f":"IF(Masterblatt!N86=\"\",\"\",Masterblatt!N86)","v":""},{"$f":"IF(Masterblatt!O86=\"\",\"\",Masterblatt!O86)","v":""},{"$f":"IF(Masterblatt!P86=\"\",\"\",Masterblatt!P86)","v":""},{"$f":"IF(Masterblatt!Q86=\"\",\"\",Masterblatt!Q86)","v":""},{"$f":"IF(Masterblatt!R86=\"\",\"\",Masterblatt!R86)","v":""},{"$f":"IF(Masterblatt!S86=\"\",\"\",Masterblatt!S86)","v":""},{"$f":"IF(Masterblatt!T86=\"\",\"\",Masterblatt!T86)","v":""},{"$f":"IF(Masterblatt!U86=\"\",\"\",Masterblatt!U86)","v":""},{"$f":"IF(Masterblatt!V86=\"\",\"\",Masterblatt!V86)","v":""},{"$f":"IF(Masterblatt!W86=\"\",\"\",Masterblatt!W86)","v":""},{"$f":"IF(Masterblatt!X86=\"\",\"\",Masterblatt!X86)","v":""},{"$f":"IF(Masterblatt!Y86=\"\",\"\",Masterblatt!Y86)","v":""},{"$f":"IF(Masterblatt!Z86=\"\",\"\",Masterblatt!Z86)","v":""},{"$f":"IF(Masterblatt!AA86=\"\",\"\",Masterblatt!AA86)","v":""},{"$f":"IF(Masterblatt!AB86=\"\",\"\",Masterblatt!AB86)","v":2}]
[null,{"$f":"IF(Masterblatt!B87=\"\",\"\",Masterblatt!B87)","v":""},{"$f":"IF(Masterblatt!C87=\"\",\"\",Masterblatt!C87)","v":""},{"$f":"IF(Masterblatt!D87=\"\",\"\",Masterblatt!D87)","v":""},{"$f":"IF(Masterblatt!E87=\"\",\"\",Masterblatt!E87)","v":""},{"$f":"IF(Masterblatt!F87=\"\",\"\",Masterblatt!F87)","v":""},{"$f":"IF(Masterblatt!G87=\"\",\"\",Masterblatt!G87)","v":""},{"$f":"IF(Masterblatt!H87=\"\",\"\",Masterblatt!H87)","v":""},{"$f":"IF(Masterblatt!I87=\"\",\"\",Masterblatt!I87)","v":""},{"$f":"IF(Masterblatt!J87=\"\",\"\",Masterblatt!J87)","v":""},{"$f":"IF(Masterblatt!K87=\"\",\"\",Masterblatt!K87)","v":""},{"$f":"IF(Masterblatt!L87=\"\",\"\",Masterblatt!L87)","v":""},{"$f":"IF(Masterblatt!M87=\"\",\"\",Masterblatt!M87)","v":""},{"$f":"IF(Masterblatt!N87=\"\",\"\",Masterblatt!N87)","v":""},{"$f":"IF(Masterblatt!O87=\"\",\"\",Masterblatt!O87)","v":""},{"$f":"IF(Masterblatt!P87=\"\",\"\",Masterblatt!P87)","v":""},{"$f":"IF(Masterblatt!Q87=\"\",\"\",Masterblatt!Q87)","v":""},{"$f":"IF(Masterblatt!R87=\"\",\"\",Masterblatt!R87)","v":""},{"$f":"IF(Masterblatt!S87=\"\",\"\",Masterblatt!S87)","v":""},{"$f":"IF(Masterblatt!T87=\"\",\"\",Masterblatt!T87)","v":""},{"$f":"IF(Masterblatt!U87=\"\",\"\",Masterblatt!U87)","v":""},{"$f":"IF(Masterblatt!V87=\"\",\"\",Masterblatt!V87)","v":""},{"$f":"IF(Masterblatt!W87=\"\",\"\",Masterblatt!W87)","v":""},{"$f":"IF(Masterblatt!X87=\"\",\"\",Masterblatt!X87)","v":""},{"$f":"IF(Masterblatt!Y87=\"\",\"\",Masterblatt!Y87)","v":""},{"$f":"IF(Masterblatt!Z87=\"\",\"\",Masterblatt!Z87)","v":""},{"$f":"IF(Masterblatt!AA87=\"\",\"\",Masterblatt!AA87)","v":""},{"$f":"IF(Masterblatt!AB87=\"\",\"\",Masterblatt!AB87)","v":2}]
[null,{"$f":"IF(Masterblatt!B88=\"\",\"\",Masterblatt!B88)","v":""},{"$f":"IF(Masterblatt!C88=\"\",\"\",Masterblatt!C88)","v":""},{"$f":"IF(Masterblatt!D88=\"\",\"\",Masterblatt!D88)","v":""},{"$f":"IF(Masterblatt!E88=\"\",\"\",Masterblatt!E88)","v":""},{"$f":"IF(Masterblatt!F88=\"\",\"\",Masterblatt!F88)","v":""},{"$f":"IF(Masterblatt!G88=\"\",\"\",Masterblatt!G88)","v":""},{"$f":"IF(Masterblatt!H88=\"\",\"\",Masterblatt!H88)","v":""},{"$f":"IF(Masterblatt!I88=\"\",\"\",Masterblatt!I88)","v":""},{"$f":"IF(Masterblatt!J88=\"\",\"\",Masterblatt!J88)","v":""},{"$f":"IF(Masterblatt!K88=\"\",\"\",Masterblatt!K88)","v":""},{"$f":"IF(Masterblatt!L88=\"\",\"\",Masterblatt!L88)","v":""},{"$f":"IF(Masterblatt!M88=\"\",\"\",Masterblatt!M88)","v":""},{"$f":"IF(Masterblatt!N88=\"\",\"\",Masterblatt!N88)","v":""},{"$f":"IF(Masterblatt!O88=\"\",\"\",Masterblatt!O88)","v":""},{"$f":"IF(Masterblatt!P88=\"\",\"\",Masterblatt!P88)","v":""},{"$f":"IF(Masterblatt!Q88=\"\",\"\",Masterblatt!Q88)","v":""},{"$f":"IF(Masterblatt!R88=\"\",\"\",Masterblatt!R88)","v":""},{"$f":"IF(Masterblatt!S88=\"\",\"\",Masterblatt!S88)","v":""},{"$f":"IF(Masterblatt!T88=\"\",\"\",Masterblatt!T88)","v":""},{"$f":"IF(Masterblatt!U88=\"\",\"\",Masterblatt!U88)","v":""},{"$f":"IF(Masterblatt!V88=\"\",\"\",Masterblatt!V88)","v":""},{"$f":"IF(Masterblatt!W88=\"\",\"\",Masterblatt!W88)","v":""},{"$f":"IF(Masterblatt!X88=\"\",\"\",Masterblatt!X88)","v":""},{"$f":"IF(Masterblatt!Y88=\"\",\"\",Masterblatt!Y88)","v":""},{"$f":"IF(Masterblatt!Z88=\"\",\"\",Masterblatt!Z88)","v":""},{"$f":"IF(Masterblatt!AA88=\"\",\"\",Masterblatt!AA88)","v":""},{"$f":"IF(Masterblatt!AB88=\"\",\"\",Masterblatt!AB88)","v":2}]
[null,{"$f":"IF(Masterblatt!B89=\"\",\"\",Masterblatt!B89)","v":""},{"$f":"IF(Masterblatt!C89=\"\",\"\",Masterblatt!C89)","v":""},{"$f":"IF(Masterblatt!D89=\"\",\"\",Masterblatt!D89)","v":""},{"$f":"IF(Masterblatt!E89=\"\",\"\",Masterblatt!E89)","v":""},{"$f":"IF(Masterblatt!F89=\"\",\"\",Masterblatt!F89)","v":""},{"$f":"IF(Masterblatt!G89=\"\",\"\",Masterblatt!G89)","v":""},{"$f":"IF(Masterblatt!H89=\"\",\"\",Masterblatt!H89)","v":""},{"$f":"IF(Masterblatt!I89=\"\",\"\",Masterblatt!I89)","v":""},{"$f":"IF(Masterblatt!J89=\"\",\"\",Masterblatt!J89)","v":""},{"$f":"IF(Masterblatt!K89=\"\",\"\",Masterblatt!K89)","v":""},{"$f":"IF(Masterblatt!L89=\"\",\"\",Masterblatt!L89)","v":""},{"$f":"IF(Masterblatt!M89=\"\",\"\",Masterblatt!M89)","v":""},{"$f":"IF(Masterblatt!N89=\"\",\"\",Masterblatt!N89)","v":""},{"$f":"IF(Masterblatt!O89=\"\",\"\",Masterblatt!O89)","v":""},{"$f":"IF(Masterblatt!P89=\"\",\"\",Masterblatt!P89)","v":""},{"$f":"IF(Masterblatt!Q89=\"\",\"\",Masterblatt!Q89)","v":""},{"$f":"IF(Masterblatt!R89=\"\",\"\",Masterblatt!R89)","v":""},{"$f":"IF(Masterblatt!S89=\"\",\"\",Masterblatt!S89)","v":""},{"$f":"IF(Masterblatt!T89=\"\",\"\",Masterblatt!T89)","v":""},{"$f":"IF(Masterblatt!U89=\"\",\"\",Masterblatt!U89)","v":""},{"$f":"IF(Masterblatt!V89=\"\",\"\",Masterblatt!V89)","v":""},{"$f":"IF(Masterblatt!W89=\"\",\"\",Masterblatt!W89)","v":""},{"$f":"IF(Masterblatt!X89=\"\",\"\",Masterblatt!X89)","v":""},{"$f":"IF(Masterblatt!Y89=\"\",\"\",Masterblatt!Y89)","v":""},{"$f":"IF(Masterblatt!Z89=\"\",\"\",Masterblatt!Z89)","v":""},{"$f":"IF(Masterblatt!AA89=\"\",\"\",Masterblatt!AA89)","v":""},{"$f":"IF(Masterblatt!AB89=\"\",\"\",Masterblatt!AB89)","v":2}]
[null,{"$f":"IF(Masterblatt!B90=\"\",\"\",Masterblatt!B90)","v":""},{"$f":"IF(Masterblatt!C90=\"\",\"\",Masterblatt!C90)","v":""},{"$f":"IF(Masterblatt!D90=\"\",\"\",Masterblatt!D90)","v":""},{"$f":"IF(Masterblatt!E90=\"\",\"\",Masterblatt!E90)","v":""},{"$f":"IF(Masterblatt!F90=\"\",\"\",Masterblatt!F90)","v":""},{"$f":"IF(Masterblatt!G90=\"\",\"\",Masterblatt!G90)","v":""},{"$f":"IF(Masterblatt!H90=\"\",\"\",Masterblatt!H90)","v":""},{"$f":"IF(Masterblatt!I90=\"\",\"\",Masterblatt!I90)","v":""},{"$f":"IF(Masterblatt!J90=\"\",\"\",Masterblatt!J90)","v":""},{"$f":"IF(Masterblatt!K90=\"\",\"\",Masterblatt!K90)","v":""},{"$f":"IF(Masterblatt!L90=\"\",\"\",Masterblatt!L90)","v":""},{"$f":"IF(Masterblatt!M90=\"\",\"\",Masterblatt!M90)","v":""},{"$f":"IF(Masterblatt!N90=\"\",\"\",Masterblatt!N90)","v":""},{"$f":"IF(Masterblatt!O90=\"\",\"\",Masterblatt!O90)","v":""},{"$f":"IF(Masterblatt!P90=\"\",\"\",Masterblatt!P90)","v":""},{"$f":"IF(Masterblatt!Q90=\"\",\"\",Masterblatt!Q90)","v":""},{"$f":"IF(Masterblatt!R90=\"\",\"\",Masterblatt!R90)","v":""},{"$f":"IF(Masterblatt!S90=\"\",\"\",Masterblatt!S90)","v":""},{"$f":"IF(Masterblatt!T90=\"\",\"\",Masterblatt!T90)","v":""},{"$f":"IF(Masterblatt!U90=\"\",\"\",Masterblatt!U90)","v":""},{"$f":"IF(Masterblatt!V90=\"\",\"\",Masterblatt!V90)","v":""},{"$f":"IF(Masterblatt!W90=\"\",\"\",Masterblatt!W90)","v":""},{"$f":"IF(Masterblatt!X90=\"\",\"\",Masterblatt!X90)","v":""},{"$f":"IF(Masterblatt!Y90=\"\",\"\",Masterblatt!Y90)","v":""},{"$f":"IF(Masterblatt!Z90=\"\",\"\",Masterblatt!Z90)","v":""},{"$f":"IF(Masterblatt!AA90=\"\",\"\",Masterblatt!AA90)","v":""},{"$f":"IF(Masterblatt!AB90=\"\",\"\",Masterblatt!AB90)","v":2}]
[null,{"$f":"IF(Masterblatt!B91=\"\",\"\",Masterblatt!B91)","v":""},{"$f":"IF(Masterblatt!C91=\"\",\"\",Masterblatt!C91)","v":""},{"$f":"IF(Masterblatt!D91=\"\",\"\",Masterblatt!D91)","v":""},{"$f":"IF(Masterblatt!E91=\"\",\"\",Masterblatt!E91)","v":""},{"$f":"IF(Masterblatt!F91=\"\",\"\",Masterblatt!F91)","v":""},{"$f":"IF(Masterblatt!G91=\"\",\"\",Masterblatt!G91)","v":""},{"$f":"IF(Masterblatt!H91=\"\",\"\",Masterblatt!H91)","v":""},{"$f":"IF(Masterblatt!I91=\"\",\"\",Masterblatt!I91)","v":""},{"$f":"IF(Masterblatt!J91=\"\",\"\",Masterblatt!J91)","v":""},{"$f":"IF(Masterblatt!K91=\"\",\"\",Masterblatt!K91)","v":""},{"$f":"IF(Masterblatt!L91=\"\",\"\",Masterblatt!L91)","v":""},{"$f":"IF(Masterblatt!M91=\"\",\"\",Masterblatt!M91)","v":""},{"$f":"IF(Masterblatt!N91=\"\",\"\",Masterblatt!N91)","v":""},{"$f":"IF(Masterblatt!O91=\"\",\"\",Masterblatt!O91)","v":""},{"$f":"IF(Masterblatt!P91=\"\",\"\",Masterblatt!P91)","v":""},{"$f":"IF(Masterblatt!Q91=\"\",\"\",Masterblatt!Q91)","v":""},{"$f":"IF(Masterblatt!R91=\"\",\"\",Masterblatt!R91)","v":""},{"$f":"IF(Masterblatt!S91=\"\",\"\",Masterblatt!S91)","v":""},{"$f":"IF(Masterblatt!T91=\"\",\"\",Masterblatt!T91)","v":""},{"$f":"IF(Masterblatt!U91=\"\",\"\",Masterblatt!U91)","v":""},{"$f":"IF(Masterblatt!V91=\"\",\"\",Masterblatt!V91)","v":""},{"$f":"IF(Masterblatt!W91=\"\",\"\",Masterblatt!W91)","v":""},{"$f":"IF(Masterblatt!X91=\"\",\"\",Masterblatt!X91)","v":""},{"$f":"IF(Masterblatt!Y91=\"\",\"\",Masterblatt!Y91)","v":""},{"$f":"IF(Masterblatt!Z91=\"\",\"\",Masterblatt!Z91)","v":""},{"$f":"IF(Masterblatt!AA91=\"\",\"\",Masterblatt!AA91)","v":""},{"$f":"IF(Masterblatt!AB91=\"\",\"\",Masterblatt!AB91)","v":2}]
[null,{"$f":"IF(Masterblatt!B92=\"\",\"\",Masterblatt!B92)","v":""},{"$f":"IF(Masterblatt!C92=\"\",\"\",Masterblatt!C92)","v":""},{"$f":"IF(Masterblatt!D92=\"\",\"\",Masterblatt!D92)","v":""},{"$f":"IF(Masterblatt!E92=\"\",\"\",Masterblatt!E92)","v":""},{"$f":"IF(Masterblatt!F92=\"\",\"\",Masterblatt!F92)","v":""},{"$f":"IF(Masterblatt!G92=\"\",\"\",Masterblatt!G92)","v":""},{"$f":"IF(Masterblatt!H92=\"\",\"\",Masterblatt!H92)","v":""},{"$f":"IF(Masterblatt!I92=\"\",\"\",Masterblatt!I92)","v":""},{"$f":"IF(Masterblatt!J92=\"\",\"\",Masterblatt!J92)","v":""},{"$f":"IF(Masterblatt!K92=\"\",\"\",Masterblatt!K92)","v":""},{"$f":"IF(Masterblatt!L92=\"\",\"\",Masterblatt!L92)","v":""},{"$f":"IF(Masterblatt!M92=\"\",\"\",Masterblatt!M92)","v":""},{"$f":"IF(Masterblatt!N92=\"\",\"\",Masterblatt!N92)","v":""},{"$f":"IF(Masterblatt!O92=\"\",\"\",Masterblatt!O92)","v":""},{"$f":"IF(Masterblatt!P92=\"\",\"\",Masterblatt!P92)","v":""},{"$f":"IF(Masterblatt!Q92=\"\",\"\",Masterblatt!Q92)","v":""},{"$f":"IF(Masterblatt!R92=\"\",\"\",Masterblatt!R92)","v":""},{"$f":"IF(Masterblatt!S92=\"\",\"\",Masterblatt!S92)","v":""},{"$f":"IF(Masterblatt!T92=\"\",\"\",Masterblatt!T92)","v":""},{"$f":"IF(Masterblatt!U92=\"\",\"\",Masterblatt!U92)","v":""},{"$f":"IF(Masterblatt!V92=\"\",\"\",Masterblatt!V92)","v":""},{"$f":"IF(Masterblatt!W92=\"\",\"\",Masterblatt!W92)","v":""},{"$f":"IF(Masterblatt!X92=\"\",\"\",Masterblatt!X92)","v":""},{"$f":"IF(Masterblatt!Y92=\"\",\"\",Masterblatt!Y92)","v":""},{"$f":"IF(Masterblatt!Z92=\"\",\"\",Masterblatt!Z92)","v":""},{"$f":"IF(Masterblatt!AA92=\"\",\"\",Masterblatt!AA92)","v":""},{"$f":"IF(Masterblatt!AB92=\"\",\"\",Masterblatt!AB92)","v":2}]
[null,{"$f":"IF(Masterblatt!B93=\"\",\"\",Masterblatt!B93)","v":""},{"$f":"IF(Masterblatt!C93=\"\",\"\",Masterblatt!C93)","v":""},{"$f":"IF(Masterblatt!D93=\"\",\"\",Masterblatt!D93)","v":""},{"$f":"IF(Masterblatt!E93=\"\",\"\",Masterblatt!E93)","v":""},{"$f":"IF(Masterblatt!F93=\"\",\"\",Masterblatt!F93)","v":""},{"$f":"IF(Masterblatt!G93=\"\",\"\",Masterblatt!G93)","v":""},{"$f":"IF(Masterblatt!H93=\"\",\"\",Masterblatt!H93)","v":""},{"$f":"IF(Masterblatt!I93=\"\",\"\",Masterblatt!I93)","v":""},{"$f":"IF(Masterblatt!J93=\"\",\"\",Masterblatt!J93)","v":""},{"$f":"IF(Masterblatt!K93=\"\",\"\",Masterblatt!K93)","v":""},{"$f":"IF(Masterblatt!L93=\"\",\"\",Masterblatt!L93)","v":""},{"$f":"IF(Masterblatt!M93=\"\",\"\",Masterblatt!M93)","v":""},{"$f":"IF(Masterblatt!N93=\"\",\"\",Masterblatt!N93)","v":""},{"$f":"IF(Masterblatt!O93=\"\",\"\",Masterblatt!O93)","v":""},{"$f":"IF(Masterblatt!P93=\"\",\"\",Masterblatt!P93)","v":""},{"$f":"IF(Masterblatt!Q93=\"\",\"\",Masterblatt!Q93)","v":""},{"$f":"IF(Masterblatt!R93=\"\",\"\",Masterblatt!R93)","v":""},{"$f":"IF(Masterblatt!S93=\"\",\"\",Masterblatt!S93)","v":""},{"$f":"IF(Masterblatt!T93=\"\",\"\",Masterblatt!T93)","v":""},{"$f":"IF(Masterblatt!U93=\"\",\"\",Masterblatt!U93)","v":""},{"$f":"IF(Masterblatt!V93=\"\",\"\",Masterblatt!V93)","v":""},{"$f":"IF(Masterblatt!W93=\"\",\"\",Masterblatt!W93)","v":""},{"$f":"IF(Masterblatt!X93=\"\",\"\",Masterblatt!X93)","v":""},{"$f":"IF(Masterblatt!Y93=\"\",\"\",Masterblatt!Y93)","v":""},{"$f":"IF(Masterblatt!Z93=\"\",\"\",Masterblatt!Z93)","v":""},{"$f":"IF(Masterblatt!AA93=\"\",\"\",Masterblatt!AA93)","v":""},{"$f":"IF(Masterblatt!AB93=\"\",\"\",Masterblatt!AB93)","v":2}]
[null,{"$f":"IF(Masterblatt!B94=\"\",\"\",Masterblatt!B94)","v":""},{"$f":"IF(Masterblatt!C94=\"\",\"\",Masterblatt!C94)","v":""},{"$f":"IF(Masterblatt!D94=\"\",\"\",Masterblatt!D94)","v":""},{"$f":"IF(Masterblatt!E94=\"\",\"\",Masterblatt!E94)","v":""},{"$f":"IF(Masterblatt!F94=\"\",\"\",Masterblatt!F94)","v":""},{"$f":"IF(Masterblatt!G94=\"\",\"\",Masterblatt!G94)","v":""},{"$f":"IF(Masterblatt!H94=\"\",\"\",Masterblatt!H94)","v":""},{"$f":"IF(Masterblatt!I94=\"\",\"\",Masterblatt!I94)","v":""},{"$f":"IF(Masterblatt!J94=\"\",\"\",Masterblatt!J94)","v":""},{"$f":"IF(Masterblatt!K94=\"\",\"\",Masterblatt!K94)","v":""},{"$f":"IF(Masterblatt!L94=\"\",\"\",Masterblatt!L94)","v":""},{"$f":"IF(Masterblatt!M94=\"\",\"\",Masterblatt!M94)","v":""},{"$f":"IF(Masterblatt!N94=\"\",\"\",Masterblatt!N94)","v":""},{"$f":"IF(Masterblatt!O94=\"\",\"\",Masterblatt!O94)","v":""},{"$f":"IF(Masterblatt!P94=\"\",\"\",Masterblatt!P94)","v":""},{"$f":"IF(Masterblatt!Q94=\"\",\"\",Masterblatt!Q94)","v":""},{"$f":"IF(Masterblatt!R94=\"\",\"\",Masterblatt!R94)","v":""},{"$f":"IF(Masterblatt!S94=\"\",\"\",Masterblatt!S94)","v":""},{"$f":"IF(Masterblatt!T94=\"\",\"\",Masterblatt!T94)","v":""},{"$f":"IF(Masterblatt!U94=\"\",\"\",Masterblatt!U94)","v":""},{"$f":"IF(Masterblatt!V94=\"\",\"\",Masterblatt!V94)","v":""},{"$f":"IF(Masterblatt!W94=\"\",\"\",Masterblatt!W94)","v":""},{"$f":"IF(Masterblatt!X94=\"\",\"\",Masterblatt!X94)","v":""},{"$f":"IF(Masterblatt!Y94=\"\",\"\",Masterblatt!Y94)","v":""},{"$f":"IF(Masterblatt!Z94=\"\",\"\",Masterblatt!Z94)","v":""},{"$f":"IF(Masterblatt!AA94=\"\",\"\",Masterblatt!AA94)","v":""},{"$f":"IF(Masterblatt!AB94=\"\",\"\",Masterblatt!AB94)","v":2}]
[null,{"$f":"IF(Masterblatt!B95=\"\",\"\",Masterblatt!B95)","v":""},{"$f":"IF(Masterblatt!C95=\"\",\"\",Masterblatt!C95)","v":""},{"$f":"IF(Masterblatt!D95=\"\",\"\",Masterblatt!D95)","v":""},{"$f":"IF(Masterblatt!E95=\"\",\"\",Masterblatt!E95)","v":""},{"$f":"IF(Masterblatt!F95=\"\",\"\",Masterblatt!F95)","v":""},{"$f":"IF(Masterblatt!G95=\"\",\"\",Masterblatt!G95)","v":""},{"$f":"IF(Masterblatt!H95=\"\",\"\",Masterblatt!H95)","v":""},{"$f":"IF(Masterblatt!I95=\"\",\"\",Masterblatt!I95)","v":""},{"$f":"IF(Masterblatt!J95=\"\",\"\",Masterblatt!J95)","v":""},{"$f":"IF(Masterblatt!K95=\"\",\"\",Masterblatt!K95)","v":""},{"$f":"IF(Masterblatt!L95=\"\",\"\",Masterblatt!L95)","v":""},{"$f":"IF(Masterblatt!M95=\"\",\"\",Masterblatt!M95)","v":""},{"$f":"IF(Masterblatt!N95=\"\",\"\",Masterblatt!N95)","v":""},{"$f":"IF(Masterblatt!O95=\"\",\"\",Masterblatt!O95)","v":""},{"$f":"IF(Masterblatt!P95=\"\",\"\",Masterblatt!P95)","v":""},{"$f":"IF(Masterblatt!Q95=\"\",\"\",Masterblatt!Q95)","v":""},{"$f":"IF(Masterblatt!R95=\"\",\"\",Masterblatt!R95)","v":""},{"$f":"IF(Masterblatt!S95=\"\",\"\",Masterblatt!S95)","v":""},{"$f":"IF(Masterblatt!T95=\"\",\"\",Masterblatt!T95)","v":""},{"$f":"IF(Masterblatt!U95=\"\",\"\",Masterblatt!U95)","v":""},{"$f":"IF(Masterblatt!V95=\"\",\"\",Masterblatt!V95)","v":""},{"$f":"IF(Masterblatt!W95=\"\",\"\",Masterblatt!W95)","v":""},{"$f":"IF(Masterblatt!X95=\"\",\"\",Masterblatt!X95)","v":""},{"$f":"IF(Masterblatt!Y95=\"\",\"\",Masterblatt!Y95)","v":""},{"$f":"IF(Masterblatt!Z95=\"\",\"\",Masterblatt!Z95)","v":""},{"$f":"IF(Masterblatt!AA95=\"\",\"\",Masterblatt!AA95)","v":""},{"$f":"IF(Masterblatt!AB95=\"\",\"\",Masterblatt!AB95)","v":2}]
[null,{"$f":"IF(Masterblatt!B96=\"\",\"\",Masterblatt!B96)","v":""},{"$f":"IF(Masterblatt!C96=\"\",\"\",Masterblatt!C96)","v":""},{"$f":"IF(Masterblatt!D96=\"\",\"\",Masterblatt!D96)","v":""},{"$f":"IF(Masterblatt!E96=\"\",\"\",Masterblatt!E96)","v":""},{"$f":"IF(Masterblatt!F96=\"\",\"\",Masterblatt!F96)","v":""},{"$f":"IF(Masterblatt!G96=\"\",\"\",Masterblatt!G96)","v":""},{"$f":"IF(Masterblatt!H96=\"\",\"\",Masterblatt!H96)","v":""},{"$f":"IF(Masterblatt!I96=\"\",\"\",Masterblatt!I96)","v":""},{"$f":"IF(Masterblatt!J96=\"\",\"\",Masterblatt!J96)","v":""},{"$f":"IF(Masterblatt!K96=\"\",\"\",Masterblatt!K96)","v":""},{"$f":"IF(Masterblatt!L96=\"\",\"\",Masterblatt!L96)","v":""},{"$f":"IF(Masterblatt!M96=\"\",\"\",Masterblatt!M96)","v":""},{"$f":"IF(Masterblatt!N96=\"\",\"\",Masterblatt!N96)","v":""},{"$f":"IF(Masterblatt!O96=\"\",\"\",Masterblatt!O96)","v":""},{"$f":"IF(Masterblatt!P96=\"\",\"\",Masterblatt!P96)","v":""},{"$f":"IF(Masterblatt!Q96=\"\",\"\",Masterblatt!Q96)","v":""},{"$f":"IF(Masterblatt!R96=\"\",\"\",Masterblatt!R96)","v":""},{"$f":"IF(Masterblatt!S96=\"\",\"\",Masterblatt!S96)","v":""},{"$f":"IF(Masterblatt!T96=\"\",\"\",Masterblatt!T96)","v":""},{"$f":"IF(Masterblatt!U96=\"\",\"\",Masterblatt!U96)","v":""},{"$f":"IF(Masterblatt!V96=\"\",\"\",Masterblatt!V96)","v":""},{"$f":"IF(Masterblatt!W96=\"\",\"\",Masterblatt!W96)","v":""},{"$f":"IF(Masterblatt!X96=\"\",\"\",Masterblatt!X96)","v":""},{"$f":"IF(Masterblatt!Y96=\"\",\"\",Masterblatt!Y96)","v":""},{"$f":"IF(Masterblatt!Z96=\"\",\"\",Masterblatt!Z96)","v":""},{"$f":"IF(Masterblatt!AA96=\"\",\"\",Masterblatt!AA96)","v":""},{"$f":"IF(Masterblatt!AB96=\"\",\"\",Masterblatt!AB96)","v":2}]
[null,{"$f":"IF(Masterblatt!B97=\"\",\"\",Masterblatt!B97)","v":""},{"$f":"IF(Masterblatt!C97=\"\",\"\",Masterblatt!C97)","v":""},{"$f":"IF(Masterblatt!D97=\"\",\"\",Masterblatt!D97)","v":""},{"$f":"IF(Masterblatt!E97=\"\",\"\",Masterblatt!E97)","v":""},{"$f":"IF(Masterblatt!F97=\"\",\"\",Masterblatt!F97)","v":""},{"$f":"IF(Masterblatt!G97=\"\",\"\",Masterblatt!G97)","v":""},{"$f":"IF(Masterblatt!H97=\"\",\"\",Masterblatt!H97)","v":""},{"$f":"IF(Masterblatt!I97=\"\",\"\",Masterblatt!I97)","v":""},{"$f":"IF(Masterblatt!J97=\"\",\"\",Masterblatt!J97)","v":""},{"$f":"IF(Masterblatt!K97=\"\",\"\",Masterblatt!K97)","v":""},{"$f":"IF(Masterblatt!L97=\"\",\"\",Masterblatt!L97)","v":""},{"$f":"IF(Masterblatt!M97=\"\",\"\",Masterblatt!M97)","v":""},{"$f":"IF(Masterblatt!N97=\"\",\"\",Masterblatt!N97)","v":""},{"$f":"IF(Masterblatt!O97=\"\",\"\",Masterblatt!O97)","v":""},{"$f":"IF(Masterblatt!P97=\"\",\"\",Masterblatt!P97)","v":""},{"$f":"IF(Masterblatt!Q97=\"\",\"\",Masterblatt!Q97)","v":""},{"$f":"IF(Masterblatt!R97=\"\",\"\",Masterblatt!R97)","v":""},{"$f":"IF(Masterblatt!S97=\"\",\"\",Masterblatt!S97)","v":""},{"$f":"IF(Masterblatt!T97=\"\",\"\",Masterblatt!T97)","v":""},{"$f":"IF(Masterblatt!U97=\"\",\"\",Masterblatt!U97)","v":""},{"$f":"IF(Masterblatt!V97=\"\",\"\",Masterblatt!V97)","v":""},{"$f":"IF(Masterblatt!W97=\"\",\"\",Masterblatt!W97)","v":""},{"$f":"IF(Masterblatt!X97=\"\",\"\",Masterblatt!X97)","v":""},{"$f":"IF(Masterblatt!Y97=\"\",\"\",Masterblatt!Y97)","v":""},{"$f":"IF(Masterblatt!Z97=\"\",\"\",Masterblatt!Z97)","v":""},{"$f":"IF(Masterblatt!AA97=\"\",\"\",Masterblatt!AA97)","v":""},{"$f":"IF(Masterblatt!AB97=\"\",\"\",Masterblatt!AB97)","v":2}]
[null,{"$f":"IF(Masterblatt!B98=\"\",\"\",Masterblatt!B98)","v":""},{"$f":"IF(Masterblatt!C98=\"\",\"\",Masterblatt!C98)","v":""},{"$f":"IF(Masterblatt!D98=\"\",\"\",Masterblatt!D98)","v":""},{"$f":"IF(Masterblatt!E98=\"\",\"\",Masterblatt!E98)","v":""},{"$f":"IF(Masterblatt!F98=\"\",\"\",Masterblatt!F98)","v":""},{"$f":"IF(Masterblatt!G98=\"\",\"\",Masterblatt!G98)","v":""},{"$f":"IF(Masterblatt!H98=\"\",\"\",Masterblatt!H98)","v":""},{"$f":"IF(Masterblatt!I98=\"\",\"\",Masterblatt!I98)","v":""},{"$f":"IF(Masterblatt!J98=\"\",\"\",Masterblatt!J98)","v":""},{"$f":"IF(Masterblatt!K98=\"\",\"\",Masterblatt!K98)","v":""},{"$f":"IF(Masterblatt!L98=\"\",\"\",Masterblatt!L98)","v":""},{"$f":"IF(Masterblatt!M98=\"\",\"\",Masterblatt!M98)","v":""},{"$f":"IF(Masterblatt!N98=\"\",\"\",Masterblatt!N98)","v":""},{"$f":"IF(Masterblatt!O98=\"\",\"\",Masterblatt!O98)","v":""},{"$f":"IF(Masterblatt!P98=\"\",\"\",Masterblatt!P98)","v":""},{"$f":"IF(Masterblatt!Q98=\"\",\"\",Masterblatt!Q98)","v":""},{"$f":"IF(Masterblatt!R98=\"\",\"\",Masterblatt!R98)","v":""},{"$f":"IF(Masterblatt!S98=\"\",\"\",Masterblatt!S98)","v":""},{"$f":"IF(Masterblatt!T98=\"\",\"\",Masterblatt!T98)","v":""},{"$f":"IF(Masterblatt!U98=\"\",\"\",Masterblatt!U98)","v":""},{"$f":"IF(Masterblatt!V98=\"\",\"\",Masterblatt!V98)","v":""},{"$f":"IF(Masterblatt!W98=\"\",\"\",Masterblatt!W98)","v":""},{"$f":"IF(Masterblatt!X98=\"\",\"\",Masterblatt!X98)","v":""},{"$f":"IF(Masterblatt!Y98=\"\",\"\",Masterblatt!Y98)","v":""},{"$f":"IF(Masterblatt!Z98=\"\",\"\",Masterblatt!Z98)","v":""},{"$f":"IF(Masterblatt!AA98=\"\",\"\",Masterblatt!AA98)","v":""},{"$f":"IF(Masterblatt!AB98=\"\",\"\",Masterblatt!AB98)","v":2}]
[null,{"$f":"IF(Masterblatt!B99=\"\",\"\",Masterblatt!B99)","v":""},{"$f":"IF(Masterblatt!C99=\"\",\"\",Masterblatt!C99)","v":""},{"$f":"IF(Masterblatt!D99=\"\",\"\",Masterblatt!D99)","v":""},{"$f":"IF(Masterblatt!E99=\"\",\"\",Masterblatt!E99)","v":""},{"$f":"IF(Masterblatt!F99=\"\",\"\",Masterblatt!F99)","v":""},{"$f":"IF(Masterblatt!G99=\"\",\"\",Masterblatt!G99)","v":""},{"$f":"IF(Masterblatt!H99=\"\",\"\",Masterblatt!H99)","v":""},{"$f":"IF(Masterblatt!I99=\"\",\"\",Masterblatt!I99)","v":""},{"$f":"IF(Masterblatt!J99=\"\",\"\",Masterblatt!J99)","v":""},{"$f":"IF(Masterblatt!K99=\"\",\"\",Masterblatt!K99)","v":""},{"$f":"IF(Masterblatt!L99=\"\",\"\",Masterblatt!L99)","v":""},{"$f":"IF(Masterblatt!M99=\"\",\"\",Masterblatt!M99)","v":""},{"$f":"IF(Masterblatt!N99=\"\",\"\",Masterblatt!N99)","v":""},{"$f":"IF(Masterblatt!O99=\"\",\"\",Masterblatt!O99)","v":""},{"$f":"IF(Masterblatt!P99=\"\",\"\",Masterblatt!P99)","v":""},{"$f":"IF(Masterblatt!Q99=\"\",\"\",Masterblatt!Q99)","v":""},{"$f":"IF(Masterblatt!R99=\"\",\"\",Masterblatt!R99)","v":""},{"$f":"IF(Masterblatt!S99=\"\",\"\",Masterblatt!S99)","v":""},{"$f":"IF(Masterblatt!T99=\"\",\"\",Masterblatt!T99)","v":""},{"$f":"IF(Masterblatt!U99=\"\",\"\",Masterblatt!U99)","v":""},{"$f":"IF(Masterblatt!V99=\"\",\"\",Masterblatt!V99)","v":""},{"$f":"IF(Masterblatt!W99=\"\",\"\",Masterblatt!W99)","v":""},{"$f":"IF(Masterblatt!X99=\"\",\"\",Masterblatt!X99)","v":""},{"$f":"IF(Masterblatt!Y99=\"\",\"\",Masterblatt!Y99)","v":""},{"$f":"IF(Masterblatt!Z99=\"\",\"\",Masterblatt!Z99)","v":""},{"$f":"IF(Masterblatt!AA99=\"\",\"\",Masterblatt!AA99)","v":""},{"$f":"IF(Masterblatt!AB99=\"\",\"\",Masterblatt!AB99)","v":2}]
[null,{"$f":"IF(Masterblatt!B100=\"\",\"\",Masterblatt!B100)","v":""},{"$f":"IF(Masterblatt!C100=\"\",\"\",Masterblatt!C100)","v":""},{"$f":"IF(Masterblatt!D100=\"\",\"\",Masterblatt!D100)","v":""},{"$f":"IF(Masterblatt!E100=\"\",\"\",Masterblatt!E100)","v":""},{"$f":"IF(Masterblatt!F100=\"\",\"\",Masterblatt!F100)","v":""},{"$f":"IF(Masterblatt!G100=\"\",\"\",Masterblatt!G100)","v":""},{"$f":"IF(Masterblatt!H100=\"\",\"\",Masterblatt!H100)","v":""},{"$f":"IF(Masterblatt!I100=\"\",\"\",Masterblatt!I100)","v":""},{"$f":"IF(Masterblatt!J100=\"\",\"\",Masterblatt!J100)","v":""},{"$f":"IF(Masterblatt!K100=\"\",\"\",Masterblatt!K100)","v":""},{"$f":"IF(Masterblatt!L100=\"\",\"\",Masterblatt!L100)","v":""},{"$f":"IF(Masterblatt!M100=\"\",\"\",Masterblatt!M100)","v":""},{"$f":"IF(Masterblatt!N100=\"\",\"\",Masterblatt!N100)","v":""},{"$f":"IF(Masterblatt!O100=\"\",\"\",Masterblatt!O100)","v":""},{"$f":"IF(Masterblatt!P100=\"\",\"\",Masterblatt!P100)","v":""},{"$f":"IF(Masterblatt!Q100=\"\",\"\",Masterblatt!Q100)","v":""},{"$f":"IF(Masterblatt!R100=\"\",\"\",Masterblatt!R100)","v":""},{"$f":"IF(Masterblatt!S100=\"\",\"\",Masterblatt!S100)","v":""},{"$f":"IF(Masterblatt!T100=\"\",\"\",Masterblatt!T100)","v":""},{"$f":"IF(Masterblatt!U100=\"\",\"\",Masterblatt!U100)","v":""},{"$f":"IF(Masterblatt!V100=\"\",\"\",Masterblatt!V100)","v":""},{"$f":"IF(Masterblatt!W100=\"\",\"\",Masterblatt!W100)","v":""},{"$f":"IF(Masterblatt!X100=\"\",\"\",Masterblatt!X100)","v":""},{"$f":"IF(Masterblatt!Y100=\"\",\"\",Masterblatt!Y100)","v":""},{"$f":"IF(Masterblatt!Z100=\"\",\"\",Masterblatt!Z100)","v":""},{"$f":"IF(Masterblatt!AA100=\"\",\"\",Masterblatt!AA100)","v":""},{"$f":"IF(Masterblatt!AB100=\"\",\"\",Masterblatt!AB100)","v":2}]

{"sheet":"Rangliste - Note","index":3,"n_rows":100,"n_cols":28,"rows_kept":100,"cut":false,"hidden":false,"merged":[]}
[null,"Name\nNom\nNome","Vorname\nPrénom\nPrenome","Versicherten Nummer\nNuméro sécurité social\nNumero di assicurati\n[756.0000.0000.00]","Jahrgang\nAnnée\nAnni\n[JJJJ]","Geschlecht\nSexe\nSexe\n[m/f]","Anstellung\nEmploi\nImpiego","Grad\nGrade\nGrado","AO1\nOA1\nOE1","AO2\nOA2\nOE2","AO3\nOA3\nOE3","AO4\nOA4\nOE4","AO5\nOA5\nOE5","AO6\nOA6\nOE6","Klasse / Zug\nClasse / Section\nClasse / Sezione","Versuch 1\nEssai 1\nTentativo 1\n[mm:ss.00]","Versuch 2\nEssai 2\nTentativo 2\n[mm:ss.00]","Versuch 3\nEssai 3\nTentativo 3\n[mm:ss.00]","Versuch 1\nEssai 1\nTentativo 1\n[s]","Versuch 2\nEssai 2\nTentativo 2\n[s]","Versuch 3\nEssai 3\nTentativo 3\n[s]","Bester Versuch\nMeilleur résultat\nMiglior risultato\n[s]","Wertung\nBarème\nScala\n1-10","Note\nNote\nVota\n1-5","Qualifikation\nQualification\nQualificazione","Test erfüllt\nTest réussi\nTest successo","Beurteilung\nÉvaluation\nValutazione","Hat irgend ein Resultat und soll daher direkt nach Resultaten mit Punkten kommen, aber vor jenen Namen, die gar keine Resultate hatten"]
[null,null,null,null,null,null,null,null,null,null,null,null,null,null,null,null,null,null,null,null,null,null,null,null,null,null,null,2]
[null,null,null,null,null,null,null,null,null,null,null,null,null,null,null,null,null,null,null,null,null,null,null,null,null,null,null,2]
[null,null,null,null,null,null,null,null,null,null,null,null,null,null,null,null,null,null,null,null,null,null,null,null,null,null,null,2]
[null,null,null,null,null,null,null,null,null,null,null,null,null,null,null,null,null,null,null,null,null,null,null,null,null,null,null,2]
[null,null,null,null,null,null,null,null,null,null,null,null,null,null,null,null,null,null,null,null,null,null,null,null,null,null,null,2]
[null,null,null,null,null,null,null,null,null,null,null,null,null,null,null,null,null,null,null,null,null,null,null,null,null,null,null,2]
[null,null,null,null,null,null,null,null,null,null,null,null,null,null,null,null,null,null,null,null,null,null,null,null,null,null,null,2]
[null,null,null,null,null,null,null,null,null,null,null,null,null,null,null,null,null,null,null,null,null,null,null,null,null,null,null,2]
[null,null,null,null,null,null,null,null,null,null,null,null,null,null,null,null,null,null,null,null,null,null,null,null,null,null,null,2]
[null,null,null,null,null,null,null,null,null,null,null,null,null,null,null,null,null,null,null,null,null,null,null,null,null,null,null,2]
[null,null,null,null,null,null,null,null,null,null,null,null,null,null,null,null,null,null,null,null,null,null,null,null,null,null,null,2]
[null,null,null,null,null,null,null,null,null,null,null,null,null,null,null,null,null,null,null,null,null,null,null,null,null,null,null,2]
[null,null,null,null,null,null,null,null,null,null,null,null,null,null,null,null,null,null,null,null,null,null,null,null,null,null,null,2]
[null,null,null,null,null,null,null,null,null,null,null,null,null,null,null,null,null,null,null,null,null,null,null,null,null,null,null,2]
[null,null,null,null,null,null,null,null,null,null,null,null,null,null,null,null,null,null,null,null,null,null,null,null,null,null,null,2]
[null,null,null,null,null,null,null,null,null,null,null,null,null,null,null,null,null,null,null,null,null,null,null,null,null,null,null,2]
[null,null,null,null,null,null,null,null,null,null,null,null,null,null,null,null,null,null,null,null,null,null,null,null,null,null,null,2]
[null,null,null,null,null,null,null,null,null,null,null,null,null,null,null,null,null,null,null,null,null,null,null,null,null,null,null,2]
[null,null,null,null,null,null,null,null,null,null,null,null,null,null,null,null,null,null,null,null,null,null,null,null,null,null,null,2]
[null,null,null,null,null,null,null,null,null,null,null,null,null,null,null,null,null,null,null,null,null,null,null,null,null,null,null,2]
[null,null,null,null,null,null,null,null,null,null,null,null,null,null,null,null,null,null,null,null,null,null,null,null,null,null,null,2]
[null,null,null,null,null,null,null,null,null,null,null,null,null,null,null,null,null,null,null,null,null,null,null,null,null,null,null,2]
[null,null,null,null,null,null,null,null,null,null,null,null,null,null,null,null,null,null,null,null,null,null,null,null,null,null,null,2]
[null,null,null,null,null,null,null,null,null,null,null,null,null,null,null,null,null,null,null,null,null,null,null,null,null,null,null,2]
[null,null,null,null,null,null,null,null,null,null,null,null,null,null,null,null,null,null,null,null,null,null,null,null,null,null,null,2]
[null,null,null,null,null,null,null,null,null,null,null,null,null,null,null,null,null,null,null,null,null,null,null,null,null,null,null,2]
[null,null,null,null,null,null,null,null,null,null,null,null,null,null,null,null,null,null,null,null,null,null,null,null,null,null,null,2]
[null,null,null,null,null,null,null,null,null,null,null,null,null,null,null,null,null,null,null,null,null,null,null,null,null,null,null,2]
[null,null,null,null,null,null,null,null,null,null,null,null,null,null,null,null,null,null,null,null,null,null,null,null,null,null,null,2]
[null,null,null,null,null,null,null,null,null,null,null,null,null,null,null,null,null,null,null,null,null,null,null,null,null,null,null,2]
[null,null,null,null,null,null,null,null,null,null,null,null,null,null,null,null,null,null,null,null,null,null,null,null,null,null,null,2]
[null,null,null,null,null,null,null,null,null,null,null,null,null,null,null,null,null,null,null,null,null,null,null,null,null,null,null,2]
[null,null,null,null,null,null,null,null,null,null,null,null,null,null,null,null,null,null,null,null,null,null,null,null,null,null,null,2]
[null,null,null,null,null,null,null,null,null,null,null,null,null,null,null,null,null,null,null,null,null,null,null,null,null,null,null,2]
[null,null,null,null,null,null,null,null,null,null,null,null,null,null,null,null,null,null,null,null,null,null,null,null,null,null,null,2]
[null,null,null,null,null,null,null,null,null,null,null,null,null,null,null,null,null,null,null,null,null,null,null,null,null,null,null,2]
[null,null,null,null,null,null,null,null,null,null,null,null,null,null,null,null,null,null,null,null,null,null,null,null,null,null,null,2]
[null,null,null,null,null,null,null,null,null,null,null,null,null,null,null,null,null,null,null,null,null,null,null,null,null,null,null,2]
[null,null,null,null,null,null,null,null,null,null,null,null,null,null,null,null,null,null,null,null,null,null,null,null,null,null,null,2]
[null,null,null,null,null,null,null,null,null,null,null,null,null,null,null,null,null,null,null,null,null,null,null,null,null,null,null,2]
[null,null,null,null,null,null,null,null,null,null,null,null,null,null,null,null,null,null,null,null,null,null,null,null,null,null,null,2]
[null,null,null,null,null,null,null,null,null,null,null,null,null,null,null,null,null,null,null,null,null,null,null,null,null,null,null,2]
[null,null,null,null,null,null,null,null,null,null,null,null,null,null,null,null,null,null,null,null,null,null,null,null,null,null,null,2]
[null,null,null,null,null,null,null,null,null,null,null,null,null,null,null,null,null,null,null,null,null,null,null,null,null,null,null,2]
[null,null,null,null,null,null,null,null,null,null,null,null,null,null,null,null,null,null,null,null,null,null,null,null,null,null,null,2]
[null,null,null,null,null,null,null,null,null,null,null,null,null,null,null,null,null,null,null,null,null,null,null,null,null,null,null,2]
[null,null,null,null,null,null,null,null,null,null,null,null,null,null,null,null,null,null,null,null,null,null,null,null,null,null,null,2]
[null,null,null,null,null,null,null,null,null,null,null,null,null,null,null,null,null,null,null,null,null,null,null,null,null,null,null,2]
[null,null,null,null,null,null,null,null,null,null,null,null,null,null,null,null,null,null,null,null,null,null,null,null,null,null,null,2]
[null,null,null,null,null,null,null,null,null,null,null,null,null,null,null,null,null,null,null,null,null,null,null,null,null,null,null,2]
[null,null,null,null,null,null,null,null,null,null,null,null,null,null,null,null,null,null,null,null,null,null,null,null,null,null,null,2]
[null,null,null,null,null,null,null,null,null,null,null,null,null,null,null,null,null,null,null,null,null,null,null,null,null,null,null,2]
[null,null,null,null,null,null,null,null,null,null,null,null,null,null,null,null,null,null,null,null,null,null,null,null,null,null,null,2]
[null,null,null,null,null,null,null,null,null,null,null,null,null,null,null,null,null,null,null,null,null,null,null,null,null,null,null,2]
[null,null,null,null,null,null,null,null,null,null,null,null,null,null,null,null,null,null,null,null,null,null,null,null,null,null,null,2]
[null,null,null,null,null,null,null,null,null,null,null,null,null,null,null,null,null,null,null,null,null,null,null,null,null,null,null,2]
[null,null,null,null,null,null,null,null,null,null,null,null,null,null,null,null,null,null,null,null,null,null,null,null,null,null,null,2]
[null,null,null,null,null,null,null,null,null,null,null,null,null,null,null,null,null,null,null,null,null,null,null,null,null,null,null,2]
[null,null,null,null,null,null,null,null,null,null,null,null,null,null,null,null,null,null,null,null,null,null,null,null,null,null,null,2]
[null,null,null,null,null,null,null,null,null,null,null,null,null,null,null,null,null,null,null,null,null,null,null,null,null,null,null,2]
[null,null,null,null,null,null,null,null,null,null,null,null,null,null,null,null,null,null,null,null,null,null,null,null,null,null,null,2]
[null,null,null,null,null,null,null,null,null,null,null,null,null,null,null,null,null,null,null,null,null,null,null,null,null,null,null,2]
[null,null,null,null,null,null,null,null,null,null,null,null,null,null,null,null,null,null,null,null,null,null,null,null,null,null,null,2]
[null,null,null,null,null,null,null,null,null,null,null,null,null,null,null,null,null,null,null,null,null,null,null,null,null,null,null,2]
[null,null,null,null,null,null,null,null,null,null,null,null,null,null,null,null,null,null,null,null,null,null,null,null,null,null,null,2]
[null,null,null,null,null,null,null,null,null,null,null,null,null,null,null,null,null,null,null,null,null,null,null,null,null,null,null,2]
[null,null,null,null,null,null,null,null,null,null,null,null,null,null,null,null,null,null,null,null,null,null,null,null,null,null,null,2]
[null,null,null,null,null,null,null,null,null,null,null,null,null,null,null,null,null,null,null,null,null,null,null,null,null,null,null,2]
[null,null,null,null,null,null,null,null,null,null,null,null,null,null,null,null,null,null,null,null,null,null,null,null,null,null,null,2]
[null,null,null,null,null,null,null,null,null,null,null,null,null,null,null,null,null,null,null,null,null,null,null,null,null,null,null,2]
[null,null,null,null,null,null,null,null,null,null,null,null,null,null,null,null,null,null,null,null,null,null,null,null,null,null,null,2]
[null,null,null,null,null,null,null,null,null,null,null,null,null,null,null,null,null,null,null,null,null,null,null,null,null,null,null,2]
[null,null,null,null,null,null,null,null,null,null,null,null,null,null,null,null,null,null,null,null,null,null,null,null,null,null,null,2]
[null,null,null,null,null,null,null,null,null,null,null,null,null,null,null,null,null,null,null,null,null,null,null,null,null,null,null,2]
[null,null,null,null,null,null,null,null,null,null,null,null,null,null,null,null,null,null,null,null,null,null,null,null,null,null,null,2]
[null,null,null,null,null,null,null,null,null,null,null,null,null,null,null,null,null,null,null,null,null,null,null,null,null,null,null,2]
[null,null,null,null,null,null,null,null,null,null,null,null,null,null,null,null,null,null,null,null,null,null,null,null,null,null,null,2]
[null,null,null,null,null,null,null,null,null,null,null,null,null,null,null,null,null,null,null,null,null,null,null,null,null,null,null,2]
[null,null,null,null,null,null,null,null,null,null,null,null,null,null,null,null,null,null,null,null,null,null,null,null,null,null,null,2]
[null,null,null,null,null,null,null,null,null,null,null,null,null,null,null,null,null,null,null,null,null,null,null,null,null,null,null,2]
[null,null,null,null,null,null,null,null,null,null,null,null,null,null,null,null,null,null,null,null,null,null,null,null,null,null,null,2]
[null,null,null,null,null,null,null,null,null,null,null,null,null,null,null,null,null,null,null,null,null,null,null,null,null,null,null,2]
[null,null,null,null,null,null,null,null,null,null,null,null,null,null,null,null,null,null,null,null,null,null,null,null,null,null,null,2]
[null,null,null,null,null,null,null,null,null,null,null,null,null,null,null,null,null,null,null,null,null,null,null,null,null,null,null,2]
[null,null,null,null,null,null,null,null,null,null,null,null,null,null,null,null,null,null,null,null,null,null,null,null,null,null,null,2]
[null,null,null,null,null,null,null,null,null,null,null,null,null,null,null,null,null,null,null,null,null,null,null,null,null,null,null,2]
[null,null,null,null,null,null,null,null,null,null,null,null,null,null,null,null,null,null,null,null,null,null,null,null,null,null,null,2]
[null,null,null,null,null,null,null,null,null,null,null,null,null,null,null,null,null,null,null,null,null,null,null,null,null,null,null,2]
[null,null,null,null,null,null,null,null,null,null,null,null,null,null,null,null,null,null,null,null,null,null,null,null,null,null,null,2]
[null,null,null,null,null,null,null,null,null,null,null,null,null,null,null,null,null,null,null,null,null,null,null,null,null,null,null,2]
[null,null,null,null,null,null,null,null,null,null,null,null,null,null,null,null,null,null,null,null,null,null,null,null,null,null,null,2]
[null,null,null,null,null,null,null,null,null,null,null,null,null,null,null,null,null,null,null,null,null,null,null,null,null,null,null,2]
[null,null,null,null,null,null,null,null,null,null,null,null,null,null,null,null,null,null,null,null,null,null,null,null,null,null,null,2]
[null,null,null,null,null,null,null,null,null,null,null,null,null,null,null,null,null,null,null,null,null,null,null,null,null,null,null,2]
[null,null,null,null,null,null,null,null,null,null,null,null,null,null,null,null,null,null,null,null,null,null,null,null,null,null,null,2]
[null,null,null,null,null,null,null,null,null,null,null,null,null,null,null,null,null,null,null,null,null,null,null,null,null,null,null,2]
[null,null,null,null,null,null,null,null,null,null,null,null,null,null,null,null,null,null,null,null,null,null,null,null,null,null,null,2]
[null,null,null,null,null,null,null,null,null,null,null,null,null,null,null,null,null,null,null,null,null,null,null,null,null,null,null,2]
[null,null,null,null,null,null,null,null,null,null,null,null,null,null,null,null,null,null,null,null,null,null,null,null,null,null,null,2]

{"sheet":"HiBa Gelände - Auswertung","index":4,"n_rows":33,"n_cols":14,"rows_kept":33,"cut":false,"hidden":false,"merged":[[3,4,3,5],[3,7,3,8],[3,9,3,11],[3,13,3,14],[1,0,1,2],[1,4,1,5],[1,7,1,8],[1,9,1,11],[1,13,1,14],[3,0,3,2]]}
["HiBa Gelände - Pist obst terrain - Pist osta terreno"]
[" Getestete Gruppe\n Groupe testé\n Gruppo testato",null,null,null,"HiBa Gelände Nr\nPist obst terrain no\nPist osta terreno No",null,null,"Bestand\nEffectif\nEffettivo",null,"Pflichtige\nParticipants\nPartecipanti",null,null,null,"Datum\nDate\nData"]
[]
[null,null,null,null,1]
[]
[]
[]
["Gesamtbeurteilung / Appréciation globale / Valutazione globale"]
[]
["4.6-5.0"," hervorragend / excellent / eccellente"]
["4.0-4.5"," sehr gut / très bon / molto buono"]
["3.0-3.9"," gut / bon / bueno"]
["2.0-2.9"," genügend / suffisant / sufficiente"]
["1.0-1.9"," ungenügend / insuffisant / insufficiente"]
[]
[{"$f":"H4","v":0}," Bestand / Effectif / Effettivo"]
[{"$f":"J4","v":0}," Teilnahme Pflichtige / Nombre de partic. astreints / Numero di partecipanti obbligati",null,null,100,"%"]
[{"$f":"F28","v":0}," Davon an Prüfung / Nombre à l'examen / Presenti all'esame",null,null,{"$f":"SUM($A$18)/$A$17*100","v":{"$error":"#DIV/0!"}},"%"]
[{"$f":"SUM(F23:F26)","v":0}," Davon erfüllt / Combien on réussi / Partecipanti con successo",null,null,{"$f":"SUM($A$19)/$A$17*100","v":{"$error":"#DIV/0!"}},"%"]
[{"$f":"F27","v":0}," Ungenügend / Insuffisant / Insufficienti",null,null,{"$f":"SUM($A$20)/$A$17*100","v":{"$error":"#DIV/0!"}},"%"]
[{"$f":"A17-A18","v":0}," Pflichtige abwesend / Partic. astreints pas présent / Partecipanti obbligati assenti",null,null,{"$f":"SUM($A$21)/$A$17*100","v":{"$error":"#DIV/0!"}},"%"]
[]
[null,5,{"$f":"B10","v":" hervorragend / excellent / eccellente"},"hervorragend",{"$f":"F23/$F$28","v":{"$error":"#DIV/0!"}},{"$f":"COUNTIF(Masterblatt!AA:AA,D23)","v":0}]
[null,4,{"$f":"B11","v":" sehr gut / très bon / molto buono"},"sehr gut",{"$f":"F24/$F$28","v":{"$error":"#DIV/0!"}},{"$f":"COUNTIF(Masterblatt!AA:AA,D24)","v":0}]
[null,3," gut / bon / bueno","gut",{"$f":"F25/$F$28","v":{"$error":"#DIV/0!"}},{"$f":"COUNTIF(Masterblatt!AA:AA,D25)","v":0}]
[null,2," genügend / suffisant / sufficiente","genügend",{"$f":"F26/$F$28","v":{"$error":"#DIV/0!"}},{"$f":"COUNTIF(Masterblatt!AA:AA,D26)","v":0}]
[null,1," ungenügend / insuffisant / insufficiente","ungenügend",{"$f":"F27/$F$28","v":{"$error":"#DIV/0!"}},{"$f":"COUNTIF(Masterblatt!AA:AA,D27)","v":0}]
[null,null,"Total",null,{"$f":"SUM(E23:E27)","v":{"$error":"#DIV/0!"}},{"$f":"SUM(F23:F27)","v":0}]
[]
["Geht an / Va à / Va a"]
[null,null,null,null,null,null," "]
[]
["z K an / Pour info / P c a",null,null,null,null,null,null,null,null,null,"Signatur / Signature / Firma"]

{"sheet":"Erfassungsliste","index":5,"n_rows":1000,"n_cols":39,"rows_kept":1000,"cut":false,"hidden":false,"merged":[[11,2,11,16],[11,17,11,19],[11,20,11,25],[11,26,11,31],[9,32,9,37],[9,38,9,43],[0,9,2,43],[10,0,10,1],[10,2,10,16],[10,17,10,19],[10,20,10,25],[10,26,10,31],[10,32,10,37],[10,38,10,43],[9,0,9,1],[9,2,9,16],[9,17,9,19],[9,20,9,25],[9,26,9,31],[4,0,8,1],[4,2,8,16],[4,17,8,19],[15,32,15,37],[15,38,15,43],[4,20,8,25],[4,26,8,31],[4,32,8,37],[4,38,8,43],[11,32,11,37],[11,38,11,43],[12,0,12,1],[12,2,12,16],[12,17,12,19],[12,20,12,25],[12,26,12,31],[12,32,12,37],[12,38,12,43],[11,0,11,1],[16,0,16,1],[16,2,16,16],[16,17,16,19],[16,20,16,25],[16,26,16,31],[16,32,16,37],[16,38,16,43],[15,0,15,1],[15,2,15,16],[15,17,15,19],[15,20,15,25],[15,26,15,31],[13,32,13,37],[13,38,13,43],[14,0,14,1],[14,2,14,16],[14,17,14,19],[14,20,14,25],[14,26,14,31],[14,32,14,37],[14,38,14,43],[13,0,13,1],[13,2,13,16],[13,17,13,19],[13,20,13,25],[13,26,13,31],[19,32,19,37],[19,38,19,43],[20,0,20,1],[20,2,20,16],[20,17,20,19],[20,20,20,25],[20,26,20,31],[20,32,20,37],[20,38,20,43],[19,0,19,1],[19,2,19,16],[19,17,19,19],[19,20,19,25],[19,26,19,31],[17,32,17,37],[17,38,17,43],[18,0,18,1],[18,2,18,16],[18,17,18,19],[18,20,18,25],[18,26,18,31],[18,32,18,37],[18,38,18,43],[17,0,17,1],[17,2,17,16],[17,17,17,19],[17,20,17,25],[17,26,17,31],[23,32,23,37],[23,38,23,43],[24,0,24,1],[24,2,24,16],[24,17,24,19],[24,20,24,25],[24,26,24,31],[24,32,24,37],[24,38,24,43],[23,0,23,1],[23,2,23,16],[23,17,23,19],[23,20,23,25],[23,26,23,31],[21,32,21,37],[21,38,21,43],[22,0,22,1],[22,2,22,16],[22,17,22,19],[22,20,22,25],[22,26,22,31],[22,32,22,37],[22,38,22,43],[21,0,21,1],[21,2,21,16],[21,17,21,19],[21,20,21,25],[21,26,21,31],[27,32,27,37],[27,38,27,43],[28,0,28,1],[28,2,28,16],[28,17,28,19],[28,20,28,25],[28,26,28,31],[28,32,28,37],[28,38,28,43],[27,0,27,1],[27,2,27,16],[27,17,27,19],[27,20,27,25],[27,26,27,31],[25,32,25,37],[25,38,25,43],[26,0,26,1],[26,2,26,16],[26,17,26,19],[26,20,26,25],[26,26,26,31],[26,32,26,37],[26,38,26,43],[25,0,25,1],[25,2,25,16],[25,17,25,19],[25,20,25,25],[25,26,25,31],[31,32,31,37],[31,38,31,43],[32,0,32,1],[32,2,32,16],[32,17,32,19],[32,20,32,25],[32,26,32,31],[32,32,32,37],[32,38,32,43],[31,0,31,1],[31,2,31,16],[31,17,31,19],[31,20,31,25],[31,26,31,31],[29,32,29,37],[29,38,29,43],[30,0,30,1],[30,2,30,16],[30,17,30,19],[30,20,30,25],[30,26,30,31],[30,32,30,37],[30,38,30,43],[29,0,29,1],[29,2,29,16],[29,17,29,19],[29,20,29,25],[29,26,29,31],[35,32,35,37],[35,38,35,43],[36,0,36,1],[36,2,36,16],[36,17,36,19],[36,20,36,25],[36,26,36,31],[36,32,36,37],[36,38,36,43],[35,0,35,1],[35,2,35,16],[35,17,35,19],[35,20,35,25],[35,26,35,31],[33,32,33,37],[33,38,33,43],[34,0,34,1],[34,2,34,16],[34,17,34,19],[34,20,34,25],[34,26,34,31],[34,32,34,37],[34,38,34,43],[33,0,33,1],[33,2,33,16],[33,17,33,19],[33,20,33,25],[33,26,33,31],[39,32,39,37],[39,38,39,43],[40,0,40,1],[40,2,40,16],[40,17,40,19],[40,20,40,25],[40,26,40,31],[40,32,40,37],[40,38,40,43],[39,0,39,1],[39,2,39,16],[39,17,39,19],[39,20,39,25],[39,26,39,31],[37,32,37,37],[37,38,37,43],[38,0,38,1],[38,2,38,16],[38,17,38,19],[38,20,38,25],[38,26,38,31],[38,32,38,37],[38,38,38,43],[37,0,37,1],[37,2,37,16],[37,17,37,19],[37,20,37,25],[37,26,37,31],[43,32,43,37],[43,38,43,43],[44,0,44,1],[44,2,44,16],[44,17,44,19],[44,20,44,25],[44,26,44,31],[44,32,44,37],[44,38,44,43],[43,0,43,1],[43,2,43,16],[43,17,43,19],[43,20,43,25],[43,26,43,31],[41,32,41,37],[41,38,41,43],[42,0,42,1],[42,2,42,16],[42,17,42,19],[42,20,42,25],[42,26,42,31],[42,32,42,37],[42,38,42,43],[41,0,41,1],[41,2,41,16],[41,17,41,19],[41,20,41,25],[41,26,41,31],[47,32,47,37],[47,38,47,43],[48,0,48,1],[48,2,48,16],[48,17,48,19],[48,20,48,25],[48,26,48,31],[48,32,48,37],[48,38,48,43],[47,0,47,1],[47,2,47,16],[47,17,47,19],[47,20,47,25],[47,26,47,31],[45,32,45,37],[45,38,45,43],[46,0,46,1],[46,2,46,16],[46,17,46,19],[46,20,46,25],[46,26,46,31],[46,32,46,37],[46,38,46,43],[45,0,45,1],[45,2,45,16],[45,17,45,19],[45,20,45,25],[45,26,45,31],[51,32,51,37],[51,38,51,43],[52,0,52,1],[52,2,52,16],[52,17,52,19],[52,20,52,25],[52,26,52,31],[52,32,52,37],[52,38,52,43],[51,0,51,1],[51,2,51,16],[51,17,51,19],[51,20,51,25],[51,26,51,31],[49,32,49,37],[49,38,49,43],[50,0,50,1],[50,2,50,16],[50,17,50,19],[50,20,50,25],[50,26,50,31],[50,32,50,37],[50,38,50,43],[49,0,49,1],[49,2,49,16],[49,17,49,19],[49,20,49,25],[49,26,49,31],[55,32,55,37],[55,38,55,43],[56,0,56,1],[56,2,56,16],[56,17,56,19],[56,20,56,25],[56,26,56,31],[56,32,56,37],[56,38,56,43],[55,0,55,1],[55,2,55,16],[55,17,55,19],[55,20,55,25],[55,26,55,31],[53,32,53,37],[53,38,53,43],[54,0,54,1],[54,2,54,16],[54,17,54,19],[54,20,54,25],[54,26,54,31],[54,32,54,37],[54,38,54,43],[53,0,53,1],[53,2,53,16],[53,17,53,19],[53,20,53,25],[53,26,53,31],[59,32,59,37],[59,38,59,43],[60,0,60,1],[60,2,60,16],[60,17,60,19],[60,20,60,25],[60,26,60,31],[60,32,60,37],[60,38,60,43],[59,0,59,1],[59,2,59,16],[59,17,59,19],[59,20,59,25],[59,26,59,31],[57,32,57,37],[57,38,57,43],[58,0,58,1],[58,2,58,16],[58,17,58,19],[58,20,58,25],[58,26,58,31],[58,32,58,37],[58,38,58,43],[57,0,57,1],[57,2,57,16],[57,17,57,19],[57,20,57,25],[57,26,57,31],[63,32,63,37],[63,38,63,43],[64,0,64,1],[64,2,64,16],[64,17,64,19],[64,20,64,25],[64,26,64,31],[64,32,64,37],[64,38,64,43],[63,0,63,1],[63,2,63,16],[63,17,63,19],[63,20,63,25],[63,26,63,31],[61,32,61,37],[61,38,61,43],[62,0,62,1],[62,2,62,16],[62,17,62,19],[62,20,62,25],[62,26,62,31],[62,32,62,37],[62,38,62,43],[61,0,61,1],[61,2,61,16],[61,17,61,19],[61,20,61,25],[61,26,61,31],[67,32,67,37],[67,38,67,43],[68,0,68,1],[68,2,68,16],[68,17,68,19],[68,20,68,25],[68,26,68,31],[68,32,68,37],[68,38,68,43],[67,0,67,1],[67,2,67,16],[67,17,67,19],[67,20,67,25],[67,26,67,31],[65,32,65,37],[65,38,65,43],[66,0,66,1],[66,2,66,16],[66,17,66,19],[66,20,66,25],[66,26,66,31],[66,32,66,37],[66,38,66,43],[65,0,65,1],[65,2,65,16],[65,17,65,19],[65,20,65,25],[65,26,65,31],[71,32,71,37],[71,38,71,43],[72,0,72,1],[72,2,72,16],[72,17,72,19],[72,20,72,25],[72,26,72,31],[72,32,72,37],[72,38,72,43],[71,0,71,1],[71,2,71,16],[71,17,71,19],[71,20,71,25],[71,26,71,31],[69,32,69,37],[69,38,69,43],[70,0,70,1],[70,2,70,16],[70,17,70,19],[70,20,70,25],[70,26,70,31],[70,32,70,37],[70,38,70,43],[69,0,69,1],[69,2,69,16],[69,17,69,19],[69,20,69,25],[69,26,69,31],[75,32,75,37],[75,38,75,43],[76,0,76,1],[76,2,76,16],[76,17,76,19],[76,20,76,25],[76,26,76,31],[76,32,76,37],[76,38,76,43],[75,0,75,1],[75,2,75,16],[75,17,75,19],[75,20,75,25],[75,26,75,31],[73,32,73,37],[73,38,73,43],[74,0,74,1],[74,2,74,16],[74,17,74,19],[74,20,74,25],[74,26,74,31],[74,32,74,37],[74,38,74,43],[73,0,73,1],[73,2,73,16],[73,17,73,19],[73,20,73,25],[73,26,73,31],[79,32,79,37],[79,38,79,43],[80,0,80,1],[80,2,80,16],[80,17,80,19],[80,20,80,25],[80,26,80,31],[80,32,80,37],[80,38,80,43],[79,0,79,1],[79,2,79,16],[79,17,79,19],[79,20,79,25],[79,26,79,31],[77,32,77,37],[77,38,77,43],[78,0,78,1],[78,2,78,16],[78,17,78,19],[78,20,78,25],[78,26,78,31],[78,32,78,37],[78,38,78,43],[77,0,77,1],[77,2,77,16],[77,17,77,19],[77,20,77,25],[77,26,77,31],[83,32,83,37],[83,38,83,43],[84,0,84,1],[84,2,84,16],[84,17,84,19],[84,20,84,25],[84,26,84,31],[84,32,84,37],[84,38,84,43],[83,0,83,1],[83,2,83,16],[83,17,83,19],[83,20,83,25],[83,26,83,31],[81,32,81,37],[81,38,81,43],[82,0,82,1],[82,2,82,16],[82,17,82,19],[82,20,82,25],[82,26,82,31],[82,32,82,37],[82,38,82,43],[81,0,81,1],[81,2,81,16],[81,17,81,19],[81,20,81,25],[81,26,81,31],[87,32,87,37],[87,38,87,43],[88,0,88,1],[88,2,88,16],[88,17,88,19],[88,20,88,25],[88,26,88,31],[88,32,88,37],[88,38,88,43],[87,0,87,1],[87,2,87,16],[87,17,87,19],[87,20,87,25],[87,26,87,31],[85,32,85,37],[85,38,85,43],[86,0,86,1],[86,2,86,16],[86,17,86,19],[86,20,86,25],[86,26,86,31],[86,32,86,37],[86,38,86,43],[85,0,85,1],[85,2,85,16],[85,17,85,19],[85,20,85,25],[85,26,85,31],[91,32,91,37],[91,38,91,43],[92,0,92,1],[92,2,92,16],[92,17,92,19],[92,20,92,25],[92,26,92,31],[92,32,92,37],[92,38,92,43],[91,0,91,1],[91,2,91,16],[91,17,91,19],[91,20,91,25],[91,26,91,31],[89,32,89,37],[89,38,89,43],[90,0,90,1],[90,2,90,16],[90,17,90,19],[90,20,90,25],[90,26,90,31],[90,32,90,37],[90,38,90,43],[89,0,89,1],[89,2,89,16],[89,17,89,19],[89,20,89,25],[89,26,89,31],[95,32,95,37],[95,38,95,43],[96,0,96,1],[96,2,96,16],[96,17,96,19],[96,20,96,25],[96,26,96,31],[96,32,96,37],[96,38,96,43],[95,0,95,1],[95,2,95,16],[95,17,95,19],[95,20,95,25],[95,26,95,31],[93,32,93,37],[93,38,93,43],[94,0,94,1],[94,2,94,16],[94,17,94,19],[94,20,94,25],[94,26,94,31],[94,32,94,37],[94,38,94,43],[93,0,93,1],[93,2,93,16],[93,17,93,19],[93,20,93,25],[93,26,93,31],[99,32,99,37],[99,38,99,43],[100,0,100,1],[100,2,100,16],[100,17,100,19],[100,20,100,25],[100,26,100,31],[100,32,100,37],[100,38,100,43],[99,0,99,1],[99,2,99,16],[99,17,99,19],[99,20,99,25],[99,26,99,31],[97,32,97,37],[97,38,97,43],[98,0,98,1],[98,2,98,16],[98,17,98,19],[98,20,98,25],[98,26,98,31],[98,32,98,37],[98,38,98,43],[97,0,97,1],[97,2,97,16],[97,17,97,19],[97,20,97,25],[97,26,97,31],[103,32,103,37],[103,38,103,43],[104,0,104,1],[104,2,104,16],[104,17,104,19],[104,20,104,25],[104,26,104,31],[104,32,104,37],[104,38,104,43],[103,0,103,1],[103,2,103,16],[103,17,103,19],[103,20,103,25],[103,26,103,31],[101,32,101,37],[101,38,101,43],[102,0,102,1],[102,2,102,16],[102,17,102,19],[102,20,102,25],[102,26,102,31],[102,32,102,37],[102,38,102,43],[101,0,101,1],[101,2,101,16],[101,17,101,19],[101,20,101,25],[101,26,101,31],[107,32,107,37],[107,38,107,43],[108,0,108,1],[108,2,108,16],[108,17,108,19],[108,20,108,25],[108,26,108,31],[108,32,108,37],[108,38,108,43],[107,0,107,1],[107,2,107,16],[107,17,107,19],[107,20,107,25],[107,26,107,31],[105,32,105,37],[105,38,105,43],[106,0,106,1],[106,2,106,16],[106,17,106,19],[106,20,106,25],[106,26,106,31],[106,32,106,37],[106,38,106,43],[105,0,105,1],[105,2,105,16],[105,17,105,19],[105,20,105,25],[105,26,105,31],[111,32,111,37],[111,38,111,43],[112,0,112,1],[112,2,112,16],[112,17,112,19],[112,20,112,25],[112,26,112,31],[112,32,112,37],[112,38,112,43],[111,0,111,1],[111,2,111,16],[111,17,111,19],[111,20,111,25],[111,26,111,31],[109,32,109,37],[109,38,109,43],[110,0,110,1],[110,2,110,16],[110,17,110,19],[110,20,110,25],[110,26,110,31],[110,32,110,37],[110,38,110,43],[109,0,109,1],[109,2,109,16],[109,17,109,19],[109,20,109,25],[109,26,109,31],[115,32,115,37],[115,38,115,43],[116,0,116,1],[116,2,116,16],[116,17,116,19],[116,20,116,25],[116,26,116,31],[116,32,116,37],[116,38,116,43],[115,0,115,1],[115,2,115,16],[115,17,115,19],[115,20,115,25],[115,26,115,31],[113,32,113,37],[113,38,113,43],[114,0,114,1],[114,2,114,16],[114,17,114,19],[114,20,114,25],[114,26,114,31],[114,32,114,37],[114,38,114,43],[113,0,113,1],[113,2,113,16],[113,17,113,19],[113,20,113,25],[113,26,113,31],[119,32,119,37],[119,38,119,43],[120,0,120,1],[120,2,120,16],[120,17,120,19],[120,20,120,25],[120,26,120,31],[120,32,120,37],[120,38,120,43],[119,0,119,1],[119,2,119,16],[119,17,119,19],[119,20,119,25],[119,26,119,31],[117,32,117,37],[117,38,117,43],[118,0,118,1],[118,2,118,16],[118,17,118,19],[118,20,118,25],[118,26,118,31],[118,32,118,37],[118,38,118,43],[117,0,117,1],[117,2,117,16],[117,17,117,19],[117,20,117,25],[117,26,117,31],[123,32,123,37],[123,38,123,43],[124,0,124,1],[124,2,124,16],[124,17,124,19],[124,20,124,25],[124,26,124,31],[124,32,124,37],[124,38,124,43],[123,0,123,1],[123,2,123,16],[123,17,123,19],[123,20,123,25],[123,26,123,31],[121,32,121,37],[121,38,121,43],[122,0,122,1],[122,2,122,16],[122,17,122,19],[122,20,122,25],[122,26,122,31],[122,32,122,37],[122,38,122,43],[121,0,121,1],[121,2,121,16],[121,17,121,19],[121,20,121,25],[121,26,121,31],[127,32,127,37],[127,38,127,43],[128,0,128,1],[128,2,128,16],[128,17,128,19],[128,20,128,25],[128,26,128,31],[128,32,128,37],[128,38,128,43],[127,0,127,1],[127,2,127,16],[127,17,127,19],[127,20,127,25],[127,26,127,31],[125,32,125,37],[125,38,125,43],[126,0,126,1],[126,2,126,16],[126,17,126,19],[126,20,126,25],[126,26,126,31],[126,32,126,37],[126,38,126,43],[125,0,125,1],[125,2,125,16],[125,17,125,19],[125,20,125,25],[125,26,125,31],[131,32,131,37],[131,38,131,43],[132,0,132,1],[132,2,132,16],[132,17,132,19],[132,20,132,25],[132,26,132,31],[132,32,132,37],[132,38,132,43],[131,0,131,1],[131,2,131,16],[131,17,131,19],[131,20,131,25],[131,26,131,31],[129,32,129,37],[129,38,129,43],[130,0,130,1],[130,2,130,16],[130,17,130,19],[130,20,130,25],[130,26,130,31],[130,32,130,37],[130,38,130,43],[129,0,129,1],[129,2,129,16],[129,17,129,19],[129,20,129,25],[129,26,129,31],[135,32,135,37],[135,38,135,43],[136,0,136,1],[136,2,136,16],[136,17,136,19],[136,20,136,25],[136,26,136,31],[136,32,136,37],[136,38,136,43],[135,0,135,1],[135,2,135,16],[135,17,135,19],[135,20,135,25],[135,26,135,31],[133,32,133,37],[133,38,133,43],[134,0,134,1],[134,2,134,16],[134,17,134,19],[134,20,134,25],[134,26,134,31],[134,32,134,37],[134,38,134,43],[133,0,133,1],[133,2,133,16],[133,17,133,19],[133,20,133,25],[133,26,133,31],[139,32,139,37],[139,38,139,43],[140,0,140,1],[140,2,140,16],[140,17,140,19],[140,20,140,25],[140,26,140,31],[140,32,140,37],[140,38,140,43],[139,0,139,1],[139,2,139,16],[139,17,139,19],[139,20,139,25],[139,26,139,31],[137,32,137,37],[137,38,137,43],[138,0,138,1],[138,2,138,16],[138,17,138,19],[138,20,138,25],[138,26,138,31],[138,32,138,37],[138,38,138,43],[137,0,137,1],[137,2,137,16],[137,17,137,19],[137,20,137,25],[137,26,137,31],[143,32,143,37],[143,38,143,43],[144,0,144,1],[144,2,144,16],[144,17,144,19],[144,20,144,25],[144,26,144,31],[144,32,144,37],[144,38,144,43],[143,0,143,1],[143,2,143,16],[143,17,143,19],[143,20,143,25],[143,26,143,31],[141,32,141,37],[141,38,141,43],[142,0,142,1],[142,2,142,16],[142,17,142,19],[142,20,142,25],[142,26,142,31],[142,32,142,37],[142,38,142,43],[141,0,141,1],[141,2,141,16],[141,17,141,19],[141,20,141,25],[141,26,141,31],[147,32,147,37],[147,38,147,43],[148,0,148,1],[148,2,148,16],[148,17,148,19],[148,20,148,25],[148,26,148,31],[148,32,148,37],[148,38,148,43],[147,0,147,1],[147,2,147,16],[147,17,147,19],[147,20,147,25],[147,26,147,31],[145,32,145,37],[145,38,145,43],[146,0,146,1],[146,2,146,16],[146,17,146,19],[146,20,146,25],[146,26,146,31],[146,32,146,37],[146,38,146,43],[145,0,145,1],[145,2,145,16],[145,17,145,19],[145,20,145,25],[145,26,145,31],[151,32,151,37],[151,38,151,43],[152,0,152,1],[152,2,152,16],[152,17,152,19],[152,20,152,25],[152,26,152,31],[152,32,152,37],[152,38,152,43],[151,0,151,1],[151,2,151,16],[151,17,151,19]],"merged_total":6945,"flags":["merged_cut"]}
[null,null,null,null,null,null,null,null,null,"HiBa Gelände - Erfassungsliste\nPist obst terrain / Liste d'enregistrement - Pist osta terrano / Lista di registrazione"]
[]
[]
[]
["Nr. \nNo. - No.",null,"Name / Vorname\nNom / Prénom - Nome / Prenome",null,null,null,null,null,null,null,null,null,null,null,null,null,null,"Geschlecht\nSexe - Sexe",null,null,"Versuch 1\nEssai 1 - Prova 1",null,null,null,null,null,"Versuch 2\nEssai 2 - Prova 2",null,null,null,null,null,"Versuch 3\nEssai 3 - Prova 3",null,null,null,null,null,"Bester\nMeilleur - Migliore"]
[]
[]
[]
[]
[{"$f":"IF(Masterblatt!A2=\"\",\"\",Masterblatt!A2)","v":1},null,{"$f":"IF(AND(Masterblatt!B2=\"\",Masterblatt!C2=\"\"),\"\",Masterblatt!B2 & \" \" & Masterblatt!C2)","v":""},null,null,null,null,null,null,null,null,null,null,null,null,null,null,{"$f":"IF(Masterblatt!F2=\"\",\"\",Masterblatt!F2)","v":""}]
[{"$f":"IF(Masterblatt!A3=\"\",\"\",Masterblatt!A3)","v":2},null,{"$f":"IF(AND(Masterblatt!B3=\"\",Masterblatt!C3=\"\"),\"\",Masterblatt!B3 & \" \" & Masterblatt!C3)","v":""},null,null,null,null,null,null,null,null,null,null,null,null,null,null,{"$f":"IF(Masterblatt!F3=\"\",\"\",Masterblatt!F3)","v":""}]
[{"$f":"IF(Masterblatt!A4=\"\",\"\",Masterblatt!A4)","v":3},null,{"$f":"IF(AND(Masterblatt!B4=\"\",Masterblatt!C4=\"\"),\"\",Masterblatt!B4 & \" \" & Masterblatt!C4)","v":""},null,null,null,null,null,null,null,null,null,null,null,null,null,null,{"$f":"IF(Masterblatt!F4=\"\",\"\",Masterblatt!F4)","v":""}]
[{"$f":"IF(Masterblatt!A5=\"\",\"\",Masterblatt!A5)","v":4},null,{"$f":"IF(AND(Masterblatt!B5=\"\",Masterblatt!C5=\"\"),\"\",Masterblatt!B5 & \" \" & Masterblatt!C5)","v":""},null,null,null,null,null,null,null,null,null,null,null,null,null,null,{"$f":"IF(Masterblatt!F5=\"\",\"\",Masterblatt!F5)","v":""}]
[{"$f":"IF(Masterblatt!A6=\"\",\"\",Masterblatt!A6)","v":5},null,{"$f":"IF(AND(Masterblatt!B6=\"\",Masterblatt!C6=\"\"),\"\",Masterblatt!B6 & \" \" & Masterblatt!C6)","v":""},null,null,null,null,null,null,null,null,null,null,null,null,null,null,{"$f":"IF(Masterblatt!F6=\"\",\"\",Masterblatt!F6)","v":""}]
[{"$f":"IF(Masterblatt!A7=\"\",\"\",Masterblatt!A7)","v":6},null,{"$f":"IF(AND(Masterblatt!B7=\"\",Masterblatt!C7=\"\"),\"\",Masterblatt!B7 & \" \" & Masterblatt!C7)","v":""},null,null,null,null,null,null,null,null,null,null,null,null,null,null,{"$f":"IF(Masterblatt!F7=\"\",\"\",Masterblatt!F7)","v":""}]
[{"$f":"IF(Masterblatt!A8=\"\",\"\",Masterblatt!A8)","v":7},null,{"$f":"IF(AND(Masterblatt!B8=\"\",Masterblatt!C8=\"\"),\"\",Masterblatt!B8 & \" \" & Masterblatt!C8)","v":""},null,null,null,null,null,null,null,null,null,null,null,null,null,null,{"$f":"IF(Masterblatt!F8=\"\",\"\",Masterblatt!F8)","v":""}]
[{"$f":"IF(Masterblatt!A9=\"\",\"\",Masterblatt!A9)","v":8},null,{"$f":"IF(AND(Masterblatt!B9=\"\",Masterblatt!C9=\"\"),\"\",Masterblatt!B9 & \" \" & Masterblatt!C9)","v":""},null,null,null,null,null,null,null,null,null,null,null,null,null,null,{"$f":"IF(Masterblatt!F9=\"\",\"\",Masterblatt!F9)","v":""}]
[{"$f":"IF(Masterblatt!A10=\"\",\"\",Masterblatt!A10)","v":9},null,{"$f":"IF(AND(Masterblatt!B10=\"\",Masterblatt!C10=\"\"),\"\",Masterblatt!B10 & \" \" & Masterblatt!C10)","v":""},null,null,null,null,null,null,null,null,null,null,null,null,null,null,{"$f":"IF(Masterblatt!F10=\"\",\"\",Masterblatt!F10)","v":""}]
[{"$f":"IF(Masterblatt!A11=\"\",\"\",Masterblatt!A11)","v":10},null,{"$f":"IF(AND(Masterblatt!B11=\"\",Masterblatt!C11=\"\"),\"\",Masterblatt!B11 & \" \" & Masterblatt!C11)","v":""},null,null,null,null,null,null,null,null,null,null,null,null,null,null,{"$f":"IF(Masterblatt!F11=\"\",\"\",Masterblatt!F11)","v":""}]
[{"$f":"IF(Masterblatt!A12=\"\",\"\",Masterblatt!A12)","v":11},null,{"$f":"IF(AND(Masterblatt!B12=\"\",Masterblatt!C12=\"\"),\"\",Masterblatt!B12 & \" \" & Masterblatt!C12)","v":""},null,null,null,null,null,null,null,null,null,null,null,null,null,null,{"$f":"IF(Masterblatt!F12=\"\",\"\",Masterblatt!F12)","v":""}]
[{"$f":"IF(Masterblatt!A13=\"\",\"\",Masterblatt!A13)","v":12},null,{"$f":"IF(AND(Masterblatt!B13=\"\",Masterblatt!C13=\"\"),\"\",Masterblatt!B13 & \" \" & Masterblatt!C13)","v":""},null,null,null,null,null,null,null,null,null,null,null,null,null,null,{"$f":"IF(Masterblatt!F13=\"\",\"\",Masterblatt!F13)","v":""}]
[{"$f":"IF(Masterblatt!A14=\"\",\"\",Masterblatt!A14)","v":13},null,{"$f":"IF(AND(Masterblatt!B14=\"\",Masterblatt!C14=\"\"),\"\",Masterblatt!B14 & \" \" & Masterblatt!C14)","v":""},null,null,null,null,null,null,null,null,null,null,null,null,null,null,{"$f":"IF(Masterblatt!F14=\"\",\"\",Masterblatt!F14)","v":""}]
[{"$f":"IF(Masterblatt!A15=\"\",\"\",Masterblatt!A15)","v":14},null,{"$f":"IF(AND(Masterblatt!B15=\"\",Masterblatt!C15=\"\"),\"\",Masterblatt!B15 & \" \" & Masterblatt!C15)","v":""},null,null,null,null,null,null,null,null,null,null,null,null,null,null,{"$f":"IF(Masterblatt!F15=\"\",\"\",Masterblatt!F15)","v":""}]
[{"$f":"IF(Masterblatt!A16=\"\",\"\",Masterblatt!A16)","v":15},null,{"$f":"IF(AND(Masterblatt!B16=\"\",Masterblatt!C16=\"\"),\"\",Masterblatt!B16 & \" \" & Masterblatt!C16)","v":""},null,null,null,null,null,null,null,null,null,null,null,null,null,null,{"$f":"IF(Masterblatt!F16=\"\",\"\",Masterblatt!F16)","v":""}]
[{"$f":"IF(Masterblatt!A17=\"\",\"\",Masterblatt!A17)","v":16},null,{"$f":"IF(AND(Masterblatt!B17=\"\",Masterblatt!C17=\"\"),\"\",Masterblatt!B17 & \" \" & Masterblatt!C17)","v":""},null,null,null,null,null,null,null,null,null,null,null,null,null,null,{"$f":"IF(Masterblatt!F17=\"\",\"\",Masterblatt!F17)","v":""}]
[{"$f":"IF(Masterblatt!A18=\"\",\"\",Masterblatt!A18)","v":17},null,{"$f":"IF(AND(Masterblatt!B18=\"\",Masterblatt!C18=\"\"),\"\",Masterblatt!B18 & \" \" & Masterblatt!C18)","v":""},null,null,null,null,null,null,null,null,null,null,null,null,null,null,{"$f":"IF(Masterblatt!F18=\"\",\"\",Masterblatt!F18)","v":""}]
[{"$f":"IF(Masterblatt!A19=\"\",\"\",Masterblatt!A19)","v":18},null,{"$f":"IF(AND(Masterblatt!B19=\"\",Masterblatt!C19=\"\"),\"\",Masterblatt!B19 & \" \" & Masterblatt!C19)","v":""},null,null,null,null,null,null,null,null,null,null,null,null,null,null,{"$f":"IF(Masterblatt!F19=\"\",\"\",Masterblatt!F19)","v":""}]
[{"$f":"IF(Masterblatt!A20=\"\",\"\",Masterblatt!A20)","v":19},null,{"$f":"IF(AND(Masterblatt!B20=\"\",Masterblatt!C20=\"\"),\"\",Masterblatt!B20 & \" \" & Masterblatt!C20)","v":""},null,null,null,null,null,null,null,null,null,null,null,null,null,null,{"$f":"IF(Masterblatt!F20=\"\",\"\",Masterblatt!F20)","v":""}]
[{"$f":"IF(Masterblatt!A21=\"\",\"\",Masterblatt!A21)","v":20},null,{"$f":"IF(AND(Masterblatt!B21=\"\",Masterblatt!C21=\"\"),\"\",Masterblatt!B21 & \" \" & Masterblatt!C21)","v":""},null,null,null,null,null,null,null,null,null,null,null,null,null,null,{"$f":"IF(Masterblatt!F21=\"\",\"\",Masterblatt!F21)","v":""}]
[{"$f":"IF(Masterblatt!A22=\"\",\"\",Masterblatt!A22)","v":21},null,{"$f":"IF(AND(Masterblatt!B22=\"\",Masterblatt!C22=\"\"),\"\",Masterblatt!B22 & \" \" & Masterblatt!C22)","v":""},null,null,null,null,null,null,null,null,null,null,null,null,null,null,{"$f":"IF(Masterblatt!F22=\"\",\"\",Masterblatt!F22)","v":""}]
[{"$f":"IF(Masterblatt!A23=\"\",\"\",Masterblatt!A23)","v":22},null,{"$f":"IF(AND(Masterblatt!B23=\"\",Masterblatt!C23=\"\"),\"\",Masterblatt!B23 & \" \" & Masterblatt!C23)","v":""},null,null,null,null,null,null,null,null,null,null,null,null,null,null,{"$f":"IF(Masterblatt!F23=\"\",\"\",Masterblatt!F23)","v":""}]
[{"$f":"IF(Masterblatt!A24=\"\",\"\",Masterblatt!A24)","v":23},null,{"$f":"IF(AND(Masterblatt!B24=\"\",Masterblatt!C24=\"\"),\"\",Masterblatt!B24 & \" \" & Masterblatt!C24)","v":""},null,null,null,null,null,null,null,null,null,null,null,null,null,null,{"$f":"IF(Masterblatt!F24=\"\",\"\",Masterblatt!F24)","v":""}]
[{"$f":"IF(Masterblatt!A25=\"\",\"\",Masterblatt!A25)","v":24},null,{"$f":"IF(AND(Masterblatt!B25=\"\",Masterblatt!C25=\"\"),\"\",Masterblatt!B25 & \" \" & Masterblatt!C25)","v":""},null,null,null,null,null,null,null,null,null,null,null,null,null,null,{"$f":"IF(Masterblatt!F25=\"\",\"\",Masterblatt!F25)","v":""}]
[{"$f":"IF(Masterblatt!A26=\"\",\"\",Masterblatt!A26)","v":25},null,{"$f":"IF(AND(Masterblatt!B26=\"\",Masterblatt!C26=\"\"),\"\",Masterblatt!B26 & \" \" & Masterblatt!C26)","v":""},null,null,null,null,null,null,null,null,null,null,null,null,null,null,{"$f":"IF(Masterblatt!F26=\"\",\"\",Masterblatt!F26)","v":""}]
[{"$f":"IF(Masterblatt!A27=\"\",\"\",Masterblatt!A27)","v":26},null,{"$f":"IF(AND(Masterblatt!B27=\"\",Masterblatt!C27=\"\"),\"\",Masterblatt!B27 & \" \" & Masterblatt!C27)","v":""},null,null,null,null,null,null,null,null,null,null,null,null,null,null,{"$f":"IF(Masterblatt!F27=\"\",\"\",Masterblatt!F27)","v":""}]
[{"$f":"IF(Masterblatt!A28=\"\",\"\",Masterblatt!A28)","v":27},null,{"$f":"IF(AND(Masterblatt!B28=\"\",Masterblatt!C28=\"\"),\"\",Masterblatt!B28 & \" \" & Masterblatt!C28)","v":""},null,null,null,null,null,null,null,null,null,null,null,null,null,null,{"$f":"IF(Masterblatt!F28=\"\",\"\",Masterblatt!F28)","v":""}]
[{"$f":"IF(Masterblatt!A29=\"\",\"\",Masterblatt!A29)","v":28},null,{"$f":"IF(AND(Masterblatt!B29=\"\",Masterblatt!C29=\"\"),\"\",Masterblatt!B29 & \" \" & Masterblatt!C29)","v":""},null,null,null,null,null,null,null,null,null,null,null,null,null,null,{"$f":"IF(Masterblatt!F29=\"\",\"\",Masterblatt!F29)","v":""}]
[{"$f":"IF(Masterblatt!A30=\"\",\"\",Masterblatt!A30)","v":29},null,{"$f":"IF(AND(Masterblatt!B30=\"\",Masterblatt!C30=\"\"),\"\",Masterblatt!B30 & \" \" & Masterblatt!C30)","v":""},null,null,null,null,null,null,null,null,null,null,null,null,null,null,{"$f":"IF(Masterblatt!F30=\"\",\"\",Masterblatt!F30)","v":""}]
[{"$f":"IF(Masterblatt!A31=\"\",\"\",Masterblatt!A31)","v":30},null,{"$f":"IF(AND(Masterblatt!B31=\"\",Masterblatt!C31=\"\"),\"\",Masterblatt!B31 & \" \" & Masterblatt!C31)","v":""},null,null,null,null,null,null,null,null,null,null,null,null,null,null,{"$f":"IF(Masterblatt!F31=\"\",\"\",Masterblatt!F31)","v":""}]
[{"$f":"IF(Masterblatt!A32=\"\",\"\",Masterblatt!A32)","v":31},null,{"$f":"IF(AND(Masterblatt!B32=\"\",Masterblatt!C32=\"\"),\"\",Masterblatt!B32 & \" \" & Masterblatt!C32)","v":""},null,null,null,null,null,null,null,null,null,null,null,null,null,null,{"$f":"IF(Masterblatt!F32=\"\",\"\",Masterblatt!F32)","v":""}]
[{"$f":"IF(Masterblatt!A33=\"\",\"\",Masterblatt!A33)","v":32},null,{"$f":"IF(AND(Masterblatt!B33=\"\",Masterblatt!C33=\"\"),\"\",Masterblatt!B33 & \" \" & Masterblatt!C33)","v":""},null,null,null,null,null,null,null,null,null,null,null,null,null,null,{"$f":"IF(Masterblatt!F33=\"\",\"\",Masterblatt!F33)","v":""}]
[{"$f":"IF(Masterblatt!A34=\"\",\"\",Masterblatt!A34)","v":33},null,{"$f":"IF(AND(Masterblatt!B34=\"\",Masterblatt!C34=\"\"),\"\",Masterblatt!B34 & \" \" & Masterblatt!C34)","v":""},null,null,null,null,null,null,null,null,null,null,null,null,null,null,{"$f":"IF(Masterblatt!F34=\"\",\"\",Masterblatt!F34)","v":""}]
[{"$f":"IF(Masterblatt!A35=\"\",\"\",Masterblatt!A35)","v":34},null,{"$f":"IF(AND(Masterblatt!B35=\"\",Masterblatt!C35=\"\"),\"\",Masterblatt!B35 & \" \" & Masterblatt!C35)","v":""},null,null,null,null,null,null,null,null,null,null,null,null,null,null,{"$f":"IF(Masterblatt!F35=\"\",\"\",Masterblatt!F35)","v":""}]
[{"$f":"IF(Masterblatt!A36=\"\",\"\",Masterblatt!A36)","v":35},null,{"$f":"IF(AND(Masterblatt!B36=\"\",Masterblatt!C36=\"\"),\"\",Masterblatt!B36 & \" \" & Masterblatt!C36)","v":""},null,null,null,null,null,null,null,null,null,null,null,null,null,null,{"$f":"IF(Masterblatt!F36=\"\",\"\",Masterblatt!F36)","v":""}]
[{"$f":"IF(Masterblatt!A37=\"\",\"\",Masterblatt!A37)","v":36},null,{"$f":"IF(AND(Masterblatt!B37=\"\",Masterblatt!C37=\"\"),\"\",Masterblatt!B37 & \" \" & Masterblatt!C37)","v":""},null,null,null,null,null,null,null,null,null,null,null,null,null,null,{"$f":"IF(Masterblatt!F37=\"\",\"\",Masterblatt!F37)","v":""}]
[{"$f":"IF(Masterblatt!A38=\"\",\"\",Masterblatt!A38)","v":37},null,{"$f":"IF(AND(Masterblatt!B38=\"\",Masterblatt!C38=\"\"),\"\",Masterblatt!B38 & \" \" & Masterblatt!C38)","v":""},null,null,null,null,null,null,null,null,null,null,null,null,null,null,{"$f":"IF(Masterblatt!F38=\"\",\"\",Masterblatt!F38)","v":""}]
[{"$f":"IF(Masterblatt!A39=\"\",\"\",Masterblatt!A39)","v":38},null,{"$f":"IF(AND(Masterblatt!B39=\"\",Masterblatt!C39=\"\"),\"\",Masterblatt!B39 & \" \" & Masterblatt!C39)","v":""},null,null,null,null,null,null,null,null,null,null,null,null,null,null,{"$f":"IF(Masterblatt!F39=\"\",\"\",Masterblatt!F39)","v":""}]
[{"$f":"IF(Masterblatt!A40=\"\",\"\",Masterblatt!A40)","v":39},null,{"$f":"IF(AND(Masterblatt!B40=\"\",Masterblatt!C40=\"\"),\"\",Masterblatt!B40 & \" \" & Masterblatt!C40)","v":""},null,null,null,null,null,null,null,null,null,null,null,null,null,null,{"$f":"IF(Masterblatt!F40=\"\",\"\",Masterblatt!F40)","v":""}]
[{"$f":"IF(Masterblatt!A41=\"\",\"\",Masterblatt!A41)","v":40},null,{"$f":"IF(AND(Masterblatt!B41=\"\",Masterblatt!C41=\"\"),\"\",Masterblatt!B41 & \" \" & Masterblatt!C41)","v":""},null,null,null,null,null,null,null,null,null,null,null,null,null,null,{"$f":"IF(Masterblatt!F41=\"\",\"\",Masterblatt!F41)","v":""}]
[{"$f":"IF(Masterblatt!A42=\"\",\"\",Masterblatt!A42)","v":41},null,{"$f":"IF(AND(Masterblatt!B42=\"\",Masterblatt!C42=\"\"),\"\",Masterblatt!B42 & \" \" & Masterblatt!C42)","v":""},null,null,null,null,null,null,null,null,null,null,null,null,null,null,{"$f":"IF(Masterblatt!F42=\"\",\"\",Masterblatt!F42)","v":""}]
[{"$f":"IF(Masterblatt!A43=\"\",\"\",Masterblatt!A43)","v":42},null,{"$f":"IF(AND(Masterblatt!B43=\"\",Masterblatt!C43=\"\"),\"\",Masterblatt!B43 & \" \" & Masterblatt!C43)","v":""},null,null,null,null,null,null,null,null,null,null,null,null,null,null,{"$f":"IF(Masterblatt!F43=\"\",\"\",Masterblatt!F43)","v":""}]
[{"$f":"IF(Masterblatt!A44=\"\",\"\",Masterblatt!A44)","v":43},null,{"$f":"IF(AND(Masterblatt!B44=\"\",Masterblatt!C44=\"\"),\"\",Masterblatt!B44 & \" \" & Masterblatt!C44)","v":""},null,null,null,null,null,null,null,null,null,null,null,null,null,null,{"$f":"IF(Masterblatt!F44=\"\",\"\",Masterblatt!F44)","v":""}]
[{"$f":"IF(Masterblatt!A45=\"\",\"\",Masterblatt!A45)","v":44},null,{"$f":"IF(AND(Masterblatt!B45=\"\",Masterblatt!C45=\"\"),\"\",Masterblatt!B45 & \" \" & Masterblatt!C45)","v":""},null,null,null,null,null,null,null,null,null,null,null,null,null,null,{"$f":"IF(Masterblatt!F45=\"\",\"\",Masterblatt!F45)","v":""}]
[{"$f":"IF(Masterblatt!A46=\"\",\"\",Masterblatt!A46)","v":45},null,{"$f":"IF(AND(Masterblatt!B46=\"\",Masterblatt!C46=\"\"),\"\",Masterblatt!B46 & \" \" & Masterblatt!C46)","v":""},null,null,null,null,null,null,null,null,null,null,null,null,null,null,{"$f":"IF(Masterblatt!F46=\"\",\"\",Masterblatt!F46)","v":""}]
[{"$f":"IF(Masterblatt!A47=\"\",\"\",Masterblatt!A47)","v":46},null,{"$f":"IF(AND(Masterblatt!B47=\"\",Masterblatt!C47=\"\"),\"\",Masterblatt!B47 & \" \" & Masterblatt!C47)","v":""},null,null,null,null,null,null,null,null,null,null,null,null,null,null,{"$f":"IF(Masterblatt!F47=\"\",\"\",Masterblatt!F47)","v":""}]
[{"$f":"IF(Masterblatt!A48=\"\",\"\",Masterblatt!A48)","v":47},null,{"$f":"IF(AND(Masterblatt!B48=\"\",Masterblatt!C48=\"\"),\"\",Masterblatt!B48 & \" \" & Masterblatt!C48)","v":""},null,null,null,null,null,null,null,null,null,null,null,null,null,null,{"$f":"IF(Masterblatt!F48=\"\",\"\",Masterblatt!F48)","v":""}]
[{"$f":"IF(Masterblatt!A49=\"\",\"\",Masterblatt!A49)","v":48},null,{"$f":"IF(AND(Masterblatt!B49=\"\",Masterblatt!C49=\"\"),\"\",Masterblatt!B49 & \" \" & Masterblatt!C49)","v":""},null,null,null,null,null,null,null,null,null,null,null,null,null,null,{"$f":"IF(Masterblatt!F49=\"\",\"\",Masterblatt!F49)","v":""}]
[{"$f":"IF(Masterblatt!A50=\"\",\"\",Masterblatt!A50)","v":49},null,{"$f":"IF(AND(Masterblatt!B50=\"\",Masterblatt!C50=\"\"),\"\",Masterblatt!B50 & \" \" & Masterblatt!C50)","v":""},null,null,null,null,null,null,null,null,null,null,null,null,null,null,{"$f":"IF(Masterblatt!F50=\"\",\"\",Masterblatt!F50)","v":""}]
[{"$f":"IF(Masterblatt!A51=\"\",\"\",Masterblatt!A51)","v":50},null,{"$f":"IF(AND(Masterblatt!B51=\"\",Masterblatt!C51=\"\"),\"\",Masterblatt!B51 & \" \" & Masterblatt!C51)","v":""},null,null,null,null,null,null,null,null,null,null,null,null,null,null,{"$f":"IF(Masterblatt!F51=\"\",\"\",Masterblatt!F51)","v":""}]
[{"$f":"IF(Masterblatt!A52=\"\",\"\",Masterblatt!A52)","v":51},null,{"$f":"IF(AND(Masterblatt!B52=\"\",Masterblatt!C52=\"\"),\"\",Masterblatt!B52 & \" \" & Masterblatt!C52)","v":""},null,null,null,null,null,null,null,null,null,null,null,null,null,null,{"$f":"IF(Masterblatt!F52=\"\",\"\",Masterblatt!F52)","v":""}]
[{"$f":"IF(Masterblatt!A53=\"\",\"\",Masterblatt!A53)","v":52},null,{"$f":"IF(AND(Masterblatt!B53=\"\",Masterblatt!C53=\"\"),\"\",Masterblatt!B53 & \" \" & Masterblatt!C53)","v":""},null,null,null,null,null,null,null,null,null,null,null,null,null,null,{"$f":"IF(Masterblatt!F53=\"\",\"\",Masterblatt!F53)","v":""}]
[{"$f":"IF(Masterblatt!A54=\"\",\"\",Masterblatt!A54)","v":53},null,{"$f":"IF(AND(Masterblatt!B54=\"\",Masterblatt!C54=\"\"),\"\",Masterblatt!B54 & \" \" & Masterblatt!C54)","v":""},null,null,null,null,null,null,null,null,null,null,null,null,null,null,{"$f":"IF(Masterblatt!F54=\"\",\"\",Masterblatt!F54)","v":""}]
[{"$f":"IF(Masterblatt!A55=\"\",\"\",Masterblatt!A55)","v":54},null,{"$f":"IF(AND(Masterblatt!B55=\"\",Masterblatt!C55=\"\"),\"\",Masterblatt!B55 & \" \" & Masterblatt!C55)","v":""},null,null,null,null,null,null,null,null,null,null,null,null,null,null,{"$f":"IF(Masterblatt!F55=\"\",\"\",Masterblatt!F55)","v":""}]
[{"$f":"IF(Masterblatt!A56=\"\",\"\",Masterblatt!A56)","v":55},null,{"$f":"IF(AND(Masterblatt!B56=\"\",Masterblatt!C56=\"\"),\"\",Masterblatt!B56 & \" \" & Masterblatt!C56)","v":""},null,null,null,null,null,null,null,null,null,null,null,null,null,null,{"$f":"IF(Masterblatt!F56=\"\",\"\",Masterblatt!F56)","v":""}]
[{"$f":"IF(Masterblatt!A57=\"\",\"\",Masterblatt!A57)","v":56},null,{"$f":"IF(AND(Masterblatt!B57=\"\",Masterblatt!C57=\"\"),\"\",Masterblatt!B57 & \" \" & Masterblatt!C57)","v":""},null,null,null,null,null,null,null,null,null,null,null,null,null,null,{"$f":"IF(Masterblatt!F57=\"\",\"\",Masterblatt!F57)","v":""}]
[{"$f":"IF(Masterblatt!A58=\"\",\"\",Masterblatt!A58)","v":57},null,{"$f":"IF(AND(Masterblatt!B58=\"\",Masterblatt!C58=\"\"),\"\",Masterblatt!B58 & \" \" & Masterblatt!C58)","v":""},null,null,null,null,null,null,null,null,null,null,null,null,null,null,{"$f":"IF(Masterblatt!F58=\"\",\"\",Masterblatt!F58)","v":""}]
[{"$f":"IF(Masterblatt!A59=\"\",\"\",Masterblatt!A59)","v":58},null,{"$f":"IF(AND(Masterblatt!B59=\"\",Masterblatt!C59=\"\"),\"\",Masterblatt!B59 & \" \" & Masterblatt!C59)","v":""},null,null,null,null,null,null,null,null,null,null,null,null,null,null,{"$f":"IF(Masterblatt!F59=\"\",\"\",Masterblatt!F59)","v":""}]
[{"$f":"IF(Masterblatt!A60=\"\",\"\",Masterblatt!A60)","v":59},null,{"$f":"IF(AND(Masterblatt!B60=\"\",Masterblatt!C60=\"\"),\"\",Masterblatt!B60 & \" \" & Masterblatt!C60)","v":""},null,null,null,null,null,null,null,null,null,null,null,null,null,null,{"$f":"IF(Masterblatt!F60=\"\",\"\",Masterblatt!F60)","v":""}]
[{"$f":"IF(Masterblatt!A61=\"\",\"\",Masterblatt!A61)","v":60},null,{"$f":"IF(AND(Masterblatt!B61=\"\",Masterblatt!C61=\"\"),\"\",Masterblatt!B61 & \" \" & Masterblatt!C61)","v":""},null,null,null,null,null,null,null,null,null,null,null,null,null,null,{"$f":"IF(Masterblatt!F61=\"\",\"\",Masterblatt!F61)","v":""}]
[{"$f":"IF(Masterblatt!A62=\"\",\"\",Masterblatt!A62)","v":61},null,{"$f":"IF(AND(Masterblatt!B62=\"\",Masterblatt!C62=\"\"),\"\",Masterblatt!B62 & \" \" & Masterblatt!C62)","v":""},null,null,null,null,null,null,null,null,null,null,null,null,null,null,{"$f":"IF(Masterblatt!F62=\"\",\"\",Masterblatt!F62)","v":""}]
[{"$f":"IF(Masterblatt!A63=\"\",\"\",Masterblatt!A63)","v":62},null,{"$f":"IF(AND(Masterblatt!B63=\"\",Masterblatt!C63=\"\"),\"\",Masterblatt!B63 & \" \" & Masterblatt!C63)","v":""},null,null,null,null,null,null,null,null,null,null,null,null,null,null,{"$f":"IF(Masterblatt!F63=\"\",\"\",Masterblatt!F63)","v":""}]
[{"$f":"IF(Masterblatt!A64=\"\",\"\",Masterblatt!A64)","v":63},null,{"$f":"IF(AND(Masterblatt!B64=\"\",Masterblatt!C64=\"\"),\"\",Masterblatt!B64 & \" \" & Masterblatt!C64)","v":""},null,null,null,null,null,null,null,null,null,null,null,null,null,null,{"$f":"IF(Masterblatt!F64=\"\",\"\",Masterblatt!F64)","v":""}]
[{"$f":"IF(Masterblatt!A65=\"\",\"\",Masterblatt!A65)","v":64},null,{"$f":"IF(AND(Masterblatt!B65=\"\",Masterblatt!C65=\"\"),\"\",Masterblatt!B65 & \" \" & Masterblatt!C65)","v":""},null,null,null,null,null,null,null,null,null,null,null,null,null,null,{"$f":"IF(Masterblatt!F65=\"\",\"\",Masterblatt!F65)","v":""}]
[{"$f":"IF(Masterblatt!A66=\"\",\"\",Masterblatt!A66)","v":65},null,{"$f":"IF(AND(Masterblatt!B66=\"\",Masterblatt!C66=\"\"),\"\",Masterblatt!B66 & \" \" & Masterblatt!C66)","v":""},null,null,null,null,null,null,null,null,null,null,null,null,null,null,{"$f":"IF(Masterblatt!F66=\"\",\"\",Masterblatt!F66)","v":""}]
[{"$f":"IF(Masterblatt!A67=\"\",\"\",Masterblatt!A67)","v":66},null,{"$f":"IF(AND(Masterblatt!B67=\"\",Masterblatt!C67=\"\"),\"\",Masterblatt!B67 & \" \" & Masterblatt!C67)","v":""},null,null,null,null,null,null,null,null,null,null,null,null,null,null,{"$f":"IF(Masterblatt!F67=\"\",\"\",Masterblatt!F67)","v":""}]
[{"$f":"IF(Masterblatt!A68=\"\",\"\",Masterblatt!A68)","v":67},null,{"$f":"IF(AND(Masterblatt!B68=\"\",Masterblatt!C68=\"\"),\"\",Masterblatt!B68 & \" \" & Masterblatt!C68)","v":""},null,null,null,null,null,null,null,null,null,null,null,null,null,null,{"$f":"IF(Masterblatt!F68=\"\",\"\",Masterblatt!F68)","v":""}]
[{"$f":"IF(Masterblatt!A69=\"\",\"\",Masterblatt!A69)","v":68},null,{"$f":"IF(AND(Masterblatt!B69=\"\",Masterblatt!C69=\"\"),\"\",Masterblatt!B69 & \" \" & Masterblatt!C69)","v":""},null,null,null,null,null,null,null,null,null,null,null,null,null,null,{"$f":"IF(Masterblatt!F69=\"\",\"\",Masterblatt!F69)","v":""}]
[{"$f":"IF(Masterblatt!A70=\"\",\"\",Masterblatt!A70)","v":69},null,{"$f":"IF(AND(Masterblatt!B70=\"\",Masterblatt!C70=\"\"),\"\",Masterblatt!B70 & \" \" & Masterblatt!C70)","v":""},null,null,null,null,null,null,null,null,null,null,null,null,null,null,{"$f":"IF(Masterblatt!F70=\"\",\"\",Masterblatt!F70)","v":""}]
[{"$f":"IF(Masterblatt!A71=\"\",\"\",Masterblatt!A71)","v":70},null,{"$f":"IF(AND(Masterblatt!B71=\"\",Masterblatt!C71=\"\"),\"\",Masterblatt!B71 & \" \" & Masterblatt!C71)","v":""},null,null,null,null,null,null,null,null,null,null,null,null,null,null,{"$f":"IF(Masterblatt!F71=\"\",\"\",Masterblatt!F71)","v":""}]
[{"$f":"IF(Masterblatt!A72=\"\",\"\",Masterblatt!A72)","v":71},null,{"$f":"IF(AND(Masterblatt!B72=\"\",Masterblatt!C72=\"\"),\"\",Masterblatt!B72 & \" \" & Masterblatt!C72)","v":""},null,null,null,null,null,null,null,null,null,null,null,null,null,null,{"$f":"IF(Masterblatt!F72=\"\",\"\",Masterblatt!F72)","v":""}]
[{"$f":"IF(Masterblatt!A73=\"\",\"\",Masterblatt!A73)","v":72},null,{"$f":"IF(AND(Masterblatt!B73=\"\",Masterblatt!C73=\"\"),\"\",Masterblatt!B73 & \" \" & Masterblatt!C73)","v":""},null,null,null,null,null,null,null,null,null,null,null,null,null,null,{"$f":"IF(Masterblatt!F73=\"\",\"\",Masterblatt!F73)","v":""}]
[{"$f":"IF(Masterblatt!A74=\"\",\"\",Masterblatt!A74)","v":73},null,{"$f":"IF(AND(Masterblatt!B74=\"\",Masterblatt!C74=\"\"),\"\",Masterblatt!B74 & \" \" & Masterblatt!C74)","v":""},null,null,null,null,null,null,null,null,null,null,null,null,null,null,{"$f":"IF(Masterblatt!F74=\"\",\"\",Masterblatt!F74)","v":""}]
[{"$f":"IF(Masterblatt!A75=\"\",\"\",Masterblatt!A75)","v":74},null,{"$f":"IF(AND(Masterblatt!B75=\"\",Masterblatt!C75=\"\"),\"\",Masterblatt!B75 & \" \" & Masterblatt!C75)","v":""},null,null,null,null,null,null,null,null,null,null,null,null,null,null,{"$f":"IF(Masterblatt!F75=\"\",\"\",Masterblatt!F75)","v":""}]
[{"$f":"IF(Masterblatt!A76=\"\",\"\",Masterblatt!A76)","v":75},null,{"$f":"IF(AND(Masterblatt!B76=\"\",Masterblatt!C76=\"\"),\"\",Masterblatt!B76 & \" \" & Masterblatt!C76)","v":""},null,null,null,null,null,null,null,null,null,null,null,null,null,null,{"$f":"IF(Masterblatt!F76=\"\",\"\",Masterblatt!F76)","v":""}]
[{"$f":"IF(Masterblatt!A77=\"\",\"\",Masterblatt!A77)","v":76},null,{"$f":"IF(AND(Masterblatt!B77=\"\",Masterblatt!C77=\"\"),\"\",Masterblatt!B77 & \" \" & Masterblatt!C77)","v":""},null,null,null,null,null,null,null,null,null,null,null,null,null,null,{"$f":"IF(Masterblatt!F77=\"\",\"\",Masterblatt!F77)","v":""}]
[{"$f":"IF(Masterblatt!A78=\"\",\"\",Masterblatt!A78)","v":77},null,{"$f":"IF(AND(Masterblatt!B78=\"\",Masterblatt!C78=\"\"),\"\",Masterblatt!B78 & \" \" & Masterblatt!C78)","v":""},null,null,null,null,null,null,null,null,null,null,null,null,null,null,{"$f":"IF(Masterblatt!F78=\"\",\"\",Masterblatt!F78)","v":""}]
[{"$f":"IF(Masterblatt!A79=\"\",\"\",Masterblatt!A79)","v":78},null,{"$f":"IF(AND(Masterblatt!B79=\"\",Masterblatt!C79=\"\"),\"\",Masterblatt!B79 & \" \" & Masterblatt!C79)","v":""},null,null,null,null,null,null,null,null,null,null,null,null,null,null,{"$f":"IF(Masterblatt!F79=\"\",\"\",Masterblatt!F79)","v":""}]
[{"$f":"IF(Masterblatt!A80=\"\",\"\",Masterblatt!A80)","v":79},null,{"$f":"IF(AND(Masterblatt!B80=\"\",Masterblatt!C80=\"\"),\"\",Masterblatt!B80 & \" \" & Masterblatt!C80)","v":""},null,null,null,null,null,null,null,null,null,null,null,null,null,null,{"$f":"IF(Masterblatt!F80=\"\",\"\",Masterblatt!F80)","v":""}]
[{"$f":"IF(Masterblatt!A81=\"\",\"\",Masterblatt!A81)","v":80},null,{"$f":"IF(AND(Masterblatt!B81=\"\",Masterblatt!C81=\"\"),\"\",Masterblatt!B81 & \" \" & Masterblatt!C81)","v":""},null,null,null,null,null,null,null,null,null,null,null,null,null,null,{"$f":"IF(Masterblatt!F81=\"\",\"\",Masterblatt!F81)","v":""}]
[{"$f":"IF(Masterblatt!A82=\"\",\"\",Masterblatt!A82)","v":81},null,{"$f":"IF(AND(Masterblatt!B82=\"\",Masterblatt!C82=\"\"),\"\",Masterblatt!B82 & \" \" & Masterblatt!C82)","v":""},null,null,null,null,null,null,null,null,null,null,null,null,null,null,{"$f":"IF(Masterblatt!F82=\"\",\"\",Masterblatt!F82)","v":""}]
[{"$f":"IF(Masterblatt!A83=\"\",\"\",Masterblatt!A83)","v":82},null,{"$f":"IF(AND(Masterblatt!B83=\"\",Masterblatt!C83=\"\"),\"\",Masterblatt!B83 & \" \" & Masterblatt!C83)","v":""},null,null,null,null,null,null,null,null,null,null,null,null,null,null,{"$f":"IF(Masterblatt!F83=\"\",\"\",Masterblatt!F83)","v":""}]
[{"$f":"IF(Masterblatt!A84=\"\",\"\",Masterblatt!A84)","v":83},null,{"$f":"IF(AND(Masterblatt!B84=\"\",Masterblatt!C84=\"\"),\"\",Masterblatt!B84 & \" \" & Masterblatt!C84)","v":""},null,null,null,null,null,null,null,null,null,null,null,null,null,null,{"$f":"IF(Masterblatt!F84=\"\",\"\",Masterblatt!F84)","v":""}]
[{"$f":"IF(Masterblatt!A85=\"\",\"\",Masterblatt!A85)","v":84},null,{"$f":"IF(AND(Masterblatt!B85=\"\",Masterblatt!C85=\"\"),\"\",Masterblatt!B85 & \" \" & Masterblatt!C85)","v":""},null,null,null,null,null,null,null,null,null,null,null,null,null,null,{"$f":"IF(Masterblatt!F85=\"\",\"\",Masterblatt!F85)","v":""}]
[{"$f":"IF(Masterblatt!A86=\"\",\"\",Masterblatt!A86)","v":85},null,{"$f":"IF(AND(Masterblatt!B86=\"\",Masterblatt!C86=\"\"),\"\",Masterblatt!B86 & \" \" & Masterblatt!C86)","v":""},null,null,null,null,null,null,null,null,null,null,null,null,null,null,{"$f":"IF(Masterblatt!F86=\"\",\"\",Masterblatt!F86)","v":""}]
[{"$f":"IF(Masterblatt!A87=\"\",\"\",Masterblatt!A87)","v":86},null,{"$f":"IF(AND(Masterblatt!B87=\"\",Masterblatt!C87=\"\"),\"\",Masterblatt!B87 & \" \" & Masterblatt!C87)","v":""},null,null,null,null,null,null,null,null,null,null,null,null,null,null,{"$f":"IF(Masterblatt!F87=\"\",\"\",Masterblatt!F87)","v":""}]
[{"$f":"IF(Masterblatt!A88=\"\",\"\",Masterblatt!A88)","v":87},null,{"$f":"IF(AND(Masterblatt!B88=\"\",Masterblatt!C88=\"\"),\"\",Masterblatt!B88 & \" \" & Masterblatt!C88)","v":""},null,null,null,null,null,null,null,null,null,null,null,null,null,null,{"$f":"IF(Masterblatt!F88=\"\",\"\",Masterblatt!F88)","v":""}]
[{"$f":"IF(Masterblatt!A89=\"\",\"\",Masterblatt!A89)","v":88},null,{"$f":"IF(AND(Masterblatt!B89=\"\",Masterblatt!C89=\"\"),\"\",Masterblatt!B89 & \" \" & Masterblatt!C89)","v":""},null,null,null,null,null,null,null,null,null,null,null,null,null,null,{"$f":"IF(Masterblatt!F89=\"\",\"\",Masterblatt!F89)","v":""}]
[{"$f":"IF(Masterblatt!A90=\"\",\"\",Masterblatt!A90)","v":89},null,{"$f":"IF(AND(Masterblatt!B90=\"\",Masterblatt!C90=\"\"),\"\",Masterblatt!B90 & \" \" & Masterblatt!C90)","v":""},null,null,null,null,null,null,null,null,null,null,null,null,null,null,{"$f":"IF(Masterblatt!F90=\"\",\"\",Masterblatt!F90)","v":""}]
[{"$f":"IF(Masterblatt!A91=\"\",\"\",Masterblatt!A91)","v":90},null,{"$f":"IF(AND(Masterblatt!B91=\"\",Masterblatt!C91=\"\"),\"\",Masterblatt!B91 & \" \" & Masterblatt!C91)","v":""},null,null,null,null,null,null,null,null,null,null,null,null,null,null,{"$f":"IF(Masterblatt!F91=\"\",\"\",Masterblatt!F91)","v":""}]
[{"$f":"IF(Masterblatt!A92=\"\",\"\",Masterblatt!A92)","v":91},null,{"$f":"IF(AND(Masterblatt!B92=\"\",Masterblatt!C92=\"\"),\"\",Masterblatt!B92 & \" \" & Masterblatt!C92)","v":""},null,null,null,null,null,null,null,null,null,null,null,null,null,null,{"$f":"IF(Masterblatt!F92=\"\",\"\",Masterblatt!F92)","v":""}]
[{"$f":"IF(Masterblatt!A93=\"\",\"\",Masterblatt!A93)","v":92},null,{"$f":"IF(AND(Masterblatt!B93=\"\",Masterblatt!C93=\"\"),\"\",Masterblatt!B93 & \" \" & Masterblatt!C93)","v":""},null,null,null,null,null,null,null,null,null,null,null,null,null,null,{"$f":"IF(Masterblatt!F93=\"\",\"\",Masterblatt!F93)","v":""}]
[{"$f":"IF(Masterblatt!A94=\"\",\"\",Masterblatt!A94)","v":93},null,{"$f":"IF(AND(Masterblatt!B94=\"\",Masterblatt!C94=\"\"),\"\",Masterblatt!B94 & \" \" & Masterblatt!C94)","v":""},null,null,null,null,null,null,null,null,null,null,null,null,null,null,{"$f":"IF(Masterblatt!F94=\"\",\"\",Masterblatt!F94)","v":""}]
[{"$f":"IF(Masterblatt!A95=\"\",\"\",Masterblatt!A95)","v":94},null,{"$f":"IF(AND(Masterblatt!B95=\"\",Masterblatt!C95=\"\"),\"\",Masterblatt!B95 & \" \" & Masterblatt!C95)","v":""},null,null,null,null,null,null,null,null,null,null,null,null,null,null,{"$f":"IF(Masterblatt!F95=\"\",\"\",Masterblatt!F95)","v":""}]
[{"$f":"IF(Masterblatt!A96=\"\",\"\",Masterblatt!A96)","v":95},null,{"$f":"IF(AND(Masterblatt!B96=\"\",Masterblatt!C96=\"\"),\"\",Masterblatt!B96 & \" \" & Masterblatt!C96)","v":""},null,null,null,null,null,null,null,null,null,null,null,null,null,null,{"$f":"IF(Masterblatt!F96=\"\",\"\",Masterblatt!F96)","v":""}]
[{"$f":"IF(Masterblatt!A97=\"\",\"\",Masterblatt!A97)","v":96},null,{"$f":"IF(AND(Masterblatt!B97=\"\",Masterblatt!C97=\"\"),\"\",Masterblatt!B97 & \" \" & Masterblatt!C97)","v":""},null,null,null,null,null,null,null,null,null,null,null,null,null,null,{"$f":"IF(Masterblatt!F97=\"\",\"\",Masterblatt!F97)","v":""}]
[{"$f":"IF(Masterblatt!A98=\"\",\"\",Masterblatt!A98)","v":97},null,{"$f":"IF(AND(Masterblatt!B98=\"\",Masterblatt!C98=\"\"),\"\",Masterblatt!B98 & \" \" & Masterblatt!C98)","v":""},null,null,null,null,null,null,null,null,null,null,null,null,null,null,{"$f":"IF(Masterblatt!F98=\"\",\"\",Masterblatt!F98)","v":""}]
[{"$f":"IF(Masterblatt!A99=\"\",\"\",Masterblatt!A99)","v":98},null,{"$f":"IF(AND(Masterblatt!B99=\"\",Masterblatt!C99=\"\"),\"\",Masterblatt!B99 & \" \" & Masterblatt!C99)","v":""},null,null,null,null,null,null,null,null,null,null,null,null,null,null,{"$f":"IF(Masterblatt!F99=\"\",\"\",Masterblatt!F99)","v":""}]
[{"$f":"IF(Masterblatt!A100=\"\",\"\",Masterblatt!A100)","v":99},null,{"$f":"IF(AND(Masterblatt!B100=\"\",Masterblatt!C100=\"\"),\"\",Masterblatt!B100 & \" \" & Masterblatt!C100)","v":""},null,null,null,null,null,null,null,null,null,null,null,null,null,null,{"$f":"IF(Masterblatt!F100=\"\",\"\",Masterblatt!F100)","v":""}]
[{"$f":"IF(Masterblatt!A101=\"\",\"\",Masterblatt!A101)","v":100},null,{"$f":"IF(AND(Masterblatt!B101=\"\",Masterblatt!C101=\"\"),\"\",Masterblatt!B101 & \" \" & Masterblatt!C101)","v":""},null,null,null,null,null,null,null,null,null,null,null,null,null,null,{"$f":"IF(Masterblatt!F101=\"\",\"\",Masterblatt!F101)","v":""}]
[{"$f":"IF(Masterblatt!A102=\"\",\"\",Masterblatt!A102)","v":101},null,{"$f":"IF(AND(Masterblatt!B102=\"\",Masterblatt!C102=\"\"),\"\",Masterblatt!B102 & \" \" & Masterblatt!C102)","v":""},null,null,null,null,null,null,null,null,null,null,null,null,null,null,{"$f":"IF(Masterblatt!F102=\"\",\"\",Masterblatt!F102)","v":""}]
[{"$f":"IF(Masterblatt!A103=\"\",\"\",Masterblatt!A103)","v":102},null,{"$f":"IF(AND(Masterblatt!B103=\"\",Masterblatt!C103=\"\"),\"\",Masterblatt!B103 & \" \" & Masterblatt!C103)","v":""},null,null,null,null,null,null,null,null,null,null,null,null,null,null,{"$f":"IF(Masterblatt!F103=\"\",\"\",Masterblatt!F103)","v":""}]
[{"$f":"IF(Masterblatt!A104=\"\",\"\",Masterblatt!A104)","v":103},null,{"$f":"IF(AND(Masterblatt!B104=\"\",Masterblatt!C104=\"\"),\"\",Masterblatt!B104 & \" \" & Masterblatt!C104)","v":""},null,null,null,null,null,null,null,null,null,null,null,null,null,null,{"$f":"IF(Masterblatt!F104=\"\",\"\",Masterblatt!F104)","v":""}]
[{"$f":"IF(Masterblatt!A105=\"\",\"\",Masterblatt!A105)","v":104},null,{"$f":"IF(AND(Masterblatt!B105=\"\",Masterblatt!C105=\"\"),\"\",Masterblatt!B105 & \" \" & Masterblatt!C105)","v":""},null,null,null,null,null,null,null,null,null,null,null,null,null,null,{"$f":"IF(Masterblatt!F105=\"\",\"\",Masterblatt!F105)","v":""}]
[{"$f":"IF(Masterblatt!A106=\"\",\"\",Masterblatt!A106)","v":105},null,{"$f":"IF(AND(Masterblatt!B106=\"\",Masterblatt!C106=\"\"),\"\",Masterblatt!B106 & \" \" & Masterblatt!C106)","v":""},null,null,null,null,null,null,null,null,null,null,null,null,null,null,{"$f":"IF(Masterblatt!F106=\"\",\"\",Masterblatt!F106)","v":""}]
[{"$f":"IF(Masterblatt!A107=\"\",\"\",Masterblatt!A107)","v":106},null,{"$f":"IF(AND(Masterblatt!B107=\"\",Masterblatt!C107=\"\"),\"\",Masterblatt!B107 & \" \" & Masterblatt!C107)","v":""},null,null,null,null,null,null,null,null,null,null,null,null,null,null,{"$f":"IF(Masterblatt!F107=\"\",\"\",Masterblatt!F107)","v":""}]
[{"$f":"IF(Masterblatt!A108=\"\",\"\",Masterblatt!A108)","v":107},null,{"$f":"IF(AND(Masterblatt!B108=\"\",Masterblatt!C108=\"\"),\"\",Masterblatt!B108 & \" \" & Masterblatt!C108)","v":""},null,null,null,null,null,null,null,null,null,null,null,null,null,null,{"$f":"IF(Masterblatt!F108=\"\",\"\",Masterblatt!F108)","v":""}]
[{"$f":"IF(Masterblatt!A109=\"\",\"\",Masterblatt!A109)","v":108},null,{"$f":"IF(AND(Masterblatt!B109=\"\",Masterblatt!C109=\"\"),\"\",Masterblatt!B109 & \" \" & Masterblatt!C109)","v":""},null,null,null,null,null,null,null,null,null,null,null,null,null,null,{"$f":"IF(Masterblatt!F109=\"\",\"\",Masterblatt!F109)","v":""}]
[{"$f":"IF(Masterblatt!A110=\"\",\"\",Masterblatt!A110)","v":109},null,{"$f":"IF(AND(Masterblatt!B110=\"\",Masterblatt!C110=\"\"),\"\",Masterblatt!B110 & \" \" & Masterblatt!C110)","v":""},null,null,null,null,null,null,null,null,null,null,null,null,null,null,{"$f":"IF(Masterblatt!F110=\"\",\"\",Masterblatt!F110)","v":""}]
[{"$f":"IF(Masterblatt!A111=\"\",\"\",Masterblatt!A111)","v":110},null,{"$f":"IF(AND(Masterblatt!B111=\"\",Masterblatt!C111=\"\"),\"\",Masterblatt!B111 & \" \" & Masterblatt!C111)","v":""},null,null,null,null,null,null,null,null,null,null,null,null,null,null,{"$f":"IF(Masterblatt!F111=\"\",\"\",Masterblatt!F111)","v":""}]
[{"$f":"IF(Masterblatt!A112=\"\",\"\",Masterblatt!A112)","v":111},null,{"$f":"IF(AND(Masterblatt!B112=\"\",Masterblatt!C112=\"\"),\"\",Masterblatt!B112 & \" \" & Masterblatt!C112)","v":""},null,null,null,null,null,null,null,null,null,null,null,null,null,null,{"$f":"IF(Masterblatt!F112=\"\",\"\",Masterblatt!F112)","v":""}]
[{"$f":"IF(Masterblatt!A113=\"\",\"\",Masterblatt!A113)","v":112},null,{"$f":"IF(AND(Masterblatt!B113=\"\",Masterblatt!C113=\"\"),\"\",Masterblatt!B113 & \" \" & Masterblatt!C113)","v":""},null,null,null,null,null,null,null,null,null,null,null,null,null,null,{"$f":"IF(Masterblatt!F113=\"\",\"\",Masterblatt!F113)","v":""}]
[{"$f":"IF(Masterblatt!A114=\"\",\"\",Masterblatt!A114)","v":113},null,{"$f":"IF(AND(Masterblatt!B114=\"\",Masterblatt!C114=\"\"),\"\",Masterblatt!B114 & \" \" & Masterblatt!C114)","v":""},null,null,null,null,null,null,null,null,null,null,null,null,null,null,{"$f":"IF(Masterblatt!F114=\"\",\"\",Masterblatt!F114)","v":""}]
[{"$f":"IF(Masterblatt!A115=\"\",\"\",Masterblatt!A115)","v":114},null,{"$f":"IF(AND(Masterblatt!B115=\"\",Masterblatt!C115=\"\"),\"\",Masterblatt!B115 & \" \" & Masterblatt!C115)","v":""},null,null,null,null,null,null,null,null,null,null,null,null,null,null,{"$f":"IF(Masterblatt!F115=\"\",\"\",Masterblatt!F115)","v":""}]
[{"$f":"IF(Masterblatt!A116=\"\",\"\",Masterblatt!A116)","v":115},null,{"$f":"IF(AND(Masterblatt!B116=\"\",Masterblatt!C116=\"\"),\"\",Masterblatt!B116 & \" \" & Masterblatt!C116)","v":""},null,null,null,null,null,null,null,null,null,null,null,null,null,null,{"$f":"IF(Masterblatt!F116=\"\",\"\",Masterblatt!F116)","v":""}]
[{"$f":"IF(Masterblatt!A117=\"\",\"\",Masterblatt!A117)","v":116},null,{"$f":"IF(AND(Masterblatt!B117=\"\",Masterblatt!C117=\"\"),\"\",Masterblatt!B117 & \" \" & Masterblatt!C117)","v":""},null,null,null,null,null,null,null,null,null,null,null,null,null,null,{"$f":"IF(Masterblatt!F117=\"\",\"\",Masterblatt!F117)","v":""}]
[{"$f":"IF(Masterblatt!A118=\"\",\"\",Masterblatt!A118)","v":117},null,{"$f":"IF(AND(Masterblatt!B118=\"\",Masterblatt!C118=\"\"),\"\",Masterblatt!B118 & \" \" & Masterblatt!C118)","v":""},null,null,null,null,null,null,null,null,null,null,null,null,null,null,{"$f":"IF(Masterblatt!F118=\"\",\"\",Masterblatt!F118)","v":""}]
[{"$f":"IF(Masterblatt!A119=\"\",\"\",Masterblatt!A119)","v":118},null,{"$f":"IF(AND(Masterblatt!B119=\"\",Masterblatt!C119=\"\"),\"\",Masterblatt!B119 & \" \" & Masterblatt!C119)","v":""},null,null,null,null,null,null,null,null,null,null,null,null,null,null,{"$f":"IF(Masterblatt!F119=\"\",\"\",Masterblatt!F119)","v":""}]
[{"$f":"IF(Masterblatt!A120=\"\",\"\",Masterblatt!A120)","v":119},null,{"$f":"IF(AND(Masterblatt!B120=\"\",Masterblatt!C120=\"\"),\"\",Masterblatt!B120 & \" \" & Masterblatt!C120)","v":""},null,null,null,null,null,null,null,null,null,null,null,null,null,null,{"$f":"IF(Masterblatt!F120=\"\",\"\",Masterblatt!F120)","v":""}]
[{"$f":"IF(Masterblatt!A121=\"\",\"\",Masterblatt!A121)","v":120},null,{"$f":"IF(AND(Masterblatt!B121=\"\",Masterblatt!C121=\"\"),\"\",Masterblatt!B121 & \" \" & Masterblatt!C121)","v":""},null,null,null,null,null,null,null,null,null,null,null,null,null,null,{"$f":"IF(Masterblatt!F121=\"\",\"\",Masterblatt!F121)","v":""}]
[{"$f":"IF(Masterblatt!A122=\"\",\"\",Masterblatt!A122)","v":121},null,{"$f":"IF(AND(Masterblatt!B122=\"\",Masterblatt!C122=\"\"),\"\",Masterblatt!B122 & \" \" & Masterblatt!C122)","v":""},null,null,null,null,null,null,null,null,null,null,null,null,null,null,{"$f":"IF(Masterblatt!F122=\"\",\"\",Masterblatt!F122)","v":""}]
[{"$f":"IF(Masterblatt!A123=\"\",\"\",Masterblatt!A123)","v":122},null,{"$f":"IF(AND(Masterblatt!B123=\"\",Masterblatt!C123=\"\"),\"\",Masterblatt!B123 & \" \" & Masterblatt!C123)","v":""},null,null,null,null,null,null,null,null,null,null,null,null,null,null,{"$f":"IF(Masterblatt!F123=\"\",\"\",Masterblatt!F123)","v":""}]
[{"$f":"IF(Masterblatt!A124=\"\",\"\",Masterblatt!A124)","v":123},null,{"$f":"IF(AND(Masterblatt!B124=\"\",Masterblatt!C124=\"\"),\"\",Masterblatt!B124 & \" \" & Masterblatt!C124)","v":""},null,null,null,null,null,null,null,null,null,null,null,null,null,null,{"$f":"IF(Masterblatt!F124=\"\",\"\",Masterblatt!F124)","v":""}]
[{"$f":"IF(Masterblatt!A125=\"\",\"\",Masterblatt!A125)","v":124},null,{"$f":"IF(AND(Masterblatt!B125=\"\",Masterblatt!C125=\"\"),\"\",Masterblatt!B125 & \" \" & Masterblatt!C125)","v":""},null,null,null,null,null,null,null,null,null,null,null,null,null,null,{"$f":"IF(Masterblatt!F125=\"\",\"\",Masterblatt!F125)","v":""}]
[{"$f":"IF(Masterblatt!A126=\"\",\"\",Masterblatt!A126)","v":125},null,{"$f":"IF(AND(Masterblatt!B126=\"\",Masterblatt!C126=\"\"),\"\",Masterblatt!B126 & \" \" & Masterblatt!C126)","v":""},null,null,null,null,null,null,null,null,null,null,null,null,null,null,{"$f":"IF(Masterblatt!F126=\"\",\"\",Masterblatt!F126)","v":""}]
[{"$f":"IF(Masterblatt!A127=\"\",\"\",Masterblatt!A127)","v":126},null,{"$f":"IF(AND(Masterblatt!B127=\"\",Masterblatt!C127=\"\"),\"\",Masterblatt!B127 & \" \" & Masterblatt!C127)","v":""},null,null,null,null,null,null,null,null,null,null,null,null,null,null,{"$f":"IF(Masterblatt!F127=\"\",\"\",Masterblatt!F127)","v":""}]
[{"$f":"IF(Masterblatt!A128=\"\",\"\",Masterblatt!A128)","v":127},null,{"$f":"IF(AND(Masterblatt!B128=\"\",Masterblatt!C128=\"\"),\"\",Masterblatt!B128 & \" \" & Masterblatt!C128)","v":""},null,null,null,null,null,null,null,null,null,null,null,null,null,null,{"$f":"IF(Masterblatt!F128=\"\",\"\",Masterblatt!F128)","v":""}]
[{"$f":"IF(Masterblatt!A129=\"\",\"\",Masterblatt!A129)","v":128},null,{"$f":"IF(AND(Masterblatt!B129=\"\",Masterblatt!C129=\"\"),\"\",Masterblatt!B129 & \" \" & Masterblatt!C129)","v":""},null,null,null,null,null,null,null,null,null,null,null,null,null,null,{"$f":"IF(Masterblatt!F129=\"\",\"\",Masterblatt!F129)","v":""}]
[{"$f":"IF(Masterblatt!A130=\"\",\"\",Masterblatt!A130)","v":129},null,{"$f":"IF(AND(Masterblatt!B130=\"\",Masterblatt!C130=\"\"),\"\",Masterblatt!B130 & \" \" & Masterblatt!C130)","v":""},null,null,null,null,null,null,null,null,null,null,null,null,null,null,{"$f":"IF(Masterblatt!F130=\"\",\"\",Masterblatt!F130)","v":""}]
[{"$f":"IF(Masterblatt!A131=\"\",\"\",Masterblatt!A131)","v":130},null,{"$f":"IF(AND(Masterblatt!B131=\"\",Masterblatt!C131=\"\"),\"\",Masterblatt!B131 & \" \" & Masterblatt!C131)","v":""},null,null,null,null,null,null,null,null,null,null,null,null,null,null,{"$f":"IF(Masterblatt!F131=\"\",\"\",Masterblatt!F131)","v":""}]
[{"$f":"IF(Masterblatt!A132=\"\",\"\",Masterblatt!A132)","v":131},null,{"$f":"IF(AND(Masterblatt!B132=\"\",Masterblatt!C132=\"\"),\"\",Masterblatt!B132 & \" \" & Masterblatt!C132)","v":""},null,null,null,null,null,null,null,null,null,null,null,null,null,null,{"$f":"IF(Masterblatt!F132=\"\",\"\",Masterblatt!F132)","v":""}]
[{"$f":"IF(Masterblatt!A133=\"\",\"\",Masterblatt!A133)","v":132},null,{"$f":"IF(AND(Masterblatt!B133=\"\",Masterblatt!C133=\"\"),\"\",Masterblatt!B133 & \" \" & Masterblatt!C133)","v":""},null,null,null,null,null,null,null,null,null,null,null,null,null,null,{"$f":"IF(Masterblatt!F133=\"\",\"\",Masterblatt!F133)","v":""}]
[{"$f":"IF(Masterblatt!A134=\"\",\"\",Masterblatt!A134)","v":133},null,{"$f":"IF(AND(Masterblatt!B134=\"\",Masterblatt!C134=\"\"),\"\",Masterblatt!B134 & \" \" & Masterblatt!C134)","v":""},null,null,null,null,null,null,null,null,null,null,null,null,null,null,{"$f":"IF(Masterblatt!F134=\"\",\"\",Masterblatt!F134)","v":""}]
[{"$f":"IF(Masterblatt!A135=\"\",\"\",Masterblatt!A135)","v":134},null,{"$f":"IF(AND(Masterblatt!B135=\"\",Masterblatt!C135=\"\"),\"\",Masterblatt!B135 & \" \" & Masterblatt!C135)","v":""},null,null,null,null,null,null,null,null,null,null,null,null,null,null,{"$f":"IF(Masterblatt!F135=\"\",\"\",Masterblatt!F135)","v":""}]
[{"$f":"IF(Masterblatt!A136=\"\",\"\",Masterblatt!A136)","v":135},null,{"$f":"IF(AND(Masterblatt!B136=\"\",Masterblatt!C136=\"\"),\"\",Masterblatt!B136 & \" \" & Masterblatt!C136)","v":""},null,null,null,null,null,null,null,null,null,null,null,null,null,null,{"$f":"IF(Masterblatt!F136=\"\",\"\",Masterblatt!F136)","v":""}]
[{"$f":"IF(Masterblatt!A137=\"\",\"\",Masterblatt!A137)","v":136},null,{"$f":"IF(AND(Masterblatt!B137=\"\",Masterblatt!C137=\"\"),\"\",Masterblatt!B137 & \" \" & Masterblatt!C137)","v":""},null,null,null,null,null,null,null,null,null,null,null,null,null,null,{"$f":"IF(Masterblatt!F137=\"\",\"\",Masterblatt!F137)","v":""}]
[{"$f":"IF(Masterblatt!A138=\"\",\"\",Masterblatt!A138)","v":137},null,{"$f":"IF(AND(Masterblatt!B138=\"\",Masterblatt!C138=\"\"),\"\",Masterblatt!B138 & \" \" & Masterblatt!C138)","v":""},null,null,null,null,null,null,null,null,null,null,null,null,null,null,{"$f":"IF(Masterblatt!F138=\"\",\"\",Masterblatt!F138)","v":""}]
[{"$f":"IF(Masterblatt!A139=\"\",\"\",Masterblatt!A139)","v":138},null,{"$f":"IF(AND(Masterblatt!B139=\"\",Masterblatt!C139=\"\"),\"\",Masterblatt!B139 & \" \" & Masterblatt!C139)","v":""},null,null,null,null,null,null,null,null,null,null,null,null,null,null,{"$f":"IF(Masterblatt!F139=\"\",\"\",Masterblatt!F139)","v":""}]
[{"$f":"IF(Masterblatt!A140=\"\",\"\",Masterblatt!A140)","v":139},null,{"$f":"IF(AND(Masterblatt!B140=\"\",Masterblatt!C140=\"\"),\"\",Masterblatt!B140 & \" \" & Masterblatt!C140)","v":""},null,null,null,null,null,null,null,null,null,null,null,null,null,null,{"$f":"IF(Masterblatt!F140=\"\",\"\",Masterblatt!F140)","v":""}]
[{"$f":"IF(Masterblatt!A141=\"\",\"\",Masterblatt!A141)","v":140},null,{"$f":"IF(AND(Masterblatt!B141=\"\",Masterblatt!C141=\"\"),\"\",Masterblatt!B141 & \" \" & Masterblatt!C141)","v":""},null,null,null,null,null,null,null,null,null,null,null,null,null,null,{"$f":"IF(Masterblatt!F141=\"\",\"\",Masterblatt!F141)","v":""}]
[{"$f":"IF(Masterblatt!A142=\"\",\"\",Masterblatt!A142)","v":141},null,{"$f":"IF(AND(Masterblatt!B142=\"\",Masterblatt!C142=\"\"),\"\",Masterblatt!B142 & \" \" & Masterblatt!C142)","v":""},null,null,null,null,null,null,null,null,null,null,null,null,null,null,{"$f":"IF(Masterblatt!F142=\"\",\"\",Masterblatt!F142)","v":""}]
[{"$f":"IF(Masterblatt!A143=\"\",\"\",Masterblatt!A143)","v":142},null,{"$f":"IF(AND(Masterblatt!B143=\"\",Masterblatt!C143=\"\"),\"\",Masterblatt!B143 & \" \" & Masterblatt!C143)","v":""},null,null,null,null,null,null,null,null,null,null,null,null,null,null,{"$f":"IF(Masterblatt!F143=\"\",\"\",Masterblatt!F143)","v":""}]
[{"$f":"IF(Masterblatt!A144=\"\",\"\",Masterblatt!A144)","v":143},null,{"$f":"IF(AND(Masterblatt!B144=\"\",Masterblatt!C144=\"\"),\"\",Masterblatt!B144 & \" \" & Masterblatt!C144)","v":""},null,null,null,null,null,null,null,null,null,null,null,null,null,null,{"$f":"IF(Masterblatt!F144=\"\",\"\",Masterblatt!F144)","v":""}]
[{"$f":"IF(Masterblatt!A145=\"\",\"\",Masterblatt!A145)","v":144},null,{"$f":"IF(AND(Masterblatt!B145=\"\",Masterblatt!C145=\"\"),\"\",Masterblatt!B145 & \" \" & Masterblatt!C145)","v":""},null,null,null,null,null,null,null,null,null,null,null,null,null,null,{"$f":"IF(Masterblatt!F145=\"\",\"\",Masterblatt!F145)","v":""}]
[{"$f":"IF(Masterblatt!A146=\"\",\"\",Masterblatt!A146)","v":145},null,{"$f":"IF(AND(Masterblatt!B146=\"\",Masterblatt!C146=\"\"),\"\",Masterblatt!B146 & \" \" & Masterblatt!C146)","v":""},null,null,null,null,null,null,null,null,null,null,null,null,null,null,{"$f":"IF(Masterblatt!F146=\"\",\"\",Masterblatt!F146)","v":""}]
[{"$f":"IF(Masterblatt!A147=\"\",\"\",Masterblatt!A147)","v":146},null,{"$f":"IF(AND(Masterblatt!B147=\"\",Masterblatt!C147=\"\"),\"\",Masterblatt!B147 & \" \" & Masterblatt!C147)","v":""},null,null,null,null,null,null,null,null,null,null,null,null,null,null,{"$f":"IF(Masterblatt!F147=\"\",\"\",Masterblatt!F147)","v":""}]
[{"$f":"IF(Masterblatt!A148=\"\",\"\",Masterblatt!A148)","v":147},null,{"$f":"IF(AND(Masterblatt!B148=\"\",Masterblatt!C148=\"\"),\"\",Masterblatt!B148 & \" \" & Masterblatt!C148)","v":""},null,null,null,null,null,null,null,null,null,null,null,null,null,null,{"$f":"IF(Masterblatt!F148=\"\",\"\",Masterblatt!F148)","v":""}]
[{"$f":"IF(Masterblatt!A149=\"\",\"\",Masterblatt!A149)","v":148},null,{"$f":"IF(AND(Masterblatt!B149=\"\",Masterblatt!C149=\"\"),\"\",Masterblatt!B149 & \" \" & Masterblatt!C149)","v":""},null,null,null,null,null,null,null,null,null,null,null,null,null,null,{"$f":"IF(Masterblatt!F149=\"\",\"\",Masterblatt!F149)","v":""}]
[{"$f":"IF(Masterblatt!A150=\"\",\"\",Masterblatt!A150)","v":149},null,{"$f":"IF(AND(Masterblatt!B150=\"\",Masterblatt!C150=\"\"),\"\",Masterblatt!B150 & \" \" & Masterblatt!C150)","v":""},null,null,null,null,null,null,null,null,null,null,null,null,null,null,{"$f":"IF(Masterblatt!F150=\"\",\"\",Masterblatt!F150)","v":""}]
[{"$f":"IF(Masterblatt!A151=\"\",\"\",Masterblatt!A151)","v":150},null,{"$f":"IF(AND(Masterblatt!B151=\"\",Masterblatt!C151=\"\"),\"\",Masterblatt!B151 & \" \" & Masterblatt!C151)","v":""},null,null,null,null,null,null,null,null,null,null,null,null,null,null,{"$f":"IF(Masterblatt!F151=\"\",\"\",Masterblatt!F151)","v":""}]
[{"$f":"IF(Masterblatt!A152=\"\",\"\",Masterblatt!A152)","v":151},null,{"$f":"IF(AND(Masterblatt!B152=\"\",Masterblatt!C152=\"\"),\"\",Masterblatt!B152 & \" \" & Masterblatt!C152)","v":""},null,null,null,null,null,null,null,null,null,null,null,null,null,null,{"$f":"IF(Masterblatt!F152=\"\",\"\",Masterblatt!F152)","v":""}]
[{"$f":"IF(Masterblatt!A153=\"\",\"\",Masterblatt!A153)","v":152},null,{"$f":"IF(AND(Masterblatt!B153=\"\",Masterblatt!C153=\"\"),\"\",Masterblatt!B153 & \" \" & Masterblatt!C153)","v":""},null,null,null,null,null,null,null,null,null,null,null,null,null,null,{"$f":"IF(Masterblatt!F153=\"\",\"\",Masterblatt!F153)","v":""}]
[{"$f":"IF(Masterblatt!A154=\"\",\"\",Masterblatt!A154)","v":153},null,{"$f":"IF(AND(Masterblatt!B154=\"\",Masterblatt!C154=\"\"),\"\",Masterblatt!B154 & \" \" & Masterblatt!C154)","v":""},null,null,null,null,null,null,null,null,null,null,null,null,null,null,{"$f":"IF(Masterblatt!F154=\"\",\"\",Masterblatt!F154)","v":""}]
[{"$f":"IF(Masterblatt!A155=\"\",\"\",Masterblatt!A155)","v":154},null,{"$f":"IF(AND(Masterblatt!B155=\"\",Masterblatt!C155=\"\"),\"\",Masterblatt!B155 & \" \" & Masterblatt!C155)","v":""},null,null,null,null,null,null,null,null,null,null,null,null,null,null,{"$f":"IF(Masterblatt!F155=\"\",\"\",Masterblatt!F155)","v":""}]
[{"$f":"IF(Masterblatt!A156=\"\",\"\",Masterblatt!A156)","v":155},null,{"$f":"IF(AND(Masterblatt!B156=\"\",Masterblatt!C156=\"\"),\"\",Masterblatt!B156 & \" \" & Masterblatt!C156)","v":""},null,null,null,null,null,null,null,null,null,null,null,null,null,null,{"$f":"IF(Masterblatt!F156=\"\",\"\",Masterblatt!F156)","v":""}]
[{"$f":"IF(Masterblatt!A157=\"\",\"\",Masterblatt!A157)","v":156},null,{"$f":"IF(AND(Masterblatt!B157=\"\",Masterblatt!C157=\"\"),\"\",Masterblatt!B157 & \" \" & Masterblatt!C157)","v":""},null,null,null,null,null,null,null,null,null,null,null,null,null,null,{"$f":"IF(Masterblatt!F157=\"\",\"\",Masterblatt!F157)","v":""}]
[{"$f":"IF(Masterblatt!A158=\"\",\"\",Masterblatt!A158)","v":157},null,{"$f":"IF(AND(Masterblatt!B158=\"\",Masterblatt!C158=\"\"),\"\",Masterblatt!B158 & \" \" & Masterblatt!C158)","v":""},null,null,null,null,null,null,null,null,null,null,null,null,null,null,{"$f":"IF(Masterblatt!F158=\"\",\"\",Masterblatt!F158)","v":""}]
[{"$f":"IF(Masterblatt!A159=\"\",\"\",Masterblatt!A159)","v":158},null,{"$f":"IF(AND(Masterblatt!B159=\"\",Masterblatt!C159=\"\"),\"\",Masterblatt!B159 & \" \" & Masterblatt!C159)","v":""},null,null,null,null,null,null,null,null,null,null,null,null,null,null,{"$f":"IF(Masterblatt!F159=\"\",\"\",Masterblatt!F159)","v":""}]
[{"$f":"IF(Masterblatt!A160=\"\",\"\",Masterblatt!A160)","v":159},null,{"$f":"IF(AND(Masterblatt!B160=\"\",Masterblatt!C160=\"\"),\"\",Masterblatt!B160 & \" \" & Masterblatt!C160)","v":""},null,null,null,null,null,null,null,null,null,null,null,null,null,null,{"$f":"IF(Masterblatt!F160=\"\",\"\",Masterblatt!F160)","v":""}]
[{"$f":"IF(Masterblatt!A161=\"\",\"\",Masterblatt!A161)","v":160},null,{"$f":"IF(AND(Masterblatt!B161=\"\",Masterblatt!C161=\"\"),\"\",Masterblatt!B161 & \" \" & Masterblatt!C161)","v":""},null,null,null,null,null,null,null,null,null,null,null,null,null,null,{"$f":"IF(Masterblatt!F161=\"\",\"\",Masterblatt!F161)","v":""}]
[{"$f":"IF(Masterblatt!A162=\"\",\"\",Masterblatt!A162)","v":161},null,{"$f":"IF(AND(Masterblatt!B162=\"\",Masterblatt!C162=\"\"),\"\",Masterblatt!B162 & \" \" & Masterblatt!C162)","v":""},null,null,null,null,null,null,null,null,null,null,null,null,null,null,{"$f":"IF(Masterblatt!F162=\"\",\"\",Masterblatt!F162)","v":""}]
[{"$f":"IF(Masterblatt!A163=\"\",\"\",Masterblatt!A163)","v":162},null,{"$f":"IF(AND(Masterblatt!B163=\"\",Masterblatt!C163=\"\"),\"\",Masterblatt!B163 & \" \" & Masterblatt!C163)","v":""},null,null,null,null,null,null,null,null,null,null,null,null,null,null,{"$f":"IF(Masterblatt!F163=\"\",\"\",Masterblatt!F163)","v":""}]
[{"$f":"IF(Masterblatt!A164=\"\",\"\",Masterblatt!A164)","v":163},null,{"$f":"IF(AND(Masterblatt!B164=\"\",Masterblatt!C164=\"\"),\"\",Masterblatt!B164 & \" \" & Masterblatt!C164)","v":""},null,null,null,null,null,null,null,null,null,null,null,null,null,null,{"$f":"IF(Masterblatt!F164=\"\",\"\",Masterblatt!F164)","v":""}]
[{"$f":"IF(Masterblatt!A165=\"\",\"\",Masterblatt!A165)","v":164},null,{"$f":"IF(AND(Masterblatt!B165=\"\",Masterblatt!C165=\"\"),\"\",Masterblatt!B165 & \" \" & Masterblatt!C165)","v":""},null,null,null,null,null,null,null,null,null,null,null,null,null,null,{"$f":"IF(Masterblatt!F165=\"\",\"\",Masterblatt!F165)","v":""}]
[{"$f":"IF(Masterblatt!A166=\"\",\"\",Masterblatt!A166)","v":165},null,{"$f":"IF(AND(Masterblatt!B166=\"\",Masterblatt!C166=\"\"),\"\",Masterblatt!B166 & \" \" & Masterblatt!C166)","v":""},null,null,null,null,null,null,null,null,null,null,null,null,null,null,{"$f":"IF(Masterblatt!F166=\"\",\"\",Masterblatt!F166)","v":""}]
[{"$f":"IF(Masterblatt!A167=\"\",\"\",Masterblatt!A167)","v":166},null,{"$f":"IF(AND(Masterblatt!B167=\"\",Masterblatt!C167=\"\"),\"\",Masterblatt!B167 & \" \" & Masterblatt!C167)","v":""},null,null,null,null,null,null,null,null,null,null,null,null,null,null,{"$f":"IF(Masterblatt!F167=\"\",\"\",Masterblatt!F167)","v":""}]
[{"$f":"IF(Masterblatt!A168=\"\",\"\",Masterblatt!A168)","v":167},null,{"$f":"IF(AND(Masterblatt!B168=\"\",Masterblatt!C168=\"\"),\"\",Masterblatt!B168 & \" \" & Masterblatt!C168)","v":""},null,null,null,null,null,null,null,null,null,null,null,null,null,null,{"$f":"IF(Masterblatt!F168=\"\",\"\",Masterblatt!F168)","v":""}]
[{"$f":"IF(Masterblatt!A169=\"\",\"\",Masterblatt!A169)","v":168},null,{"$f":"IF(AND(Masterblatt!B169=\"\",Masterblatt!C169=\"\"),\"\",Masterblatt!B169 & \" \" & Masterblatt!C169)","v":""},null,null,null,null,null,null,null,null,null,null,null,null,null,null,{"$f":"IF(Masterblatt!F169=\"\",\"\",Masterblatt!F169)","v":""}]
[{"$f":"IF(Masterblatt!A170=\"\",\"\",Masterblatt!A170)","v":169},null,{"$f":"IF(AND(Masterblatt!B170=\"\",Masterblatt!C170=\"\"),\"\",Masterblatt!B170 & \" \" & Masterblatt!C170)","v":""},null,null,null,null,null,null,null,null,null,null,null,null,null,null,{"$f":"IF(Masterblatt!F170=\"\",\"\",Masterblatt!F170)","v":""}]
[{"$f":"IF(Masterblatt!A171=\"\",\"\",Masterblatt!A171)","v":170},null,{"$f":"IF(AND(Masterblatt!B171=\"\",Masterblatt!C171=\"\"),\"\",Masterblatt!B171 & \" \" & Masterblatt!C171)","v":""},null,null,null,null,null,null,null,null,null,null,null,null,null,null,{"$f":"IF(Masterblatt!F171=\"\",\"\",Masterblatt!F171)","v":""}]
[{"$f":"IF(Masterblatt!A172=\"\",\"\",Masterblatt!A172)","v":171},null,{"$f":"IF(AND(Masterblatt!B172=\"\",Masterblatt!C172=\"\"),\"\",Masterblatt!B172 & \" \" & Masterblatt!C172)","v":""},null,null,null,null,null,null,null,null,null,null,null,null,null,null,{"$f":"IF(Masterblatt!F172=\"\",\"\",Masterblatt!F172)","v":""}]
[{"$f":"IF(Masterblatt!A173=\"\",\"\",Masterblatt!A173)","v":172},null,{"$f":"IF(AND(Masterblatt!B173=\"\",Masterblatt!C173=\"\"),\"\",Masterblatt!B173 & \" \" & Masterblatt!C173)","v":""},null,null,null,null,null,null,null,null,null,null,null,null,null,null,{"$f":"IF(Masterblatt!F173=\"\",\"\",Masterblatt!F173)","v":""}]
[{"$f":"IF(Masterblatt!A174=\"\",\"\",Masterblatt!A174)","v":173},null,{"$f":"IF(AND(Masterblatt!B174=\"\",Masterblatt!C174=\"\"),\"\",Masterblatt!B174 & \" \" & Masterblatt!C174)","v":""},null,null,null,null,null,null,null,null,null,null,null,null,null,null,{"$f":"IF(Masterblatt!F174=\"\",\"\",Masterblatt!F174)","v":""}]
[{"$f":"IF(Masterblatt!A175=\"\",\"\",Masterblatt!A175)","v":174},null,{"$f":"IF(AND(Masterblatt!B175=\"\",Masterblatt!C175=\"\"),\"\",Masterblatt!B175 & \" \" & Masterblatt!C175)","v":""},null,null,null,null,null,null,null,null,null,null,null,null,null,null,{"$f":"IF(Masterblatt!F175=\"\",\"\",Masterblatt!F175)","v":""}]
[{"$f":"IF(Masterblatt!A176=\"\",\"\",Masterblatt!A176)","v":175},null,{"$f":"IF(AND(Masterblatt!B176=\"\",Masterblatt!C176=\"\"),\"\",Masterblatt!B176 & \" \" & Masterblatt!C176)","v":""},null,null,null,null,null,null,null,null,null,null,null,null,null,null,{"$f":"IF(Masterblatt!F176=\"\",\"\",Masterblatt!F176)","v":""}]
[{"$f":"IF(Masterblatt!A177=\"\",\"\",Masterblatt!A177)","v":176},null,{"$f":"IF(AND(Masterblatt!B177=\"\",Masterblatt!C177=\"\"),\"\",Masterblatt!B177 & \" \" & Masterblatt!C177)","v":""},null,null,null,null,null,null,null,null,null,null,null,null,null,null,{"$f":"IF(Masterblatt!F177=\"\",\"\",Masterblatt!F177)","v":""}]
[{"$f":"IF(Masterblatt!A178=\"\",\"\",Masterblatt!A178)","v":177},null,{"$f":"IF(AND(Masterblatt!B178=\"\",Masterblatt!C178=\"\"),\"\",Masterblatt!B178 & \" \" & Masterblatt!C178)","v":""},null,null,null,null,null,null,null,null,null,null,null,null,null,null,{"$f":"IF(Masterblatt!F178=\"\",\"\",Masterblatt!F178)","v":""}]
[{"$f":"IF(Masterblatt!A179=\"\",\"\",Masterblatt!A179)","v":178},null,{"$f":"IF(AND(Masterblatt!B179=\"\",Masterblatt!C179=\"\"),\"\",Masterblatt!B179 & \" \" & Masterblatt!C179)","v":""},null,null,null,null,null,null,null,null,null,null,null,null,null,null,{"$f":"IF(Masterblatt!F179=\"\",\"\",Masterblatt!F179)","v":""}]
[{"$f":"IF(Masterblatt!A180=\"\",\"\",Masterblatt!A180)","v":179},null,{"$f":"IF(AND(Masterblatt!B180=\"\",Masterblatt!C180=\"\"),\"\",Masterblatt!B180 & \" \" & Masterblatt!C180)","v":""},null,null,null,null,null,null,null,null,null,null,null,null,null,null,{"$f":"IF(Masterblatt!F180=\"\",\"\",Masterblatt!F180)","v":""}]
[{"$f":"IF(Masterblatt!A181=\"\",\"\",Masterblatt!A181)","v":180},null,{"$f":"IF(AND(Masterblatt!B181=\"\",Masterblatt!C181=\"\"),\"\",Masterblatt!B181 & \" \" & Masterblatt!C181)","v":""},null,null,null,null,null,null,null,null,null,null,null,null,null,null,{"$f":"IF(Masterblatt!F181=\"\",\"\",Masterblatt!F181)","v":""}]
[{"$f":"IF(Masterblatt!A182=\"\",\"\",Masterblatt!A182)","v":181},null,{"$f":"IF(AND(Masterblatt!B182=\"\",Masterblatt!C182=\"\"),\"\",Masterblatt!B182 & \" \" & Masterblatt!C182)","v":""},null,null,null,null,null,null,null,null,null,null,null,null,null,null,{"$f":"IF(Masterblatt!F182=\"\",\"\",Masterblatt!F182)","v":""}]
[{"$f":"IF(Masterblatt!A183=\"\",\"\",Masterblatt!A183)","v":182},null,{"$f":"IF(AND(Masterblatt!B183=\"\",Masterblatt!C183=\"\"),\"\",Masterblatt!B183 & \" \" & Masterblatt!C183)","v":""},null,null,null,null,null,null,null,null,null,null,null,null,null,null,{"$f":"IF(Masterblatt!F183=\"\",\"\",Masterblatt!F183)","v":""}]
[{"$f":"IF(Masterblatt!A184=\"\",\"\",Masterblatt!A184)","v":183},null,{"$f":"IF(AND(Masterblatt!B184=\"\",Masterblatt!C184=\"\"),\"\",Masterblatt!B184 & \" \" & Masterblatt!C184)","v":""},null,null,null,null,null,null,null,null,null,null,null,null,null,null,{"$f":"IF(Masterblatt!F184=\"\",\"\",Masterblatt!F184)","v":""}]
[{"$f":"IF(Masterblatt!A185=\"\",\"\",Masterblatt!A185)","v":184},null,{"$f":"IF(AND(Masterblatt!B185=\"\",Masterblatt!C185=\"\"),\"\",Masterblatt!B185 & \" \" & Masterblatt!C185)","v":""},null,null,null,null,null,null,null,null,null,null,null,null,null,null,{"$f":"IF(Masterblatt!F185=\"\",\"\",Masterblatt!F185)","v":""}]
[{"$f":"IF(Masterblatt!A186=\"\",\"\",Masterblatt!A186)","v":185},null,{"$f":"IF(AND(Masterblatt!B186=\"\",Masterblatt!C186=\"\"),\"\",Masterblatt!B186 & \" \" & Masterblatt!C186)","v":""},null,null,null,null,null,null,null,null,null,null,null,null,null,null,{"$f":"IF(Masterblatt!F186=\"\",\"\",Masterblatt!F186)","v":""}]
[{"$f":"IF(Masterblatt!A187=\"\",\"\",Masterblatt!A187)","v":186},null,{"$f":"IF(AND(Masterblatt!B187=\"\",Masterblatt!C187=\"\"),\"\",Masterblatt!B187 & \" \" & Masterblatt!C187)","v":""},null,null,null,null,null,null,null,null,null,null,null,null,null,null,{"$f":"IF(Masterblatt!F187=\"\",\"\",Masterblatt!F187)","v":""}]
[{"$f":"IF(Masterblatt!A188=\"\",\"\",Masterblatt!A188)","v":187},null,{"$f":"IF(AND(Masterblatt!B188=\"\",Masterblatt!C188=\"\"),\"\",Masterblatt!B188 & \" \" & Masterblatt!C188)","v":""},null,null,null,null,null,null,null,null,null,null,null,null,null,null,{"$f":"IF(Masterblatt!F188=\"\",\"\",Masterblatt!F188)","v":""}]
[{"$f":"IF(Masterblatt!A189=\"\",\"\",Masterblatt!A189)","v":188},null,{"$f":"IF(AND(Masterblatt!B189=\"\",Masterblatt!C189=\"\"),\"\",Masterblatt!B189 & \" \" & Masterblatt!C189)","v":""},null,null,null,null,null,null,null,null,null,null,null,null,null,null,{"$f":"IF(Masterblatt!F189=\"\",\"\",Masterblatt!F189)","v":""}]
[{"$f":"IF(Masterblatt!A190=\"\",\"\",Masterblatt!A190)","v":189},null,{"$f":"IF(AND(Masterblatt!B190=\"\",Masterblatt!C190=\"\"),\"\",Masterblatt!B190 & \" \" & Masterblatt!C190)","v":""},null,null,null,null,null,null,null,null,null,null,null,null,null,null,{"$f":"IF(Masterblatt!F190=\"\",\"\",Masterblatt!F190)","v":""}]
[{"$f":"IF(Masterblatt!A191=\"\",\"\",Masterblatt!A191)","v":190},null,{"$f":"IF(AND(Masterblatt!B191=\"\",Masterblatt!C191=\"\"),\"\",Masterblatt!B191 & \" \" & Masterblatt!C191)","v":""},null,null,null,null,null,null,null,null,null,null,null,null,null,null,{"$f":"IF(Masterblatt!F191=\"\",\"\",Masterblatt!F191)","v":""}]
[{"$f":"IF(Masterblatt!A192=\"\",\"\",Masterblatt!A192)","v":191},null,{"$f":"IF(AND(Masterblatt!B192=\"\",Masterblatt!C192=\"\"),\"\",Masterblatt!B192 & \" \" & Masterblatt!C192)","v":""},null,null,null,null,null,null,null,null,null,null,null,null,null,null,{"$f":"IF(Masterblatt!F192=\"\",\"\",Masterblatt!F192)","v":""}]
[{"$f":"IF(Masterblatt!A193=\"\",\"\",Masterblatt!A193)","v":192},null,{"$f":"IF(AND(Masterblatt!B193=\"\",Masterblatt!C193=\"\"),\"\",Masterblatt!B193 & \" \" & Masterblatt!C193)","v":""},null,null,null,null,null,null,null,null,null,null,null,null,null,null,{"$f":"IF(Masterblatt!F193=\"\",\"\",Masterblatt!F193)","v":""}]
[{"$f":"IF(Masterblatt!A194=\"\",\"\",Masterblatt!A194)","v":193},null,{"$f":"IF(AND(Masterblatt!B194=\"\",Masterblatt!C194=\"\"),\"\",Masterblatt!B194 & \" \" & Masterblatt!C194)","v":""},null,null,null,null,null,null,null,null,null,null,null,null,null,null,{"$f":"IF(Masterblatt!F194=\"\",\"\",Masterblatt!F194)","v":""}]
[{"$f":"IF(Masterblatt!A195=\"\",\"\",Masterblatt!A195)","v":194},null,{"$f":"IF(AND(Masterblatt!B195=\"\",Masterblatt!C195=\"\"),\"\",Masterblatt!B195 & \" \" & Masterblatt!C195)","v":""},null,null,null,null,null,null,null,null,null,null,null,null,null,null,{"$f":"IF(Masterblatt!F195=\"\",\"\",Masterblatt!F195)","v":""}]
[{"$f":"IF(Masterblatt!A196=\"\",\"\",Masterblatt!A196)","v":195},null,{"$f":"IF(AND(Masterblatt!B196=\"\",Masterblatt!C196=\"\"),\"\",Masterblatt!B196 & \" \" & Masterblatt!C196)","v":""},null,null,null,null,null,null,null,null,null,null,null,null,null,null,{"$f":"IF(Masterblatt!F196=\"\",\"\",Masterblatt!F196)","v":""}]
[{"$f":"IF(Masterblatt!A197=\"\",\"\",Masterblatt!A197)","v":196},null,{"$f":"IF(AND(Masterblatt!B197=\"\",Masterblatt!C197=\"\"),\"\",Masterblatt!B197 & \" \" & Masterblatt!C197)","v":""},null,null,null,null,null,null,null,null,null,null,null,null,null,null,{"$f":"IF(Masterblatt!F197=\"\",\"\",Masterblatt!F197)","v":""}]
[{"$f":"IF(Masterblatt!A198=\"\",\"\",Masterblatt!A198)","v":197},null,{"$f":"IF(AND(Masterblatt!B198=\"\",Masterblatt!C198=\"\"),\"\",Masterblatt!B198 & \" \" & Masterblatt!C198)","v":""},null,null,null,null,null,null,null,null,null,null,null,null,null,null,{"$f":"IF(Masterblatt!F198=\"\",\"\",Masterblatt!F198)","v":""}]
[{"$f":"IF(Masterblatt!A199=\"\",\"\",Masterblatt!A199)","v":198},null,{"$f":"IF(AND(Masterblatt!B199=\"\",Masterblatt!C199=\"\"),\"\",Masterblatt!B199 & \" \" & Masterblatt!C199)","v":""},null,null,null,null,null,null,null,null,null,null,null,null,null,null,{"$f":"IF(Masterblatt!F199=\"\",\"\",Masterblatt!F199)","v":""}]
[{"$f":"IF(Masterblatt!A200=\"\",\"\",Masterblatt!A200)","v":199},null,{"$f":"IF(AND(Masterblatt!B200=\"\",Masterblatt!C200=\"\"),\"\",Masterblatt!B200 & \" \" & Masterblatt!C200)","v":""},null,null,null,null,null,null,null,null,null,null,null,null,null,null,{"$f":"IF(Masterblatt!F200=\"\",\"\",Masterblatt!F200)","v":""}]
[{"$f":"IF(Masterblatt!A201=\"\",\"\",Masterblatt!A201)","v":200},null,{"$f":"IF(AND(Masterblatt!B201=\"\",Masterblatt!C201=\"\"),\"\",Masterblatt!B201 & \" \" & Masterblatt!C201)","v":""},null,null,null,null,null,null,null,null,null,null,null,null,null,null,{"$f":"IF(Masterblatt!F201=\"\",\"\",Masterblatt!F201)","v":""}]
[{"$f":"IF(Masterblatt!A202=\"\",\"\",Masterblatt!A202)","v":201},null,{"$f":"IF(AND(Masterblatt!B202=\"\",Masterblatt!C202=\"\"),\"\",Masterblatt!B202 & \" \" & Masterblatt!C202)","v":""},null,null,null,null,null,null,null,null,null,null,null,null,null,null,{"$f":"IF(Masterblatt!F202=\"\",\"\",Masterblatt!F202)","v":""}]
[{"$f":"IF(Masterblatt!A203=\"\",\"\",Masterblatt!A203)","v":202},null,{"$f":"IF(AND(Masterblatt!B203=\"\",Masterblatt!C203=\"\"),\"\",Masterblatt!B203 & \" \" & Masterblatt!C203)","v":""},null,null,null,null,null,null,null,null,null,null,null,null,null,null,{"$f":"IF(Masterblatt!F203=\"\",\"\",Masterblatt!F203)","v":""}]
[{"$f":"IF(Masterblatt!A204=\"\",\"\",Masterblatt!A204)","v":203},null,{"$f":"IF(AND(Masterblatt!B204=\"\",Masterblatt!C204=\"\"),\"\",Masterblatt!B204 & \" \" & Masterblatt!C204)","v":""},null,null,null,null,null,null,null,null,null,null,null,null,null,null,{"$f":"IF(Masterblatt!F204=\"\",\"\",Masterblatt!F204)","v":""}]
[{"$f":"IF(Masterblatt!A205=\"\",\"\",Masterblatt!A205)","v":204},null,{"$f":"IF(AND(Masterblatt!B205=\"\",Masterblatt!C205=\"\"),\"\",Masterblatt!B205 & \" \" & Masterblatt!C205)","v":""},null,null,null,null,null,null,null,null,null,null,null,null,null,null,{"$f":"IF(Masterblatt!F205=\"\",\"\",Masterblatt!F205)","v":""}]
[{"$f":"IF(Masterblatt!A206=\"\",\"\",Masterblatt!A206)","v":205},null,{"$f":"IF(AND(Masterblatt!B206=\"\",Masterblatt!C206=\"\"),\"\",Masterblatt!B206 & \" \" & Masterblatt!C206)","v":""},null,null,null,null,null,null,null,null,null,null,null,null,null,null,{"$f":"IF(Masterblatt!F206=\"\",\"\",Masterblatt!F206)","v":""}]
[{"$f":"IF(Masterblatt!A207=\"\",\"\",Masterblatt!A207)","v":206},null,{"$f":"IF(AND(Masterblatt!B207=\"\",Masterblatt!C207=\"\"),\"\",Masterblatt!B207 & \" \" & Masterblatt!C207)","v":""},null,null,null,null,null,null,null,null,null,null,null,null,null,null,{"$f":"IF(Masterblatt!F207=\"\",\"\",Masterblatt!F207)","v":""}]
[{"$f":"IF(Masterblatt!A208=\"\",\"\",Masterblatt!A208)","v":207},null,{"$f":"IF(AND(Masterblatt!B208=\"\",Masterblatt!C208=\"\"),\"\",Masterblatt!B208 & \" \" & Masterblatt!C208)","v":""},null,null,null,null,null,null,null,null,null,null,null,null,null,null,{"$f":"IF(Masterblatt!F208=\"\",\"\",Masterblatt!F208)","v":""}]
[{"$f":"IF(Masterblatt!A209=\"\",\"\",Masterblatt!A209)","v":208},null,{"$f":"IF(AND(Masterblatt!B209=\"\",Masterblatt!C209=\"\"),\"\",Masterblatt!B209 & \" \" & Masterblatt!C209)","v":""},null,null,null,null,null,null,null,null,null,null,null,null,null,null,{"$f":"IF(Masterblatt!F209=\"\",\"\",Masterblatt!F209)","v":""}]
[{"$f":"IF(Masterblatt!A210=\"\",\"\",Masterblatt!A210)","v":209},null,{"$f":"IF(AND(Masterblatt!B210=\"\",Masterblatt!C210=\"\"),\"\",Masterblatt!B210 & \" \" & Masterblatt!C210)","v":""},null,null,null,null,null,null,null,null,null,null,null,null,null,null,{"$f":"IF(Masterblatt!F210=\"\",\"\",Masterblatt!F210)","v":""}]
[{"$f":"IF(Masterblatt!A211=\"\",\"\",Masterblatt!A211)","v":210},null,{"$f":"IF(AND(Masterblatt!B211=\"\",Masterblatt!C211=\"\"),\"\",Masterblatt!B211 & \" \" & Masterblatt!C211)","v":""},null,null,null,null,null,null,null,null,null,null,null,null,null,null,{"$f":"IF(Masterblatt!F211=\"\",\"\",Masterblatt!F211)","v":""}]
[{"$f":"IF(Masterblatt!A212=\"\",\"\",Masterblatt!A212)","v":211},null,{"$f":"IF(AND(Masterblatt!B212=\"\",Masterblatt!C212=\"\"),\"\",Masterblatt!B212 & \" \" & Masterblatt!C212)","v":""},null,null,null,null,null,null,null,null,null,null,null,null,null,null,{"$f":"IF(Masterblatt!F212=\"\",\"\",Masterblatt!F212)","v":""}]
[{"$f":"IF(Masterblatt!A213=\"\",\"\",Masterblatt!A213)","v":212},null,{"$f":"IF(AND(Masterblatt!B213=\"\",Masterblatt!C213=\"\"),\"\",Masterblatt!B213 & \" \" & Masterblatt!C213)","v":""},null,null,null,null,null,null,null,null,null,null,null,null,null,null,{"$f":"IF(Masterblatt!F213=\"\",\"\",Masterblatt!F213)","v":""}]
[{"$f":"IF(Masterblatt!A214=\"\",\"\",Masterblatt!A214)","v":213},null,{"$f":"IF(AND(Masterblatt!B214=\"\",Masterblatt!C214=\"\"),\"\",Masterblatt!B214 & \" \" & Masterblatt!C214)","v":""},null,null,null,null,null,null,null,null,null,null,null,null,null,null,{"$f":"IF(Masterblatt!F214=\"\",\"\",Masterblatt!F214)","v":""}]
[{"$f":"IF(Masterblatt!A215=\"\",\"\",Masterblatt!A215)","v":214},null,{"$f":"IF(AND(Masterblatt!B215=\"\",Masterblatt!C215=\"\"),\"\",Masterblatt!B215 & \" \" & Masterblatt!C215)","v":""},null,null,null,null,null,null,null,null,null,null,null,null,null,null,{"$f":"IF(Masterblatt!F215=\"\",\"\",Masterblatt!F215)","v":""}]
[{"$f":"IF(Masterblatt!A216=\"\",\"\",Masterblatt!A216)","v":215},null,{"$f":"IF(AND(Masterblatt!B216=\"\",Masterblatt!C216=\"\"),\"\",Masterblatt!B216 & \" \" & Masterblatt!C216)","v":""},null,null,null,null,null,null,null,null,null,null,null,null,null,null,{"$f":"IF(Masterblatt!F216=\"\",\"\",Masterblatt!F216)","v":""}]
[{"$f":"IF(Masterblatt!A217=\"\",\"\",Masterblatt!A217)","v":216},null,{"$f":"IF(AND(Masterblatt!B217=\"\",Masterblatt!C217=\"\"),\"\",Masterblatt!B217 & \" \" & Masterblatt!C217)","v":""},null,null,null,null,null,null,null,null,null,null,null,null,null,null,{"$f":"IF(Masterblatt!F217=\"\",\"\",Masterblatt!F217)","v":""}]
[{"$f":"IF(Masterblatt!A218=\"\",\"\",Masterblatt!A218)","v":217},null,{"$f":"IF(AND(Masterblatt!B218=\"\",Masterblatt!C218=\"\"),\"\",Masterblatt!B218 & \" \" & Masterblatt!C218)","v":""},null,null,null,null,null,null,null,null,null,null,null,null,null,null,{"$f":"IF(Masterblatt!F218=\"\",\"\",Masterblatt!F218)","v":""}]
[{"$f":"IF(Masterblatt!A219=\"\",\"\",Masterblatt!A219)","v":218},null,{"$f":"IF(AND(Masterblatt!B219=\"\",Masterblatt!C219=\"\"),\"\",Masterblatt!B219 & \" \" & Masterblatt!C219)","v":""},null,null,null,null,null,null,null,null,null,null,null,null,null,null,{"$f":"IF(Masterblatt!F219=\"\",\"\",Masterblatt!F219)","v":""}]
[{"$f":"IF(Masterblatt!A220=\"\",\"\",Masterblatt!A220)","v":219},null,{"$f":"IF(AND(Masterblatt!B220=\"\",Masterblatt!C220=\"\"),\"\",Masterblatt!B220 & \" \" & Masterblatt!C220)","v":""},null,null,null,null,null,null,null,null,null,null,null,null,null,null,{"$f":"IF(Masterblatt!F220=\"\",\"\",Masterblatt!F220)","v":""}]
[{"$f":"IF(Masterblatt!A221=\"\",\"\",Masterblatt!A221)","v":220},null,{"$f":"IF(AND(Masterblatt!B221=\"\",Masterblatt!C221=\"\"),\"\",Masterblatt!B221 & \" \" & Masterblatt!C221)","v":""},null,null,null,null,null,null,null,null,null,null,null,null,null,null,{"$f":"IF(Masterblatt!F221=\"\",\"\",Masterblatt!F221)","v":""}]
[{"$f":"IF(Masterblatt!A222=\"\",\"\",Masterblatt!A222)","v":221},null,{"$f":"IF(AND(Masterblatt!B222=\"\",Masterblatt!C222=\"\"),\"\",Masterblatt!B222 & \" \" & Masterblatt!C222)","v":""},null,null,null,null,null,null,null,null,null,null,null,null,null,null,{"$f":"IF(Masterblatt!F222=\"\",\"\",Masterblatt!F222)","v":""}]
[{"$f":"IF(Masterblatt!A223=\"\",\"\",Masterblatt!A223)","v":222},null,{"$f":"IF(AND(Masterblatt!B223=\"\",Masterblatt!C223=\"\"),\"\",Masterblatt!B223 & \" \" & Masterblatt!C223)","v":""},null,null,null,null,null,null,null,null,null,null,null,null,null,null,{"$f":"IF(Masterblatt!F223=\"\",\"\",Masterblatt!F223)","v":""}]
[{"$f":"IF(Masterblatt!A224=\"\",\"\",Masterblatt!A224)","v":223},null,{"$f":"IF(AND(Masterblatt!B224=\"\",Masterblatt!C224=\"\"),\"\",Masterblatt!B224 & \" \" & Masterblatt!C224)","v":""},null,null,null,null,null,null,null,null,null,null,null,null,null,null,{"$f":"IF(Masterblatt!F224=\"\",\"\",Masterblatt!F224)","v":""}]
[{"$f":"IF(Masterblatt!A225=\"\",\"\",Masterblatt!A225)","v":224},null,{"$f":"IF(AND(Masterblatt!B225=\"\",Masterblatt!C225=\"\"),\"\",Masterblatt!B225 & \" \" & Masterblatt!C225)","v":""},null,null,null,null,null,null,null,null,null,null,null,null,null,null,{"$f":"IF(Masterblatt!F225=\"\",\"\",Masterblatt!F225)","v":""}]
[{"$f":"IF(Masterblatt!A226=\"\",\"\",Masterblatt!A226)","v":225},null,{"$f":"IF(AND(Masterblatt!B226=\"\",Masterblatt!C226=\"\"),\"\",Masterblatt!B226 & \" \" & Masterblatt!C226)","v":""},null,null,null,null,null,null,null,null,null,null,null,null,null,null,{"$f":"IF(Masterblatt!F226=\"\",\"\",Masterblatt!F226)","v":""}]
[{"$f":"IF(Masterblatt!A227=\"\",\"\",Masterblatt!A227)","v":226},null,{"$f":"IF(AND(Masterblatt!B227=\"\",Masterblatt!C227=\"\"),\"\",Masterblatt!B227 & \" \" & Masterblatt!C227)","v":""},null,null,null,null,null,null,null,null,null,null,null,null,null,null,{"$f":"IF(Masterblatt!F227=\"\",\"\",Masterblatt!F227)","v":""}]
[{"$f":"IF(Masterblatt!A228=\"\",\"\",Masterblatt!A228)","v":227},null,{"$f":"IF(AND(Masterblatt!B228=\"\",Masterblatt!C228=\"\"),\"\",Masterblatt!B228 & \" \" & Masterblatt!C228)","v":""},null,null,null,null,null,null,null,null,null,null,null,null,null,null,{"$f":"IF(Masterblatt!F228=\"\",\"\",Masterblatt!F228)","v":""}]
[{"$f":"IF(Masterblatt!A229=\"\",\"\",Masterblatt!A229)","v":228},null,{"$f":"IF(AND(Masterblatt!B229=\"\",Masterblatt!C229=\"\"),\"\",Masterblatt!B229 & \" \" & Masterblatt!C229)","v":""},null,null,null,null,null,null,null,null,null,null,null,null,null,null,{"$f":"IF(Masterblatt!F229=\"\",\"\",Masterblatt!F229)","v":""}]
[{"$f":"IF(Masterblatt!A230=\"\",\"\",Masterblatt!A230)","v":229},null,{"$f":"IF(AND(Masterblatt!B230=\"\",Masterblatt!C230=\"\"),\"\",Masterblatt!B230 & \" \" & Masterblatt!C230)","v":""},null,null,null,null,null,null,null,null,null,null,null,null,null,null,{"$f":"IF(Masterblatt!F230=\"\",\"\",Masterblatt!F230)","v":""}]
[{"$f":"IF(Masterblatt!A231=\"\",\"\",Masterblatt!A231)","v":230},null,{"$f":"IF(AND(Masterblatt!B231=\"\",Masterblatt!C231=\"\"),\"\",Masterblatt!B231 & \" \" & Masterblatt!C231)","v":""},null,null,null,null,null,null,null,null,null,null,null,null,null,null,{"$f":"IF(Masterblatt!F231=\"\",\"\",Masterblatt!F231)","v":""}]
[{"$f":"IF(Masterblatt!A232=\"\",\"\",Masterblatt!A232)","v":231},null,{"$f":"IF(AND(Masterblatt!B232=\"\",Masterblatt!C232=\"\"),\"\",Masterblatt!B232 & \" \" & Masterblatt!C232)","v":""},null,null,null,null,null,null,null,null,null,null,null,null,null,null,{"$f":"IF(Masterblatt!F232=\"\",\"\",Masterblatt!F232)","v":""}]
[{"$f":"IF(Masterblatt!A233=\"\",\"\",Masterblatt!A233)","v":232},null,{"$f":"IF(AND(Masterblatt!B233=\"\",Masterblatt!C233=\"\"),\"\",Masterblatt!B233 & \" \" & Masterblatt!C233)","v":""},null,null,null,null,null,null,null,null,null,null,null,null,null,null,{"$f":"IF(Masterblatt!F233=\"\",\"\",Masterblatt!F233)","v":""}]
[{"$f":"IF(Masterblatt!A234=\"\",\"\",Masterblatt!A234)","v":233},null,{"$f":"IF(AND(Masterblatt!B234=\"\",Masterblatt!C234=\"\"),\"\",Masterblatt!B234 & \" \" & Masterblatt!C234)","v":""},null,null,null,null,null,null,null,null,null,null,null,null,null,null,{"$f":"IF(Masterblatt!F234=\"\",\"\",Masterblatt!F234)","v":""}]
[{"$f":"IF(Masterblatt!A235=\"\",\"\",Masterblatt!A235)","v":234},null,{"$f":"IF(AND(Masterblatt!B235=\"\",Masterblatt!C235=\"\"),\"\",Masterblatt!B235 & \" \" & Masterblatt!C235)","v":""},null,null,null,null,null,null,null,null,null,null,null,null,null,null,{"$f":"IF(Masterblatt!F235=\"\",\"\",Masterblatt!F235)","v":""}]
[{"$f":"IF(Masterblatt!A236=\"\",\"\",Masterblatt!A236)","v":235},null,{"$f":"IF(AND(Masterblatt!B236=\"\",Masterblatt!C236=\"\"),\"\",Masterblatt!B236 & \" \" & Masterblatt!C236)","v":""},null,null,null,null,null,null,null,null,null,null,null,null,null,null,{"$f":"IF(Masterblatt!F236=\"\",\"\",Masterblatt!F236)","v":""}]
[{"$f":"IF(Masterblatt!A237=\"\",\"\",Masterblatt!A237)","v":236},null,{"$f":"IF(AND(Masterblatt!B237=\"\",Masterblatt!C237=\"\"),\"\",Masterblatt!B237 & \" \" & Masterblatt!C237)","v":""},null,null,null,null,null,null,null,null,null,null,null,null,null,null,{"$f":"IF(Masterblatt!F237=\"\",\"\",Masterblatt!F237)","v":""}]
[{"$f":"IF(Masterblatt!A238=\"\",\"\",Masterblatt!A238)","v":237},null,{"$f":"IF(AND(Masterblatt!B238=\"\",Masterblatt!C238=\"\"),\"\",Masterblatt!B238 & \" \" & Masterblatt!C238)","v":""},null,null,null,null,null,null,null,null,null,null,null,null,null,null,{"$f":"IF(Masterblatt!F238=\"\",\"\",Masterblatt!F238)","v":""}]
[{"$f":"IF(Masterblatt!A239=\"\",\"\",Masterblatt!A239)","v":238},null,{"$f":"IF(AND(Masterblatt!B239=\"\",Masterblatt!C239=\"\"),\"\",Masterblatt!B239 & \" \" & Masterblatt!C239)","v":""},null,null,null,null,null,null,null,null,null,null,null,null,null,null,{"$f":"IF(Masterblatt!F239=\"\",\"\",Masterblatt!F239)","v":""}]
[{"$f":"IF(Masterblatt!A240=\"\",\"\",Masterblatt!A240)","v":239},null,{"$f":"IF(AND(Masterblatt!B240=\"\",Masterblatt!C240=\"\"),\"\",Masterblatt!B240 & \" \" & Masterblatt!C240)","v":""},null,null,null,null,null,null,null,null,null,null,null,null,null,null,{"$f":"IF(Masterblatt!F240=\"\",\"\",Masterblatt!F240)","v":""}]
[{"$f":"IF(Masterblatt!A241=\"\",\"\",Masterblatt!A241)","v":240},null,{"$f":"IF(AND(Masterblatt!B241=\"\",Masterblatt!C241=\"\"),\"\",Masterblatt!B241 & \" \" & Masterblatt!C241)","v":""},null,null,null,null,null,null,null,null,null,null,null,null,null,null,{"$f":"IF(Masterblatt!F241=\"\",\"\",Masterblatt!F241)","v":""}]
[{"$f":"IF(Masterblatt!A242=\"\",\"\",Masterblatt!A242)","v":241},null,{"$f":"IF(AND(Masterblatt!B242=\"\",Masterblatt!C242=\"\"),\"\",Masterblatt!B242 & \" \" & Masterblatt!C242)","v":""},null,null,null,null,null,null,null,null,null,null,null,null,null,null,{"$f":"IF(Masterblatt!F242=\"\",\"\",Masterblatt!F242)","v":""}]
[{"$f":"IF(Masterblatt!A243=\"\",\"\",Masterblatt!A243)","v":242},null,{"$f":"IF(AND(Masterblatt!B243=\"\",Masterblatt!C243=\"\"),\"\",Masterblatt!B243 & \" \" & Masterblatt!C243)","v":""},null,null,null,null,null,null,null,null,null,null,null,null,null,null,{"$f":"IF(Masterblatt!F243=\"\",\"\",Masterblatt!F243)","v":""}]
[{"$f":"IF(Masterblatt!A244=\"\",\"\",Masterblatt!A244)","v":243},null,{"$f":"IF(AND(Masterblatt!B244=\"\",Masterblatt!C244=\"\"),\"\",Masterblatt!B244 & \" \" & Masterblatt!C244)","v":""},null,null,null,null,null,null,null,null,null,null,null,null,null,null,{"$f":"IF(Masterblatt!F244=\"\",\"\",Masterblatt!F244)","v":""}]
[{"$f":"IF(Masterblatt!A245=\"\",\"\",Masterblatt!A245)","v":244},null,{"$f":"IF(AND(Masterblatt!B245=\"\",Masterblatt!C245=\"\"),\"\",Masterblatt!B245 & \" \" & Masterblatt!C245)","v":""},null,null,null,null,null,null,null,null,null,null,null,null,null,null,{"$f":"IF(Masterblatt!F245=\"\",\"\",Masterblatt!F245)","v":""}]
[{"$f":"IF(Masterblatt!A246=\"\",\"\",Masterblatt!A246)","v":245},null,{"$f":"IF(AND(Masterblatt!B246=\"\",Masterblatt!C246=\"\"),\"\",Masterblatt!B246 & \" \" & Masterblatt!C246)","v":""},null,null,null,null,null,null,null,null,null,null,null,null,null,null,{"$f":"IF(Masterblatt!F246=\"\",\"\",Masterblatt!F246)","v":""}]
[{"$f":"IF(Masterblatt!A247=\"\",\"\",Masterblatt!A247)","v":246},null,{"$f":"IF(AND(Masterblatt!B247=\"\",Masterblatt!C247=\"\"),\"\",Masterblatt!B247 & \" \" & Masterblatt!C247)","v":""},null,null,null,null,null,null,null,null,null,null,null,null,null,null,{"$f":"IF(Masterblatt!F247=\"\",\"\",Masterblatt!F247)","v":""}]
[{"$f":"IF(Masterblatt!A248=\"\",\"\",Masterblatt!A248)","v":247},null,{"$f":"IF(AND(Masterblatt!B248=\"\",Masterblatt!C248=\"\"),\"\",Masterblatt!B248 & \" \" & Masterblatt!C248)","v":""},null,null,null,null,null,null,null,null,null,null,null,null,null,null,{"$f":"IF(Masterblatt!F248=\"\",\"\",Masterblatt!F248)","v":""}]
[{"$f":"IF(Masterblatt!A249=\"\",\"\",Masterblatt!A249)","v":248},null,{"$f":"IF(AND(Masterblatt!B249=\"\",Masterblatt!C249=\"\"),\"\",Masterblatt!B249 & \" \" & Masterblatt!C249)","v":""},null,null,null,null,null,null,null,null,null,null,null,null,null,null,{"$f":"IF(Masterblatt!F249=\"\",\"\",Masterblatt!F249)","v":""}]
[{"$f":"IF(Masterblatt!A250=\"\",\"\",Masterblatt!A250)","v":249},null,{"$f":"IF(AND(Masterblatt!B250=\"\",Masterblatt!C250=\"\"),\"\",Masterblatt!B250 & \" \" & Masterblatt!C250)","v":""},null,null,null,null,null,null,null,null,null,null,null,null,null,null,{"$f":"IF(Masterblatt!F250=\"\",\"\",Masterblatt!F250)","v":""}]
[{"$f":"IF(Masterblatt!A251=\"\",\"\",Masterblatt!A251)","v":250},null,{"$f":"IF(AND(Masterblatt!B251=\"\",Masterblatt!C251=\"\"),\"\",Masterblatt!B251 & \" \" & Masterblatt!C251)","v":""},null,null,null,null,null,null,null,null,null,null,null,null,null,null,{"$f":"IF(Masterblatt!F251=\"\",\"\",Masterblatt!F251)","v":""}]
[{"$f":"IF(Masterblatt!A252=\"\",\"\",Masterblatt!A252)","v":251},null,{"$f":"IF(AND(Masterblatt!B252=\"\",Masterblatt!C252=\"\"),\"\",Masterblatt!B252 & \" \" & Masterblatt!C252)","v":""},null,null,null,null,null,null,null,null,null,null,null,null,null,null,{"$f":"IF(Masterblatt!F252=\"\",\"\",Masterblatt!F252)","v":""}]
[{"$f":"IF(Masterblatt!A253=\"\",\"\",Masterblatt!A253)","v":252},null,{"$f":"IF(AND(Masterblatt!B253=\"\",Masterblatt!C253=\"\"),\"\",Masterblatt!B253 & \" \" & Masterblatt!C253)","v":""},null,null,null,null,null,null,null,null,null,null,null,null,null,null,{"$f":"IF(Masterblatt!F253=\"\",\"\",Masterblatt!F253)","v":""}]
[{"$f":"IF(Masterblatt!A254=\"\",\"\",Masterblatt!A254)","v":253},null,{"$f":"IF(AND(Masterblatt!B254=\"\",Masterblatt!C254=\"\"),\"\",Masterblatt!B254 & \" \" & Masterblatt!C254)","v":""},null,null,null,null,null,null,null,null,null,null,null,null,null,null,{"$f":"IF(Masterblatt!F254=\"\",\"\",Masterblatt!F254)","v":""}]
[{"$f":"IF(Masterblatt!A255=\"\",\"\",Masterblatt!A255)","v":254},null,{"$f":"IF(AND(Masterblatt!B255=\"\",Masterblatt!C255=\"\"),\"\",Masterblatt!B255 & \" \" & Masterblatt!C255)","v":""},null,null,null,null,null,null,null,null,null,null,null,null,null,null,{"$f":"IF(Masterblatt!F255=\"\",\"\",Masterblatt!F255)","v":""}]
[{"$f":"IF(Masterblatt!A256=\"\",\"\",Masterblatt!A256)","v":255},null,{"$f":"IF(AND(Masterblatt!B256=\"\",Masterblatt!C256=\"\"),\"\",Masterblatt!B256 & \" \" & Masterblatt!C256)","v":""},null,null,null,null,null,null,null,null,null,null,null,null,null,null,{"$f":"IF(Masterblatt!F256=\"\",\"\",Masterblatt!F256)","v":""}]
[{"$f":"IF(Masterblatt!A257=\"\",\"\",Masterblatt!A257)","v":256},null,{"$f":"IF(AND(Masterblatt!B257=\"\",Masterblatt!C257=\"\"),\"\",Masterblatt!B257 & \" \" & Masterblatt!C257)","v":""},null,null,null,null,null,null,null,null,null,null,null,null,null,null,{"$f":"IF(Masterblatt!F257=\"\",\"\",Masterblatt!F257)","v":""}]
[{"$f":"IF(Masterblatt!A258=\"\",\"\",Masterblatt!A258)","v":257},null,{"$f":"IF(AND(Masterblatt!B258=\"\",Masterblatt!C258=\"\"),\"\",Masterblatt!B258 & \" \" & Masterblatt!C258)","v":""},null,null,null,null,null,null,null,null,null,null,null,null,null,null,{"$f":"IF(Masterblatt!F258=\"\",\"\",Masterblatt!F258)","v":""}]
[{"$f":"IF(Masterblatt!A259=\"\",\"\",Masterblatt!A259)","v":258},null,{"$f":"IF(AND(Masterblatt!B259=\"\",Masterblatt!C259=\"\"),\"\",Masterblatt!B259 & \" \" & Masterblatt!C259)","v":""},null,null,null,null,null,null,null,null,null,null,null,null,null,null,{"$f":"IF(Masterblatt!F259=\"\",\"\",Masterblatt!F259)","v":""}]
[{"$f":"IF(Masterblatt!A260=\"\",\"\",Masterblatt!A260)","v":259},null,{"$f":"IF(AND(Masterblatt!B260=\"\",Masterblatt!C260=\"\"),\"\",Masterblatt!B260 & \" \" & Masterblatt!C260)","v":""},null,null,null,null,null,null,null,null,null,null,null,null,null,null,{"$f":"IF(Masterblatt!F260=\"\",\"\",Masterblatt!F260)","v":""}]
[{"$f":"IF(Masterblatt!A261=\"\",\"\",Masterblatt!A261)","v":260},null,{"$f":"IF(AND(Masterblatt!B261=\"\",Masterblatt!C261=\"\"),\"\",Masterblatt!B261 & \" \" & Masterblatt!C261)","v":""},null,null,null,null,null,null,null,null,null,null,null,null,null,null,{"$f":"IF(Masterblatt!F261=\"\",\"\",Masterblatt!F261)","v":""}]
[{"$f":"IF(Masterblatt!A262=\"\",\"\",Masterblatt!A262)","v":261},null,{"$f":"IF(AND(Masterblatt!B262=\"\",Masterblatt!C262=\"\"),\"\",Masterblatt!B262 & \" \" & Masterblatt!C262)","v":""},null,null,null,null,null,null,null,null,null,null,null,null,null,null,{"$f":"IF(Masterblatt!F262=\"\",\"\",Masterblatt!F262)","v":""}]
[{"$f":"IF(Masterblatt!A263=\"\",\"\",Masterblatt!A263)","v":262},null,{"$f":"IF(AND(Masterblatt!B263=\"\",Masterblatt!C263=\"\"),\"\",Masterblatt!B263 & \" \" & Masterblatt!C263)","v":""},null,null,null,null,null,null,null,null,null,null,null,null,null,null,{"$f":"IF(Masterblatt!F263=\"\",\"\",Masterblatt!F263)","v":""}]
[{"$f":"IF(Masterblatt!A264=\"\",\"\",Masterblatt!A264)","v":263},null,{"$f":"IF(AND(Masterblatt!B264=\"\",Masterblatt!C264=\"\"),\"\",Masterblatt!B264 & \" \" & Masterblatt!C264)","v":""},null,null,null,null,null,null,null,null,null,null,null,null,null,null,{"$f":"IF(Masterblatt!F264=\"\",\"\",Masterblatt!F264)","v":""}]
[{"$f":"IF(Masterblatt!A265=\"\",\"\",Masterblatt!A265)","v":264},null,{"$f":"IF(AND(Masterblatt!B265=\"\",Masterblatt!C265=\"\"),\"\",Masterblatt!B265 & \" \" & Masterblatt!C265)","v":""},null,null,null,null,null,null,null,null,null,null,null,null,null,null,{"$f":"IF(Masterblatt!F265=\"\",\"\",Masterblatt!F265)","v":""}]
[{"$f":"IF(Masterblatt!A266=\"\",\"\",Masterblatt!A266)","v":265},null,{"$f":"IF(AND(Masterblatt!B266=\"\",Masterblatt!C266=\"\"),\"\",Masterblatt!B266 & \" \" & Masterblatt!C266)","v":""},null,null,null,null,null,null,null,null,null,null,null,null,null,null,{"$f":"IF(Masterblatt!F266=\"\",\"\",Masterblatt!F266)","v":""}]
[{"$f":"IF(Masterblatt!A267=\"\",\"\",Masterblatt!A267)","v":266},null,{"$f":"IF(AND(Masterblatt!B267=\"\",Masterblatt!C267=\"\"),\"\",Masterblatt!B267 & \" \" & Masterblatt!C267)","v":""},null,null,null,null,null,null,null,null,null,null,null,null,null,null,{"$f":"IF(Masterblatt!F267=\"\",\"\",Masterblatt!F267)","v":""}]
[{"$f":"IF(Masterblatt!A268=\"\",\"\",Masterblatt!A268)","v":267},null,{"$f":"IF(AND(Masterblatt!B268=\"\",Masterblatt!C268=\"\"),\"\",Masterblatt!B268 & \" \" & Masterblatt!C268)","v":""},null,null,null,null,null,null,null,null,null,null,null,null,null,null,{"$f":"IF(Masterblatt!F268=\"\",\"\",Masterblatt!F268)","v":""}]
[{"$f":"IF(Masterblatt!A269=\"\",\"\",Masterblatt!A269)","v":268},null,{"$f":"IF(AND(Masterblatt!B269=\"\",Masterblatt!C269=\"\"),\"\",Masterblatt!B269 & \" \" & Masterblatt!C269)","v":""},null,null,null,null,null,null,null,null,null,null,null,null,null,null,{"$f":"IF(Masterblatt!F269=\"\",\"\",Masterblatt!F269)","v":""}]
[{"$f":"IF(Masterblatt!A270=\"\",\"\",Masterblatt!A270)","v":269},null,{"$f":"IF(AND(Masterblatt!B270=\"\",Masterblatt!C270=\"\"),\"\",Masterblatt!B270 & \" \" & Masterblatt!C270)","v":""},null,null,null,null,null,null,null,null,null,null,null,null,null,null,{"$f":"IF(Masterblatt!F270=\"\",\"\",Masterblatt!F270)","v":""}]
[{"$f":"IF(Masterblatt!A271=\"\",\"\",Masterblatt!A271)","v":270},null,{"$f":"IF(AND(Masterblatt!B271=\"\",Masterblatt!C271=\"\"),\"\",Masterblatt!B271 & \" \" & Masterblatt!C271)","v":""},null,null,null,null,null,null,null,null,null,null,null,null,null,null,{"$f":"IF(Masterblatt!F271=\"\",\"\",Masterblatt!F271)","v":""}]
[{"$f":"IF(Masterblatt!A272=\"\",\"\",Masterblatt!A272)","v":271},null,{"$f":"IF(AND(Masterblatt!B272=\"\",Masterblatt!C272=\"\"),\"\",Masterblatt!B272 & \" \" & Masterblatt!C272)","v":""},null,null,null,null,null,null,null,null,null,null,null,null,null,null,{"$f":"IF(Masterblatt!F272=\"\",\"\",Masterblatt!F272)","v":""}]
[{"$f":"IF(Masterblatt!A273=\"\",\"\",Masterblatt!A273)","v":272},null,{"$f":"IF(AND(Masterblatt!B273=\"\",Masterblatt!C273=\"\"),\"\",Masterblatt!B273 & \" \" & Masterblatt!C273)","v":""},null,null,null,null,null,null,null,null,null,null,null,null,null,null,{"$f":"IF(Masterblatt!F273=\"\",\"\",Masterblatt!F273)","v":""}]
[{"$f":"IF(Masterblatt!A274=\"\",\"\",Masterblatt!A274)","v":273},null,{"$f":"IF(AND(Masterblatt!B274=\"\",Masterblatt!C274=\"\"),\"\",Masterblatt!B274 & \" \" & Masterblatt!C274)","v":""},null,null,null,null,null,null,null,null,null,null,null,null,null,null,{"$f":"IF(Masterblatt!F274=\"\",\"\",Masterblatt!F274)","v":""}]
[{"$f":"IF(Masterblatt!A275=\"\",\"\",Masterblatt!A275)","v":274},null,{"$f":"IF(AND(Masterblatt!B275=\"\",Masterblatt!C275=\"\"),\"\",Masterblatt!B275 & \" \" & Masterblatt!C275)","v":""},null,null,null,null,null,null,null,null,null,null,null,null,null,null,{"$f":"IF(Masterblatt!F275=\"\",\"\",Masterblatt!F275)","v":""}]
[{"$f":"IF(Masterblatt!A276=\"\",\"\",Masterblatt!A276)","v":275},null,{"$f":"IF(AND(Masterblatt!B276=\"\",Masterblatt!C276=\"\"),\"\",Masterblatt!B276 & \" \" & Masterblatt!C276)","v":""},null,null,null,null,null,null,null,null,null,null,null,null,null,null,{"$f":"IF(Masterblatt!F276=\"\",\"\",Masterblatt!F276)","v":""}]
[{"$f":"IF(Masterblatt!A277=\"\",\"\",Masterblatt!A277)","v":276},null,{"$f":"IF(AND(Masterblatt!B277=\"\",Masterblatt!C277=\"\"),\"\",Masterblatt!B277 & \" \" & Masterblatt!C277)","v":""},null,null,null,null,null,null,null,null,null,null,null,null,null,null,{"$f":"IF(Masterblatt!F277=\"\",\"\",Masterblatt!F277)","v":""}]
[{"$f":"IF(Masterblatt!A278=\"\",\"\",Masterblatt!A278)","v":277},null,{"$f":"IF(AND(Masterblatt!B278=\"\",Masterblatt!C278=\"\"),\"\",Masterblatt!B278 & \" \" & Masterblatt!C278)","v":""},null,null,null,null,null,null,null,null,null,null,null,null,null,null,{"$f":"IF(Masterblatt!F278=\"\",\"\",Masterblatt!F278)","v":""}]
[{"$f":"IF(Masterblatt!A279=\"\",\"\",Masterblatt!A279)","v":278},null,{"$f":"IF(AND(Masterblatt!B279=\"\",Masterblatt!C279=\"\"),\"\",Masterblatt!B279 & \" \" & Masterblatt!C279)","v":""},null,null,null,null,null,null,null,null,null,null,null,null,null,null,{"$f":"IF(Masterblatt!F279=\"\",\"\",Masterblatt!F279)","v":""}]
[{"$f":"IF(Masterblatt!A280=\"\",\"\",Masterblatt!A280)","v":279},null,{"$f":"IF(AND(Masterblatt!B280=\"\",Masterblatt!C280=\"\"),\"\",Masterblatt!B280 & \" \" & Masterblatt!C280)","v":""},null,null,null,null,null,null,null,null,null,null,null,null,null,null,{"$f":"IF(Masterblatt!F280=\"\",\"\",Masterblatt!F280)","v":""}]
[{"$f":"IF(Masterblatt!A281=\"\",\"\",Masterblatt!A281)","v":280},null,{"$f":"IF(AND(Masterblatt!B281=\"\",Masterblatt!C281=\"\"),\"\",Masterblatt!B281 & \" \" & Masterblatt!C281)","v":""},null,null,null,null,null,null,null,null,null,null,null,null,null,null,{"$f":"IF(Masterblatt!F281=\"\",\"\",Masterblatt!F281)","v":""}]
[{"$f":"IF(Masterblatt!A282=\"\",\"\",Masterblatt!A282)","v":281},null,{"$f":"IF(AND(Masterblatt!B282=\"\",Masterblatt!C282=\"\"),\"\",Masterblatt!B282 & \" \" & Masterblatt!C282)","v":""},null,null,null,null,null,null,null,null,null,null,null,null,null,null,{"$f":"IF(Masterblatt!F282=\"\",\"\",Masterblatt!F282)","v":""}]
[{"$f":"IF(Masterblatt!A283=\"\",\"\",Masterblatt!A283)","v":282},null,{"$f":"IF(AND(Masterblatt!B283=\"\",Masterblatt!C283=\"\"),\"\",Masterblatt!B283 & \" \" & Masterblatt!C283)","v":""},null,null,null,null,null,null,null,null,null,null,null,null,null,null,{"$f":"IF(Masterblatt!F283=\"\",\"\",Masterblatt!F283)","v":""}]
[{"$f":"IF(Masterblatt!A284=\"\",\"\",Masterblatt!A284)","v":283},null,{"$f":"IF(AND(Masterblatt!B284=\"\",Masterblatt!C284=\"\"),\"\",Masterblatt!B284 & \" \" & Masterblatt!C284)","v":""},null,null,null,null,null,null,null,null,null,null,null,null,null,null,{"$f":"IF(Masterblatt!F284=\"\",\"\",Masterblatt!F284)","v":""}]
[{"$f":"IF(Masterblatt!A285=\"\",\"\",Masterblatt!A285)","v":284},null,{"$f":"IF(AND(Masterblatt!B285=\"\",Masterblatt!C285=\"\"),\"\",Masterblatt!B285 & \" \" & Masterblatt!C285)","v":""},null,null,null,null,null,null,null,null,null,null,null,null,null,null,{"$f":"IF(Masterblatt!F285=\"\",\"\",Masterblatt!F285)","v":""}]
[{"$f":"IF(Masterblatt!A286=\"\",\"\",Masterblatt!A286)","v":285},null,{"$f":"IF(AND(Masterblatt!B286=\"\",Masterblatt!C286=\"\"),\"\",Masterblatt!B286 & \" \" & Masterblatt!C286)","v":""},null,null,null,null,null,null,null,null,null,null,null,null,null,null,{"$f":"IF(Masterblatt!F286=\"\",\"\",Masterblatt!F286)","v":""}]
[{"$f":"IF(Masterblatt!A287=\"\",\"\",Masterblatt!A287)","v":286},null,{"$f":"IF(AND(Masterblatt!B287=\"\",Masterblatt!C287=\"\"),\"\",Masterblatt!B287 & \" \" & Masterblatt!C287)","v":""},null,null,null,null,null,null,null,null,null,null,null,null,null,null,{"$f":"IF(Masterblatt!F287=\"\",\"\",Masterblatt!F287)","v":""}]
[{"$f":"IF(Masterblatt!A288=\"\",\"\",Masterblatt!A288)","v":287},null,{"$f":"IF(AND(Masterblatt!B288=\"\",Masterblatt!C288=\"\"),\"\",Masterblatt!B288 & \" \" & Masterblatt!C288)","v":""},null,null,null,null,null,null,null,null,null,null,null,null,null,null,{"$f":"IF(Masterblatt!F288=\"\",\"\",Masterblatt!F288)","v":""}]
[{"$f":"IF(Masterblatt!A289=\"\",\"\",Masterblatt!A289)","v":288},null,{"$f":"IF(AND(Masterblatt!B289=\"\",Masterblatt!C289=\"\"),\"\",Masterblatt!B289 & \" \" & Masterblatt!C289)","v":""},null,null,null,null,null,null,null,null,null,null,null,null,null,null,{"$f":"IF(Masterblatt!F289=\"\",\"\",Masterblatt!F289)","v":""}]
[{"$f":"IF(Masterblatt!A290=\"\",\"\",Masterblatt!A290)","v":289},null,{"$f":"IF(AND(Masterblatt!B290=\"\",Masterblatt!C290=\"\"),\"\",Masterblatt!B290 & \" \" & Masterblatt!C290)","v":""},null,null,null,null,null,null,null,null,null,null,null,null,null,null,{"$f":"IF(Masterblatt!F290=\"\",\"\",Masterblatt!F290)","v":""}]
[{"$f":"IF(Masterblatt!A291=\"\",\"\",Masterblatt!A291)","v":290},null,{"$f":"IF(AND(Masterblatt!B291=\"\",Masterblatt!C291=\"\"),\"\",Masterblatt!B291 & \" \" & Masterblatt!C291)","v":""},null,null,null,null,null,null,null,null,null,null,null,null,null,null,{"$f":"IF(Masterblatt!F291=\"\",\"\",Masterblatt!F291)","v":""}]
[{"$f":"IF(Masterblatt!A292=\"\",\"\",Masterblatt!A292)","v":291},null,{"$f":"IF(AND(Masterblatt!B292=\"\",Masterblatt!C292=\"\"),\"\",Masterblatt!B292 & \" \" & Masterblatt!C292)","v":""},null,null,null,null,null,null,null,null,null,null,null,null,null,null,{"$f":"IF(Masterblatt!F292=\"\",\"\",Masterblatt!F292)","v":""}]
[{"$f":"IF(Masterblatt!A293=\"\",\"\",Masterblatt!A293)","v":292},null,{"$f":"IF(AND(Masterblatt!B293=\"\",Masterblatt!C293=\"\"),\"\",Masterblatt!B293 & \" \" & Masterblatt!C293)","v":""},null,null,null,null,null,null,null,null,null,null,null,null,null,null,{"$f":"IF(Masterblatt!F293=\"\",\"\",Masterblatt!F293)","v":""}]
[{"$f":"IF(Masterblatt!A294=\"\",\"\",Masterblatt!A294)","v":293},null,{"$f":"IF(AND(Masterblatt!B294=\"\",Masterblatt!C294=\"\"),\"\",Masterblatt!B294 & \" \" & Masterblatt!C294)","v":""},null,null,null,null,null,null,null,null,null,null,null,null,null,null,{"$f":"IF(Masterblatt!F294=\"\",\"\",Masterblatt!F294)","v":""}]
[{"$f":"IF(Masterblatt!A295=\"\",\"\",Masterblatt!A295)","v":294},null,{"$f":"IF(AND(Masterblatt!B295=\"\",Masterblatt!C295=\"\"),\"\",Masterblatt!B295 & \" \" & Masterblatt!C295)","v":""},null,null,null,null,null,null,null,null,null,null,null,null,null,null,{"$f":"IF(Masterblatt!F295=\"\",\"\",Masterblatt!F295)","v":""}]
[{"$f":"IF(Masterblatt!A296=\"\",\"\",Masterblatt!A296)","v":295},null,{"$f":"IF(AND(Masterblatt!B296=\"\",Masterblatt!C296=\"\"),\"\",Masterblatt!B296 & \" \" & Masterblatt!C296)","v":""},null,null,null,null,null,null,null,null,null,null,null,null,null,null,{"$f":"IF(Masterblatt!F296=\"\",\"\",Masterblatt!F296)","v":""}]
[{"$f":"IF(Masterblatt!A297=\"\",\"\",Masterblatt!A297)","v":296},null,{"$f":"IF(AND(Masterblatt!B297=\"\",Masterblatt!C297=\"\"),\"\",Masterblatt!B297 & \" \" & Masterblatt!C297)","v":""},null,null,null,null,null,null,null,null,null,null,null,null,null,null,{"$f":"IF(Masterblatt!F297=\"\",\"\",Masterblatt!F297)","v":""}]
[{"$f":"IF(Masterblatt!A298=\"\",\"\",Masterblatt!A298)","v":297},null,{"$f":"IF(AND(Masterblatt!B298=\"\",Masterblatt!C298=\"\"),\"\",Masterblatt!B298 & \" \" & Masterblatt!C298)","v":""},null,null,null,null,null,null,null,null,null,null,null,null,null,null,{"$f":"IF(Masterblatt!F298=\"\",\"\",Masterblatt!F298)","v":""}]
[{"$f":"IF(Masterblatt!A299=\"\",\"\",Masterblatt!A299)","v":298},null,{"$f":"IF(AND(Masterblatt!B299=\"\",Masterblatt!C299=\"\"),\"\",Masterblatt!B299 & \" \" & Masterblatt!C299)","v":""},null,null,null,null,null,null,null,null,null,null,null,null,null,null,{"$f":"IF(Masterblatt!F299=\"\",\"\",Masterblatt!F299)","v":""}]
[{"$f":"IF(Masterblatt!A300=\"\",\"\",Masterblatt!A300)","v":299},null,{"$f":"IF(AND(Masterblatt!B300=\"\",Masterblatt!C300=\"\"),\"\",Masterblatt!B300 & \" \" & Masterblatt!C300)","v":""},null,null,null,null,null,null,null,null,null,null,null,null,null,null,{"$f":"IF(Masterblatt!F300=\"\",\"\",Masterblatt!F300)","v":""}]
[{"$f":"IF(Masterblatt!A301=\"\",\"\",Masterblatt!A301)","v":300},null,{"$f":"IF(AND(Masterblatt!B301=\"\",Masterblatt!C301=\"\"),\"\",Masterblatt!B301 & \" \" & Masterblatt!C301)","v":""},null,null,null,null,null,null,null,null,null,null,null,null,null,null,{"$f":"IF(Masterblatt!F301=\"\",\"\",Masterblatt!F301)","v":""}]
[{"$f":"IF(Masterblatt!A302=\"\",\"\",Masterblatt!A302)","v":301},null,{"$f":"IF(AND(Masterblatt!B302=\"\",Masterblatt!C302=\"\"),\"\",Masterblatt!B302 & \" \" & Masterblatt!C302)","v":""},null,null,null,null,null,null,null,null,null,null,null,null,null,null,{"$f":"IF(Masterblatt!F302=\"\",\"\",Masterblatt!F302)","v":""}]
[{"$f":"IF(Masterblatt!A303=\"\",\"\",Masterblatt!A303)","v":302},null,{"$f":"IF(AND(Masterblatt!B303=\"\",Masterblatt!C303=\"\"),\"\",Masterblatt!B303 & \" \" & Masterblatt!C303)","v":""},null,null,null,null,null,null,null,null,null,null,null,null,null,null,{"$f":"IF(Masterblatt!F303=\"\",\"\",Masterblatt!F303)","v":""}]
[{"$f":"IF(Masterblatt!A304=\"\",\"\",Masterblatt!A304)","v":303},null,{"$f":"IF(AND(Masterblatt!B304=\"\",Masterblatt!C304=\"\"),\"\",Masterblatt!B304 & \" \" & Masterblatt!C304)","v":""},null,null,null,null,null,null,null,null,null,null,null,null,null,null,{"$f":"IF(Masterblatt!F304=\"\",\"\",Masterblatt!F304)","v":""}]
[{"$f":"IF(Masterblatt!A305=\"\",\"\",Masterblatt!A305)","v":304},null,{"$f":"IF(AND(Masterblatt!B305=\"\",Masterblatt!C305=\"\"),\"\",Masterblatt!B305 & \" \" & Masterblatt!C305)","v":""},null,null,null,null,null,null,null,null,null,null,null,null,null,null,{"$f":"IF(Masterblatt!F305=\"\",\"\",Masterblatt!F305)","v":""}]
[{"$f":"IF(Masterblatt!A306=\"\",\"\",Masterblatt!A306)","v":305},null,{"$f":"IF(AND(Masterblatt!B306=\"\",Masterblatt!C306=\"\"),\"\",Masterblatt!B306 & \" \" & Masterblatt!C306)","v":""},null,null,null,null,null,null,null,null,null,null,null,null,null,null,{"$f":"IF(Masterblatt!F306=\"\",\"\",Masterblatt!F306)","v":""}]
[{"$f":"IF(Masterblatt!A307=\"\",\"\",Masterblatt!A307)","v":306},null,{"$f":"IF(AND(Masterblatt!B307=\"\",Masterblatt!C307=\"\"),\"\",Masterblatt!B307 & \" \" & Masterblatt!C307)","v":""},null,null,null,null,null,null,null,null,null,null,null,null,null,null,{"$f":"IF(Masterblatt!F307=\"\",\"\",Masterblatt!F307)","v":""}]
[{"$f":"IF(Masterblatt!A308=\"\",\"\",Masterblatt!A308)","v":307},null,{"$f":"IF(AND(Masterblatt!B308=\"\",Masterblatt!C308=\"\"),\"\",Masterblatt!B308 & \" \" & Masterblatt!C308)","v":""},null,null,null,null,null,null,null,null,null,null,null,null,null,null,{"$f":"IF(Masterblatt!F308=\"\",\"\",Masterblatt!F308)","v":""}]
[{"$f":"IF(Masterblatt!A309=\"\",\"\",Masterblatt!A309)","v":308},null,{"$f":"IF(AND(Masterblatt!B309=\"\",Masterblatt!C309=\"\"),\"\",Masterblatt!B309 & \" \" & Masterblatt!C309)","v":""},null,null,null,null,null,null,null,null,null,null,null,null,null,null,{"$f":"IF(Masterblatt!F309=\"\",\"\",Masterblatt!F309)","v":""}]
[{"$f":"IF(Masterblatt!A310=\"\",\"\",Masterblatt!A310)","v":309},null,{"$f":"IF(AND(Masterblatt!B310=\"\",Masterblatt!C310=\"\"),\"\",Masterblatt!B310 & \" \" & Masterblatt!C310)","v":""},null,null,null,null,null,null,null,null,null,null,null,null,null,null,{"$f":"IF(Masterblatt!F310=\"\",\"\",Masterblatt!F310)","v":""}]
[{"$f":"IF(Masterblatt!A311=\"\",\"\",Masterblatt!A311)","v":310},null,{"$f":"IF(AND(Masterblatt!B311=\"\",Masterblatt!C311=\"\"),\"\",Masterblatt!B311 & \" \" & Masterblatt!C311)","v":""},null,null,null,null,null,null,null,null,null,null,null,null,null,null,{"$f":"IF(Masterblatt!F311=\"\",\"\",Masterblatt!F311)","v":""}]
[{"$f":"IF(Masterblatt!A312=\"\",\"\",Masterblatt!A312)","v":311},null,{"$f":"IF(AND(Masterblatt!B312=\"\",Masterblatt!C312=\"\"),\"\",Masterblatt!B312 & \" \" & Masterblatt!C312)","v":""},null,null,null,null,null,null,null,null,null,null,null,null,null,null,{"$f":"IF(Masterblatt!F312=\"\",\"\",Masterblatt!F312)","v":""}]
[{"$f":"IF(Masterblatt!A313=\"\",\"\",Masterblatt!A313)","v":312},null,{"$f":"IF(AND(Masterblatt!B313=\"\",Masterblatt!C313=\"\"),\"\",Masterblatt!B313 & \" \" & Masterblatt!C313)","v":""},null,null,null,null,null,null,null,null,null,null,null,null,null,null,{"$f":"IF(Masterblatt!F313=\"\",\"\",Masterblatt!F313)","v":""}]
[{"$f":"IF(Masterblatt!A314=\"\",\"\",Masterblatt!A314)","v":313},null,{"$f":"IF(AND(Masterblatt!B314=\"\",Masterblatt!C314=\"\"),\"\",Masterblatt!B314 & \" \" & Masterblatt!C314)","v":""},null,null,null,null,null,null,null,null,null,null,null,null,null,null,{"$f":"IF(Masterblatt!F314=\"\",\"\",Masterblatt!F314)","v":""}]
[{"$f":"IF(Masterblatt!A315=\"\",\"\",Masterblatt!A315)","v":314},null,{"$f":"IF(AND(Masterblatt!B315=\"\",Masterblatt!C315=\"\"),\"\",Masterblatt!B315 & \" \" & Masterblatt!C315)","v":""},null,null,null,null,null,null,null,null,null,null,null,null,null,null,{"$f":"IF(Masterblatt!F315=\"\",\"\",Masterblatt!F315)","v":""}]
[{"$f":"IF(Masterblatt!A316=\"\",\"\",Masterblatt!A316)","v":315},null,{"$f":"IF(AND(Masterblatt!B316=\"\",Masterblatt!C316=\"\"),\"\",Masterblatt!B316 & \" \" & Masterblatt!C316)","v":""},null,null,null,null,null,null,null,null,null,null,null,null,null,null,{"$f":"IF(Masterblatt!F316=\"\",\"\",Masterblatt!F316)","v":""}]
[{"$f":"IF(Masterblatt!A317=\"\",\"\",Masterblatt!A317)","v":316},null,{"$f":"IF(AND(Masterblatt!B317=\"\",Masterblatt!C317=\"\"),\"\",Masterblatt!B317 & \" \" & Masterblatt!C317)","v":""},null,null,null,null,null,null,null,null,null,null,null,null,null,null,{"$f":"IF(Masterblatt!F317=\"\",\"\",Masterblatt!F317)","v":""}]
[{"$f":"IF(Masterblatt!A318=\"\",\"\",Masterblatt!A318)","v":317},null,{"$f":"IF(AND(Masterblatt!B318=\"\",Masterblatt!C318=\"\"),\"\",Masterblatt!B318 & \" \" & Masterblatt!C318)","v":""},null,null,null,null,null,null,null,null,null,null,null,null,null,null,{"$f":"IF(Masterblatt!F318=\"\",\"\",Masterblatt!F318)","v":""}]
[{"$f":"IF(Masterblatt!A319=\"\",\"\",Masterblatt!A319)","v":318},null,{"$f":"IF(AND(Masterblatt!B319=\"\",Masterblatt!C319=\"\"),\"\",Masterblatt!B319 & \" \" & Masterblatt!C319)","v":""},null,null,null,null,null,null,null,null,null,null,null,null,null,null,{"$f":"IF(Masterblatt!F319=\"\",\"\",Masterblatt!F319)","v":""}]
[{"$f":"IF(Masterblatt!A320=\"\",\"\",Masterblatt!A320)","v":319},null,{"$f":"IF(AND(Masterblatt!B320=\"\",Masterblatt!C320=\"\"),\"\",Masterblatt!B320 & \" \" & Masterblatt!C320)","v":""},null,null,null,null,null,null,null,null,null,null,null,null,null,null,{"$f":"IF(Masterblatt!F320=\"\",\"\",Masterblatt!F320)","v":""}]
[{"$f":"IF(Masterblatt!A321=\"\",\"\",Masterblatt!A321)","v":320},null,{"$f":"IF(AND(Masterblatt!B321=\"\",Masterblatt!C321=\"\"),\"\",Masterblatt!B321 & \" \" & Masterblatt!C321)","v":""},null,null,null,null,null,null,null,null,null,null,null,null,null,null,{"$f":"IF(Masterblatt!F321=\"\",\"\",Masterblatt!F321)","v":""}]
[{"$f":"IF(Masterblatt!A322=\"\",\"\",Masterblatt!A322)","v":321},null,{"$f":"IF(AND(Masterblatt!B322=\"\",Masterblatt!C322=\"\"),\"\",Masterblatt!B322 & \" \" & Masterblatt!C322)","v":""},null,null,null,null,null,null,null,null,null,null,null,null,null,null,{"$f":"IF(Masterblatt!F322=\"\",\"\",Masterblatt!F322)","v":""}]
[{"$f":"IF(Masterblatt!A323=\"\",\"\",Masterblatt!A323)","v":322},null,{"$f":"IF(AND(Masterblatt!B323=\"\",Masterblatt!C323=\"\"),\"\",Masterblatt!B323 & \" \" & Masterblatt!C323)","v":""},null,null,null,null,null,null,null,null,null,null,null,null,null,null,{"$f":"IF(Masterblatt!F323=\"\",\"\",Masterblatt!F323)","v":""}]
[{"$f":"IF(Masterblatt!A324=\"\",\"\",Masterblatt!A324)","v":323},null,{"$f":"IF(AND(Masterblatt!B324=\"\",Masterblatt!C324=\"\"),\"\",Masterblatt!B324 & \" \" & Masterblatt!C324)","v":""},null,null,null,null,null,null,null,null,null,null,null,null,null,null,{"$f":"IF(Masterblatt!F324=\"\",\"\",Masterblatt!F324)","v":""}]
[{"$f":"IF(Masterblatt!A325=\"\",\"\",Masterblatt!A325)","v":324},null,{"$f":"IF(AND(Masterblatt!B325=\"\",Masterblatt!C325=\"\"),\"\",Masterblatt!B325 & \" \" & Masterblatt!C325)","v":""},null,null,null,null,null,null,null,null,null,null,null,null,null,null,{"$f":"IF(Masterblatt!F325=\"\",\"\",Masterblatt!F325)","v":""}]
[{"$f":"IF(Masterblatt!A326=\"\",\"\",Masterblatt!A326)","v":325},null,{"$f":"IF(AND(Masterblatt!B326=\"\",Masterblatt!C326=\"\"),\"\",Masterblatt!B326 & \" \" & Masterblatt!C326)","v":""},null,null,null,null,null,null,null,null,null,null,null,null,null,null,{"$f":"IF(Masterblatt!F326=\"\",\"\",Masterblatt!F326)","v":""}]
[{"$f":"IF(Masterblatt!A327=\"\",\"\",Masterblatt!A327)","v":326},null,{"$f":"IF(AND(Masterblatt!B327=\"\",Masterblatt!C327=\"\"),\"\",Masterblatt!B327 & \" \" & Masterblatt!C327)","v":""},null,null,null,null,null,null,null,null,null,null,null,null,null,null,{"$f":"IF(Masterblatt!F327=\"\",\"\",Masterblatt!F327)","v":""}]
[{"$f":"IF(Masterblatt!A328=\"\",\"\",Masterblatt!A328)","v":327},null,{"$f":"IF(AND(Masterblatt!B328=\"\",Masterblatt!C328=\"\"),\"\",Masterblatt!B328 & \" \" & Masterblatt!C328)","v":""},null,null,null,null,null,null,null,null,null,null,null,null,null,null,{"$f":"IF(Masterblatt!F328=\"\",\"\",Masterblatt!F328)","v":""}]
[{"$f":"IF(Masterblatt!A329=\"\",\"\",Masterblatt!A329)","v":328},null,{"$f":"IF(AND(Masterblatt!B329=\"\",Masterblatt!C329=\"\"),\"\",Masterblatt!B329 & \" \" & Masterblatt!C329)","v":""},null,null,null,null,null,null,null,null,null,null,null,null,null,null,{"$f":"IF(Masterblatt!F329=\"\",\"\",Masterblatt!F329)","v":""}]
[{"$f":"IF(Masterblatt!A330=\"\",\"\",Masterblatt!A330)","v":329},null,{"$f":"IF(AND(Masterblatt!B330=\"\",Masterblatt!C330=\"\"),\"\",Masterblatt!B330 & \" \" & Masterblatt!C330)","v":""},null,null,null,null,null,null,null,null,null,null,null,null,null,null,{"$f":"IF(Masterblatt!F330=\"\",\"\",Masterblatt!F330)","v":""}]
[{"$f":"IF(Masterblatt!A331=\"\",\"\",Masterblatt!A331)","v":330},null,{"$f":"IF(AND(Masterblatt!B331=\"\",Masterblatt!C331=\"\"),\"\",Masterblatt!B331 & \" \" & Masterblatt!C331)","v":""},null,null,null,null,null,null,null,null,null,null,null,null,null,null,{"$f":"IF(Masterblatt!F331=\"\",\"\",Masterblatt!F331)","v":""}]
[{"$f":"IF(Masterblatt!A332=\"\",\"\",Masterblatt!A332)","v":331},null,{"$f":"IF(AND(Masterblatt!B332=\"\",Masterblatt!C332=\"\"),\"\",Masterblatt!B332 & \" \" & Masterblatt!C332)","v":""},null,null,null,null,null,null,null,null,null,null,null,null,null,null,{"$f":"IF(Masterblatt!F332=\"\",\"\",Masterblatt!F332)","v":""}]
[{"$f":"IF(Masterblatt!A333=\"\",\"\",Masterblatt!A333)","v":332},null,{"$f":"IF(AND(Masterblatt!B333=\"\",Masterblatt!C333=\"\"),\"\",Masterblatt!B333 & \" \" & Masterblatt!C333)","v":""},null,null,null,null,null,null,null,null,null,null,null,null,null,null,{"$f":"IF(Masterblatt!F333=\"\",\"\",Masterblatt!F333)","v":""}]
[{"$f":"IF(Masterblatt!A334=\"\",\"\",Masterblatt!A334)","v":333},null,{"$f":"IF(AND(Masterblatt!B334=\"\",Masterblatt!C334=\"\"),\"\",Masterblatt!B334 & \" \" & Masterblatt!C334)","v":""},null,null,null,null,null,null,null,null,null,null,null,null,null,null,{"$f":"IF(Masterblatt!F334=\"\",\"\",Masterblatt!F334)","v":""}]
[{"$f":"IF(Masterblatt!A335=\"\",\"\",Masterblatt!A335)","v":334},null,{"$f":"IF(AND(Masterblatt!B335=\"\",Masterblatt!C335=\"\"),\"\",Masterblatt!B335 & \" \" & Masterblatt!C335)","v":""},null,null,null,null,null,null,null,null,null,null,null,null,null,null,{"$f":"IF(Masterblatt!F335=\"\",\"\",Masterblatt!F335)","v":""}]
[{"$f":"IF(Masterblatt!A336=\"\",\"\",Masterblatt!A336)","v":335},null,{"$f":"IF(AND(Masterblatt!B336=\"\",Masterblatt!C336=\"\"),\"\",Masterblatt!B336 & \" \" & Masterblatt!C336)","v":""},null,null,null,null,null,null,null,null,null,null,null,null,null,null,{"$f":"IF(Masterblatt!F336=\"\",\"\",Masterblatt!F336)","v":""}]
[{"$f":"IF(Masterblatt!A337=\"\",\"\",Masterblatt!A337)","v":336},null,{"$f":"IF(AND(Masterblatt!B337=\"\",Masterblatt!C337=\"\"),\"\",Masterblatt!B337 & \" \" & Masterblatt!C337)","v":""},null,null,null,null,null,null,null,null,null,null,null,null,null,null,{"$f":"IF(Masterblatt!F337=\"\",\"\",Masterblatt!F337)","v":""}]
[{"$f":"IF(Masterblatt!A338=\"\",\"\",Masterblatt!A338)","v":337},null,{"$f":"IF(AND(Masterblatt!B338=\"\",Masterblatt!C338=\"\"),\"\",Masterblatt!B338 & \" \" & Masterblatt!C338)","v":""},null,null,null,null,null,null,null,null,null,null,null,null,null,null,{"$f":"IF(Masterblatt!F338=\"\",\"\",Masterblatt!F338)","v":""}]
[{"$f":"IF(Masterblatt!A339=\"\",\"\",Masterblatt!A339)","v":338},null,{"$f":"IF(AND(Masterblatt!B339=\"\",Masterblatt!C339=\"\"),\"\",Masterblatt!B339 & \" \" & Masterblatt!C339)","v":""},null,null,null,null,null,null,null,null,null,null,null,null,null,null,{"$f":"IF(Masterblatt!F339=\"\",\"\",Masterblatt!F339)","v":""}]
[{"$f":"IF(Masterblatt!A340=\"\",\"\",Masterblatt!A340)","v":339},null,{"$f":"IF(AND(Masterblatt!B340=\"\",Masterblatt!C340=\"\"),\"\",Masterblatt!B340 & \" \" & Masterblatt!C340)","v":""},null,null,null,null,null,null,null,null,null,null,null,null,null,null,{"$f":"IF(Masterblatt!F340=\"\",\"\",Masterblatt!F340)","v":""}]
[{"$f":"IF(Masterblatt!A341=\"\",\"\",Masterblatt!A341)","v":340},null,{"$f":"IF(AND(Masterblatt!B341=\"\",Masterblatt!C341=\"\"),\"\",Masterblatt!B341 & \" \" & Masterblatt!C341)","v":""},null,null,null,null,null,null,null,null,null,null,null,null,null,null,{"$f":"IF(Masterblatt!F341=\"\",\"\",Masterblatt!F341)","v":""}]
[{"$f":"IF(Masterblatt!A342=\"\",\"\",Masterblatt!A342)","v":341},null,{"$f":"IF(AND(Masterblatt!B342=\"\",Masterblatt!C342=\"\"),\"\",Masterblatt!B342 & \" \" & Masterblatt!C342)","v":""},null,null,null,null,null,null,null,null,null,null,null,null,null,null,{"$f":"IF(Masterblatt!F342=\"\",\"\",Masterblatt!F342)","v":""}]
[{"$f":"IF(Masterblatt!A343=\"\",\"\",Masterblatt!A343)","v":342},null,{"$f":"IF(AND(Masterblatt!B343=\"\",Masterblatt!C343=\"\"),\"\",Masterblatt!B343 & \" \" & Masterblatt!C343)","v":""},null,null,null,null,null,null,null,null,null,null,null,null,null,null,{"$f":"IF(Masterblatt!F343=\"\",\"\",Masterblatt!F343)","v":""}]
[{"$f":"IF(Masterblatt!A344=\"\",\"\",Masterblatt!A344)","v":343},null,{"$f":"IF(AND(Masterblatt!B344=\"\",Masterblatt!C344=\"\"),\"\",Masterblatt!B344 & \" \" & Masterblatt!C344)","v":""},null,null,null,null,null,null,null,null,null,null,null,null,null,null,{"$f":"IF(Masterblatt!F344=\"\",\"\",Masterblatt!F344)","v":""}]
[{"$f":"IF(Masterblatt!A345=\"\",\"\",Masterblatt!A345)","v":344},null,{"$f":"IF(AND(Masterblatt!B345=\"\",Masterblatt!C345=\"\"),\"\",Masterblatt!B345 & \" \" & Masterblatt!C345)","v":""},null,null,null,null,null,null,null,null,null,null,null,null,null,null,{"$f":"IF(Masterblatt!F345=\"\",\"\",Masterblatt!F345)","v":""}]
[{"$f":"IF(Masterblatt!A346=\"\",\"\",Masterblatt!A346)","v":345},null,{"$f":"IF(AND(Masterblatt!B346=\"\",Masterblatt!C346=\"\"),\"\",Masterblatt!B346 & \" \" & Masterblatt!C346)","v":""},null,null,null,null,null,null,null,null,null,null,null,null,null,null,{"$f":"IF(Masterblatt!F346=\"\",\"\",Masterblatt!F346)","v":""}]
[{"$f":"IF(Masterblatt!A347=\"\",\"\",Masterblatt!A347)","v":346},null,{"$f":"IF(AND(Masterblatt!B347=\"\",Masterblatt!C347=\"\"),\"\",Masterblatt!B347 & \" \" & Masterblatt!C347)","v":""},null,null,null,null,null,null,null,null,null,null,null,null,null,null,{"$f":"IF(Masterblatt!F347=\"\",\"\",Masterblatt!F347)","v":""}]
[{"$f":"IF(Masterblatt!A348=\"\",\"\",Masterblatt!A348)","v":347},null,{"$f":"IF(AND(Masterblatt!B348=\"\",Masterblatt!C348=\"\"),\"\",Masterblatt!B348 & \" \" & Masterblatt!C348)","v":""},null,null,null,null,null,null,null,null,null,null,null,null,null,null,{"$f":"IF(Masterblatt!F348=\"\",\"\",Masterblatt!F348)","v":""}]
[{"$f":"IF(Masterblatt!A349=\"\",\"\",Masterblatt!A349)","v":348},null,{"$f":"IF(AND(Masterblatt!B349=\"\",Masterblatt!C349=\"\"),\"\",Masterblatt!B349 & \" \" & Masterblatt!C349)","v":""},null,null,null,null,null,null,null,null,null,null,null,null,null,null,{"$f":"IF(Masterblatt!F349=\"\",\"\",Masterblatt!F349)","v":""}]
[{"$f":"IF(Masterblatt!A350=\"\",\"\",Masterblatt!A350)","v":349},null,{"$f":"IF(AND(Masterblatt!B350=\"\",Masterblatt!C350=\"\"),\"\",Masterblatt!B350 & \" \" & Masterblatt!C350)","v":""},null,null,null,null,null,null,null,null,null,null,null,null,null,null,{"$f":"IF(Masterblatt!F350=\"\",\"\",Masterblatt!F350)","v":""}]
[{"$f":"IF(Masterblatt!A351=\"\",\"\",Masterblatt!A351)","v":350},null,{"$f":"IF(AND(Masterblatt!B351=\"\",Masterblatt!C351=\"\"),\"\",Masterblatt!B351 & \" \" & Masterblatt!C351)","v":""},null,null,null,null,null,null,null,null,null,null,null,null,null,null,{"$f":"IF(Masterblatt!F351=\"\",\"\",Masterblatt!F351)","v":""}]
[{"$f":"IF(Masterblatt!A352=\"\",\"\",Masterblatt!A352)","v":351},null,{"$f":"IF(AND(Masterblatt!B352=\"\",Masterblatt!C352=\"\"),\"\",Masterblatt!B352 & \" \" & Masterblatt!C352)","v":""},null,null,null,null,null,null,null,null,null,null,null,null,null,null,{"$f":"IF(Masterblatt!F352=\"\",\"\",Masterblatt!F352)","v":""}]
[{"$f":"IF(Masterblatt!A353=\"\",\"\",Masterblatt!A353)","v":352},null,{"$f":"IF(AND(Masterblatt!B353=\"\",Masterblatt!C353=\"\"),\"\",Masterblatt!B353 & \" \" & Masterblatt!C353)","v":""},null,null,null,null,null,null,null,null,null,null,null,null,null,null,{"$f":"IF(Masterblatt!F353=\"\",\"\",Masterblatt!F353)","v":""}]
[{"$f":"IF(Masterblatt!A354=\"\",\"\",Masterblatt!A354)","v":353},null,{"$f":"IF(AND(Masterblatt!B354=\"\",Masterblatt!C354=\"\"),\"\",Masterblatt!B354 & \" \" & Masterblatt!C354)","v":""},null,null,null,null,null,null,null,null,null,null,null,null,null,null,{"$f":"IF(Masterblatt!F354=\"\",\"\",Masterblatt!F354)","v":""}]
[{"$f":"IF(Masterblatt!A355=\"\",\"\",Masterblatt!A355)","v":354},null,{"$f":"IF(AND(Masterblatt!B355=\"\",Masterblatt!C355=\"\"),\"\",Masterblatt!B355 & \" \" & Masterblatt!C355)","v":""},null,null,null,null,null,null,null,null,null,null,null,null,null,null,{"$f":"IF(Masterblatt!F355=\"\",\"\",Masterblatt!F355)","v":""}]
[{"$f":"IF(Masterblatt!A356=\"\",\"\",Masterblatt!A356)","v":355},null,{"$f":"IF(AND(Masterblatt!B356=\"\",Masterblatt!C356=\"\"),\"\",Masterblatt!B356 & \" \" & Masterblatt!C356)","v":""},null,null,null,null,null,null,null,null,null,null,null,null,null,null,{"$f":"IF(Masterblatt!F356=\"\",\"\",Masterblatt!F356)","v":""}]
[{"$f":"IF(Masterblatt!A357=\"\",\"\",Masterblatt!A357)","v":356},null,{"$f":"IF(AND(Masterblatt!B357=\"\",Masterblatt!C357=\"\"),\"\",Masterblatt!B357 & \" \" & Masterblatt!C357)","v":""},null,null,null,null,null,null,null,null,null,null,null,null,null,null,{"$f":"IF(Masterblatt!F357=\"\",\"\",Masterblatt!F357)","v":""}]
[{"$f":"IF(Masterblatt!A358=\"\",\"\",Masterblatt!A358)","v":357},null,{"$f":"IF(AND(Masterblatt!B358=\"\",Masterblatt!C358=\"\"),\"\",Masterblatt!B358 & \" \" & Masterblatt!C358)","v":""},null,null,null,null,null,null,null,null,null,null,null,null,null,null,{"$f":"IF(Masterblatt!F358=\"\",\"\",Masterblatt!F358)","v":""}]
[{"$f":"IF(Masterblatt!A359=\"\",\"\",Masterblatt!A359)","v":358},null,{"$f":"IF(AND(Masterblatt!B359=\"\",Masterblatt!C359=\"\"),\"\",Masterblatt!B359 & \" \" & Masterblatt!C359)","v":""},null,null,null,null,null,null,null,null,null,null,null,null,null,null,{"$f":"IF(Masterblatt!F359=\"\",\"\",Masterblatt!F359)","v":""}]
[{"$f":"IF(Masterblatt!A360=\"\",\"\",Masterblatt!A360)","v":359},null,{"$f":"IF(AND(Masterblatt!B360=\"\",Masterblatt!C360=\"\"),\"\",Masterblatt!B360 & \" \" & Masterblatt!C360)","v":""},null,null,null,null,null,null,null,null,null,null,null,null,null,null,{"$f":"IF(Masterblatt!F360=\"\",\"\",Masterblatt!F360)","v":""}]
[{"$f":"IF(Masterblatt!A361=\"\",\"\",Masterblatt!A361)","v":360},null,{"$f":"IF(AND(Masterblatt!B361=\"\",Masterblatt!C361=\"\"),\"\",Masterblatt!B361 & \" \" & Masterblatt!C361)","v":""},null,null,null,null,null,null,null,null,null,null,null,null,null,null,{"$f":"IF(Masterblatt!F361=\"\",\"\",Masterblatt!F361)","v":""}]
[{"$f":"IF(Masterblatt!A362=\"\",\"\",Masterblatt!A362)","v":361},null,{"$f":"IF(AND(Masterblatt!B362=\"\",Masterblatt!C362=\"\"),\"\",Masterblatt!B362 & \" \" & Masterblatt!C362)","v":""},null,null,null,null,null,null,null,null,null,null,null,null,null,null,{"$f":"IF(Masterblatt!F362=\"\",\"\",Masterblatt!F362)","v":""}]
[{"$f":"IF(Masterblatt!A363=\"\",\"\",Masterblatt!A363)","v":362},null,{"$f":"IF(AND(Masterblatt!B363=\"\",Masterblatt!C363=\"\"),\"\",Masterblatt!B363 & \" \" & Masterblatt!C363)","v":""},null,null,null,null,null,null,null,null,null,null,null,null,null,null,{"$f":"IF(Masterblatt!F363=\"\",\"\",Masterblatt!F363)","v":""}]
[{"$f":"IF(Masterblatt!A364=\"\",\"\",Masterblatt!A364)","v":363},null,{"$f":"IF(AND(Masterblatt!B364=\"\",Masterblatt!C364=\"\"),\"\",Masterblatt!B364 & \" \" & Masterblatt!C364)","v":""},null,null,null,null,null,null,null,null,null,null,null,null,null,null,{"$f":"IF(Masterblatt!F364=\"\",\"\",Masterblatt!F364)","v":""}]
[{"$f":"IF(Masterblatt!A365=\"\",\"\",Masterblatt!A365)","v":364},null,{"$f":"IF(AND(Masterblatt!B365=\"\",Masterblatt!C365=\"\"),\"\",Masterblatt!B365 & \" \" & Masterblatt!C365)","v":""},null,null,null,null,null,null,null,null,null,null,null,null,null,null,{"$f":"IF(Masterblatt!F365=\"\",\"\",Masterblatt!F365)","v":""}]
[{"$f":"IF(Masterblatt!A366=\"\",\"\",Masterblatt!A366)","v":365},null,{"$f":"IF(AND(Masterblatt!B366=\"\",Masterblatt!C366=\"\"),\"\",Masterblatt!B366 & \" \" & Masterblatt!C366)","v":""},null,null,null,null,null,null,null,null,null,null,null,null,null,null,{"$f":"IF(Masterblatt!F366=\"\",\"\",Masterblatt!F366)","v":""}]
[{"$f":"IF(Masterblatt!A367=\"\",\"\",Masterblatt!A367)","v":366},null,{"$f":"IF(AND(Masterblatt!B367=\"\",Masterblatt!C367=\"\"),\"\",Masterblatt!B367 & \" \" & Masterblatt!C367)","v":""},null,null,null,null,null,null,null,null,null,null,null,null,null,null,{"$f":"IF(Masterblatt!F367=\"\",\"\",Masterblatt!F367)","v":""}]
[{"$f":"IF(Masterblatt!A368=\"\",\"\",Masterblatt!A368)","v":367},null,{"$f":"IF(AND(Masterblatt!B368=\"\",Masterblatt!C368=\"\"),\"\",Masterblatt!B368 & \" \" & Masterblatt!C368)","v":""},null,null,null,null,null,null,null,null,null,null,null,null,null,null,{"$f":"IF(Masterblatt!F368=\"\",\"\",Masterblatt!F368)","v":""}]
[{"$f":"IF(Masterblatt!A369=\"\",\"\",Masterblatt!A369)","v":368},null,{"$f":"IF(AND(Masterblatt!B369=\"\",Masterblatt!C369=\"\"),\"\",Masterblatt!B369 & \" \" & Masterblatt!C369)","v":""},null,null,null,null,null,null,null,null,null,null,null,null,null,null,{"$f":"IF(Masterblatt!F369=\"\",\"\",Masterblatt!F369)","v":""}]
[{"$f":"IF(Masterblatt!A370=\"\",\"\",Masterblatt!A370)","v":369},null,{"$f":"IF(AND(Masterblatt!B370=\"\",Masterblatt!C370=\"\"),\"\",Masterblatt!B370 & \" \" & Masterblatt!C370)","v":""},null,null,null,null,null,null,null,null,null,null,null,null,null,null,{"$f":"IF(Masterblatt!F370=\"\",\"\",Masterblatt!F370)","v":""}]
[{"$f":"IF(Masterblatt!A371=\"\",\"\",Masterblatt!A371)","v":370},null,{"$f":"IF(AND(Masterblatt!B371=\"\",Masterblatt!C371=\"\"),\"\",Masterblatt!B371 & \" \" & Masterblatt!C371)","v":""},null,null,null,null,null,null,null,null,null,null,null,null,null,null,{"$f":"IF(Masterblatt!F371=\"\",\"\",Masterblatt!F371)","v":""}]
[{"$f":"IF(Masterblatt!A372=\"\",\"\",Masterblatt!A372)","v":371},null,{"$f":"IF(AND(Masterblatt!B372=\"\",Masterblatt!C372=\"\"),\"\",Masterblatt!B372 & \" \" & Masterblatt!C372)","v":""},null,null,null,null,null,null,null,null,null,null,null,null,null,null,{"$f":"IF(Masterblatt!F372=\"\",\"\",Masterblatt!F372)","v":""}]
[{"$f":"IF(Masterblatt!A373=\"\",\"\",Masterblatt!A373)","v":372},null,{"$f":"IF(AND(Masterblatt!B373=\"\",Masterblatt!C373=\"\"),\"\",Masterblatt!B373 & \" \" & Masterblatt!C373)","v":""},null,null,null,null,null,null,null,null,null,null,null,null,null,null,{"$f":"IF(Masterblatt!F373=\"\",\"\",Masterblatt!F373)","v":""}]
[{"$f":"IF(Masterblatt!A374=\"\",\"\",Masterblatt!A374)","v":373},null,{"$f":"IF(AND(Masterblatt!B374=\"\",Masterblatt!C374=\"\"),\"\",Masterblatt!B374 & \" \" & Masterblatt!C374)","v":""},null,null,null,null,null,null,null,null,null,null,null,null,null,null,{"$f":"IF(Masterblatt!F374=\"\",\"\",Masterblatt!F374)","v":""}]
[{"$f":"IF(Masterblatt!A375=\"\",\"\",Masterblatt!A375)","v":374},null,{"$f":"IF(AND(Masterblatt!B375=\"\",Masterblatt!C375=\"\"),\"\",Masterblatt!B375 & \" \" & Masterblatt!C375)","v":""},null,null,null,null,null,null,null,null,null,null,null,null,null,null,{"$f":"IF(Masterblatt!F375=\"\",\"\",Masterblatt!F375)","v":""}]
[{"$f":"IF(Masterblatt!A376=\"\",\"\",Masterblatt!A376)","v":375},null,{"$f":"IF(AND(Masterblatt!B376=\"\",Masterblatt!C376=\"\"),\"\",Masterblatt!B376 & \" \" & Masterblatt!C376)","v":""},null,null,null,null,null,null,null,null,null,null,null,null,null,null,{"$f":"IF(Masterblatt!F376=\"\",\"\",Masterblatt!F376)","v":""}]
[{"$f":"IF(Masterblatt!A377=\"\",\"\",Masterblatt!A377)","v":376},null,{"$f":"IF(AND(Masterblatt!B377=\"\",Masterblatt!C377=\"\"),\"\",Masterblatt!B377 & \" \" & Masterblatt!C377)","v":""},null,null,null,null,null,null,null,null,null,null,null,null,null,null,{"$f":"IF(Masterblatt!F377=\"\",\"\",Masterblatt!F377)","v":""}]
[{"$f":"IF(Masterblatt!A378=\"\",\"\",Masterblatt!A378)","v":377},null,{"$f":"IF(AND(Masterblatt!B378=\"\",Masterblatt!C378=\"\"),\"\",Masterblatt!B378 & \" \" & Masterblatt!C378)","v":""},null,null,null,null,null,null,null,null,null,null,null,null,null,null,{"$f":"IF(Masterblatt!F378=\"\",\"\",Masterblatt!F378)","v":""}]
[{"$f":"IF(Masterblatt!A379=\"\",\"\",Masterblatt!A379)","v":378},null,{"$f":"IF(AND(Masterblatt!B379=\"\",Masterblatt!C379=\"\"),\"\",Masterblatt!B379 & \" \" & Masterblatt!C379)","v":""},null,null,null,null,null,null,null,null,null,null,null,null,null,null,{"$f":"IF(Masterblatt!F379=\"\",\"\",Masterblatt!F379)","v":""}]
[{"$f":"IF(Masterblatt!A380=\"\",\"\",Masterblatt!A380)","v":379},null,{"$f":"IF(AND(Masterblatt!B380=\"\",Masterblatt!C380=\"\"),\"\",Masterblatt!B380 & \" \" & Masterblatt!C380)","v":""},null,null,null,null,null,null,null,null,null,null,null,null,null,null,{"$f":"IF(Masterblatt!F380=\"\",\"\",Masterblatt!F380)","v":""}]
[{"$f":"IF(Masterblatt!A381=\"\",\"\",Masterblatt!A381)","v":380},null,{"$f":"IF(AND(Masterblatt!B381=\"\",Masterblatt!C381=\"\"),\"\",Masterblatt!B381 & \" \" & Masterblatt!C381)","v":""},null,null,null,null,null,null,null,null,null,null,null,null,null,null,{"$f":"IF(Masterblatt!F381=\"\",\"\",Masterblatt!F381)","v":""}]
[{"$f":"IF(Masterblatt!A382=\"\",\"\",Masterblatt!A382)","v":381},null,{"$f":"IF(AND(Masterblatt!B382=\"\",Masterblatt!C382=\"\"),\"\",Masterblatt!B382 & \" \" & Masterblatt!C382)","v":""},null,null,null,null,null,null,null,null,null,null,null,null,null,null,{"$f":"IF(Masterblatt!F382=\"\",\"\",Masterblatt!F382)","v":""}]
[{"$f":"IF(Masterblatt!A383=\"\",\"\",Masterblatt!A383)","v":382},null,{"$f":"IF(AND(Masterblatt!B383=\"\",Masterblatt!C383=\"\"),\"\",Masterblatt!B383 & \" \" & Masterblatt!C383)","v":""},null,null,null,null,null,null,null,null,null,null,null,null,null,null,{"$f":"IF(Masterblatt!F383=\"\",\"\",Masterblatt!F383)","v":""}]
[{"$f":"IF(Masterblatt!A384=\"\",\"\",Masterblatt!A384)","v":383},null,{"$f":"IF(AND(Masterblatt!B384=\"\",Masterblatt!C384=\"\"),\"\",Masterblatt!B384 & \" \" & Masterblatt!C384)","v":""},null,null,null,null,null,null,null,null,null,null,null,null,null,null,{"$f":"IF(Masterblatt!F384=\"\",\"\",Masterblatt!F384)","v":""}]
[{"$f":"IF(Masterblatt!A385=\"\",\"\",Masterblatt!A385)","v":384},null,{"$f":"IF(AND(Masterblatt!B385=\"\",Masterblatt!C385=\"\"),\"\",Masterblatt!B385 & \" \" & Masterblatt!C385)","v":""},null,null,null,null,null,null,null,null,null,null,null,null,null,null,{"$f":"IF(Masterblatt!F385=\"\",\"\",Masterblatt!F385)","v":""}]
[{"$f":"IF(Masterblatt!A386=\"\",\"\",Masterblatt!A386)","v":385},null,{"$f":"IF(AND(Masterblatt!B386=\"\",Masterblatt!C386=\"\"),\"\",Masterblatt!B386 & \" \" & Masterblatt!C386)","v":""},null,null,null,null,null,null,null,null,null,null,null,null,null,null,{"$f":"IF(Masterblatt!F386=\"\",\"\",Masterblatt!F386)","v":""}]
[{"$f":"IF(Masterblatt!A387=\"\",\"\",Masterblatt!A387)","v":386},null,{"$f":"IF(AND(Masterblatt!B387=\"\",Masterblatt!C387=\"\"),\"\",Masterblatt!B387 & \" \" & Masterblatt!C387)","v":""},null,null,null,null,null,null,null,null,null,null,null,null,null,null,{"$f":"IF(Masterblatt!F387=\"\",\"\",Masterblatt!F387)","v":""}]
[{"$f":"IF(Masterblatt!A388=\"\",\"\",Masterblatt!A388)","v":387},null,{"$f":"IF(AND(Masterblatt!B388=\"\",Masterblatt!C388=\"\"),\"\",Masterblatt!B388 & \" \" & Masterblatt!C388)","v":""},null,null,null,null,null,null,null,null,null,null,null,null,null,null,{"$f":"IF(Masterblatt!F388=\"\",\"\",Masterblatt!F388)","v":""}]
[{"$f":"IF(Masterblatt!A389=\"\",\"\",Masterblatt!A389)","v":388},null,{"$f":"IF(AND(Masterblatt!B389=\"\",Masterblatt!C389=\"\"),\"\",Masterblatt!B389 & \" \" & Masterblatt!C389)","v":""},null,null,null,null,null,null,null,null,null,null,null,null,null,null,{"$f":"IF(Masterblatt!F389=\"\",\"\",Masterblatt!F389)","v":""}]
[{"$f":"IF(Masterblatt!A390=\"\",\"\",Masterblatt!A390)","v":389},null,{"$f":"IF(AND(Masterblatt!B390=\"\",Masterblatt!C390=\"\"),\"\",Masterblatt!B390 & \" \" & Masterblatt!C390)","v":""},null,null,null,null,null,null,null,null,null,null,null,null,null,null,{"$f":"IF(Masterblatt!F390=\"\",\"\",Masterblatt!F390)","v":""}]
[{"$f":"IF(Masterblatt!A391=\"\",\"\",Masterblatt!A391)","v":390},null,{"$f":"IF(AND(Masterblatt!B391=\"\",Masterblatt!C391=\"\"),\"\",Masterblatt!B391 & \" \" & Masterblatt!C391)","v":""},null,null,null,null,null,null,null,null,null,null,null,null,null,null,{"$f":"IF(Masterblatt!F391=\"\",\"\",Masterblatt!F391)","v":""}]
[{"$f":"IF(Masterblatt!A392=\"\",\"\",Masterblatt!A392)","v":391},null,{"$f":"IF(AND(Masterblatt!B392=\"\",Masterblatt!C392=\"\"),\"\",Masterblatt!B392 & \" \" & Masterblatt!C392)","v":""},null,null,null,null,null,null,null,null,null,null,null,null,null,null,{"$f":"IF(Masterblatt!F392=\"\",\"\",Masterblatt!F392)","v":""}]
[{"$f":"IF(Masterblatt!A393=\"\",\"\",Masterblatt!A393)","v":392},null,{"$f":"IF(AND(Masterblatt!B393=\"\",Masterblatt!C393=\"\"),\"\",Masterblatt!B393 & \" \" & Masterblatt!C393)","v":""},null,null,null,null,null,null,null,null,null,null,null,null,null,null,{"$f":"IF(Masterblatt!F393=\"\",\"\",Masterblatt!F393)","v":""}]
[{"$f":"IF(Masterblatt!A394=\"\",\"\",Masterblatt!A394)","v":393},null,{"$f":"IF(AND(Masterblatt!B394=\"\",Masterblatt!C394=\"\"),\"\",Masterblatt!B394 & \" \" & Masterblatt!C394)","v":""},null,null,null,null,null,null,null,null,null,null,null,null,null,null,{"$f":"IF(Masterblatt!F394=\"\",\"\",Masterblatt!F394)","v":""}]
[{"$f":"IF(Masterblatt!A395=\"\",\"\",Masterblatt!A395)","v":394},null,{"$f":"IF(AND(Masterblatt!B395=\"\",Masterblatt!C395=\"\"),\"\",Masterblatt!B395 & \" \" & Masterblatt!C395)","v":""},null,null,null,null,null,null,null,null,null,null,null,null,null,null,{"$f":"IF(Masterblatt!F395=\"\",\"\",Masterblatt!F395)","v":""}]
[{"$f":"IF(Masterblatt!A396=\"\",\"\",Masterblatt!A396)","v":395},null,{"$f":"IF(AND(Masterblatt!B396=\"\",Masterblatt!C396=\"\"),\"\",Masterblatt!B396 & \" \" & Masterblatt!C396)","v":""},null,null,null,null,null,null,null,null,null,null,null,null,null,null,{"$f":"IF(Masterblatt!F396=\"\",\"\",Masterblatt!F396)","v":""}]
[{"$f":"IF(Masterblatt!A397=\"\",\"\",Masterblatt!A397)","v":396},null,{"$f":"IF(AND(Masterblatt!B397=\"\",Masterblatt!C397=\"\"),\"\",Masterblatt!B397 & \" \" & Masterblatt!C397)","v":""},null,null,null,null,null,null,null,null,null,null,null,null,null,null,{"$f":"IF(Masterblatt!F397=\"\",\"\",Masterblatt!F397)","v":""}]
[{"$f":"IF(Masterblatt!A398=\"\",\"\",Masterblatt!A398)","v":397},null,{"$f":"IF(AND(Masterblatt!B398=\"\",Masterblatt!C398=\"\"),\"\",Masterblatt!B398 & \" \" & Masterblatt!C398)","v":""},null,null,null,null,null,null,null,null,null,null,null,null,null,null,{"$f":"IF(Masterblatt!F398=\"\",\"\",Masterblatt!F398)","v":""}]
[{"$f":"IF(Masterblatt!A399=\"\",\"\",Masterblatt!A399)","v":398},null,{"$f":"IF(AND(Masterblatt!B399=\"\",Masterblatt!C399=\"\"),\"\",Masterblatt!B399 & \" \" & Masterblatt!C399)","v":""},null,null,null,null,null,null,null,null,null,null,null,null,null,null,{"$f":"IF(Masterblatt!F399=\"\",\"\",Masterblatt!F399)","v":""}]
[{"$f":"IF(Masterblatt!A400=\"\",\"\",Masterblatt!A400)","v":399},null,{"$f":"IF(AND(Masterblatt!B400=\"\",Masterblatt!C400=\"\"),\"\",Masterblatt!B400 & \" \" & Masterblatt!C400)","v":""},null,null,null,null,null,null,null,null,null,null,null,null,null,null,{"$f":"IF(Masterblatt!F400=\"\",\"\",Masterblatt!F400)","v":""}]
[{"$f":"IF(Masterblatt!A401=\"\",\"\",Masterblatt!A401)","v":400},null,{"$f":"IF(AND(Masterblatt!B401=\"\",Masterblatt!C401=\"\"),\"\",Masterblatt!B401 & \" \" & Masterblatt!C401)","v":""},null,null,null,null,null,null,null,null,null,null,null,null,null,null,{"$f":"IF(Masterblatt!F401=\"\",\"\",Masterblatt!F401)","v":""}]
[{"$f":"IF(Masterblatt!A402=\"\",\"\",Masterblatt!A402)","v":401},null,{"$f":"IF(AND(Masterblatt!B402=\"\",Masterblatt!C402=\"\"),\"\",Masterblatt!B402 & \" \" & Masterblatt!C402)","v":""},null,null,null,null,null,null,null,null,null,null,null,null,null,null,{"$f":"IF(Masterblatt!F402=\"\",\"\",Masterblatt!F402)","v":""}]
[{"$f":"IF(Masterblatt!A403=\"\",\"\",Masterblatt!A403)","v":402},null,{"$f":"IF(AND(Masterblatt!B403=\"\",Masterblatt!C403=\"\"),\"\",Masterblatt!B403 & \" \" & Masterblatt!C403)","v":""},null,null,null,null,null,null,null,null,null,null,null,null,null,null,{"$f":"IF(Masterblatt!F403=\"\",\"\",Masterblatt!F403)","v":""}]
[{"$f":"IF(Masterblatt!A404=\"\",\"\",Masterblatt!A404)","v":403},null,{"$f":"IF(AND(Masterblatt!B404=\"\",Masterblatt!C404=\"\"),\"\",Masterblatt!B404 & \" \" & Masterblatt!C404)","v":""},null,null,null,null,null,null,null,null,null,null,null,null,null,null,{"$f":"IF(Masterblatt!F404=\"\",\"\",Masterblatt!F404)","v":""}]
[{"$f":"IF(Masterblatt!A405=\"\",\"\",Masterblatt!A405)","v":404},null,{"$f":"IF(AND(Masterblatt!B405=\"\",Masterblatt!C405=\"\"),\"\",Masterblatt!B405 & \" \" & Masterblatt!C405)","v":""},null,null,null,null,null,null,null,null,null,null,null,null,null,null,{"$f":"IF(Masterblatt!F405=\"\",\"\",Masterblatt!F405)","v":""}]
[{"$f":"IF(Masterblatt!A406=\"\",\"\",Masterblatt!A406)","v":405},null,{"$f":"IF(AND(Masterblatt!B406=\"\",Masterblatt!C406=\"\"),\"\",Masterblatt!B406 & \" \" & Masterblatt!C406)","v":""},null,null,null,null,null,null,null,null,null,null,null,null,null,null,{"$f":"IF(Masterblatt!F406=\"\",\"\",Masterblatt!F406)","v":""}]
[{"$f":"IF(Masterblatt!A407=\"\",\"\",Masterblatt!A407)","v":406},null,{"$f":"IF(AND(Masterblatt!B407=\"\",Masterblatt!C407=\"\"),\"\",Masterblatt!B407 & \" \" & Masterblatt!C407)","v":""},null,null,null,null,null,null,null,null,null,null,null,null,null,null,{"$f":"IF(Masterblatt!F407=\"\",\"\",Masterblatt!F407)","v":""}]
[{"$f":"IF(Masterblatt!A408=\"\",\"\",Masterblatt!A408)","v":407},null,{"$f":"IF(AND(Masterblatt!B408=\"\",Masterblatt!C408=\"\"),\"\",Masterblatt!B408 & \" \" & Masterblatt!C408)","v":""},null,null,null,null,null,null,null,null,null,null,null,null,null,null,{"$f":"IF(Masterblatt!F408=\"\",\"\",Masterblatt!F408)","v":""}]
[{"$f":"IF(Masterblatt!A409=\"\",\"\",Masterblatt!A409)","v":408},null,{"$f":"IF(AND(Masterblatt!B409=\"\",Masterblatt!C409=\"\"),\"\",Masterblatt!B409 & \" \" & Masterblatt!C409)","v":""},null,null,null,null,null,null,null,null,null,null,null,null,null,null,{"$f":"IF(Masterblatt!F409=\"\",\"\",Masterblatt!F409)","v":""}]
[{"$f":"IF(Masterblatt!A410=\"\",\"\",Masterblatt!A410)","v":409},null,{"$f":"IF(AND(Masterblatt!B410=\"\",Masterblatt!C410=\"\"),\"\",Masterblatt!B410 & \" \" & Masterblatt!C410)","v":""},null,null,null,null,null,null,null,null,null,null,null,null,null,null,{"$f":"IF(Masterblatt!F410=\"\",\"\",Masterblatt!F410)","v":""}]
[{"$f":"IF(Masterblatt!A411=\"\",\"\",Masterblatt!A411)","v":410},null,{"$f":"IF(AND(Masterblatt!B411=\"\",Masterblatt!C411=\"\"),\"\",Masterblatt!B411 & \" \" & Masterblatt!C411)","v":""},null,null,null,null,null,null,null,null,null,null,null,null,null,null,{"$f":"IF(Masterblatt!F411=\"\",\"\",Masterblatt!F411)","v":""}]
[{"$f":"IF(Masterblatt!A412=\"\",\"\",Masterblatt!A412)","v":411},null,{"$f":"IF(AND(Masterblatt!B412=\"\",Masterblatt!C412=\"\"),\"\",Masterblatt!B412 & \" \" & Masterblatt!C412)","v":""},null,null,null,null,null,null,null,null,null,null,null,null,null,null,{"$f":"IF(Masterblatt!F412=\"\",\"\",Masterblatt!F412)","v":""}]
[{"$f":"IF(Masterblatt!A413=\"\",\"\",Masterblatt!A413)","v":412},null,{"$f":"IF(AND(Masterblatt!B413=\"\",Masterblatt!C413=\"\"),\"\",Masterblatt!B413 & \" \" & Masterblatt!C413)","v":""},null,null,null,null,null,null,null,null,null,null,null,null,null,null,{"$f":"IF(Masterblatt!F413=\"\",\"\",Masterblatt!F413)","v":""}]
[{"$f":"IF(Masterblatt!A414=\"\",\"\",Masterblatt!A414)","v":413},null,{"$f":"IF(AND(Masterblatt!B414=\"\",Masterblatt!C414=\"\"),\"\",Masterblatt!B414 & \" \" & Masterblatt!C414)","v":""},null,null,null,null,null,null,null,null,null,null,null,null,null,null,{"$f":"IF(Masterblatt!F414=\"\",\"\",Masterblatt!F414)","v":""}]
[{"$f":"IF(Masterblatt!A415=\"\",\"\",Masterblatt!A415)","v":414},null,{"$f":"IF(AND(Masterblatt!B415=\"\",Masterblatt!C415=\"\"),\"\",Masterblatt!B415 & \" \" & Masterblatt!C415)","v":""},null,null,null,null,null,null,null,null,null,null,null,null,null,null,{"$f":"IF(Masterblatt!F415=\"\",\"\",Masterblatt!F415)","v":""}]
[{"$f":"IF(Masterblatt!A416=\"\",\"\",Masterblatt!A416)","v":415},null,{"$f":"IF(AND(Masterblatt!B416=\"\",Masterblatt!C416=\"\"),\"\",Masterblatt!B416 & \" \" & Masterblatt!C416)","v":""},null,null,null,null,null,null,null,null,null,null,null,null,null,null,{"$f":"IF(Masterblatt!F416=\"\",\"\",Masterblatt!F416)","v":""}]
[{"$f":"IF(Masterblatt!A417=\"\",\"\",Masterblatt!A417)","v":416},null,{"$f":"IF(AND(Masterblatt!B417=\"\",Masterblatt!C417=\"\"),\"\",Masterblatt!B417 & \" \" & Masterblatt!C417)","v":""},null,null,null,null,null,null,null,null,null,null,null,null,null,null,{"$f":"IF(Masterblatt!F417=\"\",\"\",Masterblatt!F417)","v":""}]
[{"$f":"IF(Masterblatt!A418=\"\",\"\",Masterblatt!A418)","v":417},null,{"$f":"IF(AND(Masterblatt!B418=\"\",Masterblatt!C418=\"\"),\"\",Masterblatt!B418 & \" \" & Masterblatt!C418)","v":""},null,null,null,null,null,null,null,null,null,null,null,null,null,null,{"$f":"IF(Masterblatt!F418=\"\",\"\",Masterblatt!F418)","v":""}]
[{"$f":"IF(Masterblatt!A419=\"\",\"\",Masterblatt!A419)","v":418},null,{"$f":"IF(AND(Masterblatt!B419=\"\",Masterblatt!C419=\"\"),\"\",Masterblatt!B419 & \" \" & Masterblatt!C419)","v":""},null,null,null,null,null,null,null,null,null,null,null,null,null,null,{"$f":"IF(Masterblatt!F419=\"\",\"\",Masterblatt!F419)","v":""}]
[{"$f":"IF(Masterblatt!A420=\"\",\"\",Masterblatt!A420)","v":419},null,{"$f":"IF(AND(Masterblatt!B420=\"\",Masterblatt!C420=\"\"),\"\",Masterblatt!B420 & \" \" & Masterblatt!C420)","v":""},null,null,null,null,null,null,null,null,null,null,null,null,null,null,{"$f":"IF(Masterblatt!F420=\"\",\"\",Masterblatt!F420)","v":""}]
[{"$f":"IF(Masterblatt!A421=\"\",\"\",Masterblatt!A421)","v":420},null,{"$f":"IF(AND(Masterblatt!B421=\"\",Masterblatt!C421=\"\"),\"\",Masterblatt!B421 & \" \" & Masterblatt!C421)","v":""},null,null,null,null,null,null,null,null,null,null,null,null,null,null,{"$f":"IF(Masterblatt!F421=\"\",\"\",Masterblatt!F421)","v":""}]
[{"$f":"IF(Masterblatt!A422=\"\",\"\",Masterblatt!A422)","v":421},null,{"$f":"IF(AND(Masterblatt!B422=\"\",Masterblatt!C422=\"\"),\"\",Masterblatt!B422 & \" \" & Masterblatt!C422)","v":""},null,null,null,null,null,null,null,null,null,null,null,null,null,null,{"$f":"IF(Masterblatt!F422=\"\",\"\",Masterblatt!F422)","v":""}]
[{"$f":"IF(Masterblatt!A423=\"\",\"\",Masterblatt!A423)","v":422},null,{"$f":"IF(AND(Masterblatt!B423=\"\",Masterblatt!C423=\"\"),\"\",Masterblatt!B423 & \" \" & Masterblatt!C423)","v":""},null,null,null,null,null,null,null,null,null,null,null,null,null,null,{"$f":"IF(Masterblatt!F423=\"\",\"\",Masterblatt!F423)","v":""}]
[{"$f":"IF(Masterblatt!A424=\"\",\"\",Masterblatt!A424)","v":423},null,{"$f":"IF(AND(Masterblatt!B424=\"\",Masterblatt!C424=\"\"),\"\",Masterblatt!B424 & \" \" & Masterblatt!C424)","v":""},null,null,null,null,null,null,null,null,null,null,null,null,null,null,{"$f":"IF(Masterblatt!F424=\"\",\"\",Masterblatt!F424)","v":""}]
[{"$f":"IF(Masterblatt!A425=\"\",\"\",Masterblatt!A425)","v":424},null,{"$f":"IF(AND(Masterblatt!B425=\"\",Masterblatt!C425=\"\"),\"\",Masterblatt!B425 & \" \" & Masterblatt!C425)","v":""},null,null,null,null,null,null,null,null,null,null,null,null,null,null,{"$f":"IF(Masterblatt!F425=\"\",\"\",Masterblatt!F425)","v":""}]
[{"$f":"IF(Masterblatt!A426=\"\",\"\",Masterblatt!A426)","v":425},null,{"$f":"IF(AND(Masterblatt!B426=\"\",Masterblatt!C426=\"\"),\"\",Masterblatt!B426 & \" \" & Masterblatt!C426)","v":""},null,null,null,null,null,null,null,null,null,null,null,null,null,null,{"$f":"IF(Masterblatt!F426=\"\",\"\",Masterblatt!F426)","v":""}]
[{"$f":"IF(Masterblatt!A427=\"\",\"\",Masterblatt!A427)","v":426},null,{"$f":"IF(AND(Masterblatt!B427=\"\",Masterblatt!C427=\"\"),\"\",Masterblatt!B427 & \" \" & Masterblatt!C427)","v":""},null,null,null,null,null,null,null,null,null,null,null,null,null,null,{"$f":"IF(Masterblatt!F427=\"\",\"\",Masterblatt!F427)","v":""}]
[{"$f":"IF(Masterblatt!A428=\"\",\"\",Masterblatt!A428)","v":427},null,{"$f":"IF(AND(Masterblatt!B428=\"\",Masterblatt!C428=\"\"),\"\",Masterblatt!B428 & \" \" & Masterblatt!C428)","v":""},null,null,null,null,null,null,null,null,null,null,null,null,null,null,{"$f":"IF(Masterblatt!F428=\"\",\"\",Masterblatt!F428)","v":""}]
[{"$f":"IF(Masterblatt!A429=\"\",\"\",Masterblatt!A429)","v":428},null,{"$f":"IF(AND(Masterblatt!B429=\"\",Masterblatt!C429=\"\"),\"\",Masterblatt!B429 & \" \" & Masterblatt!C429)","v":""},null,null,null,null,null,null,null,null,null,null,null,null,null,null,{"$f":"IF(Masterblatt!F429=\"\",\"\",Masterblatt!F429)","v":""}]
[{"$f":"IF(Masterblatt!A430=\"\",\"\",Masterblatt!A430)","v":429},null,{"$f":"IF(AND(Masterblatt!B430=\"\",Masterblatt!C430=\"\"),\"\",Masterblatt!B430 & \" \" & Masterblatt!C430)","v":""},null,null,null,null,null,null,null,null,null,null,null,null,null,null,{"$f":"IF(Masterblatt!F430=\"\",\"\",Masterblatt!F430)","v":""}]
[{"$f":"IF(Masterblatt!A431=\"\",\"\",Masterblatt!A431)","v":430},null,{"$f":"IF(AND(Masterblatt!B431=\"\",Masterblatt!C431=\"\"),\"\",Masterblatt!B431 & \" \" & Masterblatt!C431)","v":""},null,null,null,null,null,null,null,null,null,null,null,null,null,null,{"$f":"IF(Masterblatt!F431=\"\",\"\",Masterblatt!F431)","v":""}]
[{"$f":"IF(Masterblatt!A432=\"\",\"\",Masterblatt!A432)","v":431},null,{"$f":"IF(AND(Masterblatt!B432=\"\",Masterblatt!C432=\"\"),\"\",Masterblatt!B432 & \" \" & Masterblatt!C432)","v":""},null,null,null,null,null,null,null,null,null,null,null,null,null,null,{"$f":"IF(Masterblatt!F432=\"\",\"\",Masterblatt!F432)","v":""}]
[{"$f":"IF(Masterblatt!A433=\"\",\"\",Masterblatt!A433)","v":432},null,{"$f":"IF(AND(Masterblatt!B433=\"\",Masterblatt!C433=\"\"),\"\",Masterblatt!B433 & \" \" & Masterblatt!C433)","v":""},null,null,null,null,null,null,null,null,null,null,null,null,null,null,{"$f":"IF(Masterblatt!F433=\"\",\"\",Masterblatt!F433)","v":""}]
[{"$f":"IF(Masterblatt!A434=\"\",\"\",Masterblatt!A434)","v":433},null,{"$f":"IF(AND(Masterblatt!B434=\"\",Masterblatt!C434=\"\"),\"\",Masterblatt!B434 & \" \" & Masterblatt!C434)","v":""},null,null,null,null,null,null,null,null,null,null,null,null,null,null,{"$f":"IF(Masterblatt!F434=\"\",\"\",Masterblatt!F434)","v":""}]
[{"$f":"IF(Masterblatt!A435=\"\",\"\",Masterblatt!A435)","v":434},null,{"$f":"IF(AND(Masterblatt!B435=\"\",Masterblatt!C435=\"\"),\"\",Masterblatt!B435 & \" \" & Masterblatt!C435)","v":""},null,null,null,null,null,null,null,null,null,null,null,null,null,null,{"$f":"IF(Masterblatt!F435=\"\",\"\",Masterblatt!F435)","v":""}]
[{"$f":"IF(Masterblatt!A436=\"\",\"\",Masterblatt!A436)","v":435},null,{"$f":"IF(AND(Masterblatt!B436=\"\",Masterblatt!C436=\"\"),\"\",Masterblatt!B436 & \" \" & Masterblatt!C436)","v":""},null,null,null,null,null,null,null,null,null,null,null,null,null,null,{"$f":"IF(Masterblatt!F436=\"\",\"\",Masterblatt!F436)","v":""}]
[{"$f":"IF(Masterblatt!A437=\"\",\"\",Masterblatt!A437)","v":436},null,{"$f":"IF(AND(Masterblatt!B437=\"\",Masterblatt!C437=\"\"),\"\",Masterblatt!B437 & \" \" & Masterblatt!C437)","v":""},null,null,null,null,null,null,null,null,null,null,null,null,null,null,{"$f":"IF(Masterblatt!F437=\"\",\"\",Masterblatt!F437)","v":""}]
[{"$f":"IF(Masterblatt!A438=\"\",\"\",Masterblatt!A438)","v":437},null,{"$f":"IF(AND(Masterblatt!B438=\"\",Masterblatt!C438=\"\"),\"\",Masterblatt!B438 & \" \" & Masterblatt!C438)","v":""},null,null,null,null,null,null,null,null,null,null,null,null,null,null,{"$f":"IF(Masterblatt!F438=\"\",\"\",Masterblatt!F438)","v":""}]
[{"$f":"IF(Masterblatt!A439=\"\",\"\",Masterblatt!A439)","v":438},null,{"$f":"IF(AND(Masterblatt!B439=\"\",Masterblatt!C439=\"\"),\"\",Masterblatt!B439 & \" \" & Masterblatt!C439)","v":""},null,null,null,null,null,null,null,null,null,null,null,null,null,null,{"$f":"IF(Masterblatt!F439=\"\",\"\",Masterblatt!F439)","v":""}]
[{"$f":"IF(Masterblatt!A440=\"\",\"\",Masterblatt!A440)","v":439},null,{"$f":"IF(AND(Masterblatt!B440=\"\",Masterblatt!C440=\"\"),\"\",Masterblatt!B440 & \" \" & Masterblatt!C440)","v":""},null,null,null,null,null,null,null,null,null,null,null,null,null,null,{"$f":"IF(Masterblatt!F440=\"\",\"\",Masterblatt!F440)","v":""}]
[{"$f":"IF(Masterblatt!A441=\"\",\"\",Masterblatt!A441)","v":440},null,{"$f":"IF(AND(Masterblatt!B441=\"\",Masterblatt!C441=\"\"),\"\",Masterblatt!B441 & \" \" & Masterblatt!C441)","v":""},null,null,null,null,null,null,null,null,null,null,null,null,null,null,{"$f":"IF(Masterblatt!F441=\"\",\"\",Masterblatt!F441)","v":""}]
[{"$f":"IF(Masterblatt!A442=\"\",\"\",Masterblatt!A442)","v":441},null,{"$f":"IF(AND(Masterblatt!B442=\"\",Masterblatt!C442=\"\"),\"\",Masterblatt!B442 & \" \" & Masterblatt!C442)","v":""},null,null,null,null,null,null,null,null,null,null,null,null,null,null,{"$f":"IF(Masterblatt!F442=\"\",\"\",Masterblatt!F442)","v":""}]
[{"$f":"IF(Masterblatt!A443=\"\",\"\",Masterblatt!A443)","v":442},null,{"$f":"IF(AND(Masterblatt!B443=\"\",Masterblatt!C443=\"\"),\"\",Masterblatt!B443 & \" \" & Masterblatt!C443)","v":""},null,null,null,null,null,null,null,null,null,null,null,null,null,null,{"$f":"IF(Masterblatt!F443=\"\",\"\",Masterblatt!F443)","v":""}]
[{"$f":"IF(Masterblatt!A444=\"\",\"\",Masterblatt!A444)","v":443},null,{"$f":"IF(AND(Masterblatt!B444=\"\",Masterblatt!C444=\"\"),\"\",Masterblatt!B444 & \" \" & Masterblatt!C444)","v":""},null,null,null,null,null,null,null,null,null,null,null,null,null,null,{"$f":"IF(Masterblatt!F444=\"\",\"\",Masterblatt!F444)","v":""}]
[{"$f":"IF(Masterblatt!A445=\"\",\"\",Masterblatt!A445)","v":444},null,{"$f":"IF(AND(Masterblatt!B445=\"\",Masterblatt!C445=\"\"),\"\",Masterblatt!B445 & \" \" & Masterblatt!C445)","v":""},null,null,null,null,null,null,null,null,null,null,null,null,null,null,{"$f":"IF(Masterblatt!F445=\"\",\"\",Masterblatt!F445)","v":""}]
[{"$f":"IF(Masterblatt!A446=\"\",\"\",Masterblatt!A446)","v":445},null,{"$f":"IF(AND(Masterblatt!B446=\"\",Masterblatt!C446=\"\"),\"\",Masterblatt!B446 & \" \" & Masterblatt!C446)","v":""},null,null,null,null,null,null,null,null,null,null,null,null,null,null,{"$f":"IF(Masterblatt!F446=\"\",\"\",Masterblatt!F446)","v":""}]
[{"$f":"IF(Masterblatt!A447=\"\",\"\",Masterblatt!A447)","v":446},null,{"$f":"IF(AND(Masterblatt!B447=\"\",Masterblatt!C447=\"\"),\"\",Masterblatt!B447 & \" \" & Masterblatt!C447)","v":""},null,null,null,null,null,null,null,null,null,null,null,null,null,null,{"$f":"IF(Masterblatt!F447=\"\",\"\",Masterblatt!F447)","v":""}]
[{"$f":"IF(Masterblatt!A448=\"\",\"\",Masterblatt!A448)","v":447},null,{"$f":"IF(AND(Masterblatt!B448=\"\",Masterblatt!C448=\"\"),\"\",Masterblatt!B448 & \" \" & Masterblatt!C448)","v":""},null,null,null,null,null,null,null,null,null,null,null,null,null,null,{"$f":"IF(Masterblatt!F448=\"\",\"\",Masterblatt!F448)","v":""}]
[{"$f":"IF(Masterblatt!A449=\"\",\"\",Masterblatt!A449)","v":448},null,{"$f":"IF(AND(Masterblatt!B449=\"\",Masterblatt!C449=\"\"),\"\",Masterblatt!B449 & \" \" & Masterblatt!C449)","v":""},null,null,null,null,null,null,null,null,null,null,null,null,null,null,{"$f":"IF(Masterblatt!F449=\"\",\"\",Masterblatt!F449)","v":""}]
[{"$f":"IF(Masterblatt!A450=\"\",\"\",Masterblatt!A450)","v":449},null,{"$f":"IF(AND(Masterblatt!B450=\"\",Masterblatt!C450=\"\"),\"\",Masterblatt!B450 & \" \" & Masterblatt!C450)","v":""},null,null,null,null,null,null,null,null,null,null,null,null,null,null,{"$f":"IF(Masterblatt!F450=\"\",\"\",Masterblatt!F450)","v":""}]
[{"$f":"IF(Masterblatt!A451=\"\",\"\",Masterblatt!A451)","v":450},null,{"$f":"IF(AND(Masterblatt!B451=\"\",Masterblatt!C451=\"\"),\"\",Masterblatt!B451 & \" \" & Masterblatt!C451)","v":""},null,null,null,null,null,null,null,null,null,null,null,null,null,null,{"$f":"IF(Masterblatt!F451=\"\",\"\",Masterblatt!F451)","v":""}]
[{"$f":"IF(Masterblatt!A452=\"\",\"\",Masterblatt!A452)","v":451},null,{"$f":"IF(AND(Masterblatt!B452=\"\",Masterblatt!C452=\"\"),\"\",Masterblatt!B452 & \" \" & Masterblatt!C452)","v":""},null,null,null,null,null,null,null,null,null,null,null,null,null,null,{"$f":"IF(Masterblatt!F452=\"\",\"\",Masterblatt!F452)","v":""}]
[{"$f":"IF(Masterblatt!A453=\"\",\"\",Masterblatt!A453)","v":452},null,{"$f":"IF(AND(Masterblatt!B453=\"\",Masterblatt!C453=\"\"),\"\",Masterblatt!B453 & \" \" & Masterblatt!C453)","v":""},null,null,null,null,null,null,null,null,null,null,null,null,null,null,{"$f":"IF(Masterblatt!F453=\"\",\"\",Masterblatt!F453)","v":""}]
[{"$f":"IF(Masterblatt!A454=\"\",\"\",Masterblatt!A454)","v":453},null,{"$f":"IF(AND(Masterblatt!B454=\"\",Masterblatt!C454=\"\"),\"\",Masterblatt!B454 & \" \" & Masterblatt!C454)","v":""},null,null,null,null,null,null,null,null,null,null,null,null,null,null,{"$f":"IF(Masterblatt!F454=\"\",\"\",Masterblatt!F454)","v":""}]
[{"$f":"IF(Masterblatt!A455=\"\",\"\",Masterblatt!A455)","v":454},null,{"$f":"IF(AND(Masterblatt!B455=\"\",Masterblatt!C455=\"\"),\"\",Masterblatt!B455 & \" \" & Masterblatt!C455)","v":""},null,null,null,null,null,null,null,null,null,null,null,null,null,null,{"$f":"IF(Masterblatt!F455=\"\",\"\",Masterblatt!F455)","v":""}]
[{"$f":"IF(Masterblatt!A456=\"\",\"\",Masterblatt!A456)","v":455},null,{"$f":"IF(AND(Masterblatt!B456=\"\",Masterblatt!C456=\"\"),\"\",Masterblatt!B456 & \" \" & Masterblatt!C456)","v":""},null,null,null,null,null,null,null,null,null,null,null,null,null,null,{"$f":"IF(Masterblatt!F456=\"\",\"\",Masterblatt!F456)","v":""}]
[{"$f":"IF(Masterblatt!A457=\"\",\"\",Masterblatt!A457)","v":456},null,{"$f":"IF(AND(Masterblatt!B457=\"\",Masterblatt!C457=\"\"),\"\",Masterblatt!B457 & \" \" & Masterblatt!C457)","v":""},null,null,null,null,null,null,null,null,null,null,null,null,null,null,{"$f":"IF(Masterblatt!F457=\"\",\"\",Masterblatt!F457)","v":""}]
[{"$f":"IF(Masterblatt!A458=\"\",\"\",Masterblatt!A458)","v":457},null,{"$f":"IF(AND(Masterblatt!B458=\"\",Masterblatt!C458=\"\"),\"\",Masterblatt!B458 & \" \" & Masterblatt!C458)","v":""},null,null,null,null,null,null,null,null,null,null,null,null,null,null,{"$f":"IF(Masterblatt!F458=\"\",\"\",Masterblatt!F458)","v":""}]
[{"$f":"IF(Masterblatt!A459=\"\",\"\",Masterblatt!A459)","v":458},null,{"$f":"IF(AND(Masterblatt!B459=\"\",Masterblatt!C459=\"\"),\"\",Masterblatt!B459 & \" \" & Masterblatt!C459)","v":""},null,null,null,null,null,null,null,null,null,null,null,null,null,null,{"$f":"IF(Masterblatt!F459=\"\",\"\",Masterblatt!F459)","v":""}]
[{"$f":"IF(Masterblatt!A460=\"\",\"\",Masterblatt!A460)","v":459},null,{"$f":"IF(AND(Masterblatt!B460=\"\",Masterblatt!C460=\"\"),\"\",Masterblatt!B460 & \" \" & Masterblatt!C460)","v":""},null,null,null,null,null,null,null,null,null,null,null,null,null,null,{"$f":"IF(Masterblatt!F460=\"\",\"\",Masterblatt!F460)","v":""}]
[{"$f":"IF(Masterblatt!A461=\"\",\"\",Masterblatt!A461)","v":460},null,{"$f":"IF(AND(Masterblatt!B461=\"\",Masterblatt!C461=\"\"),\"\",Masterblatt!B461 & \" \" & Masterblatt!C461)","v":""},null,null,null,null,null,null,null,null,null,null,null,null,null,null,{"$f":"IF(Masterblatt!F461=\"\",\"\",Masterblatt!F461)","v":""}]
[{"$f":"IF(Masterblatt!A462=\"\",\"\",Masterblatt!A462)","v":461},null,{"$f":"IF(AND(Masterblatt!B462=\"\",Masterblatt!C462=\"\"),\"\",Masterblatt!B462 & \" \" & Masterblatt!C462)","v":""},null,null,null,null,null,null,null,null,null,null,null,null,null,null,{"$f":"IF(Masterblatt!F462=\"\",\"\",Masterblatt!F462)","v":""}]
[{"$f":"IF(Masterblatt!A463=\"\",\"\",Masterblatt!A463)","v":462},null,{"$f":"IF(AND(Masterblatt!B463=\"\",Masterblatt!C463=\"\"),\"\",Masterblatt!B463 & \" \" & Masterblatt!C463)","v":""},null,null,null,null,null,null,null,null,null,null,null,null,null,null,{"$f":"IF(Masterblatt!F463=\"\",\"\",Masterblatt!F463)","v":""}]
[{"$f":"IF(Masterblatt!A464=\"\",\"\",Masterblatt!A464)","v":463},null,{"$f":"IF(AND(Masterblatt!B464=\"\",Masterblatt!C464=\"\"),\"\",Masterblatt!B464 & \" \" & Masterblatt!C464)","v":""},null,null,null,null,null,null,null,null,null,null,null,null,null,null,{"$f":"IF(Masterblatt!F464=\"\",\"\",Masterblatt!F464)","v":""}]
[{"$f":"IF(Masterblatt!A465=\"\",\"\",Masterblatt!A465)","v":464},null,{"$f":"IF(AND(Masterblatt!B465=\"\",Masterblatt!C465=\"\"),\"\",Masterblatt!B465 & \" \" & Masterblatt!C465)","v":""},null,null,null,null,null,null,null,null,null,null,null,null,null,null,{"$f":"IF(Masterblatt!F465=\"\",\"\",Masterblatt!F465)","v":""}]
[{"$f":"IF(Masterblatt!A466=\"\",\"\",Masterblatt!A466)","v":465},null,{"$f":"IF(AND(Masterblatt!B466=\"\",Masterblatt!C466=\"\"),\"\",Masterblatt!B466 & \" \" & Masterblatt!C466)","v":""},null,null,null,null,null,null,null,null,null,null,null,null,null,null,{"$f":"IF(Masterblatt!F466=\"\",\"\",Masterblatt!F466)","v":""}]
[{"$f":"IF(Masterblatt!A467=\"\",\"\",Masterblatt!A467)","v":466},null,{"$f":"IF(AND(Masterblatt!B467=\"\",Masterblatt!C467=\"\"),\"\",Masterblatt!B467 & \" \" & Masterblatt!C467)","v":""},null,null,null,null,null,null,null,null,null,null,null,null,null,null,{"$f":"IF(Masterblatt!F467=\"\",\"\",Masterblatt!F467)","v":""}]
[{"$f":"IF(Masterblatt!A468=\"\",\"\",Masterblatt!A468)","v":467},null,{"$f":"IF(AND(Masterblatt!B468=\"\",Masterblatt!C468=\"\"),\"\",Masterblatt!B468 & \" \" & Masterblatt!C468)","v":""},null,null,null,null,null,null,null,null,null,null,null,null,null,null,{"$f":"IF(Masterblatt!F468=\"\",\"\",Masterblatt!F468)","v":""}]
[{"$f":"IF(Masterblatt!A469=\"\",\"\",Masterblatt!A469)","v":468},null,{"$f":"IF(AND(Masterblatt!B469=\"\",Masterblatt!C469=\"\"),\"\",Masterblatt!B469 & \" \" & Masterblatt!C469)","v":""},null,null,null,null,null,null,null,null,null,null,null,null,null,null,{"$f":"IF(Masterblatt!F469=\"\",\"\",Masterblatt!F469)","v":""}]
[{"$f":"IF(Masterblatt!A470=\"\",\"\",Masterblatt!A470)","v":469},null,{"$f":"IF(AND(Masterblatt!B470=\"\",Masterblatt!C470=\"\"),\"\",Masterblatt!B470 & \" \" & Masterblatt!C470)","v":""},null,null,null,null,null,null,null,null,null,null,null,null,null,null,{"$f":"IF(Masterblatt!F470=\"\",\"\",Masterblatt!F470)","v":""}]
[{"$f":"IF(Masterblatt!A471=\"\",\"\",Masterblatt!A471)","v":470},null,{"$f":"IF(AND(Masterblatt!B471=\"\",Masterblatt!C471=\"\"),\"\",Masterblatt!B471 & \" \" & Masterblatt!C471)","v":""},null,null,null,null,null,null,null,null,null,null,null,null,null,null,{"$f":"IF(Masterblatt!F471=\"\",\"\",Masterblatt!F471)","v":""}]
[{"$f":"IF(Masterblatt!A472=\"\",\"\",Masterblatt!A472)","v":471},null,{"$f":"IF(AND(Masterblatt!B472=\"\",Masterblatt!C472=\"\"),\"\",Masterblatt!B472 & \" \" & Masterblatt!C472)","v":""},null,null,null,null,null,null,null,null,null,null,null,null,null,null,{"$f":"IF(Masterblatt!F472=\"\",\"\",Masterblatt!F472)","v":""}]
[{"$f":"IF(Masterblatt!A473=\"\",\"\",Masterblatt!A473)","v":472},null,{"$f":"IF(AND(Masterblatt!B473=\"\",Masterblatt!C473=\"\"),\"\",Masterblatt!B473 & \" \" & Masterblatt!C473)","v":""},null,null,null,null,null,null,null,null,null,null,null,null,null,null,{"$f":"IF(Masterblatt!F473=\"\",\"\",Masterblatt!F473)","v":""}]
[{"$f":"IF(Masterblatt!A474=\"\",\"\",Masterblatt!A474)","v":473},null,{"$f":"IF(AND(Masterblatt!B474=\"\",Masterblatt!C474=\"\"),\"\",Masterblatt!B474 & \" \" & Masterblatt!C474)","v":""},null,null,null,null,null,null,null,null,null,null,null,null,null,null,{"$f":"IF(Masterblatt!F474=\"\",\"\",Masterblatt!F474)","v":""}]
[{"$f":"IF(Masterblatt!A475=\"\",\"\",Masterblatt!A475)","v":474},null,{"$f":"IF(AND(Masterblatt!B475=\"\",Masterblatt!C475=\"\"),\"\",Masterblatt!B475 & \" \" & Masterblatt!C475)","v":""},null,null,null,null,null,null,null,null,null,null,null,null,null,null,{"$f":"IF(Masterblatt!F475=\"\",\"\",Masterblatt!F475)","v":""}]
[{"$f":"IF(Masterblatt!A476=\"\",\"\",Masterblatt!A476)","v":475},null,{"$f":"IF(AND(Masterblatt!B476=\"\",Masterblatt!C476=\"\"),\"\",Masterblatt!B476 & \" \" & Masterblatt!C476)","v":""},null,null,null,null,null,null,null,null,null,null,null,null,null,null,{"$f":"IF(Masterblatt!F476=\"\",\"\",Masterblatt!F476)","v":""}]
[{"$f":"IF(Masterblatt!A477=\"\",\"\",Masterblatt!A477)","v":476},null,{"$f":"IF(AND(Masterblatt!B477=\"\",Masterblatt!C477=\"\"),\"\",Masterblatt!B477 & \" \" & Masterblatt!C477)","v":""},null,null,null,null,null,null,null,null,null,null,null,null,null,null,{"$f":"IF(Masterblatt!F477=\"\",\"\",Masterblatt!F477)","v":""}]
[{"$f":"IF(Masterblatt!A478=\"\",\"\",Masterblatt!A478)","v":477},null,{"$f":"IF(AND(Masterblatt!B478=\"\",Masterblatt!C478=\"\"),\"\",Masterblatt!B478 & \" \" & Masterblatt!C478)","v":""},null,null,null,null,null,null,null,null,null,null,null,null,null,null,{"$f":"IF(Masterblatt!F478=\"\",\"\",Masterblatt!F478)","v":""}]
[{"$f":"IF(Masterblatt!A479=\"\",\"\",Masterblatt!A479)","v":478},null,{"$f":"IF(AND(Masterblatt!B479=\"\",Masterblatt!C479=\"\"),\"\",Masterblatt!B479 & \" \" & Masterblatt!C479)","v":""},null,null,null,null,null,null,null,null,null,null,null,null,null,null,{"$f":"IF(Masterblatt!F479=\"\",\"\",Masterblatt!F479)","v":""}]
[{"$f":"IF(Masterblatt!A480=\"\",\"\",Masterblatt!A480)","v":479},null,{"$f":"IF(AND(Masterblatt!B480=\"\",Masterblatt!C480=\"\"),\"\",Masterblatt!B480 & \" \" & Masterblatt!C480)","v":""},null,null,null,null,null,null,null,null,null,null,null,null,null,null,{"$f":"IF(Masterblatt!F480=\"\",\"\",Masterblatt!F480)","v":""}]
[{"$f":"IF(Masterblatt!A481=\"\",\"\",Masterblatt!A481)","v":480},null,{"$f":"IF(AND(Masterblatt!B481=\"\",Masterblatt!C481=\"\"),\"\",Masterblatt!B481 & \" \" & Masterblatt!C481)","v":""},null,null,null,null,null,null,null,null,null,null,null,null,null,null,{"$f":"IF(Masterblatt!F481=\"\",\"\",Masterblatt!F481)","v":""}]
[{"$f":"IF(Masterblatt!A482=\"\",\"\",Masterblatt!A482)","v":481},null,{"$f":"IF(AND(Masterblatt!B482=\"\",Masterblatt!C482=\"\"),\"\",Masterblatt!B482 & \" \" & Masterblatt!C482)","v":""},null,null,null,null,null,null,null,null,null,null,null,null,null,null,{"$f":"IF(Masterblatt!F482=\"\",\"\",Masterblatt!F482)","v":""}]
[{"$f":"IF(Masterblatt!A483=\"\",\"\",Masterblatt!A483)","v":482},null,{"$f":"IF(AND(Masterblatt!B483=\"\",Masterblatt!C483=\"\"),\"\",Masterblatt!B483 & \" \" & Masterblatt!C483)","v":""},null,null,null,null,null,null,null,null,null,null,null,null,null,null,{"$f":"IF(Masterblatt!F483=\"\",\"\",Masterblatt!F483)","v":""}]
[{"$f":"IF(Masterblatt!A484=\"\",\"\",Masterblatt!A484)","v":483},null,{"$f":"IF(AND(Masterblatt!B484=\"\",Masterblatt!C484=\"\"),\"\",Masterblatt!B484 & \" \" & Masterblatt!C484)","v":""},null,null,null,null,null,null,null,null,null,null,null,null,null,null,{"$f":"IF(Masterblatt!F484=\"\",\"\",Masterblatt!F484)","v":""}]
[{"$f":"IF(Masterblatt!A485=\"\",\"\",Masterblatt!A485)","v":484},null,{"$f":"IF(AND(Masterblatt!B485=\"\",Masterblatt!C485=\"\"),\"\",Masterblatt!B485 & \" \" & Masterblatt!C485)","v":""},null,null,null,null,null,null,null,null,null,null,null,null,null,null,{"$f":"IF(Masterblatt!F485=\"\",\"\",Masterblatt!F485)","v":""}]
[{"$f":"IF(Masterblatt!A486=\"\",\"\",Masterblatt!A486)","v":485},null,{"$f":"IF(AND(Masterblatt!B486=\"\",Masterblatt!C486=\"\"),\"\",Masterblatt!B486 & \" \" & Masterblatt!C486)","v":""},null,null,null,null,null,null,null,null,null,null,null,null,null,null,{"$f":"IF(Masterblatt!F486=\"\",\"\",Masterblatt!F486)","v":""}]
[{"$f":"IF(Masterblatt!A487=\"\",\"\",Masterblatt!A487)","v":486},null,{"$f":"IF(AND(Masterblatt!B487=\"\",Masterblatt!C487=\"\"),\"\",Masterblatt!B487 & \" \" & Masterblatt!C487)","v":""},null,null,null,null,null,null,null,null,null,null,null,null,null,null,{"$f":"IF(Masterblatt!F487=\"\",\"\",Masterblatt!F487)","v":""}]
[{"$f":"IF(Masterblatt!A488=\"\",\"\",Masterblatt!A488)","v":487},null,{"$f":"IF(AND(Masterblatt!B488=\"\",Masterblatt!C488=\"\"),\"\",Masterblatt!B488 & \" \" & Masterblatt!C488)","v":""},null,null,null,null,null,null,null,null,null,null,null,null,null,null,{"$f":"IF(Masterblatt!F488=\"\",\"\",Masterblatt!F488)","v":""}]
[{"$f":"IF(Masterblatt!A489=\"\",\"\",Masterblatt!A489)","v":488},null,{"$f":"IF(AND(Masterblatt!B489=\"\",Masterblatt!C489=\"\"),\"\",Masterblatt!B489 & \" \" & Masterblatt!C489)","v":""},null,null,null,null,null,null,null,null,null,null,null,null,null,null,{"$f":"IF(Masterblatt!F489=\"\",\"\",Masterblatt!F489)","v":""}]
[{"$f":"IF(Masterblatt!A490=\"\",\"\",Masterblatt!A490)","v":489},null,{"$f":"IF(AND(Masterblatt!B490=\"\",Masterblatt!C490=\"\"),\"\",Masterblatt!B490 & \" \" & Masterblatt!C490)","v":""},null,null,null,null,null,null,null,null,null,null,null,null,null,null,{"$f":"IF(Masterblatt!F490=\"\",\"\",Masterblatt!F490)","v":""}]
[{"$f":"IF(Masterblatt!A491=\"\",\"\",Masterblatt!A491)","v":490},null,{"$f":"IF(AND(Masterblatt!B491=\"\",Masterblatt!C491=\"\"),\"\",Masterblatt!B491 & \" \" & Masterblatt!C491)","v":""},null,null,null,null,null,null,null,null,null,null,null,null,null,null,{"$f":"IF(Masterblatt!F491=\"\",\"\",Masterblatt!F491)","v":""}]
[{"$f":"IF(Masterblatt!A492=\"\",\"\",Masterblatt!A492)","v":491},null,{"$f":"IF(AND(Masterblatt!B492=\"\",Masterblatt!C492=\"\"),\"\",Masterblatt!B492 & \" \" & Masterblatt!C492)","v":""},null,null,null,null,null,null,null,null,null,null,null,null,null,null,{"$f":"IF(Masterblatt!F492=\"\",\"\",Masterblatt!F492)","v":""}]
[{"$f":"IF(Masterblatt!A493=\"\",\"\",Masterblatt!A493)","v":492},null,{"$f":"IF(AND(Masterblatt!B493=\"\",Masterblatt!C493=\"\"),\"\",Masterblatt!B493 & \" \" & Masterblatt!C493)","v":""},null,null,null,null,null,null,null,null,null,null,null,null,null,null,{"$f":"IF(Masterblatt!F493=\"\",\"\",Masterblatt!F493)","v":""}]
[{"$f":"IF(Masterblatt!A494=\"\",\"\",Masterblatt!A494)","v":493},null,{"$f":"IF(AND(Masterblatt!B494=\"\",Masterblatt!C494=\"\"),\"\",Masterblatt!B494 & \" \" & Masterblatt!C494)","v":""},null,null,null,null,null,null,null,null,null,null,null,null,null,null,{"$f":"IF(Masterblatt!F494=\"\",\"\",Masterblatt!F494)","v":""}]
[{"$f":"IF(Masterblatt!A495=\"\",\"\",Masterblatt!A495)","v":494},null,{"$f":"IF(AND(Masterblatt!B495=\"\",Masterblatt!C495=\"\"),\"\",Masterblatt!B495 & \" \" & Masterblatt!C495)","v":""},null,null,null,null,null,null,null,null,null,null,null,null,null,null,{"$f":"IF(Masterblatt!F495=\"\",\"\",Masterblatt!F495)","v":""}]
[{"$f":"IF(Masterblatt!A496=\"\",\"\",Masterblatt!A496)","v":495},null,{"$f":"IF(AND(Masterblatt!B496=\"\",Masterblatt!C496=\"\"),\"\",Masterblatt!B496 & \" \" & Masterblatt!C496)","v":""},null,null,null,null,null,null,null,null,null,null,null,null,null,null,{"$f":"IF(Masterblatt!F496=\"\",\"\",Masterblatt!F496)","v":""}]
[{"$f":"IF(Masterblatt!A497=\"\",\"\",Masterblatt!A497)","v":496},null,{"$f":"IF(AND(Masterblatt!B497=\"\",Masterblatt!C497=\"\"),\"\",Masterblatt!B497 & \" \" & Masterblatt!C497)","v":""},null,null,null,null,null,null,null,null,null,null,null,null,null,null,{"$f":"IF(Masterblatt!F497=\"\",\"\",Masterblatt!F497)","v":""}]
[{"$f":"IF(Masterblatt!A498=\"\",\"\",Masterblatt!A498)","v":497},null,{"$f":"IF(AND(Masterblatt!B498=\"\",Masterblatt!C498=\"\"),\"\",Masterblatt!B498 & \" \" & Masterblatt!C498)","v":""},null,null,null,null,null,null,null,null,null,null,null,null,null,null,{"$f":"IF(Masterblatt!F498=\"\",\"\",Masterblatt!F498)","v":""}]
[{"$f":"IF(Masterblatt!A499=\"\",\"\",Masterblatt!A499)","v":498},null,{"$f":"IF(AND(Masterblatt!B499=\"\",Masterblatt!C499=\"\"),\"\",Masterblatt!B499 & \" \" & Masterblatt!C499)","v":""},null,null,null,null,null,null,null,null,null,null,null,null,null,null,{"$f":"IF(Masterblatt!F499=\"\",\"\",Masterblatt!F499)","v":""}]
[{"$f":"IF(Masterblatt!A500=\"\",\"\",Masterblatt!A500)","v":499},null,{"$f":"IF(AND(Masterblatt!B500=\"\",Masterblatt!C500=\"\"),\"\",Masterblatt!B500 & \" \" & Masterblatt!C500)","v":""},null,null,null,null,null,null,null,null,null,null,null,null,null,null,{"$f":"IF(Masterblatt!F500=\"\",\"\",Masterblatt!F500)","v":""}]
[{"$f":"IF(Masterblatt!A501=\"\",\"\",Masterblatt!A501)","v":500},null,{"$f":"IF(AND(Masterblatt!B501=\"\",Masterblatt!C501=\"\"),\"\",Masterblatt!B501 & \" \" & Masterblatt!C501)","v":""},null,null,null,null,null,null,null,null,null,null,null,null,null,null,{"$f":"IF(Masterblatt!F501=\"\",\"\",Masterblatt!F501)","v":""}]
[{"$f":"IF(Masterblatt!A502=\"\",\"\",Masterblatt!A502)","v":501},null,{"$f":"IF(AND(Masterblatt!B502=\"\",Masterblatt!C502=\"\"),\"\",Masterblatt!B502 & \" \" & Masterblatt!C502)","v":""},null,null,null,null,null,null,null,null,null,null,null,null,null,null,{"$f":"IF(Masterblatt!F502=\"\",\"\",Masterblatt!F502)","v":""}]
[{"$f":"IF(Masterblatt!A503=\"\",\"\",Masterblatt!A503)","v":502},null,{"$f":"IF(AND(Masterblatt!B503=\"\",Masterblatt!C503=\"\"),\"\",Masterblatt!B503 & \" \" & Masterblatt!C503)","v":""},null,null,null,null,null,null,null,null,null,null,null,null,null,null,{"$f":"IF(Masterblatt!F503=\"\",\"\",Masterblatt!F503)","v":""}]
[{"$f":"IF(Masterblatt!A504=\"\",\"\",Masterblatt!A504)","v":503},null,{"$f":"IF(AND(Masterblatt!B504=\"\",Masterblatt!C504=\"\"),\"\",Masterblatt!B504 & \" \" & Masterblatt!C504)","v":""},null,null,null,null,null,null,null,null,null,null,null,null,null,null,{"$f":"IF(Masterblatt!F504=\"\",\"\",Masterblatt!F504)","v":""}]
[{"$f":"IF(Masterblatt!A505=\"\",\"\",Masterblatt!A505)","v":504},null,{"$f":"IF(AND(Masterblatt!B505=\"\",Masterblatt!C505=\"\"),\"\",Masterblatt!B505 & \" \" & Masterblatt!C505)","v":""},null,null,null,null,null,null,null,null,null,null,null,null,null,null,{"$f":"IF(Masterblatt!F505=\"\",\"\",Masterblatt!F505)","v":""}]
[{"$f":"IF(Masterblatt!A506=\"\",\"\",Masterblatt!A506)","v":505},null,{"$f":"IF(AND(Masterblatt!B506=\"\",Masterblatt!C506=\"\"),\"\",Masterblatt!B506 & \" \" & Masterblatt!C506)","v":""},null,null,null,null,null,null,null,null,null,null,null,null,null,null,{"$f":"IF(Masterblatt!F506=\"\",\"\",Masterblatt!F506)","v":""}]
[{"$f":"IF(Masterblatt!A507=\"\",\"\",Masterblatt!A507)","v":506},null,{"$f":"IF(AND(Masterblatt!B507=\"\",Masterblatt!C507=\"\"),\"\",Masterblatt!B507 & \" \" & Masterblatt!C507)","v":""},null,null,null,null,null,null,null,null,null,null,null,null,null,null,{"$f":"IF(Masterblatt!F507=\"\",\"\",Masterblatt!F507)","v":""}]
[{"$f":"IF(Masterblatt!A508=\"\",\"\",Masterblatt!A508)","v":507},null,{"$f":"IF(AND(Masterblatt!B508=\"\",Masterblatt!C508=\"\"),\"\",Masterblatt!B508 & \" \" & Masterblatt!C508)","v":""},null,null,null,null,null,null,null,null,null,null,null,null,null,null,{"$f":"IF(Masterblatt!F508=\"\",\"\",Masterblatt!F508)","v":""}]
[{"$f":"IF(Masterblatt!A509=\"\",\"\",Masterblatt!A509)","v":508},null,{"$f":"IF(AND(Masterblatt!B509=\"\",Masterblatt!C509=\"\"),\"\",Masterblatt!B509 & \" \" & Masterblatt!C509)","v":""},null,null,null,null,null,null,null,null,null,null,null,null,null,null,{"$f":"IF(Masterblatt!F509=\"\",\"\",Masterblatt!F509)","v":""}]
[{"$f":"IF(Masterblatt!A510=\"\",\"\",Masterblatt!A510)","v":509},null,{"$f":"IF(AND(Masterblatt!B510=\"\",Masterblatt!C510=\"\"),\"\",Masterblatt!B510 & \" \" & Masterblatt!C510)","v":""},null,null,null,null,null,null,null,null,null,null,null,null,null,null,{"$f":"IF(Masterblatt!F510=\"\",\"\",Masterblatt!F510)","v":""}]
[{"$f":"IF(Masterblatt!A511=\"\",\"\",Masterblatt!A511)","v":510},null,{"$f":"IF(AND(Masterblatt!B511=\"\",Masterblatt!C511=\"\"),\"\",Masterblatt!B511 & \" \" & Masterblatt!C511)","v":""},null,null,null,null,null,null,null,null,null,null,null,null,null,null,{"$f":"IF(Masterblatt!F511=\"\",\"\",Masterblatt!F511)","v":""}]
[{"$f":"IF(Masterblatt!A512=\"\",\"\",Masterblatt!A512)","v":511},null,{"$f":"IF(AND(Masterblatt!B512=\"\",Masterblatt!C512=\"\"),\"\",Masterblatt!B512 & \" \" & Masterblatt!C512)","v":""},null,null,null,null,null,null,null,null,null,null,null,null,null,null,{"$f":"IF(Masterblatt!F512=\"\",\"\",Masterblatt!F512)","v":""}]
[{"$f":"IF(Masterblatt!A513=\"\",\"\",Masterblatt!A513)","v":512},null,{"$f":"IF(AND(Masterblatt!B513=\"\",Masterblatt!C513=\"\"),\"\",Masterblatt!B513 & \" \" & Masterblatt!C513)","v":""},null,null,null,null,null,null,null,null,null,null,null,null,null,null,{"$f":"IF(Masterblatt!F513=\"\",\"\",Masterblatt!F513)","v":""}]
[{"$f":"IF(Masterblatt!A514=\"\",\"\",Masterblatt!A514)","v":513},null,{"$f":"IF(AND(Masterblatt!B514=\"\",Masterblatt!C514=\"\"),\"\",Masterblatt!B514 & \" \" & Masterblatt!C514)","v":""},null,null,null,null,null,null,null,null,null,null,null,null,null,null,{"$f":"IF(Masterblatt!F514=\"\",\"\",Masterblatt!F514)","v":""}]
[{"$f":"IF(Masterblatt!A515=\"\",\"\",Masterblatt!A515)","v":514},null,{"$f":"IF(AND(Masterblatt!B515=\"\",Masterblatt!C515=\"\"),\"\",Masterblatt!B515 & \" \" & Masterblatt!C515)","v":""},null,null,null,null,null,null,null,null,null,null,null,null,null,null,{"$f":"IF(Masterblatt!F515=\"\",\"\",Masterblatt!F515)","v":""}]
[{"$f":"IF(Masterblatt!A516=\"\",\"\",Masterblatt!A516)","v":515},null,{"$f":"IF(AND(Masterblatt!B516=\"\",Masterblatt!C516=\"\"),\"\",Masterblatt!B516 & \" \" & Masterblatt!C516)","v":""},null,null,null,null,null,null,null,null,null,null,null,null,null,null,{"$f":"IF(Masterblatt!F516=\"\",\"\",Masterblatt!F516)","v":""}]
[{"$f":"IF(Masterblatt!A517=\"\",\"\",Masterblatt!A517)","v":516},null,{"$f":"IF(AND(Masterblatt!B517=\"\",Masterblatt!C517=\"\"),\"\",Masterblatt!B517 & \" \" & Masterblatt!C517)","v":""},null,null,null,null,null,null,null,null,null,null,null,null,null,null,{"$f":"IF(Masterblatt!F517=\"\",\"\",Masterblatt!F517)","v":""}]
[{"$f":"IF(Masterblatt!A518=\"\",\"\",Masterblatt!A518)","v":517},null,{"$f":"IF(AND(Masterblatt!B518=\"\",Masterblatt!C518=\"\"),\"\",Masterblatt!B518 & \" \" & Masterblatt!C518)","v":""},null,null,null,null,null,null,null,null,null,null,null,null,null,null,{"$f":"IF(Masterblatt!F518=\"\",\"\",Masterblatt!F518)","v":""}]
[{"$f":"IF(Masterblatt!A519=\"\",\"\",Masterblatt!A519)","v":518},null,{"$f":"IF(AND(Masterblatt!B519=\"\",Masterblatt!C519=\"\"),\"\",Masterblatt!B519 & \" \" & Masterblatt!C519)","v":""},null,null,null,null,null,null,null,null,null,null,null,null,null,null,{"$f":"IF(Masterblatt!F519=\"\",\"\",Masterblatt!F519)","v":""}]
[{"$f":"IF(Masterblatt!A520=\"\",\"\",Masterblatt!A520)","v":519},null,{"$f":"IF(AND(Masterblatt!B520=\"\",Masterblatt!C520=\"\"),\"\",Masterblatt!B520 & \" \" & Masterblatt!C520)","v":""},null,null,null,null,null,null,null,null,null,null,null,null,null,null,{"$f":"IF(Masterblatt!F520=\"\",\"\",Masterblatt!F520)","v":""}]
[{"$f":"IF(Masterblatt!A521=\"\",\"\",Masterblatt!A521)","v":520},null,{"$f":"IF(AND(Masterblatt!B521=\"\",Masterblatt!C521=\"\"),\"\",Masterblatt!B521 & \" \" & Masterblatt!C521)","v":""},null,null,null,null,null,null,null,null,null,null,null,null,null,null,{"$f":"IF(Masterblatt!F521=\"\",\"\",Masterblatt!F521)","v":""}]
[{"$f":"IF(Masterblatt!A522=\"\",\"\",Masterblatt!A522)","v":521},null,{"$f":"IF(AND(Masterblatt!B522=\"\",Masterblatt!C522=\"\"),\"\",Masterblatt!B522 & \" \" & Masterblatt!C522)","v":""},null,null,null,null,null,null,null,null,null,null,null,null,null,null,{"$f":"IF(Masterblatt!F522=\"\",\"\",Masterblatt!F522)","v":""}]
[{"$f":"IF(Masterblatt!A523=\"\",\"\",Masterblatt!A523)","v":522},null,{"$f":"IF(AND(Masterblatt!B523=\"\",Masterblatt!C523=\"\"),\"\",Masterblatt!B523 & \" \" & Masterblatt!C523)","v":""},null,null,null,null,null,null,null,null,null,null,null,null,null,null,{"$f":"IF(Masterblatt!F523=\"\",\"\",Masterblatt!F523)","v":""}]
[{"$f":"IF(Masterblatt!A524=\"\",\"\",Masterblatt!A524)","v":523},null,{"$f":"IF(AND(Masterblatt!B524=\"\",Masterblatt!C524=\"\"),\"\",Masterblatt!B524 & \" \" & Masterblatt!C524)","v":""},null,null,null,null,null,null,null,null,null,null,null,null,null,null,{"$f":"IF(Masterblatt!F524=\"\",\"\",Masterblatt!F524)","v":""}]
[{"$f":"IF(Masterblatt!A525=\"\",\"\",Masterblatt!A525)","v":524},null,{"$f":"IF(AND(Masterblatt!B525=\"\",Masterblatt!C525=\"\"),\"\",Masterblatt!B525 & \" \" & Masterblatt!C525)","v":""},null,null,null,null,null,null,null,null,null,null,null,null,null,null,{"$f":"IF(Masterblatt!F525=\"\",\"\",Masterblatt!F525)","v":""}]
[{"$f":"IF(Masterblatt!A526=\"\",\"\",Masterblatt!A526)","v":525},null,{"$f":"IF(AND(Masterblatt!B526=\"\",Masterblatt!C526=\"\"),\"\",Masterblatt!B526 & \" \" & Masterblatt!C526)","v":""},null,null,null,null,null,null,null,null,null,null,null,null,null,null,{"$f":"IF(Masterblatt!F526=\"\",\"\",Masterblatt!F526)","v":""}]
[{"$f":"IF(Masterblatt!A527=\"\",\"\",Masterblatt!A527)","v":526},null,{"$f":"IF(AND(Masterblatt!B527=\"\",Masterblatt!C527=\"\"),\"\",Masterblatt!B527 & \" \" & Masterblatt!C527)","v":""},null,null,null,null,null,null,null,null,null,null,null,null,null,null,{"$f":"IF(Masterblatt!F527=\"\",\"\",Masterblatt!F527)","v":""}]
[{"$f":"IF(Masterblatt!A528=\"\",\"\",Masterblatt!A528)","v":527},null,{"$f":"IF(AND(Masterblatt!B528=\"\",Masterblatt!C528=\"\"),\"\",Masterblatt!B528 & \" \" & Masterblatt!C528)","v":""},null,null,null,null,null,null,null,null,null,null,null,null,null,null,{"$f":"IF(Masterblatt!F528=\"\",\"\",Masterblatt!F528)","v":""}]
[{"$f":"IF(Masterblatt!A529=\"\",\"\",Masterblatt!A529)","v":528},null,{"$f":"IF(AND(Masterblatt!B529=\"\",Masterblatt!C529=\"\"),\"\",Masterblatt!B529 & \" \" & Masterblatt!C529)","v":""},null,null,null,null,null,null,null,null,null,null,null,null,null,null,{"$f":"IF(Masterblatt!F529=\"\",\"\",Masterblatt!F529)","v":""}]
[{"$f":"IF(Masterblatt!A530=\"\",\"\",Masterblatt!A530)","v":529},null,{"$f":"IF(AND(Masterblatt!B530=\"\",Masterblatt!C530=\"\"),\"\",Masterblatt!B530 & \" \" & Masterblatt!C530)","v":""},null,null,null,null,null,null,null,null,null,null,null,null,null,null,{"$f":"IF(Masterblatt!F530=\"\",\"\",Masterblatt!F530)","v":""}]
[{"$f":"IF(Masterblatt!A531=\"\",\"\",Masterblatt!A531)","v":530},null,{"$f":"IF(AND(Masterblatt!B531=\"\",Masterblatt!C531=\"\"),\"\",Masterblatt!B531 & \" \" & Masterblatt!C531)","v":""},null,null,null,null,null,null,null,null,null,null,null,null,null,null,{"$f":"IF(Masterblatt!F531=\"\",\"\",Masterblatt!F531)","v":""}]
[{"$f":"IF(Masterblatt!A532=\"\",\"\",Masterblatt!A532)","v":531},null,{"$f":"IF(AND(Masterblatt!B532=\"\",Masterblatt!C532=\"\"),\"\",Masterblatt!B532 & \" \" & Masterblatt!C532)","v":""},null,null,null,null,null,null,null,null,null,null,null,null,null,null,{"$f":"IF(Masterblatt!F532=\"\",\"\",Masterblatt!F532)","v":""}]
[{"$f":"IF(Masterblatt!A533=\"\",\"\",Masterblatt!A533)","v":532},null,{"$f":"IF(AND(Masterblatt!B533=\"\",Masterblatt!C533=\"\"),\"\",Masterblatt!B533 & \" \" & Masterblatt!C533)","v":""},null,null,null,null,null,null,null,null,null,null,null,null,null,null,{"$f":"IF(Masterblatt!F533=\"\",\"\",Masterblatt!F533)","v":""}]
[{"$f":"IF(Masterblatt!A534=\"\",\"\",Masterblatt!A534)","v":533},null,{"$f":"IF(AND(Masterblatt!B534=\"\",Masterblatt!C534=\"\"),\"\",Masterblatt!B534 & \" \" & Masterblatt!C534)","v":""},null,null,null,null,null,null,null,null,null,null,null,null,null,null,{"$f":"IF(Masterblatt!F534=\"\",\"\",Masterblatt!F534)","v":""}]
[{"$f":"IF(Masterblatt!A535=\"\",\"\",Masterblatt!A535)","v":534},null,{"$f":"IF(AND(Masterblatt!B535=\"\",Masterblatt!C535=\"\"),\"\",Masterblatt!B535 & \" \" & Masterblatt!C535)","v":""},null,null,null,null,null,null,null,null,null,null,null,null,null,null,{"$f":"IF(Masterblatt!F535=\"\",\"\",Masterblatt!F535)","v":""}]
[{"$f":"IF(Masterblatt!A536=\"\",\"\",Masterblatt!A536)","v":535},null,{"$f":"IF(AND(Masterblatt!B536=\"\",Masterblatt!C536=\"\"),\"\",Masterblatt!B536 & \" \" & Masterblatt!C536)","v":""},null,null,null,null,null,null,null,null,null,null,null,null,null,null,{"$f":"IF(Masterblatt!F536=\"\",\"\",Masterblatt!F536)","v":""}]
[{"$f":"IF(Masterblatt!A537=\"\",\"\",Masterblatt!A537)","v":536},null,{"$f":"IF(AND(Masterblatt!B537=\"\",Masterblatt!C537=\"\"),\"\",Masterblatt!B537 & \" \" & Masterblatt!C537)","v":""},null,null,null,null,null,null,null,null,null,null,null,null,null,null,{"$f":"IF(Masterblatt!F537=\"\",\"\",Masterblatt!F537)","v":""}]
[{"$f":"IF(Masterblatt!A538=\"\",\"\",Masterblatt!A538)","v":537},null,{"$f":"IF(AND(Masterblatt!B538=\"\",Masterblatt!C538=\"\"),\"\",Masterblatt!B538 & \" \" & Masterblatt!C538)","v":""},null,null,null,null,null,null,null,null,null,null,null,null,null,null,{"$f":"IF(Masterblatt!F538=\"\",\"\",Masterblatt!F538)","v":""}]
[{"$f":"IF(Masterblatt!A539=\"\",\"\",Masterblatt!A539)","v":538},null,{"$f":"IF(AND(Masterblatt!B539=\"\",Masterblatt!C539=\"\"),\"\",Masterblatt!B539 & \" \" & Masterblatt!C539)","v":""},null,null,null,null,null,null,null,null,null,null,null,null,null,null,{"$f":"IF(Masterblatt!F539=\"\",\"\",Masterblatt!F539)","v":""}]
[{"$f":"IF(Masterblatt!A540=\"\",\"\",Masterblatt!A540)","v":539},null,{"$f":"IF(AND(Masterblatt!B540=\"\",Masterblatt!C540=\"\"),\"\",Masterblatt!B540 & \" \" & Masterblatt!C540)","v":""},null,null,null,null,null,null,null,null,null,null,null,null,null,null,{"$f":"IF(Masterblatt!F540=\"\",\"\",Masterblatt!F540)","v":""}]
[{"$f":"IF(Masterblatt!A541=\"\",\"\",Masterblatt!A541)","v":540},null,{"$f":"IF(AND(Masterblatt!B541=\"\",Masterblatt!C541=\"\"),\"\",Masterblatt!B541 & \" \" & Masterblatt!C541)","v":""},null,null,null,null,null,null,null,null,null,null,null,null,null,null,{"$f":"IF(Masterblatt!F541=\"\",\"\",Masterblatt!F541)","v":""}]
[{"$f":"IF(Masterblatt!A542=\"\",\"\",Masterblatt!A542)","v":541},null,{"$f":"IF(AND(Masterblatt!B542=\"\",Masterblatt!C542=\"\"),\"\",Masterblatt!B542 & \" \" & Masterblatt!C542)","v":""},null,null,null,null,null,null,null,null,null,null,null,null,null,null,{"$f":"IF(Masterblatt!F542=\"\",\"\",Masterblatt!F542)","v":""}]
[{"$f":"IF(Masterblatt!A543=\"\",\"\",Masterblatt!A543)","v":542},null,{"$f":"IF(AND(Masterblatt!B543=\"\",Masterblatt!C543=\"\"),\"\",Masterblatt!B543 & \" \" & Masterblatt!C543)","v":""},null,null,null,null,null,null,null,null,null,null,null,null,null,null,{"$f":"IF(Masterblatt!F543=\"\",\"\",Masterblatt!F543)","v":""}]
[{"$f":"IF(Masterblatt!A544=\"\",\"\",Masterblatt!A544)","v":543},null,{"$f":"IF(AND(Masterblatt!B544=\"\",Masterblatt!C544=\"\"),\"\",Masterblatt!B544 & \" \" & Masterblatt!C544)","v":""},null,null,null,null,null,null,null,null,null,null,null,null,null,null,{"$f":"IF(Masterblatt!F544=\"\",\"\",Masterblatt!F544)","v":""}]
[{"$f":"IF(Masterblatt!A545=\"\",\"\",Masterblatt!A545)","v":544},null,{"$f":"IF(AND(Masterblatt!B545=\"\",Masterblatt!C545=\"\"),\"\",Masterblatt!B545 & \" \" & Masterblatt!C545)","v":""},null,null,null,null,null,null,null,null,null,null,null,null,null,null,{"$f":"IF(Masterblatt!F545=\"\",\"\",Masterblatt!F545)","v":""}]
[{"$f":"IF(Masterblatt!A546=\"\",\"\",Masterblatt!A546)","v":545},null,{"$f":"IF(AND(Masterblatt!B546=\"\",Masterblatt!C546=\"\"),\"\",Masterblatt!B546 & \" \" & Masterblatt!C546)","v":""},null,null,null,null,null,null,null,null,null,null,null,null,null,null,{"$f":"IF(Masterblatt!F546=\"\",\"\",Masterblatt!F546)","v":""}]
[{"$f":"IF(Masterblatt!A547=\"\",\"\",Masterblatt!A547)","v":546},null,{"$f":"IF(AND(Masterblatt!B547=\"\",Masterblatt!C547=\"\"),\"\",Masterblatt!B547 & \" \" & Masterblatt!C547)","v":""},null,null,null,null,null,null,null,null,null,null,null,null,null,null,{"$f":"IF(Masterblatt!F547=\"\",\"\",Masterblatt!F547)","v":""}]
[{"$f":"IF(Masterblatt!A548=\"\",\"\",Masterblatt!A548)","v":547},null,{"$f":"IF(AND(Masterblatt!B548=\"\",Masterblatt!C548=\"\"),\"\",Masterblatt!B548 & \" \" & Masterblatt!C548)","v":""},null,null,null,null,null,null,null,null,null,null,null,null,null,null,{"$f":"IF(Masterblatt!F548=\"\",\"\",Masterblatt!F548)","v":""}]
[{"$f":"IF(Masterblatt!A549=\"\",\"\",Masterblatt!A549)","v":548},null,{"$f":"IF(AND(Masterblatt!B549=\"\",Masterblatt!C549=\"\"),\"\",Masterblatt!B549 & \" \" & Masterblatt!C549)","v":""},null,null,null,null,null,null,null,null,null,null,null,null,null,null,{"$f":"IF(Masterblatt!F549=\"\",\"\",Masterblatt!F549)","v":""}]
[{"$f":"IF(Masterblatt!A550=\"\",\"\",Masterblatt!A550)","v":549},null,{"$f":"IF(AND(Masterblatt!B550=\"\",Masterblatt!C550=\"\"),\"\",Masterblatt!B550 & \" \" & Masterblatt!C550)","v":""},null,null,null,null,null,null,null,null,null,null,null,null,null,null,{"$f":"IF(Masterblatt!F550=\"\",\"\",Masterblatt!F550)","v":""}]
[{"$f":"IF(Masterblatt!A551=\"\",\"\",Masterblatt!A551)","v":550},null,{"$f":"IF(AND(Masterblatt!B551=\"\",Masterblatt!C551=\"\"),\"\",Masterblatt!B551 & \" \" & Masterblatt!C551)","v":""},null,null,null,null,null,null,null,null,null,null,null,null,null,null,{"$f":"IF(Masterblatt!F551=\"\",\"\",Masterblatt!F551)","v":""}]
[{"$f":"IF(Masterblatt!A552=\"\",\"\",Masterblatt!A552)","v":551},null,{"$f":"IF(AND(Masterblatt!B552=\"\",Masterblatt!C552=\"\"),\"\",Masterblatt!B552 & \" \" & Masterblatt!C552)","v":""},null,null,null,null,null,null,null,null,null,null,null,null,null,null,{"$f":"IF(Masterblatt!F552=\"\",\"\",Masterblatt!F552)","v":""}]
[{"$f":"IF(Masterblatt!A553=\"\",\"\",Masterblatt!A553)","v":552},null,{"$f":"IF(AND(Masterblatt!B553=\"\",Masterblatt!C553=\"\"),\"\",Masterblatt!B553 & \" \" & Masterblatt!C553)","v":""},null,null,null,null,null,null,null,null,null,null,null,null,null,null,{"$f":"IF(Masterblatt!F553=\"\",\"\",Masterblatt!F553)","v":""}]
[{"$f":"IF(Masterblatt!A554=\"\",\"\",Masterblatt!A554)","v":553},null,{"$f":"IF(AND(Masterblatt!B554=\"\",Masterblatt!C554=\"\"),\"\",Masterblatt!B554 & \" \" & Masterblatt!C554)","v":""},null,null,null,null,null,null,null,null,null,null,null,null,null,null,{"$f":"IF(Masterblatt!F554=\"\",\"\",Masterblatt!F554)","v":""}]
[{"$f":"IF(Masterblatt!A555=\"\",\"\",Masterblatt!A555)","v":554},null,{"$f":"IF(AND(Masterblatt!B555=\"\",Masterblatt!C555=\"\"),\"\",Masterblatt!B555 & \" \" & Masterblatt!C555)","v":""},null,null,null,null,null,null,null,null,null,null,null,null,null,null,{"$f":"IF(Masterblatt!F555=\"\",\"\",Masterblatt!F555)","v":""}]
[{"$f":"IF(Masterblatt!A556=\"\",\"\",Masterblatt!A556)","v":555},null,{"$f":"IF(AND(Masterblatt!B556=\"\",Masterblatt!C556=\"\"),\"\",Masterblatt!B556 & \" \" & Masterblatt!C556)","v":""},null,null,null,null,null,null,null,null,null,null,null,null,null,null,{"$f":"IF(Masterblatt!F556=\"\",\"\",Masterblatt!F556)","v":""}]
[{"$f":"IF(Masterblatt!A557=\"\",\"\",Masterblatt!A557)","v":556},null,{"$f":"IF(AND(Masterblatt!B557=\"\",Masterblatt!C557=\"\"),\"\",Masterblatt!B557 & \" \" & Masterblatt!C557)","v":""},null,null,null,null,null,null,null,null,null,null,null,null,null,null,{"$f":"IF(Masterblatt!F557=\"\",\"\",Masterblatt!F557)","v":""}]
[{"$f":"IF(Masterblatt!A558=\"\",\"\",Masterblatt!A558)","v":557},null,{"$f":"IF(AND(Masterblatt!B558=\"\",Masterblatt!C558=\"\"),\"\",Masterblatt!B558 & \" \" & Masterblatt!C558)","v":""},null,null,null,null,null,null,null,null,null,null,null,null,null,null,{"$f":"IF(Masterblatt!F558=\"\",\"\",Masterblatt!F558)","v":""}]
[{"$f":"IF(Masterblatt!A559=\"\",\"\",Masterblatt!A559)","v":558},null,{"$f":"IF(AND(Masterblatt!B559=\"\",Masterblatt!C559=\"\"),\"\",Masterblatt!B559 & \" \" & Masterblatt!C559)","v":""},null,null,null,null,null,null,null,null,null,null,null,null,null,null,{"$f":"IF(Masterblatt!F559=\"\",\"\",Masterblatt!F559)","v":""}]
[{"$f":"IF(Masterblatt!A560=\"\",\"\",Masterblatt!A560)","v":559},null,{"$f":"IF(AND(Masterblatt!B560=\"\",Masterblatt!C560=\"\"),\"\",Masterblatt!B560 & \" \" & Masterblatt!C560)","v":""},null,null,null,null,null,null,null,null,null,null,null,null,null,null,{"$f":"IF(Masterblatt!F560=\"\",\"\",Masterblatt!F560)","v":""}]
[{"$f":"IF(Masterblatt!A561=\"\",\"\",Masterblatt!A561)","v":560},null,{"$f":"IF(AND(Masterblatt!B561=\"\",Masterblatt!C561=\"\"),\"\",Masterblatt!B561 & \" \" & Masterblatt!C561)","v":""},null,null,null,null,null,null,null,null,null,null,null,null,null,null,{"$f":"IF(Masterblatt!F561=\"\",\"\",Masterblatt!F561)","v":""}]
[{"$f":"IF(Masterblatt!A562=\"\",\"\",Masterblatt!A562)","v":561},null,{"$f":"IF(AND(Masterblatt!B562=\"\",Masterblatt!C562=\"\"),\"\",Masterblatt!B562 & \" \" & Masterblatt!C562)","v":""},null,null,null,null,null,null,null,null,null,null,null,null,null,null,{"$f":"IF(Masterblatt!F562=\"\",\"\",Masterblatt!F562)","v":""}]
[{"$f":"IF(Masterblatt!A563=\"\",\"\",Masterblatt!A563)","v":562},null,{"$f":"IF(AND(Masterblatt!B563=\"\",Masterblatt!C563=\"\"),\"\",Masterblatt!B563 & \" \" & Masterblatt!C563)","v":""},null,null,null,null,null,null,null,null,null,null,null,null,null,null,{"$f":"IF(Masterblatt!F563=\"\",\"\",Masterblatt!F563)","v":""}]
[{"$f":"IF(Masterblatt!A564=\"\",\"\",Masterblatt!A564)","v":563},null,{"$f":"IF(AND(Masterblatt!B564=\"\",Masterblatt!C564=\"\"),\"\",Masterblatt!B564 & \" \" & Masterblatt!C564)","v":""},null,null,null,null,null,null,null,null,null,null,null,null,null,null,{"$f":"IF(Masterblatt!F564=\"\",\"\",Masterblatt!F564)","v":""}]
[{"$f":"IF(Masterblatt!A565=\"\",\"\",Masterblatt!A565)","v":564},null,{"$f":"IF(AND(Masterblatt!B565=\"\",Masterblatt!C565=\"\"),\"\",Masterblatt!B565 & \" \" & Masterblatt!C565)","v":""},null,null,null,null,null,null,null,null,null,null,null,null,null,null,{"$f":"IF(Masterblatt!F565=\"\",\"\",Masterblatt!F565)","v":""}]
[{"$f":"IF(Masterblatt!A566=\"\",\"\",Masterblatt!A566)","v":565},null,{"$f":"IF(AND(Masterblatt!B566=\"\",Masterblatt!C566=\"\"),\"\",Masterblatt!B566 & \" \" & Masterblatt!C566)","v":""},null,null,null,null,null,null,null,null,null,null,null,null,null,null,{"$f":"IF(Masterblatt!F566=\"\",\"\",Masterblatt!F566)","v":""}]
[{"$f":"IF(Masterblatt!A567=\"\",\"\",Masterblatt!A567)","v":566},null,{"$f":"IF(AND(Masterblatt!B567=\"\",Masterblatt!C567=\"\"),\"\",Masterblatt!B567 & \" \" & Masterblatt!C567)","v":""},null,null,null,null,null,null,null,null,null,null,null,null,null,null,{"$f":"IF(Masterblatt!F567=\"\",\"\",Masterblatt!F567)","v":""}]
[{"$f":"IF(Masterblatt!A568=\"\",\"\",Masterblatt!A568)","v":567},null,{"$f":"IF(AND(Masterblatt!B568=\"\",Masterblatt!C568=\"\"),\"\",Masterblatt!B568 & \" \" & Masterblatt!C568)","v":""},null,null,null,null,null,null,null,null,null,null,null,null,null,null,{"$f":"IF(Masterblatt!F568=\"\",\"\",Masterblatt!F568)","v":""}]
[{"$f":"IF(Masterblatt!A569=\"\",\"\",Masterblatt!A569)","v":568},null,{"$f":"IF(AND(Masterblatt!B569=\"\",Masterblatt!C569=\"\"),\"\",Masterblatt!B569 & \" \" & Masterblatt!C569)","v":""},null,null,null,null,null,null,null,null,null,null,null,null,null,null,{"$f":"IF(Masterblatt!F569=\"\",\"\",Masterblatt!F569)","v":""}]
[{"$f":"IF(Masterblatt!A570=\"\",\"\",Masterblatt!A570)","v":569},null,{"$f":"IF(AND(Masterblatt!B570=\"\",Masterblatt!C570=\"\"),\"\",Masterblatt!B570 & \" \" & Masterblatt!C570)","v":""},null,null,null,null,null,null,null,null,null,null,null,null,null,null,{"$f":"IF(Masterblatt!F570=\"\",\"\",Masterblatt!F570)","v":""}]
[{"$f":"IF(Masterblatt!A571=\"\",\"\",Masterblatt!A571)","v":570},null,{"$f":"IF(AND(Masterblatt!B571=\"\",Masterblatt!C571=\"\"),\"\",Masterblatt!B571 & \" \" & Masterblatt!C571)","v":""},null,null,null,null,null,null,null,null,null,null,null,null,null,null,{"$f":"IF(Masterblatt!F571=\"\",\"\",Masterblatt!F571)","v":""}]
[{"$f":"IF(Masterblatt!A572=\"\",\"\",Masterblatt!A572)","v":571},null,{"$f":"IF(AND(Masterblatt!B572=\"\",Masterblatt!C572=\"\"),\"\",Masterblatt!B572 & \" \" & Masterblatt!C572)","v":""},null,null,null,null,null,null,null,null,null,null,null,null,null,null,{"$f":"IF(Masterblatt!F572=\"\",\"\",Masterblatt!F572)","v":""}]
[{"$f":"IF(Masterblatt!A573=\"\",\"\",Masterblatt!A573)","v":572},null,{"$f":"IF(AND(Masterblatt!B573=\"\",Masterblatt!C573=\"\"),\"\",Masterblatt!B573 & \" \" & Masterblatt!C573)","v":""},null,null,null,null,null,null,null,null,null,null,null,null,null,null,{"$f":"IF(Masterblatt!F573=\"\",\"\",Masterblatt!F573)","v":""}]
[{"$f":"IF(Masterblatt!A574=\"\",\"\",Masterblatt!A574)","v":573},null,{"$f":"IF(AND(Masterblatt!B574=\"\",Masterblatt!C574=\"\"),\"\",Masterblatt!B574 & \" \" & Masterblatt!C574)","v":""},null,null,null,null,null,null,null,null,null,null,null,null,null,null,{"$f":"IF(Masterblatt!F574=\"\",\"\",Masterblatt!F574)","v":""}]
[{"$f":"IF(Masterblatt!A575=\"\",\"\",Masterblatt!A575)","v":574},null,{"$f":"IF(AND(Masterblatt!B575=\"\",Masterblatt!C575=\"\"),\"\",Masterblatt!B575 & \" \" & Masterblatt!C575)","v":""},null,null,null,null,null,null,null,null,null,null,null,null,null,null,{"$f":"IF(Masterblatt!F575=\"\",\"\",Masterblatt!F575)","v":""}]
[{"$f":"IF(Masterblatt!A576=\"\",\"\",Masterblatt!A576)","v":575},null,{"$f":"IF(AND(Masterblatt!B576=\"\",Masterblatt!C576=\"\"),\"\",Masterblatt!B576 & \" \" & Masterblatt!C576)","v":""},null,null,null,null,null,null,null,null,null,null,null,null,null,null,{"$f":"IF(Masterblatt!F576=\"\",\"\",Masterblatt!F576)","v":""}]
[{"$f":"IF(Masterblatt!A577=\"\",\"\",Masterblatt!A577)","v":576},null,{"$f":"IF(AND(Masterblatt!B577=\"\",Masterblatt!C577=\"\"),\"\",Masterblatt!B577 & \" \" & Masterblatt!C577)","v":""},null,null,null,null,null,null,null,null,null,null,null,null,null,null,{"$f":"IF(Masterblatt!F577=\"\",\"\",Masterblatt!F577)","v":""}]
[{"$f":"IF(Masterblatt!A578=\"\",\"\",Masterblatt!A578)","v":577},null,{"$f":"IF(AND(Masterblatt!B578=\"\",Masterblatt!C578=\"\"),\"\",Masterblatt!B578 & \" \" & Masterblatt!C578)","v":""},null,null,null,null,null,null,null,null,null,null,null,null,null,null,{"$f":"IF(Masterblatt!F578=\"\",\"\",Masterblatt!F578)","v":""}]
[{"$f":"IF(Masterblatt!A579=\"\",\"\",Masterblatt!A579)","v":578},null,{"$f":"IF(AND(Masterblatt!B579=\"\",Masterblatt!C579=\"\"),\"\",Masterblatt!B579 & \" \" & Masterblatt!C579)","v":""},null,null,null,null,null,null,null,null,null,null,null,null,null,null,{"$f":"IF(Masterblatt!F579=\"\",\"\",Masterblatt!F579)","v":""}]
[{"$f":"IF(Masterblatt!A580=\"\",\"\",Masterblatt!A580)","v":579},null,{"$f":"IF(AND(Masterblatt!B580=\"\",Masterblatt!C580=\"\"),\"\",Masterblatt!B580 & \" \" & Masterblatt!C580)","v":""},null,null,null,null,null,null,null,null,null,null,null,null,null,null,{"$f":"IF(Masterblatt!F580=\"\",\"\",Masterblatt!F580)","v":""}]
[{"$f":"IF(Masterblatt!A581=\"\",\"\",Masterblatt!A581)","v":580},null,{"$f":"IF(AND(Masterblatt!B581=\"\",Masterblatt!C581=\"\"),\"\",Masterblatt!B581 & \" \" & Masterblatt!C581)","v":""},null,null,null,null,null,null,null,null,null,null,null,null,null,null,{"$f":"IF(Masterblatt!F581=\"\",\"\",Masterblatt!F581)","v":""}]
[{"$f":"IF(Masterblatt!A582=\"\",\"\",Masterblatt!A582)","v":581},null,{"$f":"IF(AND(Masterblatt!B582=\"\",Masterblatt!C582=\"\"),\"\",Masterblatt!B582 & \" \" & Masterblatt!C582)","v":""},null,null,null,null,null,null,null,null,null,null,null,null,null,null,{"$f":"IF(Masterblatt!F582=\"\",\"\",Masterblatt!F582)","v":""}]
[{"$f":"IF(Masterblatt!A583=\"\",\"\",Masterblatt!A583)","v":582},null,{"$f":"IF(AND(Masterblatt!B583=\"\",Masterblatt!C583=\"\"),\"\",Masterblatt!B583 & \" \" & Masterblatt!C583)","v":""},null,null,null,null,null,null,null,null,null,null,null,null,null,null,{"$f":"IF(Masterblatt!F583=\"\",\"\",Masterblatt!F583)","v":""}]
[{"$f":"IF(Masterblatt!A584=\"\",\"\",Masterblatt!A584)","v":583},null,{"$f":"IF(AND(Masterblatt!B584=\"\",Masterblatt!C584=\"\"),\"\",Masterblatt!B584 & \" \" & Masterblatt!C584)","v":""},null,null,null,null,null,null,null,null,null,null,null,null,null,null,{"$f":"IF(Masterblatt!F584=\"\",\"\",Masterblatt!F584)","v":""}]
[{"$f":"IF(Masterblatt!A585=\"\",\"\",Masterblatt!A585)","v":584},null,{"$f":"IF(AND(Masterblatt!B585=\"\",Masterblatt!C585=\"\"),\"\",Masterblatt!B585 & \" \" & Masterblatt!C585)","v":""},null,null,null,null,null,null,null,null,null,null,null,null,null,null,{"$f":"IF(Masterblatt!F585=\"\",\"\",Masterblatt!F585)","v":""}]
[{"$f":"IF(Masterblatt!A586=\"\",\"\",Masterblatt!A586)","v":585},null,{"$f":"IF(AND(Masterblatt!B586=\"\",Masterblatt!C586=\"\"),\"\",Masterblatt!B586 & \" \" & Masterblatt!C586)","v":""},null,null,null,null,null,null,null,null,null,null,null,null,null,null,{"$f":"IF(Masterblatt!F586=\"\",\"\",Masterblatt!F586)","v":""}]
[{"$f":"IF(Masterblatt!A587=\"\",\"\",Masterblatt!A587)","v":586},null,{"$f":"IF(AND(Masterblatt!B587=\"\",Masterblatt!C587=\"\"),\"\",Masterblatt!B587 & \" \" & Masterblatt!C587)","v":""},null,null,null,null,null,null,null,null,null,null,null,null,null,null,{"$f":"IF(Masterblatt!F587=\"\",\"\",Masterblatt!F587)","v":""}]
[{"$f":"IF(Masterblatt!A588=\"\",\"\",Masterblatt!A588)","v":587},null,{"$f":"IF(AND(Masterblatt!B588=\"\",Masterblatt!C588=\"\"),\"\",Masterblatt!B588 & \" \" & Masterblatt!C588)","v":""},null,null,null,null,null,null,null,null,null,null,null,null,null,null,{"$f":"IF(Masterblatt!F588=\"\",\"\",Masterblatt!F588)","v":""}]
[{"$f":"IF(Masterblatt!A589=\"\",\"\",Masterblatt!A589)","v":588},null,{"$f":"IF(AND(Masterblatt!B589=\"\",Masterblatt!C589=\"\"),\"\",Masterblatt!B589 & \" \" & Masterblatt!C589)","v":""},null,null,null,null,null,null,null,null,null,null,null,null,null,null,{"$f":"IF(Masterblatt!F589=\"\",\"\",Masterblatt!F589)","v":""}]
[{"$f":"IF(Masterblatt!A590=\"\",\"\",Masterblatt!A590)","v":589},null,{"$f":"IF(AND(Masterblatt!B590=\"\",Masterblatt!C590=\"\"),\"\",Masterblatt!B590 & \" \" & Masterblatt!C590)","v":""},null,null,null,null,null,null,null,null,null,null,null,null,null,null,{"$f":"IF(Masterblatt!F590=\"\",\"\",Masterblatt!F590)","v":""}]
[{"$f":"IF(Masterblatt!A591=\"\",\"\",Masterblatt!A591)","v":590},null,{"$f":"IF(AND(Masterblatt!B591=\"\",Masterblatt!C591=\"\"),\"\",Masterblatt!B591 & \" \" & Masterblatt!C591)","v":""},null,null,null,null,null,null,null,null,null,null,null,null,null,null,{"$f":"IF(Masterblatt!F591=\"\",\"\",Masterblatt!F591)","v":""}]
[{"$f":"IF(Masterblatt!A592=\"\",\"\",Masterblatt!A592)","v":591},null,{"$f":"IF(AND(Masterblatt!B592=\"\",Masterblatt!C592=\"\"),\"\",Masterblatt!B592 & \" \" & Masterblatt!C592)","v":""},null,null,null,null,null,null,null,null,null,null,null,null,null,null,{"$f":"IF(Masterblatt!F592=\"\",\"\",Masterblatt!F592)","v":""}]
[{"$f":"IF(Masterblatt!A593=\"\",\"\",Masterblatt!A593)","v":592},null,{"$f":"IF(AND(Masterblatt!B593=\"\",Masterblatt!C593=\"\"),\"\",Masterblatt!B593 & \" \" & Masterblatt!C593)","v":""},null,null,null,null,null,null,null,null,null,null,null,null,null,null,{"$f":"IF(Masterblatt!F593=\"\",\"\",Masterblatt!F593)","v":""}]
[{"$f":"IF(Masterblatt!A594=\"\",\"\",Masterblatt!A594)","v":593},null,{"$f":"IF(AND(Masterblatt!B594=\"\",Masterblatt!C594=\"\"),\"\",Masterblatt!B594 & \" \" & Masterblatt!C594)","v":""},null,null,null,null,null,null,null,null,null,null,null,null,null,null,{"$f":"IF(Masterblatt!F594=\"\",\"\",Masterblatt!F594)","v":""}]
[{"$f":"IF(Masterblatt!A595=\"\",\"\",Masterblatt!A595)","v":594},null,{"$f":"IF(AND(Masterblatt!B595=\"\",Masterblatt!C595=\"\"),\"\",Masterblatt!B595 & \" \" & Masterblatt!C595)","v":""},null,null,null,null,null,null,null,null,null,null,null,null,null,null,{"$f":"IF(Masterblatt!F595=\"\",\"\",Masterblatt!F595)","v":""}]
[{"$f":"IF(Masterblatt!A596=\"\",\"\",Masterblatt!A596)","v":595},null,{"$f":"IF(AND(Masterblatt!B596=\"\",Masterblatt!C596=\"\"),\"\",Masterblatt!B596 & \" \" & Masterblatt!C596)","v":""},null,null,null,null,null,null,null,null,null,null,null,null,null,null,{"$f":"IF(Masterblatt!F596=\"\",\"\",Masterblatt!F596)","v":""}]
[{"$f":"IF(Masterblatt!A597=\"\",\"\",Masterblatt!A597)","v":596},null,{"$f":"IF(AND(Masterblatt!B597=\"\",Masterblatt!C597=\"\"),\"\",Masterblatt!B597 & \" \" & Masterblatt!C597)","v":""},null,null,null,null,null,null,null,null,null,null,null,null,null,null,{"$f":"IF(Masterblatt!F597=\"\",\"\",Masterblatt!F597)","v":""}]
[{"$f":"IF(Masterblatt!A598=\"\",\"\",Masterblatt!A598)","v":597},null,{"$f":"IF(AND(Masterblatt!B598=\"\",Masterblatt!C598=\"\"),\"\",Masterblatt!B598 & \" \" & Masterblatt!C598)","v":""},null,null,null,null,null,null,null,null,null,null,null,null,null,null,{"$f":"IF(Masterblatt!F598=\"\",\"\",Masterblatt!F598)","v":""}]
[{"$f":"IF(Masterblatt!A599=\"\",\"\",Masterblatt!A599)","v":598},null,{"$f":"IF(AND(Masterblatt!B599=\"\",Masterblatt!C599=\"\"),\"\",Masterblatt!B599 & \" \" & Masterblatt!C599)","v":""},null,null,null,null,null,null,null,null,null,null,null,null,null,null,{"$f":"IF(Masterblatt!F599=\"\",\"\",Masterblatt!F599)","v":""}]
[{"$f":"IF(Masterblatt!A600=\"\",\"\",Masterblatt!A600)","v":599},null,{"$f":"IF(AND(Masterblatt!B600=\"\",Masterblatt!C600=\"\"),\"\",Masterblatt!B600 & \" \" & Masterblatt!C600)","v":""},null,null,null,null,null,null,null,null,null,null,null,null,null,null,{"$f":"IF(Masterblatt!F600=\"\",\"\",Masterblatt!F600)","v":""}]
[{"$f":"IF(Masterblatt!A601=\"\",\"\",Masterblatt!A601)","v":600},null,{"$f":"IF(AND(Masterblatt!B601=\"\",Masterblatt!C601=\"\"),\"\",Masterblatt!B601 & \" \" & Masterblatt!C601)","v":""},null,null,null,null,null,null,null,null,null,null,null,null,null,null,{"$f":"IF(Masterblatt!F601=\"\",\"\",Masterblatt!F601)","v":""}]
[{"$f":"IF(Masterblatt!A602=\"\",\"\",Masterblatt!A602)","v":601},null,{"$f":"IF(AND(Masterblatt!B602=\"\",Masterblatt!C602=\"\"),\"\",Masterblatt!B602 & \" \" & Masterblatt!C602)","v":""},null,null,null,null,null,null,null,null,null,null,null,null,null,null,{"$f":"IF(Masterblatt!F602=\"\",\"\",Masterblatt!F602)","v":""}]
[{"$f":"IF(Masterblatt!A603=\"\",\"\",Masterblatt!A603)","v":602},null,{"$f":"IF(AND(Masterblatt!B603=\"\",Masterblatt!C603=\"\"),\"\",Masterblatt!B603 & \" \" & Masterblatt!C603)","v":""},null,null,null,null,null,null,null,null,null,null,null,null,null,null,{"$f":"IF(Masterblatt!F603=\"\",\"\",Masterblatt!F603)","v":""}]
[{"$f":"IF(Masterblatt!A604=\"\",\"\",Masterblatt!A604)","v":603},null,{"$f":"IF(AND(Masterblatt!B604=\"\",Masterblatt!C604=\"\"),\"\",Masterblatt!B604 & \" \" & Masterblatt!C604)","v":""},null,null,null,null,null,null,null,null,null,null,null,null,null,null,{"$f":"IF(Masterblatt!F604=\"\",\"\",Masterblatt!F604)","v":""}]
[{"$f":"IF(Masterblatt!A605=\"\",\"\",Masterblatt!A605)","v":604},null,{"$f":"IF(AND(Masterblatt!B605=\"\",Masterblatt!C605=\"\"),\"\",Masterblatt!B605 & \" \" & Masterblatt!C605)","v":""},null,null,null,null,null,null,null,null,null,null,null,null,null,null,{"$f":"IF(Masterblatt!F605=\"\",\"\",Masterblatt!F605)","v":""}]
[{"$f":"IF(Masterblatt!A606=\"\",\"\",Masterblatt!A606)","v":605},null,{"$f":"IF(AND(Masterblatt!B606=\"\",Masterblatt!C606=\"\"),\"\",Masterblatt!B606 & \" \" & Masterblatt!C606)","v":""},null,null,null,null,null,null,null,null,null,null,null,null,null,null,{"$f":"IF(Masterblatt!F606=\"\",\"\",Masterblatt!F606)","v":""}]
[{"$f":"IF(Masterblatt!A607=\"\",\"\",Masterblatt!A607)","v":606},null,{"$f":"IF(AND(Masterblatt!B607=\"\",Masterblatt!C607=\"\"),\"\",Masterblatt!B607 & \" \" & Masterblatt!C607)","v":""},null,null,null,null,null,null,null,null,null,null,null,null,null,null,{"$f":"IF(Masterblatt!F607=\"\",\"\",Masterblatt!F607)","v":""}]
[{"$f":"IF(Masterblatt!A608=\"\",\"\",Masterblatt!A608)","v":607},null,{"$f":"IF(AND(Masterblatt!B608=\"\",Masterblatt!C608=\"\"),\"\",Masterblatt!B608 & \" \" & Masterblatt!C608)","v":""},null,null,null,null,null,null,null,null,null,null,null,null,null,null,{"$f":"IF(Masterblatt!F608=\"\",\"\",Masterblatt!F608)","v":""}]
[{"$f":"IF(Masterblatt!A609=\"\",\"\",Masterblatt!A609)","v":608},null,{"$f":"IF(AND(Masterblatt!B609=\"\",Masterblatt!C609=\"\"),\"\",Masterblatt!B609 & \" \" & Masterblatt!C609)","v":""},null,null,null,null,null,null,null,null,null,null,null,null,null,null,{"$f":"IF(Masterblatt!F609=\"\",\"\",Masterblatt!F609)","v":""}]
[{"$f":"IF(Masterblatt!A610=\"\",\"\",Masterblatt!A610)","v":609},null,{"$f":"IF(AND(Masterblatt!B610=\"\",Masterblatt!C610=\"\"),\"\",Masterblatt!B610 & \" \" & Masterblatt!C610)","v":""},null,null,null,null,null,null,null,null,null,null,null,null,null,null,{"$f":"IF(Masterblatt!F610=\"\",\"\",Masterblatt!F610)","v":""}]
[{"$f":"IF(Masterblatt!A611=\"\",\"\",Masterblatt!A611)","v":610},null,{"$f":"IF(AND(Masterblatt!B611=\"\",Masterblatt!C611=\"\"),\"\",Masterblatt!B611 & \" \" & Masterblatt!C611)","v":""},null,null,null,null,null,null,null,null,null,null,null,null,null,null,{"$f":"IF(Masterblatt!F611=\"\",\"\",Masterblatt!F611)","v":""}]
[{"$f":"IF(Masterblatt!A612=\"\",\"\",Masterblatt!A612)","v":611},null,{"$f":"IF(AND(Masterblatt!B612=\"\",Masterblatt!C612=\"\"),\"\",Masterblatt!B612 & \" \" & Masterblatt!C612)","v":""},null,null,null,null,null,null,null,null,null,null,null,null,null,null,{"$f":"IF(Masterblatt!F612=\"\",\"\",Masterblatt!F612)","v":""}]
[{"$f":"IF(Masterblatt!A613=\"\",\"\",Masterblatt!A613)","v":612},null,{"$f":"IF(AND(Masterblatt!B613=\"\",Masterblatt!C613=\"\"),\"\",Masterblatt!B613 & \" \" & Masterblatt!C613)","v":""},null,null,null,null,null,null,null,null,null,null,null,null,null,null,{"$f":"IF(Masterblatt!F613=\"\",\"\",Masterblatt!F613)","v":""}]
[{"$f":"IF(Masterblatt!A614=\"\",\"\",Masterblatt!A614)","v":613},null,{"$f":"IF(AND(Masterblatt!B614=\"\",Masterblatt!C614=\"\"),\"\",Masterblatt!B614 & \" \" & Masterblatt!C614)","v":""},null,null,null,null,null,null,null,null,null,null,null,null,null,null,{"$f":"IF(Masterblatt!F614=\"\",\"\",Masterblatt!F614)","v":""}]
[{"$f":"IF(Masterblatt!A615=\"\",\"\",Masterblatt!A615)","v":614},null,{"$f":"IF(AND(Masterblatt!B615=\"\",Masterblatt!C615=\"\"),\"\",Masterblatt!B615 & \" \" & Masterblatt!C615)","v":""},null,null,null,null,null,null,null,null,null,null,null,null,null,null,{"$f":"IF(Masterblatt!F615=\"\",\"\",Masterblatt!F615)","v":""}]
[{"$f":"IF(Masterblatt!A616=\"\",\"\",Masterblatt!A616)","v":615},null,{"$f":"IF(AND(Masterblatt!B616=\"\",Masterblatt!C616=\"\"),\"\",Masterblatt!B616 & \" \" & Masterblatt!C616)","v":""},null,null,null,null,null,null,null,null,null,null,null,null,null,null,{"$f":"IF(Masterblatt!F616=\"\",\"\",Masterblatt!F616)","v":""}]
[{"$f":"IF(Masterblatt!A617=\"\",\"\",Masterblatt!A617)","v":616},null,{"$f":"IF(AND(Masterblatt!B617=\"\",Masterblatt!C617=\"\"),\"\",Masterblatt!B617 & \" \" & Masterblatt!C617)","v":""},null,null,null,null,null,null,null,null,null,null,null,null,null,null,{"$f":"IF(Masterblatt!F617=\"\",\"\",Masterblatt!F617)","v":""}]
[{"$f":"IF(Masterblatt!A618=\"\",\"\",Masterblatt!A618)","v":617},null,{"$f":"IF(AND(Masterblatt!B618=\"\",Masterblatt!C618=\"\"),\"\",Masterblatt!B618 & \" \" & Masterblatt!C618)","v":""},null,null,null,null,null,null,null,null,null,null,null,null,null,null,{"$f":"IF(Masterblatt!F618=\"\",\"\",Masterblatt!F618)","v":""}]
[{"$f":"IF(Masterblatt!A619=\"\",\"\",Masterblatt!A619)","v":618},null,{"$f":"IF(AND(Masterblatt!B619=\"\",Masterblatt!C619=\"\"),\"\",Masterblatt!B619 & \" \" & Masterblatt!C619)","v":""},null,null,null,null,null,null,null,null,null,null,null,null,null,null,{"$f":"IF(Masterblatt!F619=\"\",\"\",Masterblatt!F619)","v":""}]
[{"$f":"IF(Masterblatt!A620=\"\",\"\",Masterblatt!A620)","v":619},null,{"$f":"IF(AND(Masterblatt!B620=\"\",Masterblatt!C620=\"\"),\"\",Masterblatt!B620 & \" \" & Masterblatt!C620)","v":""},null,null,null,null,null,null,null,null,null,null,null,null,null,null,{"$f":"IF(Masterblatt!F620=\"\",\"\",Masterblatt!F620)","v":""}]
[{"$f":"IF(Masterblatt!A621=\"\",\"\",Masterblatt!A621)","v":620},null,{"$f":"IF(AND(Masterblatt!B621=\"\",Masterblatt!C621=\"\"),\"\",Masterblatt!B621 & \" \" & Masterblatt!C621)","v":""},null,null,null,null,null,null,null,null,null,null,null,null,null,null,{"$f":"IF(Masterblatt!F621=\"\",\"\",Masterblatt!F621)","v":""}]
[{"$f":"IF(Masterblatt!A622=\"\",\"\",Masterblatt!A622)","v":621},null,{"$f":"IF(AND(Masterblatt!B622=\"\",Masterblatt!C622=\"\"),\"\",Masterblatt!B622 & \" \" & Masterblatt!C622)","v":""},null,null,null,null,null,null,null,null,null,null,null,null,null,null,{"$f":"IF(Masterblatt!F622=\"\",\"\",Masterblatt!F622)","v":""}]
[{"$f":"IF(Masterblatt!A623=\"\",\"\",Masterblatt!A623)","v":622},null,{"$f":"IF(AND(Masterblatt!B623=\"\",Masterblatt!C623=\"\"),\"\",Masterblatt!B623 & \" \" & Masterblatt!C623)","v":""},null,null,null,null,null,null,null,null,null,null,null,null,null,null,{"$f":"IF(Masterblatt!F623=\"\",\"\",Masterblatt!F623)","v":""}]
[{"$f":"IF(Masterblatt!A624=\"\",\"\",Masterblatt!A624)","v":623},null,{"$f":"IF(AND(Masterblatt!B624=\"\",Masterblatt!C624=\"\"),\"\",Masterblatt!B624 & \" \" & Masterblatt!C624)","v":""},null,null,null,null,null,null,null,null,null,null,null,null,null,null,{"$f":"IF(Masterblatt!F624=\"\",\"\",Masterblatt!F624)","v":""}]
[{"$f":"IF(Masterblatt!A625=\"\",\"\",Masterblatt!A625)","v":624},null,{"$f":"IF(AND(Masterblatt!B625=\"\",Masterblatt!C625=\"\"),\"\",Masterblatt!B625 & \" \" & Masterblatt!C625)","v":""},null,null,null,null,null,null,null,null,null,null,null,null,null,null,{"$f":"IF(Masterblatt!F625=\"\",\"\",Masterblatt!F625)","v":""}]
[{"$f":"IF(Masterblatt!A626=\"\",\"\",Masterblatt!A626)","v":625},null,{"$f":"IF(AND(Masterblatt!B626=\"\",Masterblatt!C626=\"\"),\"\",Masterblatt!B626 & \" \" & Masterblatt!C626)","v":""},null,null,null,null,null,null,null,null,null,null,null,null,null,null,{"$f":"IF(Masterblatt!F626=\"\",\"\",Masterblatt!F626)","v":""}]
[{"$f":"IF(Masterblatt!A627=\"\",\"\",Masterblatt!A627)","v":626},null,{"$f":"IF(AND(Masterblatt!B627=\"\",Masterblatt!C627=\"\"),\"\",Masterblatt!B627 & \" \" & Masterblatt!C627)","v":""},null,null,null,null,null,null,null,null,null,null,null,null,null,null,{"$f":"IF(Masterblatt!F627=\"\",\"\",Masterblatt!F627)","v":""}]
[{"$f":"IF(Masterblatt!A628=\"\",\"\",Masterblatt!A628)","v":627},null,{"$f":"IF(AND(Masterblatt!B628=\"\",Masterblatt!C628=\"\"),\"\",Masterblatt!B628 & \" \" & Masterblatt!C628)","v":""},null,null,null,null,null,null,null,null,null,null,null,null,null,null,{"$f":"IF(Masterblatt!F628=\"\",\"\",Masterblatt!F628)","v":""}]
[{"$f":"IF(Masterblatt!A629=\"\",\"\",Masterblatt!A629)","v":628},null,{"$f":"IF(AND(Masterblatt!B629=\"\",Masterblatt!C629=\"\"),\"\",Masterblatt!B629 & \" \" & Masterblatt!C629)","v":""},null,null,null,null,null,null,null,null,null,null,null,null,null,null,{"$f":"IF(Masterblatt!F629=\"\",\"\",Masterblatt!F629)","v":""}]
[{"$f":"IF(Masterblatt!A630=\"\",\"\",Masterblatt!A630)","v":629},null,{"$f":"IF(AND(Masterblatt!B630=\"\",Masterblatt!C630=\"\"),\"\",Masterblatt!B630 & \" \" & Masterblatt!C630)","v":""},null,null,null,null,null,null,null,null,null,null,null,null,null,null,{"$f":"IF(Masterblatt!F630=\"\",\"\",Masterblatt!F630)","v":""}]
[{"$f":"IF(Masterblatt!A631=\"\",\"\",Masterblatt!A631)","v":630},null,{"$f":"IF(AND(Masterblatt!B631=\"\",Masterblatt!C631=\"\"),\"\",Masterblatt!B631 & \" \" & Masterblatt!C631)","v":""},null,null,null,null,null,null,null,null,null,null,null,null,null,null,{"$f":"IF(Masterblatt!F631=\"\",\"\",Masterblatt!F631)","v":""}]
[{"$f":"IF(Masterblatt!A632=\"\",\"\",Masterblatt!A632)","v":631},null,{"$f":"IF(AND(Masterblatt!B632=\"\",Masterblatt!C632=\"\"),\"\",Masterblatt!B632 & \" \" & Masterblatt!C632)","v":""},null,null,null,null,null,null,null,null,null,null,null,null,null,null,{"$f":"IF(Masterblatt!F632=\"\",\"\",Masterblatt!F632)","v":""}]
[{"$f":"IF(Masterblatt!A633=\"\",\"\",Masterblatt!A633)","v":632},null,{"$f":"IF(AND(Masterblatt!B633=\"\",Masterblatt!C633=\"\"),\"\",Masterblatt!B633 & \" \" & Masterblatt!C633)","v":""},null,null,null,null,null,null,null,null,null,null,null,null,null,null,{"$f":"IF(Masterblatt!F633=\"\",\"\",Masterblatt!F633)","v":""}]
[{"$f":"IF(Masterblatt!A634=\"\",\"\",Masterblatt!A634)","v":633},null,{"$f":"IF(AND(Masterblatt!B634=\"\",Masterblatt!C634=\"\"),\"\",Masterblatt!B634 & \" \" & Masterblatt!C634)","v":""},null,null,null,null,null,null,null,null,null,null,null,null,null,null,{"$f":"IF(Masterblatt!F634=\"\",\"\",Masterblatt!F634)","v":""}]
[{"$f":"IF(Masterblatt!A635=\"\",\"\",Masterblatt!A635)","v":634},null,{"$f":"IF(AND(Masterblatt!B635=\"\",Masterblatt!C635=\"\"),\"\",Masterblatt!B635 & \" \" & Masterblatt!C635)","v":""},null,null,null,null,null,null,null,null,null,null,null,null,null,null,{"$f":"IF(Masterblatt!F635=\"\",\"\",Masterblatt!F635)","v":""}]
[{"$f":"IF(Masterblatt!A636=\"\",\"\",Masterblatt!A636)","v":635},null,{"$f":"IF(AND(Masterblatt!B636=\"\",Masterblatt!C636=\"\"),\"\",Masterblatt!B636 & \" \" & Masterblatt!C636)","v":""},null,null,null,null,null,null,null,null,null,null,null,null,null,null,{"$f":"IF(Masterblatt!F636=\"\",\"\",Masterblatt!F636)","v":""}]
[{"$f":"IF(Masterblatt!A637=\"\",\"\",Masterblatt!A637)","v":636},null,{"$f":"IF(AND(Masterblatt!B637=\"\",Masterblatt!C637=\"\"),\"\",Masterblatt!B637 & \" \" & Masterblatt!C637)","v":""},null,null,null,null,null,null,null,null,null,null,null,null,null,null,{"$f":"IF(Masterblatt!F637=\"\",\"\",Masterblatt!F637)","v":""}]
[{"$f":"IF(Masterblatt!A638=\"\",\"\",Masterblatt!A638)","v":637},null,{"$f":"IF(AND(Masterblatt!B638=\"\",Masterblatt!C638=\"\"),\"\",Masterblatt!B638 & \" \" & Masterblatt!C638)","v":""},null,null,null,null,null,null,null,null,null,null,null,null,null,null,{"$f":"IF(Masterblatt!F638=\"\",\"\",Masterblatt!F638)","v":""}]
[{"$f":"IF(Masterblatt!A639=\"\",\"\",Masterblatt!A639)","v":638},null,{"$f":"IF(AND(Masterblatt!B639=\"\",Masterblatt!C639=\"\"),\"\",Masterblatt!B639 & \" \" & Masterblatt!C639)","v":""},null,null,null,null,null,null,null,null,null,null,null,null,null,null,{"$f":"IF(Masterblatt!F639=\"\",\"\",Masterblatt!F639)","v":""}]
[{"$f":"IF(Masterblatt!A640=\"\",\"\",Masterblatt!A640)","v":639},null,{"$f":"IF(AND(Masterblatt!B640=\"\",Masterblatt!C640=\"\"),\"\",Masterblatt!B640 & \" \" & Masterblatt!C640)","v":""},null,null,null,null,null,null,null,null,null,null,null,null,null,null,{"$f":"IF(Masterblatt!F640=\"\",\"\",Masterblatt!F640)","v":""}]
[{"$f":"IF(Masterblatt!A641=\"\",\"\",Masterblatt!A641)","v":640},null,{"$f":"IF(AND(Masterblatt!B641=\"\",Masterblatt!C641=\"\"),\"\",Masterblatt!B641 & \" \" & Masterblatt!C641)","v":""},null,null,null,null,null,null,null,null,null,null,null,null,null,null,{"$f":"IF(Masterblatt!F641=\"\",\"\",Masterblatt!F641)","v":""}]
[{"$f":"IF(Masterblatt!A642=\"\",\"\",Masterblatt!A642)","v":641},null,{"$f":"IF(AND(Masterblatt!B642=\"\",Masterblatt!C642=\"\"),\"\",Masterblatt!B642 & \" \" & Masterblatt!C642)","v":""},null,null,null,null,null,null,null,null,null,null,null,null,null,null,{"$f":"IF(Masterblatt!F642=\"\",\"\",Masterblatt!F642)","v":""}]
[{"$f":"IF(Masterblatt!A643=\"\",\"\",Masterblatt!A643)","v":642},null,{"$f":"IF(AND(Masterblatt!B643=\"\",Masterblatt!C643=\"\"),\"\",Masterblatt!B643 & \" \" & Masterblatt!C643)","v":""},null,null,null,null,null,null,null,null,null,null,null,null,null,null,{"$f":"IF(Masterblatt!F643=\"\",\"\",Masterblatt!F643)","v":""}]
[{"$f":"IF(Masterblatt!A644=\"\",\"\",Masterblatt!A644)","v":643},null,{"$f":"IF(AND(Masterblatt!B644=\"\",Masterblatt!C644=\"\"),\"\",Masterblatt!B644 & \" \" & Masterblatt!C644)","v":""},null,null,null,null,null,null,null,null,null,null,null,null,null,null,{"$f":"IF(Masterblatt!F644=\"\",\"\",Masterblatt!F644)","v":""}]
[{"$f":"IF(Masterblatt!A645=\"\",\"\",Masterblatt!A645)","v":644},null,{"$f":"IF(AND(Masterblatt!B645=\"\",Masterblatt!C645=\"\"),\"\",Masterblatt!B645 & \" \" & Masterblatt!C645)","v":""},null,null,null,null,null,null,null,null,null,null,null,null,null,null,{"$f":"IF(Masterblatt!F645=\"\",\"\",Masterblatt!F645)","v":""}]
[{"$f":"IF(Masterblatt!A646=\"\",\"\",Masterblatt!A646)","v":645},null,{"$f":"IF(AND(Masterblatt!B646=\"\",Masterblatt!C646=\"\"),\"\",Masterblatt!B646 & \" \" & Masterblatt!C646)","v":""},null,null,null,null,null,null,null,null,null,null,null,null,null,null,{"$f":"IF(Masterblatt!F646=\"\",\"\",Masterblatt!F646)","v":""}]
[{"$f":"IF(Masterblatt!A647=\"\",\"\",Masterblatt!A647)","v":646},null,{"$f":"IF(AND(Masterblatt!B647=\"\",Masterblatt!C647=\"\"),\"\",Masterblatt!B647 & \" \" & Masterblatt!C647)","v":""},null,null,null,null,null,null,null,null,null,null,null,null,null,null,{"$f":"IF(Masterblatt!F647=\"\",\"\",Masterblatt!F647)","v":""}]
[{"$f":"IF(Masterblatt!A648=\"\",\"\",Masterblatt!A648)","v":647},null,{"$f":"IF(AND(Masterblatt!B648=\"\",Masterblatt!C648=\"\"),\"\",Masterblatt!B648 & \" \" & Masterblatt!C648)","v":""},null,null,null,null,null,null,null,null,null,null,null,null,null,null,{"$f":"IF(Masterblatt!F648=\"\",\"\",Masterblatt!F648)","v":""}]
[{"$f":"IF(Masterblatt!A649=\"\",\"\",Masterblatt!A649)","v":648},null,{"$f":"IF(AND(Masterblatt!B649=\"\",Masterblatt!C649=\"\"),\"\",Masterblatt!B649 & \" \" & Masterblatt!C649)","v":""},null,null,null,null,null,null,null,null,null,null,null,null,null,null,{"$f":"IF(Masterblatt!F649=\"\",\"\",Masterblatt!F649)","v":""}]
[{"$f":"IF(Masterblatt!A650=\"\",\"\",Masterblatt!A650)","v":649},null,{"$f":"IF(AND(Masterblatt!B650=\"\",Masterblatt!C650=\"\"),\"\",Masterblatt!B650 & \" \" & Masterblatt!C650)","v":""},null,null,null,null,null,null,null,null,null,null,null,null,null,null,{"$f":"IF(Masterblatt!F650=\"\",\"\",Masterblatt!F650)","v":""}]
[{"$f":"IF(Masterblatt!A651=\"\",\"\",Masterblatt!A651)","v":650},null,{"$f":"IF(AND(Masterblatt!B651=\"\",Masterblatt!C651=\"\"),\"\",Masterblatt!B651 & \" \" & Masterblatt!C651)","v":""},null,null,null,null,null,null,null,null,null,null,null,null,null,null,{"$f":"IF(Masterblatt!F651=\"\",\"\",Masterblatt!F651)","v":""}]
[{"$f":"IF(Masterblatt!A652=\"\",\"\",Masterblatt!A652)","v":651},null,{"$f":"IF(AND(Masterblatt!B652=\"\",Masterblatt!C652=\"\"),\"\",Masterblatt!B652 & \" \" & Masterblatt!C652)","v":""},null,null,null,null,null,null,null,null,null,null,null,null,null,null,{"$f":"IF(Masterblatt!F652=\"\",\"\",Masterblatt!F652)","v":""}]
[{"$f":"IF(Masterblatt!A653=\"\",\"\",Masterblatt!A653)","v":652},null,{"$f":"IF(AND(Masterblatt!B653=\"\",Masterblatt!C653=\"\"),\"\",Masterblatt!B653 & \" \" & Masterblatt!C653)","v":""},null,null,null,null,null,null,null,null,null,null,null,null,null,null,{"$f":"IF(Masterblatt!F653=\"\",\"\",Masterblatt!F653)","v":""}]
[{"$f":"IF(Masterblatt!A654=\"\",\"\",Masterblatt!A654)","v":653},null,{"$f":"IF(AND(Masterblatt!B654=\"\",Masterblatt!C654=\"\"),\"\",Masterblatt!B654 & \" \" & Masterblatt!C654)","v":""},null,null,null,null,null,null,null,null,null,null,null,null,null,null,{"$f":"IF(Masterblatt!F654=\"\",\"\",Masterblatt!F654)","v":""}]
[{"$f":"IF(Masterblatt!A655=\"\",\"\",Masterblatt!A655)","v":654},null,{"$f":"IF(AND(Masterblatt!B655=\"\",Masterblatt!C655=\"\"),\"\",Masterblatt!B655 & \" \" & Masterblatt!C655)","v":""},null,null,null,null,null,null,null,null,null,null,null,null,null,null,{"$f":"IF(Masterblatt!F655=\"\",\"\",Masterblatt!F655)","v":""}]
[{"$f":"IF(Masterblatt!A656=\"\",\"\",Masterblatt!A656)","v":655},null,{"$f":"IF(AND(Masterblatt!B656=\"\",Masterblatt!C656=\"\"),\"\",Masterblatt!B656 & \" \" & Masterblatt!C656)","v":""},null,null,null,null,null,null,null,null,null,null,null,null,null,null,{"$f":"IF(Masterblatt!F656=\"\",\"\",Masterblatt!F656)","v":""}]
[{"$f":"IF(Masterblatt!A657=\"\",\"\",Masterblatt!A657)","v":656},null,{"$f":"IF(AND(Masterblatt!B657=\"\",Masterblatt!C657=\"\"),\"\",Masterblatt!B657 & \" \" & Masterblatt!C657)","v":""},null,null,null,null,null,null,null,null,null,null,null,null,null,null,{"$f":"IF(Masterblatt!F657=\"\",\"\",Masterblatt!F657)","v":""}]
[{"$f":"IF(Masterblatt!A658=\"\",\"\",Masterblatt!A658)","v":657},null,{"$f":"IF(AND(Masterblatt!B658=\"\",Masterblatt!C658=\"\"),\"\",Masterblatt!B658 & \" \" & Masterblatt!C658)","v":""},null,null,null,null,null,null,null,null,null,null,null,null,null,null,{"$f":"IF(Masterblatt!F658=\"\",\"\",Masterblatt!F658)","v":""}]
[{"$f":"IF(Masterblatt!A659=\"\",\"\",Masterblatt!A659)","v":658},null,{"$f":"IF(AND(Masterblatt!B659=\"\",Masterblatt!C659=\"\"),\"\",Masterblatt!B659 & \" \" & Masterblatt!C659)","v":""},null,null,null,null,null,null,null,null,null,null,null,null,null,null,{"$f":"IF(Masterblatt!F659=\"\",\"\",Masterblatt!F659)","v":""}]
[{"$f":"IF(Masterblatt!A660=\"\",\"\",Masterblatt!A660)","v":659},null,{"$f":"IF(AND(Masterblatt!B660=\"\",Masterblatt!C660=\"\"),\"\",Masterblatt!B660 & \" \" & Masterblatt!C660)","v":""},null,null,null,null,null,null,null,null,null,null,null,null,null,null,{"$f":"IF(Masterblatt!F660=\"\",\"\",Masterblatt!F660)","v":""}]
[{"$f":"IF(Masterblatt!A661=\"\",\"\",Masterblatt!A661)","v":660},null,{"$f":"IF(AND(Masterblatt!B661=\"\",Masterblatt!C661=\"\"),\"\",Masterblatt!B661 & \" \" & Masterblatt!C661)","v":""},null,null,null,null,null,null,null,null,null,null,null,null,null,null,{"$f":"IF(Masterblatt!F661=\"\",\"\",Masterblatt!F661)","v":""}]
[{"$f":"IF(Masterblatt!A662=\"\",\"\",Masterblatt!A662)","v":661},null,{"$f":"IF(AND(Masterblatt!B662=\"\",Masterblatt!C662=\"\"),\"\",Masterblatt!B662 & \" \" & Masterblatt!C662)","v":""},null,null,null,null,null,null,null,null,null,null,null,null,null,null,{"$f":"IF(Masterblatt!F662=\"\",\"\",Masterblatt!F662)","v":""}]
[{"$f":"IF(Masterblatt!A663=\"\",\"\",Masterblatt!A663)","v":662},null,{"$f":"IF(AND(Masterblatt!B663=\"\",Masterblatt!C663=\"\"),\"\",Masterblatt!B663 & \" \" & Masterblatt!C663)","v":""},null,null,null,null,null,null,null,null,null,null,null,null,null,null,{"$f":"IF(Masterblatt!F663=\"\",\"\",Masterblatt!F663)","v":""}]
[{"$f":"IF(Masterblatt!A664=\"\",\"\",Masterblatt!A664)","v":663},null,{"$f":"IF(AND(Masterblatt!B664=\"\",Masterblatt!C664=\"\"),\"\",Masterblatt!B664 & \" \" & Masterblatt!C664)","v":""},null,null,null,null,null,null,null,null,null,null,null,null,null,null,{"$f":"IF(Masterblatt!F664=\"\",\"\",Masterblatt!F664)","v":""}]
[{"$f":"IF(Masterblatt!A665=\"\",\"\",Masterblatt!A665)","v":664},null,{"$f":"IF(AND(Masterblatt!B665=\"\",Masterblatt!C665=\"\"),\"\",Masterblatt!B665 & \" \" & Masterblatt!C665)","v":""},null,null,null,null,null,null,null,null,null,null,null,null,null,null,{"$f":"IF(Masterblatt!F665=\"\",\"\",Masterblatt!F665)","v":""}]
[{"$f":"IF(Masterblatt!A666=\"\",\"\",Masterblatt!A666)","v":665},null,{"$f":"IF(AND(Masterblatt!B666=\"\",Masterblatt!C666=\"\"),\"\",Masterblatt!B666 & \" \" & Masterblatt!C666)","v":""},null,null,null,null,null,null,null,null,null,null,null,null,null,null,{"$f":"IF(Masterblatt!F666=\"\",\"\",Masterblatt!F666)","v":""}]
[{"$f":"IF(Masterblatt!A667=\"\",\"\",Masterblatt!A667)","v":666},null,{"$f":"IF(AND(Masterblatt!B667=\"\",Masterblatt!C667=\"\"),\"\",Masterblatt!B667 & \" \" & Masterblatt!C667)","v":""},null,null,null,null,null,null,null,null,null,null,null,null,null,null,{"$f":"IF(Masterblatt!F667=\"\",\"\",Masterblatt!F667)","v":""}]
[{"$f":"IF(Masterblatt!A668=\"\",\"\",Masterblatt!A668)","v":667},null,{"$f":"IF(AND(Masterblatt!B668=\"\",Masterblatt!C668=\"\"),\"\",Masterblatt!B668 & \" \" & Masterblatt!C668)","v":""},null,null,null,null,null,null,null,null,null,null,null,null,null,null,{"$f":"IF(Masterblatt!F668=\"\",\"\",Masterblatt!F668)","v":""}]
[{"$f":"IF(Masterblatt!A669=\"\",\"\",Masterblatt!A669)","v":668},null,{"$f":"IF(AND(Masterblatt!B669=\"\",Masterblatt!C669=\"\"),\"\",Masterblatt!B669 & \" \" & Masterblatt!C669)","v":""},null,null,null,null,null,null,null,null,null,null,null,null,null,null,{"$f":"IF(Masterblatt!F669=\"\",\"\",Masterblatt!F669)","v":""}]
[{"$f":"IF(Masterblatt!A670=\"\",\"\",Masterblatt!A670)","v":669},null,{"$f":"IF(AND(Masterblatt!B670=\"\",Masterblatt!C670=\"\"),\"\",Masterblatt!B670 & \" \" & Masterblatt!C670)","v":""},null,null,null,null,null,null,null,null,null,null,null,null,null,null,{"$f":"IF(Masterblatt!F670=\"\",\"\",Masterblatt!F670)","v":""}]
[{"$f":"IF(Masterblatt!A671=\"\",\"\",Masterblatt!A671)","v":670},null,{"$f":"IF(AND(Masterblatt!B671=\"\",Masterblatt!C671=\"\"),\"\",Masterblatt!B671 & \" \" & Masterblatt!C671)","v":""},null,null,null,null,null,null,null,null,null,null,null,null,null,null,{"$f":"IF(Masterblatt!F671=\"\",\"\",Masterblatt!F671)","v":""}]
[{"$f":"IF(Masterblatt!A672=\"\",\"\",Masterblatt!A672)","v":671},null,{"$f":"IF(AND(Masterblatt!B672=\"\",Masterblatt!C672=\"\"),\"\",Masterblatt!B672 & \" \" & Masterblatt!C672)","v":""},null,null,null,null,null,null,null,null,null,null,null,null,null,null,{"$f":"IF(Masterblatt!F672=\"\",\"\",Masterblatt!F672)","v":""}]
[{"$f":"IF(Masterblatt!A673=\"\",\"\",Masterblatt!A673)","v":672},null,{"$f":"IF(AND(Masterblatt!B673=\"\",Masterblatt!C673=\"\"),\"\",Masterblatt!B673 & \" \" & Masterblatt!C673)","v":""},null,null,null,null,null,null,null,null,null,null,null,null,null,null,{"$f":"IF(Masterblatt!F673=\"\",\"\",Masterblatt!F673)","v":""}]
[{"$f":"IF(Masterblatt!A674=\"\",\"\",Masterblatt!A674)","v":673},null,{"$f":"IF(AND(Masterblatt!B674=\"\",Masterblatt!C674=\"\"),\"\",Masterblatt!B674 & \" \" & Masterblatt!C674)","v":""},null,null,null,null,null,null,null,null,null,null,null,null,null,null,{"$f":"IF(Masterblatt!F674=\"\",\"\",Masterblatt!F674)","v":""}]
[{"$f":"IF(Masterblatt!A675=\"\",\"\",Masterblatt!A675)","v":674},null,{"$f":"IF(AND(Masterblatt!B675=\"\",Masterblatt!C675=\"\"),\"\",Masterblatt!B675 & \" \" & Masterblatt!C675)","v":""},null,null,null,null,null,null,null,null,null,null,null,null,null,null,{"$f":"IF(Masterblatt!F675=\"\",\"\",Masterblatt!F675)","v":""}]
[{"$f":"IF(Masterblatt!A676=\"\",\"\",Masterblatt!A676)","v":675},null,{"$f":"IF(AND(Masterblatt!B676=\"\",Masterblatt!C676=\"\"),\"\",Masterblatt!B676 & \" \" & Masterblatt!C676)","v":""},null,null,null,null,null,null,null,null,null,null,null,null,null,null,{"$f":"IF(Masterblatt!F676=\"\",\"\",Masterblatt!F676)","v":""}]
[{"$f":"IF(Masterblatt!A677=\"\",\"\",Masterblatt!A677)","v":676},null,{"$f":"IF(AND(Masterblatt!B677=\"\",Masterblatt!C677=\"\"),\"\",Masterblatt!B677 & \" \" & Masterblatt!C677)","v":""},null,null,null,null,null,null,null,null,null,null,null,null,null,null,{"$f":"IF(Masterblatt!F677=\"\",\"\",Masterblatt!F677)","v":""}]
[{"$f":"IF(Masterblatt!A678=\"\",\"\",Masterblatt!A678)","v":677},null,{"$f":"IF(AND(Masterblatt!B678=\"\",Masterblatt!C678=\"\"),\"\",Masterblatt!B678 & \" \" & Masterblatt!C678)","v":""},null,null,null,null,null,null,null,null,null,null,null,null,null,null,{"$f":"IF(Masterblatt!F678=\"\",\"\",Masterblatt!F678)","v":""}]
[{"$f":"IF(Masterblatt!A679=\"\",\"\",Masterblatt!A679)","v":678},null,{"$f":"IF(AND(Masterblatt!B679=\"\",Masterblatt!C679=\"\"),\"\",Masterblatt!B679 & \" \" & Masterblatt!C679)","v":""},null,null,null,null,null,null,null,null,null,null,null,null,null,null,{"$f":"IF(Masterblatt!F679=\"\",\"\",Masterblatt!F679)","v":""}]
[{"$f":"IF(Masterblatt!A680=\"\",\"\",Masterblatt!A680)","v":679},null,{"$f":"IF(AND(Masterblatt!B680=\"\",Masterblatt!C680=\"\"),\"\",Masterblatt!B680 & \" \" & Masterblatt!C680)","v":""},null,null,null,null,null,null,null,null,null,null,null,null,null,null,{"$f":"IF(Masterblatt!F680=\"\",\"\",Masterblatt!F680)","v":""}]
[{"$f":"IF(Masterblatt!A681=\"\",\"\",Masterblatt!A681)","v":680},null,{"$f":"IF(AND(Masterblatt!B681=\"\",Masterblatt!C681=\"\"),\"\",Masterblatt!B681 & \" \" & Masterblatt!C681)","v":""},null,null,null,null,null,null,null,null,null,null,null,null,null,null,{"$f":"IF(Masterblatt!F681=\"\",\"\",Masterblatt!F681)","v":""}]
[{"$f":"IF(Masterblatt!A682=\"\",\"\",Masterblatt!A682)","v":681},null,{"$f":"IF(AND(Masterblatt!B682=\"\",Masterblatt!C682=\"\"),\"\",Masterblatt!B682 & \" \" & Masterblatt!C682)","v":""},null,null,null,null,null,null,null,null,null,null,null,null,null,null,{"$f":"IF(Masterblatt!F682=\"\",\"\",Masterblatt!F682)","v":""}]
[{"$f":"IF(Masterblatt!A683=\"\",\"\",Masterblatt!A683)","v":682},null,{"$f":"IF(AND(Masterblatt!B683=\"\",Masterblatt!C683=\"\"),\"\",Masterblatt!B683 & \" \" & Masterblatt!C683)","v":""},null,null,null,null,null,null,null,null,null,null,null,null,null,null,{"$f":"IF(Masterblatt!F683=\"\",\"\",Masterblatt!F683)","v":""}]
[{"$f":"IF(Masterblatt!A684=\"\",\"\",Masterblatt!A684)","v":683},null,{"$f":"IF(AND(Masterblatt!B684=\"\",Masterblatt!C684=\"\"),\"\",Masterblatt!B684 & \" \" & Masterblatt!C684)","v":""},null,null,null,null,null,null,null,null,null,null,null,null,null,null,{"$f":"IF(Masterblatt!F684=\"\",\"\",Masterblatt!F684)","v":""}]
[{"$f":"IF(Masterblatt!A685=\"\",\"\",Masterblatt!A685)","v":684},null,{"$f":"IF(AND(Masterblatt!B685=\"\",Masterblatt!C685=\"\"),\"\",Masterblatt!B685 & \" \" & Masterblatt!C685)","v":""},null,null,null,null,null,null,null,null,null,null,null,null,null,null,{"$f":"IF(Masterblatt!F685=\"\",\"\",Masterblatt!F685)","v":""}]
[{"$f":"IF(Masterblatt!A686=\"\",\"\",Masterblatt!A686)","v":685},null,{"$f":"IF(AND(Masterblatt!B686=\"\",Masterblatt!C686=\"\"),\"\",Masterblatt!B686 & \" \" & Masterblatt!C686)","v":""},null,null,null,null,null,null,null,null,null,null,null,null,null,null,{"$f":"IF(Masterblatt!F686=\"\",\"\",Masterblatt!F686)","v":""}]
[{"$f":"IF(Masterblatt!A687=\"\",\"\",Masterblatt!A687)","v":686},null,{"$f":"IF(AND(Masterblatt!B687=\"\",Masterblatt!C687=\"\"),\"\",Masterblatt!B687 & \" \" & Masterblatt!C687)","v":""},null,null,null,null,null,null,null,null,null,null,null,null,null,null,{"$f":"IF(Masterblatt!F687=\"\",\"\",Masterblatt!F687)","v":""}]
[{"$f":"IF(Masterblatt!A688=\"\",\"\",Masterblatt!A688)","v":687},null,{"$f":"IF(AND(Masterblatt!B688=\"\",Masterblatt!C688=\"\"),\"\",Masterblatt!B688 & \" \" & Masterblatt!C688)","v":""},null,null,null,null,null,null,null,null,null,null,null,null,null,null,{"$f":"IF(Masterblatt!F688=\"\",\"\",Masterblatt!F688)","v":""}]
[{"$f":"IF(Masterblatt!A689=\"\",\"\",Masterblatt!A689)","v":688},null,{"$f":"IF(AND(Masterblatt!B689=\"\",Masterblatt!C689=\"\"),\"\",Masterblatt!B689 & \" \" & Masterblatt!C689)","v":""},null,null,null,null,null,null,null,null,null,null,null,null,null,null,{"$f":"IF(Masterblatt!F689=\"\",\"\",Masterblatt!F689)","v":""}]
[{"$f":"IF(Masterblatt!A690=\"\",\"\",Masterblatt!A690)","v":689},null,{"$f":"IF(AND(Masterblatt!B690=\"\",Masterblatt!C690=\"\"),\"\",Masterblatt!B690 & \" \" & Masterblatt!C690)","v":""},null,null,null,null,null,null,null,null,null,null,null,null,null,null,{"$f":"IF(Masterblatt!F690=\"\",\"\",Masterblatt!F690)","v":""}]
[{"$f":"IF(Masterblatt!A691=\"\",\"\",Masterblatt!A691)","v":690},null,{"$f":"IF(AND(Masterblatt!B691=\"\",Masterblatt!C691=\"\"),\"\",Masterblatt!B691 & \" \" & Masterblatt!C691)","v":""},null,null,null,null,null,null,null,null,null,null,null,null,null,null,{"$f":"IF(Masterblatt!F691=\"\",\"\",Masterblatt!F691)","v":""}]
[{"$f":"IF(Masterblatt!A692=\"\",\"\",Masterblatt!A692)","v":691},null,{"$f":"IF(AND(Masterblatt!B692=\"\",Masterblatt!C692=\"\"),\"\",Masterblatt!B692 & \" \" & Masterblatt!C692)","v":""},null,null,null,null,null,null,null,null,null,null,null,null,null,null,{"$f":"IF(Masterblatt!F692=\"\",\"\",Masterblatt!F692)","v":""}]
[{"$f":"IF(Masterblatt!A693=\"\",\"\",Masterblatt!A693)","v":692},null,{"$f":"IF(AND(Masterblatt!B693=\"\",Masterblatt!C693=\"\"),\"\",Masterblatt!B693 & \" \" & Masterblatt!C693)","v":""},null,null,null,null,null,null,null,null,null,null,null,null,null,null,{"$f":"IF(Masterblatt!F693=\"\",\"\",Masterblatt!F693)","v":""}]
[{"$f":"IF(Masterblatt!A694=\"\",\"\",Masterblatt!A694)","v":693},null,{"$f":"IF(AND(Masterblatt!B694=\"\",Masterblatt!C694=\"\"),\"\",Masterblatt!B694 & \" \" & Masterblatt!C694)","v":""},null,null,null,null,null,null,null,null,null,null,null,null,null,null,{"$f":"IF(Masterblatt!F694=\"\",\"\",Masterblatt!F694)","v":""}]
[{"$f":"IF(Masterblatt!A695=\"\",\"\",Masterblatt!A695)","v":694},null,{"$f":"IF(AND(Masterblatt!B695=\"\",Masterblatt!C695=\"\"),\"\",Masterblatt!B695 & \" \" & Masterblatt!C695)","v":""},null,null,null,null,null,null,null,null,null,null,null,null,null,null,{"$f":"IF(Masterblatt!F695=\"\",\"\",Masterblatt!F695)","v":""}]
[{"$f":"IF(Masterblatt!A696=\"\",\"\",Masterblatt!A696)","v":695},null,{"$f":"IF(AND(Masterblatt!B696=\"\",Masterblatt!C696=\"\"),\"\",Masterblatt!B696 & \" \" & Masterblatt!C696)","v":""},null,null,null,null,null,null,null,null,null,null,null,null,null,null,{"$f":"IF(Masterblatt!F696=\"\",\"\",Masterblatt!F696)","v":""}]
[{"$f":"IF(Masterblatt!A697=\"\",\"\",Masterblatt!A697)","v":696},null,{"$f":"IF(AND(Masterblatt!B697=\"\",Masterblatt!C697=\"\"),\"\",Masterblatt!B697 & \" \" & Masterblatt!C697)","v":""},null,null,null,null,null,null,null,null,null,null,null,null,null,null,{"$f":"IF(Masterblatt!F697=\"\",\"\",Masterblatt!F697)","v":""}]
[{"$f":"IF(Masterblatt!A698=\"\",\"\",Masterblatt!A698)","v":697},null,{"$f":"IF(AND(Masterblatt!B698=\"\",Masterblatt!C698=\"\"),\"\",Masterblatt!B698 & \" \" & Masterblatt!C698)","v":""},null,null,null,null,null,null,null,null,null,null,null,null,null,null,{"$f":"IF(Masterblatt!F698=\"\",\"\",Masterblatt!F698)","v":""}]
[{"$f":"IF(Masterblatt!A699=\"\",\"\",Masterblatt!A699)","v":698},null,{"$f":"IF(AND(Masterblatt!B699=\"\",Masterblatt!C699=\"\"),\"\",Masterblatt!B699 & \" \" & Masterblatt!C699)","v":""},null,null,null,null,null,null,null,null,null,null,null,null,null,null,{"$f":"IF(Masterblatt!F699=\"\",\"\",Masterblatt!F699)","v":""}]
[{"$f":"IF(Masterblatt!A700=\"\",\"\",Masterblatt!A700)","v":699},null,{"$f":"IF(AND(Masterblatt!B700=\"\",Masterblatt!C700=\"\"),\"\",Masterblatt!B700 & \" \" & Masterblatt!C700)","v":""},null,null,null,null,null,null,null,null,null,null,null,null,null,null,{"$f":"IF(Masterblatt!F700=\"\",\"\",Masterblatt!F700)","v":""}]
[{"$f":"IF(Masterblatt!A701=\"\",\"\",Masterblatt!A701)","v":700},null,{"$f":"IF(AND(Masterblatt!B701=\"\",Masterblatt!C701=\"\"),\"\",Masterblatt!B701 & \" \" & Masterblatt!C701)","v":""},null,null,null,null,null,null,null,null,null,null,null,null,null,null,{"$f":"IF(Masterblatt!F701=\"\",\"\",Masterblatt!F701)","v":""}]
[{"$f":"IF(Masterblatt!A702=\"\",\"\",Masterblatt!A702)","v":701},null,{"$f":"IF(AND(Masterblatt!B702=\"\",Masterblatt!C702=\"\"),\"\",Masterblatt!B702 & \" \" & Masterblatt!C702)","v":""},null,null,null,null,null,null,null,null,null,null,null,null,null,null,{"$f":"IF(Masterblatt!F702=\"\",\"\",Masterblatt!F702)","v":""}]
[{"$f":"IF(Masterblatt!A703=\"\",\"\",Masterblatt!A703)","v":702},null,{"$f":"IF(AND(Masterblatt!B703=\"\",Masterblatt!C703=\"\"),\"\",Masterblatt!B703 & \" \" & Masterblatt!C703)","v":""},null,null,null,null,null,null,null,null,null,null,null,null,null,null,{"$f":"IF(Masterblatt!F703=\"\",\"\",Masterblatt!F703)","v":""}]
[{"$f":"IF(Masterblatt!A704=\"\",\"\",Masterblatt!A704)","v":703},null,{"$f":"IF(AND(Masterblatt!B704=\"\",Masterblatt!C704=\"\"),\"\",Masterblatt!B704 & \" \" & Masterblatt!C704)","v":""},null,null,null,null,null,null,null,null,null,null,null,null,null,null,{"$f":"IF(Masterblatt!F704=\"\",\"\",Masterblatt!F704)","v":""}]
[{"$f":"IF(Masterblatt!A705=\"\",\"\",Masterblatt!A705)","v":704},null,{"$f":"IF(AND(Masterblatt!B705=\"\",Masterblatt!C705=\"\"),\"\",Masterblatt!B705 & \" \" & Masterblatt!C705)","v":""},null,null,null,null,null,null,null,null,null,null,null,null,null,null,{"$f":"IF(Masterblatt!F705=\"\",\"\",Masterblatt!F705)","v":""}]
[{"$f":"IF(Masterblatt!A706=\"\",\"\",Masterblatt!A706)","v":705},null,{"$f":"IF(AND(Masterblatt!B706=\"\",Masterblatt!C706=\"\"),\"\",Masterblatt!B706 & \" \" & Masterblatt!C706)","v":""},null,null,null,null,null,null,null,null,null,null,null,null,null,null,{"$f":"IF(Masterblatt!F706=\"\",\"\",Masterblatt!F706)","v":""}]
[{"$f":"IF(Masterblatt!A707=\"\",\"\",Masterblatt!A707)","v":706},null,{"$f":"IF(AND(Masterblatt!B707=\"\",Masterblatt!C707=\"\"),\"\",Masterblatt!B707 & \" \" & Masterblatt!C707)","v":""},null,null,null,null,null,null,null,null,null,null,null,null,null,null,{"$f":"IF(Masterblatt!F707=\"\",\"\",Masterblatt!F707)","v":""}]
[{"$f":"IF(Masterblatt!A708=\"\",\"\",Masterblatt!A708)","v":707},null,{"$f":"IF(AND(Masterblatt!B708=\"\",Masterblatt!C708=\"\"),\"\",Masterblatt!B708 & \" \" & Masterblatt!C708)","v":""},null,null,null,null,null,null,null,null,null,null,null,null,null,null,{"$f":"IF(Masterblatt!F708=\"\",\"\",Masterblatt!F708)","v":""}]
[{"$f":"IF(Masterblatt!A709=\"\",\"\",Masterblatt!A709)","v":708},null,{"$f":"IF(AND(Masterblatt!B709=\"\",Masterblatt!C709=\"\"),\"\",Masterblatt!B709 & \" \" & Masterblatt!C709)","v":""},null,null,null,null,null,null,null,null,null,null,null,null,null,null,{"$f":"IF(Masterblatt!F709=\"\",\"\",Masterblatt!F709)","v":""}]
[{"$f":"IF(Masterblatt!A710=\"\",\"\",Masterblatt!A710)","v":709},null,{"$f":"IF(AND(Masterblatt!B710=\"\",Masterblatt!C710=\"\"),\"\",Masterblatt!B710 & \" \" & Masterblatt!C710)","v":""},null,null,null,null,null,null,null,null,null,null,null,null,null,null,{"$f":"IF(Masterblatt!F710=\"\",\"\",Masterblatt!F710)","v":""}]
[{"$f":"IF(Masterblatt!A711=\"\",\"\",Masterblatt!A711)","v":710},null,{"$f":"IF(AND(Masterblatt!B711=\"\",Masterblatt!C711=\"\"),\"\",Masterblatt!B711 & \" \" & Masterblatt!C711)","v":""},null,null,null,null,null,null,null,null,null,null,null,null,null,null,{"$f":"IF(Masterblatt!F711=\"\",\"\",Masterblatt!F711)","v":""}]
[{"$f":"IF(Masterblatt!A712=\"\",\"\",Masterblatt!A712)","v":711},null,{"$f":"IF(AND(Masterblatt!B712=\"\",Masterblatt!C712=\"\"),\"\",Masterblatt!B712 & \" \" & Masterblatt!C712)","v":""},null,null,null,null,null,null,null,null,null,null,null,null,null,null,{"$f":"IF(Masterblatt!F712=\"\",\"\",Masterblatt!F712)","v":""}]
[{"$f":"IF(Masterblatt!A713=\"\",\"\",Masterblatt!A713)","v":712},null,{"$f":"IF(AND(Masterblatt!B713=\"\",Masterblatt!C713=\"\"),\"\",Masterblatt!B713 & \" \" & Masterblatt!C713)","v":""},null,null,null,null,null,null,null,null,null,null,null,null,null,null,{"$f":"IF(Masterblatt!F713=\"\",\"\",Masterblatt!F713)","v":""}]
[{"$f":"IF(Masterblatt!A714=\"\",\"\",Masterblatt!A714)","v":713},null,{"$f":"IF(AND(Masterblatt!B714=\"\",Masterblatt!C714=\"\"),\"\",Masterblatt!B714 & \" \" & Masterblatt!C714)","v":""},null,null,null,null,null,null,null,null,null,null,null,null,null,null,{"$f":"IF(Masterblatt!F714=\"\",\"\",Masterblatt!F714)","v":""}]
[{"$f":"IF(Masterblatt!A715=\"\",\"\",Masterblatt!A715)","v":714},null,{"$f":"IF(AND(Masterblatt!B715=\"\",Masterblatt!C715=\"\"),\"\",Masterblatt!B715 & \" \" & Masterblatt!C715)","v":""},null,null,null,null,null,null,null,null,null,null,null,null,null,null,{"$f":"IF(Masterblatt!F715=\"\",\"\",Masterblatt!F715)","v":""}]
[{"$f":"IF(Masterblatt!A716=\"\",\"\",Masterblatt!A716)","v":715},null,{"$f":"IF(AND(Masterblatt!B716=\"\",Masterblatt!C716=\"\"),\"\",Masterblatt!B716 & \" \" & Masterblatt!C716)","v":""},null,null,null,null,null,null,null,null,null,null,null,null,null,null,{"$f":"IF(Masterblatt!F716=\"\",\"\",Masterblatt!F716)","v":""}]
[{"$f":"IF(Masterblatt!A717=\"\",\"\",Masterblatt!A717)","v":716},null,{"$f":"IF(AND(Masterblatt!B717=\"\",Masterblatt!C717=\"\"),\"\",Masterblatt!B717 & \" \" & Masterblatt!C717)","v":""},null,null,null,null,null,null,null,null,null,null,null,null,null,null,{"$f":"IF(Masterblatt!F717=\"\",\"\",Masterblatt!F717)","v":""}]
[{"$f":"IF(Masterblatt!A718=\"\",\"\",Masterblatt!A718)","v":717},null,{"$f":"IF(AND(Masterblatt!B718=\"\",Masterblatt!C718=\"\"),\"\",Masterblatt!B718 & \" \" & Masterblatt!C718)","v":""},null,null,null,null,null,null,null,null,null,null,null,null,null,null,{"$f":"IF(Masterblatt!F718=\"\",\"\",Masterblatt!F718)","v":""}]
[{"$f":"IF(Masterblatt!A719=\"\",\"\",Masterblatt!A719)","v":718},null,{"$f":"IF(AND(Masterblatt!B719=\"\",Masterblatt!C719=\"\"),\"\",Masterblatt!B719 & \" \" & Masterblatt!C719)","v":""},null,null,null,null,null,null,null,null,null,null,null,null,null,null,{"$f":"IF(Masterblatt!F719=\"\",\"\",Masterblatt!F719)","v":""}]
[{"$f":"IF(Masterblatt!A720=\"\",\"\",Masterblatt!A720)","v":719},null,{"$f":"IF(AND(Masterblatt!B720=\"\",Masterblatt!C720=\"\"),\"\",Masterblatt!B720 & \" \" & Masterblatt!C720)","v":""},null,null,null,null,null,null,null,null,null,null,null,null,null,null,{"$f":"IF(Masterblatt!F720=\"\",\"\",Masterblatt!F720)","v":""}]
[{"$f":"IF(Masterblatt!A721=\"\",\"\",Masterblatt!A721)","v":720},null,{"$f":"IF(AND(Masterblatt!B721=\"\",Masterblatt!C721=\"\"),\"\",Masterblatt!B721 & \" \" & Masterblatt!C721)","v":""},null,null,null,null,null,null,null,null,null,null,null,null,null,null,{"$f":"IF(Masterblatt!F721=\"\",\"\",Masterblatt!F721)","v":""}]
[{"$f":"IF(Masterblatt!A722=\"\",\"\",Masterblatt!A722)","v":721},null,{"$f":"IF(AND(Masterblatt!B722=\"\",Masterblatt!C722=\"\"),\"\",Masterblatt!B722 & \" \" & Masterblatt!C722)","v":""},null,null,null,null,null,null,null,null,null,null,null,null,null,null,{"$f":"IF(Masterblatt!F722=\"\",\"\",Masterblatt!F722)","v":""}]
[{"$f":"IF(Masterblatt!A723=\"\",\"\",Masterblatt!A723)","v":722},null,{"$f":"IF(AND(Masterblatt!B723=\"\",Masterblatt!C723=\"\"),\"\",Masterblatt!B723 & \" \" & Masterblatt!C723)","v":""},null,null,null,null,null,null,null,null,null,null,null,null,null,null,{"$f":"IF(Masterblatt!F723=\"\",\"\",Masterblatt!F723)","v":""}]
[{"$f":"IF(Masterblatt!A724=\"\",\"\",Masterblatt!A724)","v":723},null,{"$f":"IF(AND(Masterblatt!B724=\"\",Masterblatt!C724=\"\"),\"\",Masterblatt!B724 & \" \" & Masterblatt!C724)","v":""},null,null,null,null,null,null,null,null,null,null,null,null,null,null,{"$f":"IF(Masterblatt!F724=\"\",\"\",Masterblatt!F724)","v":""}]
[{"$f":"IF(Masterblatt!A725=\"\",\"\",Masterblatt!A725)","v":724},null,{"$f":"IF(AND(Masterblatt!B725=\"\",Masterblatt!C725=\"\"),\"\",Masterblatt!B725 & \" \" & Masterblatt!C725)","v":""},null,null,null,null,null,null,null,null,null,null,null,null,null,null,{"$f":"IF(Masterblatt!F725=\"\",\"\",Masterblatt!F725)","v":""}]
[{"$f":"IF(Masterblatt!A726=\"\",\"\",Masterblatt!A726)","v":725},null,{"$f":"IF(AND(Masterblatt!B726=\"\",Masterblatt!C726=\"\"),\"\",Masterblatt!B726 & \" \" & Masterblatt!C726)","v":""},null,null,null,null,null,null,null,null,null,null,null,null,null,null,{"$f":"IF(Masterblatt!F726=\"\",\"\",Masterblatt!F726)","v":""}]
[{"$f":"IF(Masterblatt!A727=\"\",\"\",Masterblatt!A727)","v":726},null,{"$f":"IF(AND(Masterblatt!B727=\"\",Masterblatt!C727=\"\"),\"\",Masterblatt!B727 & \" \" & Masterblatt!C727)","v":""},null,null,null,null,null,null,null,null,null,null,null,null,null,null,{"$f":"IF(Masterblatt!F727=\"\",\"\",Masterblatt!F727)","v":""}]
[{"$f":"IF(Masterblatt!A728=\"\",\"\",Masterblatt!A728)","v":727},null,{"$f":"IF(AND(Masterblatt!B728=\"\",Masterblatt!C728=\"\"),\"\",Masterblatt!B728 & \" \" & Masterblatt!C728)","v":""},null,null,null,null,null,null,null,null,null,null,null,null,null,null,{"$f":"IF(Masterblatt!F728=\"\",\"\",Masterblatt!F728)","v":""}]
[{"$f":"IF(Masterblatt!A729=\"\",\"\",Masterblatt!A729)","v":728},null,{"$f":"IF(AND(Masterblatt!B729=\"\",Masterblatt!C729=\"\"),\"\",Masterblatt!B729 & \" \" & Masterblatt!C729)","v":""},null,null,null,null,null,null,null,null,null,null,null,null,null,null,{"$f":"IF(Masterblatt!F729=\"\",\"\",Masterblatt!F729)","v":""}]
[{"$f":"IF(Masterblatt!A730=\"\",\"\",Masterblatt!A730)","v":729},null,{"$f":"IF(AND(Masterblatt!B730=\"\",Masterblatt!C730=\"\"),\"\",Masterblatt!B730 & \" \" & Masterblatt!C730)","v":""},null,null,null,null,null,null,null,null,null,null,null,null,null,null,{"$f":"IF(Masterblatt!F730=\"\",\"\",Masterblatt!F730)","v":""}]
[{"$f":"IF(Masterblatt!A731=\"\",\"\",Masterblatt!A731)","v":730},null,{"$f":"IF(AND(Masterblatt!B731=\"\",Masterblatt!C731=\"\"),\"\",Masterblatt!B731 & \" \" & Masterblatt!C731)","v":""},null,null,null,null,null,null,null,null,null,null,null,null,null,null,{"$f":"IF(Masterblatt!F731=\"\",\"\",Masterblatt!F731)","v":""}]
[{"$f":"IF(Masterblatt!A732=\"\",\"\",Masterblatt!A732)","v":731},null,{"$f":"IF(AND(Masterblatt!B732=\"\",Masterblatt!C732=\"\"),\"\",Masterblatt!B732 & \" \" & Masterblatt!C732)","v":""},null,null,null,null,null,null,null,null,null,null,null,null,null,null,{"$f":"IF(Masterblatt!F732=\"\",\"\",Masterblatt!F732)","v":""}]
[{"$f":"IF(Masterblatt!A733=\"\",\"\",Masterblatt!A733)","v":732},null,{"$f":"IF(AND(Masterblatt!B733=\"\",Masterblatt!C733=\"\"),\"\",Masterblatt!B733 & \" \" & Masterblatt!C733)","v":""},null,null,null,null,null,null,null,null,null,null,null,null,null,null,{"$f":"IF(Masterblatt!F733=\"\",\"\",Masterblatt!F733)","v":""}]
[{"$f":"IF(Masterblatt!A734=\"\",\"\",Masterblatt!A734)","v":733},null,{"$f":"IF(AND(Masterblatt!B734=\"\",Masterblatt!C734=\"\"),\"\",Masterblatt!B734 & \" \" & Masterblatt!C734)","v":""},null,null,null,null,null,null,null,null,null,null,null,null,null,null,{"$f":"IF(Masterblatt!F734=\"\",\"\",Masterblatt!F734)","v":""}]
[{"$f":"IF(Masterblatt!A735=\"\",\"\",Masterblatt!A735)","v":734},null,{"$f":"IF(AND(Masterblatt!B735=\"\",Masterblatt!C735=\"\"),\"\",Masterblatt!B735 & \" \" & Masterblatt!C735)","v":""},null,null,null,null,null,null,null,null,null,null,null,null,null,null,{"$f":"IF(Masterblatt!F735=\"\",\"\",Masterblatt!F735)","v":""}]
[{"$f":"IF(Masterblatt!A736=\"\",\"\",Masterblatt!A736)","v":735},null,{"$f":"IF(AND(Masterblatt!B736=\"\",Masterblatt!C736=\"\"),\"\",Masterblatt!B736 & \" \" & Masterblatt!C736)","v":""},null,null,null,null,null,null,null,null,null,null,null,null,null,null,{"$f":"IF(Masterblatt!F736=\"\",\"\",Masterblatt!F736)","v":""}]
[{"$f":"IF(Masterblatt!A737=\"\",\"\",Masterblatt!A737)","v":736},null,{"$f":"IF(AND(Masterblatt!B737=\"\",Masterblatt!C737=\"\"),\"\",Masterblatt!B737 & \" \" & Masterblatt!C737)","v":""},null,null,null,null,null,null,null,null,null,null,null,null,null,null,{"$f":"IF(Masterblatt!F737=\"\",\"\",Masterblatt!F737)","v":""}]
[{"$f":"IF(Masterblatt!A738=\"\",\"\",Masterblatt!A738)","v":737},null,{"$f":"IF(AND(Masterblatt!B738=\"\",Masterblatt!C738=\"\"),\"\",Masterblatt!B738 & \" \" & Masterblatt!C738)","v":""},null,null,null,null,null,null,null,null,null,null,null,null,null,null,{"$f":"IF(Masterblatt!F738=\"\",\"\",Masterblatt!F738)","v":""}]
[{"$f":"IF(Masterblatt!A739=\"\",\"\",Masterblatt!A739)","v":738},null,{"$f":"IF(AND(Masterblatt!B739=\"\",Masterblatt!C739=\"\"),\"\",Masterblatt!B739 & \" \" & Masterblatt!C739)","v":""},null,null,null,null,null,null,null,null,null,null,null,null,null,null,{"$f":"IF(Masterblatt!F739=\"\",\"\",Masterblatt!F739)","v":""}]
[{"$f":"IF(Masterblatt!A740=\"\",\"\",Masterblatt!A740)","v":739},null,{"$f":"IF(AND(Masterblatt!B740=\"\",Masterblatt!C740=\"\"),\"\",Masterblatt!B740 & \" \" & Masterblatt!C740)","v":""},null,null,null,null,null,null,null,null,null,null,null,null,null,null,{"$f":"IF(Masterblatt!F740=\"\",\"\",Masterblatt!F740)","v":""}]
[{"$f":"IF(Masterblatt!A741=\"\",\"\",Masterblatt!A741)","v":740},null,{"$f":"IF(AND(Masterblatt!B741=\"\",Masterblatt!C741=\"\"),\"\",Masterblatt!B741 & \" \" & Masterblatt!C741)","v":""},null,null,null,null,null,null,null,null,null,null,null,null,null,null,{"$f":"IF(Masterblatt!F741=\"\",\"\",Masterblatt!F741)","v":""}]
[{"$f":"IF(Masterblatt!A742=\"\",\"\",Masterblatt!A742)","v":741},null,{"$f":"IF(AND(Masterblatt!B742=\"\",Masterblatt!C742=\"\"),\"\",Masterblatt!B742 & \" \" & Masterblatt!C742)","v":""},null,null,null,null,null,null,null,null,null,null,null,null,null,null,{"$f":"IF(Masterblatt!F742=\"\",\"\",Masterblatt!F742)","v":""}]
[{"$f":"IF(Masterblatt!A743=\"\",\"\",Masterblatt!A743)","v":742},null,{"$f":"IF(AND(Masterblatt!B743=\"\",Masterblatt!C743=\"\"),\"\",Masterblatt!B743 & \" \" & Masterblatt!C743)","v":""},null,null,null,null,null,null,null,null,null,null,null,null,null,null,{"$f":"IF(Masterblatt!F743=\"\",\"\",Masterblatt!F743)","v":""}]
[{"$f":"IF(Masterblatt!A744=\"\",\"\",Masterblatt!A744)","v":743},null,{"$f":"IF(AND(Masterblatt!B744=\"\",Masterblatt!C744=\"\"),\"\",Masterblatt!B744 & \" \" & Masterblatt!C744)","v":""},null,null,null,null,null,null,null,null,null,null,null,null,null,null,{"$f":"IF(Masterblatt!F744=\"\",\"\",Masterblatt!F744)","v":""}]
[{"$f":"IF(Masterblatt!A745=\"\",\"\",Masterblatt!A745)","v":744},null,{"$f":"IF(AND(Masterblatt!B745=\"\",Masterblatt!C745=\"\"),\"\",Masterblatt!B745 & \" \" & Masterblatt!C745)","v":""},null,null,null,null,null,null,null,null,null,null,null,null,null,null,{"$f":"IF(Masterblatt!F745=\"\",\"\",Masterblatt!F745)","v":""}]
[{"$f":"IF(Masterblatt!A746=\"\",\"\",Masterblatt!A746)","v":745},null,{"$f":"IF(AND(Masterblatt!B746=\"\",Masterblatt!C746=\"\"),\"\",Masterblatt!B746 & \" \" & Masterblatt!C746)","v":""},null,null,null,null,null,null,null,null,null,null,null,null,null,null,{"$f":"IF(Masterblatt!F746=\"\",\"\",Masterblatt!F746)","v":""}]
[{"$f":"IF(Masterblatt!A747=\"\",\"\",Masterblatt!A747)","v":746},null,{"$f":"IF(AND(Masterblatt!B747=\"\",Masterblatt!C747=\"\"),\"\",Masterblatt!B747 & \" \" & Masterblatt!C747)","v":""},null,null,null,null,null,null,null,null,null,null,null,null,null,null,{"$f":"IF(Masterblatt!F747=\"\",\"\",Masterblatt!F747)","v":""}]
[{"$f":"IF(Masterblatt!A748=\"\",\"\",Masterblatt!A748)","v":747},null,{"$f":"IF(AND(Masterblatt!B748=\"\",Masterblatt!C748=\"\"),\"\",Masterblatt!B748 & \" \" & Masterblatt!C748)","v":""},null,null,null,null,null,null,null,null,null,null,null,null,null,null,{"$f":"IF(Masterblatt!F748=\"\",\"\",Masterblatt!F748)","v":""}]
[{"$f":"IF(Masterblatt!A749=\"\",\"\",Masterblatt!A749)","v":748},null,{"$f":"IF(AND(Masterblatt!B749=\"\",Masterblatt!C749=\"\"),\"\",Masterblatt!B749 & \" \" & Masterblatt!C749)","v":""},null,null,null,null,null,null,null,null,null,null,null,null,null,null,{"$f":"IF(Masterblatt!F749=\"\",\"\",Masterblatt!F749)","v":""}]
[{"$f":"IF(Masterblatt!A750=\"\",\"\",Masterblatt!A750)","v":749},null,{"$f":"IF(AND(Masterblatt!B750=\"\",Masterblatt!C750=\"\"),\"\",Masterblatt!B750 & \" \" & Masterblatt!C750)","v":""},null,null,null,null,null,null,null,null,null,null,null,null,null,null,{"$f":"IF(Masterblatt!F750=\"\",\"\",Masterblatt!F750)","v":""}]
[{"$f":"IF(Masterblatt!A751=\"\",\"\",Masterblatt!A751)","v":750},null,{"$f":"IF(AND(Masterblatt!B751=\"\",Masterblatt!C751=\"\"),\"\",Masterblatt!B751 & \" \" & Masterblatt!C751)","v":""},null,null,null,null,null,null,null,null,null,null,null,null,null,null,{"$f":"IF(Masterblatt!F751=\"\",\"\",Masterblatt!F751)","v":""}]
[{"$f":"IF(Masterblatt!A752=\"\",\"\",Masterblatt!A752)","v":751},null,{"$f":"IF(AND(Masterblatt!B752=\"\",Masterblatt!C752=\"\"),\"\",Masterblatt!B752 & \" \" & Masterblatt!C752)","v":""},null,null,null,null,null,null,null,null,null,null,null,null,null,null,{"$f":"IF(Masterblatt!F752=\"\",\"\",Masterblatt!F752)","v":""}]
[{"$f":"IF(Masterblatt!A753=\"\",\"\",Masterblatt!A753)","v":752},null,{"$f":"IF(AND(Masterblatt!B753=\"\",Masterblatt!C753=\"\"),\"\",Masterblatt!B753 & \" \" & Masterblatt!C753)","v":""},null,null,null,null,null,null,null,null,null,null,null,null,null,null,{"$f":"IF(Masterblatt!F753=\"\",\"\",Masterblatt!F753)","v":""}]
[{"$f":"IF(Masterblatt!A754=\"\",\"\",Masterblatt!A754)","v":753},null,{"$f":"IF(AND(Masterblatt!B754=\"\",Masterblatt!C754=\"\"),\"\",Masterblatt!B754 & \" \" & Masterblatt!C754)","v":""},null,null,null,null,null,null,null,null,null,null,null,null,null,null,{"$f":"IF(Masterblatt!F754=\"\",\"\",Masterblatt!F754)","v":""}]
[{"$f":"IF(Masterblatt!A755=\"\",\"\",Masterblatt!A755)","v":754},null,{"$f":"IF(AND(Masterblatt!B755=\"\",Masterblatt!C755=\"\"),\"\",Masterblatt!B755 & \" \" & Masterblatt!C755)","v":""},null,null,null,null,null,null,null,null,null,null,null,null,null,null,{"$f":"IF(Masterblatt!F755=\"\",\"\",Masterblatt!F755)","v":""}]
[{"$f":"IF(Masterblatt!A756=\"\",\"\",Masterblatt!A756)","v":755},null,{"$f":"IF(AND(Masterblatt!B756=\"\",Masterblatt!C756=\"\"),\"\",Masterblatt!B756 & \" \" & Masterblatt!C756)","v":""},null,null,null,null,null,null,null,null,null,null,null,null,null,null,{"$f":"IF(Masterblatt!F756=\"\",\"\",Masterblatt!F756)","v":""}]
[{"$f":"IF(Masterblatt!A757=\"\",\"\",Masterblatt!A757)","v":756},null,{"$f":"IF(AND(Masterblatt!B757=\"\",Masterblatt!C757=\"\"),\"\",Masterblatt!B757 & \" \" & Masterblatt!C757)","v":""},null,null,null,null,null,null,null,null,null,null,null,null,null,null,{"$f":"IF(Masterblatt!F757=\"\",\"\",Masterblatt!F757)","v":""}]
[{"$f":"IF(Masterblatt!A758=\"\",\"\",Masterblatt!A758)","v":757},null,{"$f":"IF(AND(Masterblatt!B758=\"\",Masterblatt!C758=\"\"),\"\",Masterblatt!B758 & \" \" & Masterblatt!C758)","v":""},null,null,null,null,null,null,null,null,null,null,null,null,null,null,{"$f":"IF(Masterblatt!F758=\"\",\"\",Masterblatt!F758)","v":""}]
[{"$f":"IF(Masterblatt!A759=\"\",\"\",Masterblatt!A759)","v":758},null,{"$f":"IF(AND(Masterblatt!B759=\"\",Masterblatt!C759=\"\"),\"\",Masterblatt!B759 & \" \" & Masterblatt!C759)","v":""},null,null,null,null,null,null,null,null,null,null,null,null,null,null,{"$f":"IF(Masterblatt!F759=\"\",\"\",Masterblatt!F759)","v":""}]
[{"$f":"IF(Masterblatt!A760=\"\",\"\",Masterblatt!A760)","v":759},null,{"$f":"IF(AND(Masterblatt!B760=\"\",Masterblatt!C760=\"\"),\"\",Masterblatt!B760 & \" \" & Masterblatt!C760)","v":""},null,null,null,null,null,null,null,null,null,null,null,null,null,null,{"$f":"IF(Masterblatt!F760=\"\",\"\",Masterblatt!F760)","v":""}]
[{"$f":"IF(Masterblatt!A761=\"\",\"\",Masterblatt!A761)","v":760},null,{"$f":"IF(AND(Masterblatt!B761=\"\",Masterblatt!C761=\"\"),\"\",Masterblatt!B761 & \" \" & Masterblatt!C761)","v":""},null,null,null,null,null,null,null,null,null,null,null,null,null,null,{"$f":"IF(Masterblatt!F761=\"\",\"\",Masterblatt!F761)","v":""}]
[{"$f":"IF(Masterblatt!A762=\"\",\"\",Masterblatt!A762)","v":761},null,{"$f":"IF(AND(Masterblatt!B762=\"\",Masterblatt!C762=\"\"),\"\",Masterblatt!B762 & \" \" & Masterblatt!C762)","v":""},null,null,null,null,null,null,null,null,null,null,null,null,null,null,{"$f":"IF(Masterblatt!F762=\"\",\"\",Masterblatt!F762)","v":""}]
[{"$f":"IF(Masterblatt!A763=\"\",\"\",Masterblatt!A763)","v":762},null,{"$f":"IF(AND(Masterblatt!B763=\"\",Masterblatt!C763=\"\"),\"\",Masterblatt!B763 & \" \" & Masterblatt!C763)","v":""},null,null,null,null,null,null,null,null,null,null,null,null,null,null,{"$f":"IF(Masterblatt!F763=\"\",\"\",Masterblatt!F763)","v":""}]
[{"$f":"IF(Masterblatt!A764=\"\",\"\",Masterblatt!A764)","v":763},null,{"$f":"IF(AND(Masterblatt!B764=\"\",Masterblatt!C764=\"\"),\"\",Masterblatt!B764 & \" \" & Masterblatt!C764)","v":""},null,null,null,null,null,null,null,null,null,null,null,null,null,null,{"$f":"IF(Masterblatt!F764=\"\",\"\",Masterblatt!F764)","v":""}]
[{"$f":"IF(Masterblatt!A765=\"\",\"\",Masterblatt!A765)","v":764},null,{"$f":"IF(AND(Masterblatt!B765=\"\",Masterblatt!C765=\"\"),\"\",Masterblatt!B765 & \" \" & Masterblatt!C765)","v":""},null,null,null,null,null,null,null,null,null,null,null,null,null,null,{"$f":"IF(Masterblatt!F765=\"\",\"\",Masterblatt!F765)","v":""}]
[{"$f":"IF(Masterblatt!A766=\"\",\"\",Masterblatt!A766)","v":765},null,{"$f":"IF(AND(Masterblatt!B766=\"\",Masterblatt!C766=\"\"),\"\",Masterblatt!B766 & \" \" & Masterblatt!C766)","v":""},null,null,null,null,null,null,null,null,null,null,null,null,null,null,{"$f":"IF(Masterblatt!F766=\"\",\"\",Masterblatt!F766)","v":""}]
[{"$f":"IF(Masterblatt!A767=\"\",\"\",Masterblatt!A767)","v":766},null,{"$f":"IF(AND(Masterblatt!B767=\"\",Masterblatt!C767=\"\"),\"\",Masterblatt!B767 & \" \" & Masterblatt!C767)","v":""},null,null,null,null,null,null,null,null,null,null,null,null,null,null,{"$f":"IF(Masterblatt!F767=\"\",\"\",Masterblatt!F767)","v":""}]
[{"$f":"IF(Masterblatt!A768=\"\",\"\",Masterblatt!A768)","v":767},null,{"$f":"IF(AND(Masterblatt!B768=\"\",Masterblatt!C768=\"\"),\"\",Masterblatt!B768 & \" \" & Masterblatt!C768)","v":""},null,null,null,null,null,null,null,null,null,null,null,null,null,null,{"$f":"IF(Masterblatt!F768=\"\",\"\",Masterblatt!F768)","v":""}]
[{"$f":"IF(Masterblatt!A769=\"\",\"\",Masterblatt!A769)","v":768},null,{"$f":"IF(AND(Masterblatt!B769=\"\",Masterblatt!C769=\"\"),\"\",Masterblatt!B769 & \" \" & Masterblatt!C769)","v":""},null,null,null,null,null,null,null,null,null,null,null,null,null,null,{"$f":"IF(Masterblatt!F769=\"\",\"\",Masterblatt!F769)","v":""}]
[{"$f":"IF(Masterblatt!A770=\"\",\"\",Masterblatt!A770)","v":769},null,{"$f":"IF(AND(Masterblatt!B770=\"\",Masterblatt!C770=\"\"),\"\",Masterblatt!B770 & \" \" & Masterblatt!C770)","v":""},null,null,null,null,null,null,null,null,null,null,null,null,null,null,{"$f":"IF(Masterblatt!F770=\"\",\"\",Masterblatt!F770)","v":""}]
[{"$f":"IF(Masterblatt!A771=\"\",\"\",Masterblatt!A771)","v":770},null,{"$f":"IF(AND(Masterblatt!B771=\"\",Masterblatt!C771=\"\"),\"\",Masterblatt!B771 & \" \" & Masterblatt!C771)","v":""},null,null,null,null,null,null,null,null,null,null,null,null,null,null,{"$f":"IF(Masterblatt!F771=\"\",\"\",Masterblatt!F771)","v":""}]
[{"$f":"IF(Masterblatt!A772=\"\",\"\",Masterblatt!A772)","v":771},null,{"$f":"IF(AND(Masterblatt!B772=\"\",Masterblatt!C772=\"\"),\"\",Masterblatt!B772 & \" \" & Masterblatt!C772)","v":""},null,null,null,null,null,null,null,null,null,null,null,null,null,null,{"$f":"IF(Masterblatt!F772=\"\",\"\",Masterblatt!F772)","v":""}]
[{"$f":"IF(Masterblatt!A773=\"\",\"\",Masterblatt!A773)","v":772},null,{"$f":"IF(AND(Masterblatt!B773=\"\",Masterblatt!C773=\"\"),\"\",Masterblatt!B773 & \" \" & Masterblatt!C773)","v":""},null,null,null,null,null,null,null,null,null,null,null,null,null,null,{"$f":"IF(Masterblatt!F773=\"\",\"\",Masterblatt!F773)","v":""}]
[{"$f":"IF(Masterblatt!A774=\"\",\"\",Masterblatt!A774)","v":773},null,{"$f":"IF(AND(Masterblatt!B774=\"\",Masterblatt!C774=\"\"),\"\",Masterblatt!B774 & \" \" & Masterblatt!C774)","v":""},null,null,null,null,null,null,null,null,null,null,null,null,null,null,{"$f":"IF(Masterblatt!F774=\"\",\"\",Masterblatt!F774)","v":""}]
[{"$f":"IF(Masterblatt!A775=\"\",\"\",Masterblatt!A775)","v":774},null,{"$f":"IF(AND(Masterblatt!B775=\"\",Masterblatt!C775=\"\"),\"\",Masterblatt!B775 & \" \" & Masterblatt!C775)","v":""},null,null,null,null,null,null,null,null,null,null,null,null,null,null,{"$f":"IF(Masterblatt!F775=\"\",\"\",Masterblatt!F775)","v":""}]
[{"$f":"IF(Masterblatt!A776=\"\",\"\",Masterblatt!A776)","v":775},null,{"$f":"IF(AND(Masterblatt!B776=\"\",Masterblatt!C776=\"\"),\"\",Masterblatt!B776 & \" \" & Masterblatt!C776)","v":""},null,null,null,null,null,null,null,null,null,null,null,null,null,null,{"$f":"IF(Masterblatt!F776=\"\",\"\",Masterblatt!F776)","v":""}]
[{"$f":"IF(Masterblatt!A777=\"\",\"\",Masterblatt!A777)","v":776},null,{"$f":"IF(AND(Masterblatt!B777=\"\",Masterblatt!C777=\"\"),\"\",Masterblatt!B777 & \" \" & Masterblatt!C777)","v":""},null,null,null,null,null,null,null,null,null,null,null,null,null,null,{"$f":"IF(Masterblatt!F777=\"\",\"\",Masterblatt!F777)","v":""}]
[{"$f":"IF(Masterblatt!A778=\"\",\"\",Masterblatt!A778)","v":777},null,{"$f":"IF(AND(Masterblatt!B778=\"\",Masterblatt!C778=\"\"),\"\",Masterblatt!B778 & \" \" & Masterblatt!C778)","v":""},null,null,null,null,null,null,null,null,null,null,null,null,null,null,{"$f":"IF(Masterblatt!F778=\"\",\"\",Masterblatt!F778)","v":""}]
[{"$f":"IF(Masterblatt!A779=\"\",\"\",Masterblatt!A779)","v":778},null,{"$f":"IF(AND(Masterblatt!B779=\"\",Masterblatt!C779=\"\"),\"\",Masterblatt!B779 & \" \" & Masterblatt!C779)","v":""},null,null,null,null,null,null,null,null,null,null,null,null,null,null,{"$f":"IF(Masterblatt!F779=\"\",\"\",Masterblatt!F779)","v":""}]
[{"$f":"IF(Masterblatt!A780=\"\",\"\",Masterblatt!A780)","v":779},null,{"$f":"IF(AND(Masterblatt!B780=\"\",Masterblatt!C780=\"\"),\"\",Masterblatt!B780 & \" \" & Masterblatt!C780)","v":""},null,null,null,null,null,null,null,null,null,null,null,null,null,null,{"$f":"IF(Masterblatt!F780=\"\",\"\",Masterblatt!F780)","v":""}]
[{"$f":"IF(Masterblatt!A781=\"\",\"\",Masterblatt!A781)","v":780},null,{"$f":"IF(AND(Masterblatt!B781=\"\",Masterblatt!C781=\"\"),\"\",Masterblatt!B781 & \" \" & Masterblatt!C781)","v":""},null,null,null,null,null,null,null,null,null,null,null,null,null,null,{"$f":"IF(Masterblatt!F781=\"\",\"\",Masterblatt!F781)","v":""}]
[{"$f":"IF(Masterblatt!A782=\"\",\"\",Masterblatt!A782)","v":781},null,{"$f":"IF(AND(Masterblatt!B782=\"\",Masterblatt!C782=\"\"),\"\",Masterblatt!B782 & \" \" & Masterblatt!C782)","v":""},null,null,null,null,null,null,null,null,null,null,null,null,null,null,{"$f":"IF(Masterblatt!F782=\"\",\"\",Masterblatt!F782)","v":""}]
[{"$f":"IF(Masterblatt!A783=\"\",\"\",Masterblatt!A783)","v":782},null,{"$f":"IF(AND(Masterblatt!B783=\"\",Masterblatt!C783=\"\"),\"\",Masterblatt!B783 & \" \" & Masterblatt!C783)","v":""},null,null,null,null,null,null,null,null,null,null,null,null,null,null,{"$f":"IF(Masterblatt!F783=\"\",\"\",Masterblatt!F783)","v":""}]
[{"$f":"IF(Masterblatt!A784=\"\",\"\",Masterblatt!A784)","v":783},null,{"$f":"IF(AND(Masterblatt!B784=\"\",Masterblatt!C784=\"\"),\"\",Masterblatt!B784 & \" \" & Masterblatt!C784)","v":""},null,null,null,null,null,null,null,null,null,null,null,null,null,null,{"$f":"IF(Masterblatt!F784=\"\",\"\",Masterblatt!F784)","v":""}]
[{"$f":"IF(Masterblatt!A785=\"\",\"\",Masterblatt!A785)","v":784},null,{"$f":"IF(AND(Masterblatt!B785=\"\",Masterblatt!C785=\"\"),\"\",Masterblatt!B785 & \" \" & Masterblatt!C785)","v":""},null,null,null,null,null,null,null,null,null,null,null,null,null,null,{"$f":"IF(Masterblatt!F785=\"\",\"\",Masterblatt!F785)","v":""}]
[{"$f":"IF(Masterblatt!A786=\"\",\"\",Masterblatt!A786)","v":785},null,{"$f":"IF(AND(Masterblatt!B786=\"\",Masterblatt!C786=\"\"),\"\",Masterblatt!B786 & \" \" & Masterblatt!C786)","v":""},null,null,null,null,null,null,null,null,null,null,null,null,null,null,{"$f":"IF(Masterblatt!F786=\"\",\"\",Masterblatt!F786)","v":""}]
[{"$f":"IF(Masterblatt!A787=\"\",\"\",Masterblatt!A787)","v":786},null,{"$f":"IF(AND(Masterblatt!B787=\"\",Masterblatt!C787=\"\"),\"\",Masterblatt!B787 & \" \" & Masterblatt!C787)","v":""},null,null,null,null,null,null,null,null,null,null,null,null,null,null,{"$f":"IF(Masterblatt!F787=\"\",\"\",Masterblatt!F787)","v":""}]
[{"$f":"IF(Masterblatt!A788=\"\",\"\",Masterblatt!A788)","v":787},null,{"$f":"IF(AND(Masterblatt!B788=\"\",Masterblatt!C788=\"\"),\"\",Masterblatt!B788 & \" \" & Masterblatt!C788)","v":""},null,null,null,null,null,null,null,null,null,null,null,null,null,null,{"$f":"IF(Masterblatt!F788=\"\",\"\",Masterblatt!F788)","v":""}]
[{"$f":"IF(Masterblatt!A789=\"\",\"\",Masterblatt!A789)","v":788},null,{"$f":"IF(AND(Masterblatt!B789=\"\",Masterblatt!C789=\"\"),\"\",Masterblatt!B789 & \" \" & Masterblatt!C789)","v":""},null,null,null,null,null,null,null,null,null,null,null,null,null,null,{"$f":"IF(Masterblatt!F789=\"\",\"\",Masterblatt!F789)","v":""}]
[{"$f":"IF(Masterblatt!A790=\"\",\"\",Masterblatt!A790)","v":789},null,{"$f":"IF(AND(Masterblatt!B790=\"\",Masterblatt!C790=\"\"),\"\",Masterblatt!B790 & \" \" & Masterblatt!C790)","v":""},null,null,null,null,null,null,null,null,null,null,null,null,null,null,{"$f":"IF(Masterblatt!F790=\"\",\"\",Masterblatt!F790)","v":""}]
[{"$f":"IF(Masterblatt!A791=\"\",\"\",Masterblatt!A791)","v":790},null,{"$f":"IF(AND(Masterblatt!B791=\"\",Masterblatt!C791=\"\"),\"\",Masterblatt!B791 & \" \" & Masterblatt!C791)","v":""},null,null,null,null,null,null,null,null,null,null,null,null,null,null,{"$f":"IF(Masterblatt!F791=\"\",\"\",Masterblatt!F791)","v":""}]
[{"$f":"IF(Masterblatt!A792=\"\",\"\",Masterblatt!A792)","v":791},null,{"$f":"IF(AND(Masterblatt!B792=\"\",Masterblatt!C792=\"\"),\"\",Masterblatt!B792 & \" \" & Masterblatt!C792)","v":""},null,null,null,null,null,null,null,null,null,null,null,null,null,null,{"$f":"IF(Masterblatt!F792=\"\",\"\",Masterblatt!F792)","v":""}]
[{"$f":"IF(Masterblatt!A793=\"\",\"\",Masterblatt!A793)","v":792},null,{"$f":"IF(AND(Masterblatt!B793=\"\",Masterblatt!C793=\"\"),\"\",Masterblatt!B793 & \" \" & Masterblatt!C793)","v":""},null,null,null,null,null,null,null,null,null,null,null,null,null,null,{"$f":"IF(Masterblatt!F793=\"\",\"\",Masterblatt!F793)","v":""}]
[{"$f":"IF(Masterblatt!A794=\"\",\"\",Masterblatt!A794)","v":793},null,{"$f":"IF(AND(Masterblatt!B794=\"\",Masterblatt!C794=\"\"),\"\",Masterblatt!B794 & \" \" & Masterblatt!C794)","v":""},null,null,null,null,null,null,null,null,null,null,null,null,null,null,{"$f":"IF(Masterblatt!F794=\"\",\"\",Masterblatt!F794)","v":""}]
[{"$f":"IF(Masterblatt!A795=\"\",\"\",Masterblatt!A795)","v":794},null,{"$f":"IF(AND(Masterblatt!B795=\"\",Masterblatt!C795=\"\"),\"\",Masterblatt!B795 & \" \" & Masterblatt!C795)","v":""},null,null,null,null,null,null,null,null,null,null,null,null,null,null,{"$f":"IF(Masterblatt!F795=\"\",\"\",Masterblatt!F795)","v":""}]
[{"$f":"IF(Masterblatt!A796=\"\",\"\",Masterblatt!A796)","v":795},null,{"$f":"IF(AND(Masterblatt!B796=\"\",Masterblatt!C796=\"\"),\"\",Masterblatt!B796 & \" \" & Masterblatt!C796)","v":""},null,null,null,null,null,null,null,null,null,null,null,null,null,null,{"$f":"IF(Masterblatt!F796=\"\",\"\",Masterblatt!F796)","v":""}]
[{"$f":"IF(Masterblatt!A797=\"\",\"\",Masterblatt!A797)","v":796},null,{"$f":"IF(AND(Masterblatt!B797=\"\",Masterblatt!C797=\"\"),\"\",Masterblatt!B797 & \" \" & Masterblatt!C797)","v":""},null,null,null,null,null,null,null,null,null,null,null,null,null,null,{"$f":"IF(Masterblatt!F797=\"\",\"\",Masterblatt!F797)","v":""}]
[{"$f":"IF(Masterblatt!A798=\"\",\"\",Masterblatt!A798)","v":797},null,{"$f":"IF(AND(Masterblatt!B798=\"\",Masterblatt!C798=\"\"),\"\",Masterblatt!B798 & \" \" & Masterblatt!C798)","v":""},null,null,null,null,null,null,null,null,null,null,null,null,null,null,{"$f":"IF(Masterblatt!F798=\"\",\"\",Masterblatt!F798)","v":""}]
[{"$f":"IF(Masterblatt!A799=\"\",\"\",Masterblatt!A799)","v":798},null,{"$f":"IF(AND(Masterblatt!B799=\"\",Masterblatt!C799=\"\"),\"\",Masterblatt!B799 & \" \" & Masterblatt!C799)","v":""},null,null,null,null,null,null,null,null,null,null,null,null,null,null,{"$f":"IF(Masterblatt!F799=\"\",\"\",Masterblatt!F799)","v":""}]
[{"$f":"IF(Masterblatt!A800=\"\",\"\",Masterblatt!A800)","v":799},null,{"$f":"IF(AND(Masterblatt!B800=\"\",Masterblatt!C800=\"\"),\"\",Masterblatt!B800 & \" \" & Masterblatt!C800)","v":""},null,null,null,null,null,null,null,null,null,null,null,null,null,null,{"$f":"IF(Masterblatt!F800=\"\",\"\",Masterblatt!F800)","v":""}]
[{"$f":"IF(Masterblatt!A801=\"\",\"\",Masterblatt!A801)","v":800},null,{"$f":"IF(AND(Masterblatt!B801=\"\",Masterblatt!C801=\"\"),\"\",Masterblatt!B801 & \" \" & Masterblatt!C801)","v":""},null,null,null,null,null,null,null,null,null,null,null,null,null,null,{"$f":"IF(Masterblatt!F801=\"\",\"\",Masterblatt!F801)","v":""}]
[{"$f":"IF(Masterblatt!A802=\"\",\"\",Masterblatt!A802)","v":801},null,{"$f":"IF(AND(Masterblatt!B802=\"\",Masterblatt!C802=\"\"),\"\",Masterblatt!B802 & \" \" & Masterblatt!C802)","v":""},null,null,null,null,null,null,null,null,null,null,null,null,null,null,{"$f":"IF(Masterblatt!F802=\"\",\"\",Masterblatt!F802)","v":""}]
[{"$f":"IF(Masterblatt!A803=\"\",\"\",Masterblatt!A803)","v":802},null,{"$f":"IF(AND(Masterblatt!B803=\"\",Masterblatt!C803=\"\"),\"\",Masterblatt!B803 & \" \" & Masterblatt!C803)","v":""},null,null,null,null,null,null,null,null,null,null,null,null,null,null,{"$f":"IF(Masterblatt!F803=\"\",\"\",Masterblatt!F803)","v":""}]
[{"$f":"IF(Masterblatt!A804=\"\",\"\",Masterblatt!A804)","v":803},null,{"$f":"IF(AND(Masterblatt!B804=\"\",Masterblatt!C804=\"\"),\"\",Masterblatt!B804 & \" \" & Masterblatt!C804)","v":""},null,null,null,null,null,null,null,null,null,null,null,null,null,null,{"$f":"IF(Masterblatt!F804=\"\",\"\",Masterblatt!F804)","v":""}]
[{"$f":"IF(Masterblatt!A805=\"\",\"\",Masterblatt!A805)","v":804},null,{"$f":"IF(AND(Masterblatt!B805=\"\",Masterblatt!C805=\"\"),\"\",Masterblatt!B805 & \" \" & Masterblatt!C805)","v":""},null,null,null,null,null,null,null,null,null,null,null,null,null,null,{"$f":"IF(Masterblatt!F805=\"\",\"\",Masterblatt!F805)","v":""}]
[{"$f":"IF(Masterblatt!A806=\"\",\"\",Masterblatt!A806)","v":805},null,{"$f":"IF(AND(Masterblatt!B806=\"\",Masterblatt!C806=\"\"),\"\",Masterblatt!B806 & \" \" & Masterblatt!C806)","v":""},null,null,null,null,null,null,null,null,null,null,null,null,null,null,{"$f":"IF(Masterblatt!F806=\"\",\"\",Masterblatt!F806)","v":""}]
[{"$f":"IF(Masterblatt!A807=\"\",\"\",Masterblatt!A807)","v":806},null,{"$f":"IF(AND(Masterblatt!B807=\"\",Masterblatt!C807=\"\"),\"\",Masterblatt!B807 & \" \" & Masterblatt!C807)","v":""},null,null,null,null,null,null,null,null,null,null,null,null,null,null,{"$f":"IF(Masterblatt!F807=\"\",\"\",Masterblatt!F807)","v":""}]
[{"$f":"IF(Masterblatt!A808=\"\",\"\",Masterblatt!A808)","v":807},null,{"$f":"IF(AND(Masterblatt!B808=\"\",Masterblatt!C808=\"\"),\"\",Masterblatt!B808 & \" \" & Masterblatt!C808)","v":""},null,null,null,null,null,null,null,null,null,null,null,null,null,null,{"$f":"IF(Masterblatt!F808=\"\",\"\",Masterblatt!F808)","v":""}]
[{"$f":"IF(Masterblatt!A809=\"\",\"\",Masterblatt!A809)","v":808},null,{"$f":"IF(AND(Masterblatt!B809=\"\",Masterblatt!C809=\"\"),\"\",Masterblatt!B809 & \" \" & Masterblatt!C809)","v":""},null,null,null,null,null,null,null,null,null,null,null,null,null,null,{"$f":"IF(Masterblatt!F809=\"\",\"\",Masterblatt!F809)","v":""}]
[{"$f":"IF(Masterblatt!A810=\"\",\"\",Masterblatt!A810)","v":809},null,{"$f":"IF(AND(Masterblatt!B810=\"\",Masterblatt!C810=\"\"),\"\",Masterblatt!B810 & \" \" & Masterblatt!C810)","v":""},null,null,null,null,null,null,null,null,null,null,null,null,null,null,{"$f":"IF(Masterblatt!F810=\"\",\"\",Masterblatt!F810)","v":""}]
[{"$f":"IF(Masterblatt!A811=\"\",\"\",Masterblatt!A811)","v":810},null,{"$f":"IF(AND(Masterblatt!B811=\"\",Masterblatt!C811=\"\"),\"\",Masterblatt!B811 & \" \" & Masterblatt!C811)","v":""},null,null,null,null,null,null,null,null,null,null,null,null,null,null,{"$f":"IF(Masterblatt!F811=\"\",\"\",Masterblatt!F811)","v":""}]
[{"$f":"IF(Masterblatt!A812=\"\",\"\",Masterblatt!A812)","v":811},null,{"$f":"IF(AND(Masterblatt!B812=\"\",Masterblatt!C812=\"\"),\"\",Masterblatt!B812 & \" \" & Masterblatt!C812)","v":""},null,null,null,null,null,null,null,null,null,null,null,null,null,null,{"$f":"IF(Masterblatt!F812=\"\",\"\",Masterblatt!F812)","v":""}]
[{"$f":"IF(Masterblatt!A813=\"\",\"\",Masterblatt!A813)","v":812},null,{"$f":"IF(AND(Masterblatt!B813=\"\",Masterblatt!C813=\"\"),\"\",Masterblatt!B813 & \" \" & Masterblatt!C813)","v":""},null,null,null,null,null,null,null,null,null,null,null,null,null,null,{"$f":"IF(Masterblatt!F813=\"\",\"\",Masterblatt!F813)","v":""}]
[{"$f":"IF(Masterblatt!A814=\"\",\"\",Masterblatt!A814)","v":813},null,{"$f":"IF(AND(Masterblatt!B814=\"\",Masterblatt!C814=\"\"),\"\",Masterblatt!B814 & \" \" & Masterblatt!C814)","v":""},null,null,null,null,null,null,null,null,null,null,null,null,null,null,{"$f":"IF(Masterblatt!F814=\"\",\"\",Masterblatt!F814)","v":""}]
[{"$f":"IF(Masterblatt!A815=\"\",\"\",Masterblatt!A815)","v":814},null,{"$f":"IF(AND(Masterblatt!B815=\"\",Masterblatt!C815=\"\"),\"\",Masterblatt!B815 & \" \" & Masterblatt!C815)","v":""},null,null,null,null,null,null,null,null,null,null,null,null,null,null,{"$f":"IF(Masterblatt!F815=\"\",\"\",Masterblatt!F815)","v":""}]
[{"$f":"IF(Masterblatt!A816=\"\",\"\",Masterblatt!A816)","v":815},null,{"$f":"IF(AND(Masterblatt!B816=\"\",Masterblatt!C816=\"\"),\"\",Masterblatt!B816 & \" \" & Masterblatt!C816)","v":""},null,null,null,null,null,null,null,null,null,null,null,null,null,null,{"$f":"IF(Masterblatt!F816=\"\",\"\",Masterblatt!F816)","v":""}]
[{"$f":"IF(Masterblatt!A817=\"\",\"\",Masterblatt!A817)","v":816},null,{"$f":"IF(AND(Masterblatt!B817=\"\",Masterblatt!C817=\"\"),\"\",Masterblatt!B817 & \" \" & Masterblatt!C817)","v":""},null,null,null,null,null,null,null,null,null,null,null,null,null,null,{"$f":"IF(Masterblatt!F817=\"\",\"\",Masterblatt!F817)","v":""}]
[{"$f":"IF(Masterblatt!A818=\"\",\"\",Masterblatt!A818)","v":817},null,{"$f":"IF(AND(Masterblatt!B818=\"\",Masterblatt!C818=\"\"),\"\",Masterblatt!B818 & \" \" & Masterblatt!C818)","v":""},null,null,null,null,null,null,null,null,null,null,null,null,null,null,{"$f":"IF(Masterblatt!F818=\"\",\"\",Masterblatt!F818)","v":""}]
[{"$f":"IF(Masterblatt!A819=\"\",\"\",Masterblatt!A819)","v":818},null,{"$f":"IF(AND(Masterblatt!B819=\"\",Masterblatt!C819=\"\"),\"\",Masterblatt!B819 & \" \" & Masterblatt!C819)","v":""},null,null,null,null,null,null,null,null,null,null,null,null,null,null,{"$f":"IF(Masterblatt!F819=\"\",\"\",Masterblatt!F819)","v":""}]
[{"$f":"IF(Masterblatt!A820=\"\",\"\",Masterblatt!A820)","v":819},null,{"$f":"IF(AND(Masterblatt!B820=\"\",Masterblatt!C820=\"\"),\"\",Masterblatt!B820 & \" \" & Masterblatt!C820)","v":""},null,null,null,null,null,null,null,null,null,null,null,null,null,null,{"$f":"IF(Masterblatt!F820=\"\",\"\",Masterblatt!F820)","v":""}]
[{"$f":"IF(Masterblatt!A821=\"\",\"\",Masterblatt!A821)","v":820},null,{"$f":"IF(AND(Masterblatt!B821=\"\",Masterblatt!C821=\"\"),\"\",Masterblatt!B821 & \" \" & Masterblatt!C821)","v":""},null,null,null,null,null,null,null,null,null,null,null,null,null,null,{"$f":"IF(Masterblatt!F821=\"\",\"\",Masterblatt!F821)","v":""}]
[{"$f":"IF(Masterblatt!A822=\"\",\"\",Masterblatt!A822)","v":821},null,{"$f":"IF(AND(Masterblatt!B822=\"\",Masterblatt!C822=\"\"),\"\",Masterblatt!B822 & \" \" & Masterblatt!C822)","v":""},null,null,null,null,null,null,null,null,null,null,null,null,null,null,{"$f":"IF(Masterblatt!F822=\"\",\"\",Masterblatt!F822)","v":""}]
[{"$f":"IF(Masterblatt!A823=\"\",\"\",Masterblatt!A823)","v":822},null,{"$f":"IF(AND(Masterblatt!B823=\"\",Masterblatt!C823=\"\"),\"\",Masterblatt!B823 & \" \" & Masterblatt!C823)","v":""},null,null,null,null,null,null,null,null,null,null,null,null,null,null,{"$f":"IF(Masterblatt!F823=\"\",\"\",Masterblatt!F823)","v":""}]
[{"$f":"IF(Masterblatt!A824=\"\",\"\",Masterblatt!A824)","v":823},null,{"$f":"IF(AND(Masterblatt!B824=\"\",Masterblatt!C824=\"\"),\"\",Masterblatt!B824 & \" \" & Masterblatt!C824)","v":""},null,null,null,null,null,null,null,null,null,null,null,null,null,null,{"$f":"IF(Masterblatt!F824=\"\",\"\",Masterblatt!F824)","v":""}]
[{"$f":"IF(Masterblatt!A825=\"\",\"\",Masterblatt!A825)","v":824},null,{"$f":"IF(AND(Masterblatt!B825=\"\",Masterblatt!C825=\"\"),\"\",Masterblatt!B825 & \" \" & Masterblatt!C825)","v":""},null,null,null,null,null,null,null,null,null,null,null,null,null,null,{"$f":"IF(Masterblatt!F825=\"\",\"\",Masterblatt!F825)","v":""}]
[{"$f":"IF(Masterblatt!A826=\"\",\"\",Masterblatt!A826)","v":825},null,{"$f":"IF(AND(Masterblatt!B826=\"\",Masterblatt!C826=\"\"),\"\",Masterblatt!B826 & \" \" & Masterblatt!C826)","v":""},null,null,null,null,null,null,null,null,null,null,null,null,null,null,{"$f":"IF(Masterblatt!F826=\"\",\"\",Masterblatt!F826)","v":""}]
[{"$f":"IF(Masterblatt!A827=\"\",\"\",Masterblatt!A827)","v":826},null,{"$f":"IF(AND(Masterblatt!B827=\"\",Masterblatt!C827=\"\"),\"\",Masterblatt!B827 & \" \" & Masterblatt!C827)","v":""},null,null,null,null,null,null,null,null,null,null,null,null,null,null,{"$f":"IF(Masterblatt!F827=\"\",\"\",Masterblatt!F827)","v":""}]
[{"$f":"IF(Masterblatt!A828=\"\",\"\",Masterblatt!A828)","v":827},null,{"$f":"IF(AND(Masterblatt!B828=\"\",Masterblatt!C828=\"\"),\"\",Masterblatt!B828 & \" \" & Masterblatt!C828)","v":""},null,null,null,null,null,null,null,null,null,null,null,null,null,null,{"$f":"IF(Masterblatt!F828=\"\",\"\",Masterblatt!F828)","v":""}]
[{"$f":"IF(Masterblatt!A829=\"\",\"\",Masterblatt!A829)","v":828},null,{"$f":"IF(AND(Masterblatt!B829=\"\",Masterblatt!C829=\"\"),\"\",Masterblatt!B829 & \" \" & Masterblatt!C829)","v":""},null,null,null,null,null,null,null,null,null,null,null,null,null,null,{"$f":"IF(Masterblatt!F829=\"\",\"\",Masterblatt!F829)","v":""}]
[{"$f":"IF(Masterblatt!A830=\"\",\"\",Masterblatt!A830)","v":829},null,{"$f":"IF(AND(Masterblatt!B830=\"\",Masterblatt!C830=\"\"),\"\",Masterblatt!B830 & \" \" & Masterblatt!C830)","v":""},null,null,null,null,null,null,null,null,null,null,null,null,null,null,{"$f":"IF(Masterblatt!F830=\"\",\"\",Masterblatt!F830)","v":""}]
[{"$f":"IF(Masterblatt!A831=\"\",\"\",Masterblatt!A831)","v":830},null,{"$f":"IF(AND(Masterblatt!B831=\"\",Masterblatt!C831=\"\"),\"\",Masterblatt!B831 & \" \" & Masterblatt!C831)","v":""},null,null,null,null,null,null,null,null,null,null,null,null,null,null,{"$f":"IF(Masterblatt!F831=\"\",\"\",Masterblatt!F831)","v":""}]
[{"$f":"IF(Masterblatt!A832=\"\",\"\",Masterblatt!A832)","v":831},null,{"$f":"IF(AND(Masterblatt!B832=\"\",Masterblatt!C832=\"\"),\"\",Masterblatt!B832 & \" \" & Masterblatt!C832)","v":""},null,null,null,null,null,null,null,null,null,null,null,null,null,null,{"$f":"IF(Masterblatt!F832=\"\",\"\",Masterblatt!F832)","v":""}]
[{"$f":"IF(Masterblatt!A833=\"\",\"\",Masterblatt!A833)","v":832},null,{"$f":"IF(AND(Masterblatt!B833=\"\",Masterblatt!C833=\"\"),\"\",Masterblatt!B833 & \" \" & Masterblatt!C833)","v":""},null,null,null,null,null,null,null,null,null,null,null,null,null,null,{"$f":"IF(Masterblatt!F833=\"\",\"\",Masterblatt!F833)","v":""}]
[{"$f":"IF(Masterblatt!A834=\"\",\"\",Masterblatt!A834)","v":833},null,{"$f":"IF(AND(Masterblatt!B834=\"\",Masterblatt!C834=\"\"),\"\",Masterblatt!B834 & \" \" & Masterblatt!C834)","v":""},null,null,null,null,null,null,null,null,null,null,null,null,null,null,{"$f":"IF(Masterblatt!F834=\"\",\"\",Masterblatt!F834)","v":""}]
[{"$f":"IF(Masterblatt!A835=\"\",\"\",Masterblatt!A835)","v":834},null,{"$f":"IF(AND(Masterblatt!B835=\"\",Masterblatt!C835=\"\"),\"\",Masterblatt!B835 & \" \" & Masterblatt!C835)","v":""},null,null,null,null,null,null,null,null,null,null,null,null,null,null,{"$f":"IF(Masterblatt!F835=\"\",\"\",Masterblatt!F835)","v":""}]
[{"$f":"IF(Masterblatt!A836=\"\",\"\",Masterblatt!A836)","v":835},null,{"$f":"IF(AND(Masterblatt!B836=\"\",Masterblatt!C836=\"\"),\"\",Masterblatt!B836 & \" \" & Masterblatt!C836)","v":""},null,null,null,null,null,null,null,null,null,null,null,null,null,null,{"$f":"IF(Masterblatt!F836=\"\",\"\",Masterblatt!F836)","v":""}]
[{"$f":"IF(Masterblatt!A837=\"\",\"\",Masterblatt!A837)","v":836},null,{"$f":"IF(AND(Masterblatt!B837=\"\",Masterblatt!C837=\"\"),\"\",Masterblatt!B837 & \" \" & Masterblatt!C837)","v":""},null,null,null,null,null,null,null,null,null,null,null,null,null,null,{"$f":"IF(Masterblatt!F837=\"\",\"\",Masterblatt!F837)","v":""}]
[{"$f":"IF(Masterblatt!A838=\"\",\"\",Masterblatt!A838)","v":837},null,{"$f":"IF(AND(Masterblatt!B838=\"\",Masterblatt!C838=\"\"),\"\",Masterblatt!B838 & \" \" & Masterblatt!C838)","v":""},null,null,null,null,null,null,null,null,null,null,null,null,null,null,{"$f":"IF(Masterblatt!F838=\"\",\"\",Masterblatt!F838)","v":""}]
[{"$f":"IF(Masterblatt!A839=\"\",\"\",Masterblatt!A839)","v":838},null,{"$f":"IF(AND(Masterblatt!B839=\"\",Masterblatt!C839=\"\"),\"\",Masterblatt!B839 & \" \" & Masterblatt!C839)","v":""},null,null,null,null,null,null,null,null,null,null,null,null,null,null,{"$f":"IF(Masterblatt!F839=\"\",\"\",Masterblatt!F839)","v":""}]
[{"$f":"IF(Masterblatt!A840=\"\",\"\",Masterblatt!A840)","v":839},null,{"$f":"IF(AND(Masterblatt!B840=\"\",Masterblatt!C840=\"\"),\"\",Masterblatt!B840 & \" \" & Masterblatt!C840)","v":""},null,null,null,null,null,null,null,null,null,null,null,null,null,null,{"$f":"IF(Masterblatt!F840=\"\",\"\",Masterblatt!F840)","v":""}]
[{"$f":"IF(Masterblatt!A841=\"\",\"\",Masterblatt!A841)","v":840},null,{"$f":"IF(AND(Masterblatt!B841=\"\",Masterblatt!C841=\"\"),\"\",Masterblatt!B841 & \" \" & Masterblatt!C841)","v":""},null,null,null,null,null,null,null,null,null,null,null,null,null,null,{"$f":"IF(Masterblatt!F841=\"\",\"\",Masterblatt!F841)","v":""}]
[{"$f":"IF(Masterblatt!A842=\"\",\"\",Masterblatt!A842)","v":841},null,{"$f":"IF(AND(Masterblatt!B842=\"\",Masterblatt!C842=\"\"),\"\",Masterblatt!B842 & \" \" & Masterblatt!C842)","v":""},null,null,null,null,null,null,null,null,null,null,null,null,null,null,{"$f":"IF(Masterblatt!F842=\"\",\"\",Masterblatt!F842)","v":""}]
[{"$f":"IF(Masterblatt!A843=\"\",\"\",Masterblatt!A843)","v":842},null,{"$f":"IF(AND(Masterblatt!B843=\"\",Masterblatt!C843=\"\"),\"\",Masterblatt!B843 & \" \" & Masterblatt!C843)","v":""},null,null,null,null,null,null,null,null,null,null,null,null,null,null,{"$f":"IF(Masterblatt!F843=\"\",\"\",Masterblatt!F843)","v":""}]
[{"$f":"IF(Masterblatt!A844=\"\",\"\",Masterblatt!A844)","v":843},null,{"$f":"IF(AND(Masterblatt!B844=\"\",Masterblatt!C844=\"\"),\"\",Masterblatt!B844 & \" \" & Masterblatt!C844)","v":""},null,null,null,null,null,null,null,null,null,null,null,null,null,null,{"$f":"IF(Masterblatt!F844=\"\",\"\",Masterblatt!F844)","v":""}]
[{"$f":"IF(Masterblatt!A845=\"\",\"\",Masterblatt!A845)","v":844},null,{"$f":"IF(AND(Masterblatt!B845=\"\",Masterblatt!C845=\"\"),\"\",Masterblatt!B845 & \" \" & Masterblatt!C845)","v":""},null,null,null,null,null,null,null,null,null,null,null,null,null,null,{"$f":"IF(Masterblatt!F845=\"\",\"\",Masterblatt!F845)","v":""}]
[{"$f":"IF(Masterblatt!A846=\"\",\"\",Masterblatt!A846)","v":845},null,{"$f":"IF(AND(Masterblatt!B846=\"\",Masterblatt!C846=\"\"),\"\",Masterblatt!B846 & \" \" & Masterblatt!C846)","v":""},null,null,null,null,null,null,null,null,null,null,null,null,null,null,{"$f":"IF(Masterblatt!F846=\"\",\"\",Masterblatt!F846)","v":""}]
[{"$f":"IF(Masterblatt!A847=\"\",\"\",Masterblatt!A847)","v":846},null,{"$f":"IF(AND(Masterblatt!B847=\"\",Masterblatt!C847=\"\"),\"\",Masterblatt!B847 & \" \" & Masterblatt!C847)","v":""},null,null,null,null,null,null,null,null,null,null,null,null,null,null,{"$f":"IF(Masterblatt!F847=\"\",\"\",Masterblatt!F847)","v":""}]
[{"$f":"IF(Masterblatt!A848=\"\",\"\",Masterblatt!A848)","v":847},null,{"$f":"IF(AND(Masterblatt!B848=\"\",Masterblatt!C848=\"\"),\"\",Masterblatt!B848 & \" \" & Masterblatt!C848)","v":""},null,null,null,null,null,null,null,null,null,null,null,null,null,null,{"$f":"IF(Masterblatt!F848=\"\",\"\",Masterblatt!F848)","v":""}]
[{"$f":"IF(Masterblatt!A849=\"\",\"\",Masterblatt!A849)","v":848},null,{"$f":"IF(AND(Masterblatt!B849=\"\",Masterblatt!C849=\"\"),\"\",Masterblatt!B849 & \" \" & Masterblatt!C849)","v":""},null,null,null,null,null,null,null,null,null,null,null,null,null,null,{"$f":"IF(Masterblatt!F849=\"\",\"\",Masterblatt!F849)","v":""}]
[{"$f":"IF(Masterblatt!A850=\"\",\"\",Masterblatt!A850)","v":849},null,{"$f":"IF(AND(Masterblatt!B850=\"\",Masterblatt!C850=\"\"),\"\",Masterblatt!B850 & \" \" & Masterblatt!C850)","v":""},null,null,null,null,null,null,null,null,null,null,null,null,null,null,{"$f":"IF(Masterblatt!F850=\"\",\"\",Masterblatt!F850)","v":""}]
[{"$f":"IF(Masterblatt!A851=\"\",\"\",Masterblatt!A851)","v":850},null,{"$f":"IF(AND(Masterblatt!B851=\"\",Masterblatt!C851=\"\"),\"\",Masterblatt!B851 & \" \" & Masterblatt!C851)","v":""},null,null,null,null,null,null,null,null,null,null,null,null,null,null,{"$f":"IF(Masterblatt!F851=\"\",\"\",Masterblatt!F851)","v":""}]
[{"$f":"IF(Masterblatt!A852=\"\",\"\",Masterblatt!A852)","v":851},null,{"$f":"IF(AND(Masterblatt!B852=\"\",Masterblatt!C852=\"\"),\"\",Masterblatt!B852 & \" \" & Masterblatt!C852)","v":""},null,null,null,null,null,null,null,null,null,null,null,null,null,null,{"$f":"IF(Masterblatt!F852=\"\",\"\",Masterblatt!F852)","v":""}]
[{"$f":"IF(Masterblatt!A853=\"\",\"\",Masterblatt!A853)","v":852},null,{"$f":"IF(AND(Masterblatt!B853=\"\",Masterblatt!C853=\"\"),\"\",Masterblatt!B853 & \" \" & Masterblatt!C853)","v":""},null,null,null,null,null,null,null,null,null,null,null,null,null,null,{"$f":"IF(Masterblatt!F853=\"\",\"\",Masterblatt!F853)","v":""}]
[{"$f":"IF(Masterblatt!A854=\"\",\"\",Masterblatt!A854)","v":853},null,{"$f":"IF(AND(Masterblatt!B854=\"\",Masterblatt!C854=\"\"),\"\",Masterblatt!B854 & \" \" & Masterblatt!C854)","v":""},null,null,null,null,null,null,null,null,null,null,null,null,null,null,{"$f":"IF(Masterblatt!F854=\"\",\"\",Masterblatt!F854)","v":""}]
[{"$f":"IF(Masterblatt!A855=\"\",\"\",Masterblatt!A855)","v":854},null,{"$f":"IF(AND(Masterblatt!B855=\"\",Masterblatt!C855=\"\"),\"\",Masterblatt!B855 & \" \" & Masterblatt!C855)","v":""},null,null,null,null,null,null,null,null,null,null,null,null,null,null,{"$f":"IF(Masterblatt!F855=\"\",\"\",Masterblatt!F855)","v":""}]
[{"$f":"IF(Masterblatt!A856=\"\",\"\",Masterblatt!A856)","v":855},null,{"$f":"IF(AND(Masterblatt!B856=\"\",Masterblatt!C856=\"\"),\"\",Masterblatt!B856 & \" \" & Masterblatt!C856)","v":""},null,null,null,null,null,null,null,null,null,null,null,null,null,null,{"$f":"IF(Masterblatt!F856=\"\",\"\",Masterblatt!F856)","v":""}]
[{"$f":"IF(Masterblatt!A857=\"\",\"\",Masterblatt!A857)","v":856},null,{"$f":"IF(AND(Masterblatt!B857=\"\",Masterblatt!C857=\"\"),\"\",Masterblatt!B857 & \" \" & Masterblatt!C857)","v":""},null,null,null,null,null,null,null,null,null,null,null,null,null,null,{"$f":"IF(Masterblatt!F857=\"\",\"\",Masterblatt!F857)","v":""}]
[{"$f":"IF(Masterblatt!A858=\"\",\"\",Masterblatt!A858)","v":857},null,{"$f":"IF(AND(Masterblatt!B858=\"\",Masterblatt!C858=\"\"),\"\",Masterblatt!B858 & \" \" & Masterblatt!C858)","v":""},null,null,null,null,null,null,null,null,null,null,null,null,null,null,{"$f":"IF(Masterblatt!F858=\"\",\"\",Masterblatt!F858)","v":""}]
[{"$f":"IF(Masterblatt!A859=\"\",\"\",Masterblatt!A859)","v":858},null,{"$f":"IF(AND(Masterblatt!B859=\"\",Masterblatt!C859=\"\"),\"\",Masterblatt!B859 & \" \" & Masterblatt!C859)","v":""},null,null,null,null,null,null,null,null,null,null,null,null,null,null,{"$f":"IF(Masterblatt!F859=\"\",\"\",Masterblatt!F859)","v":""}]
[{"$f":"IF(Masterblatt!A860=\"\",\"\",Masterblatt!A860)","v":859},null,{"$f":"IF(AND(Masterblatt!B860=\"\",Masterblatt!C860=\"\"),\"\",Masterblatt!B860 & \" \" & Masterblatt!C860)","v":""},null,null,null,null,null,null,null,null,null,null,null,null,null,null,{"$f":"IF(Masterblatt!F860=\"\",\"\",Masterblatt!F860)","v":""}]
[{"$f":"IF(Masterblatt!A861=\"\",\"\",Masterblatt!A861)","v":860},null,{"$f":"IF(AND(Masterblatt!B861=\"\",Masterblatt!C861=\"\"),\"\",Masterblatt!B861 & \" \" & Masterblatt!C861)","v":""},null,null,null,null,null,null,null,null,null,null,null,null,null,null,{"$f":"IF(Masterblatt!F861=\"\",\"\",Masterblatt!F861)","v":""}]
[{"$f":"IF(Masterblatt!A862=\"\",\"\",Masterblatt!A862)","v":861},null,{"$f":"IF(AND(Masterblatt!B862=\"\",Masterblatt!C862=\"\"),\"\",Masterblatt!B862 & \" \" & Masterblatt!C862)","v":""},null,null,null,null,null,null,null,null,null,null,null,null,null,null,{"$f":"IF(Masterblatt!F862=\"\",\"\",Masterblatt!F862)","v":""}]
[{"$f":"IF(Masterblatt!A863=\"\",\"\",Masterblatt!A863)","v":862},null,{"$f":"IF(AND(Masterblatt!B863=\"\",Masterblatt!C863=\"\"),\"\",Masterblatt!B863 & \" \" & Masterblatt!C863)","v":""},null,null,null,null,null,null,null,null,null,null,null,null,null,null,{"$f":"IF(Masterblatt!F863=\"\",\"\",Masterblatt!F863)","v":""}]
[{"$f":"IF(Masterblatt!A864=\"\",\"\",Masterblatt!A864)","v":863},null,{"$f":"IF(AND(Masterblatt!B864=\"\",Masterblatt!C864=\"\"),\"\",Masterblatt!B864 & \" \" & Masterblatt!C864)","v":""},null,null,null,null,null,null,null,null,null,null,null,null,null,null,{"$f":"IF(Masterblatt!F864=\"\",\"\",Masterblatt!F864)","v":""}]
[{"$f":"IF(Masterblatt!A865=\"\",\"\",Masterblatt!A865)","v":864},null,{"$f":"IF(AND(Masterblatt!B865=\"\",Masterblatt!C865=\"\"),\"\",Masterblatt!B865 & \" \" & Masterblatt!C865)","v":""},null,null,null,null,null,null,null,null,null,null,null,null,null,null,{"$f":"IF(Masterblatt!F865=\"\",\"\",Masterblatt!F865)","v":""}]
[{"$f":"IF(Masterblatt!A866=\"\",\"\",Masterblatt!A866)","v":865},null,{"$f":"IF(AND(Masterblatt!B866=\"\",Masterblatt!C866=\"\"),\"\",Masterblatt!B866 & \" \" & Masterblatt!C866)","v":""},null,null,null,null,null,null,null,null,null,null,null,null,null,null,{"$f":"IF(Masterblatt!F866=\"\",\"\",Masterblatt!F866)","v":""}]
[{"$f":"IF(Masterblatt!A867=\"\",\"\",Masterblatt!A867)","v":866},null,{"$f":"IF(AND(Masterblatt!B867=\"\",Masterblatt!C867=\"\"),\"\",Masterblatt!B867 & \" \" & Masterblatt!C867)","v":""},null,null,null,null,null,null,null,null,null,null,null,null,null,null,{"$f":"IF(Masterblatt!F867=\"\",\"\",Masterblatt!F867)","v":""}]
[{"$f":"IF(Masterblatt!A868=\"\",\"\",Masterblatt!A868)","v":867},null,{"$f":"IF(AND(Masterblatt!B868=\"\",Masterblatt!C868=\"\"),\"\",Masterblatt!B868 & \" \" & Masterblatt!C868)","v":""},null,null,null,null,null,null,null,null,null,null,null,null,null,null,{"$f":"IF(Masterblatt!F868=\"\",\"\",Masterblatt!F868)","v":""}]
[{"$f":"IF(Masterblatt!A869=\"\",\"\",Masterblatt!A869)","v":868},null,{"$f":"IF(AND(Masterblatt!B869=\"\",Masterblatt!C869=\"\"),\"\",Masterblatt!B869 & \" \" & Masterblatt!C869)","v":""},null,null,null,null,null,null,null,null,null,null,null,null,null,null,{"$f":"IF(Masterblatt!F869=\"\",\"\",Masterblatt!F869)","v":""}]
[{"$f":"IF(Masterblatt!A870=\"\",\"\",Masterblatt!A870)","v":869},null,{"$f":"IF(AND(Masterblatt!B870=\"\",Masterblatt!C870=\"\"),\"\",Masterblatt!B870 & \" \" & Masterblatt!C870)","v":""},null,null,null,null,null,null,null,null,null,null,null,null,null,null,{"$f":"IF(Masterblatt!F870=\"\",\"\",Masterblatt!F870)","v":""}]
[{"$f":"IF(Masterblatt!A871=\"\",\"\",Masterblatt!A871)","v":870},null,{"$f":"IF(AND(Masterblatt!B871=\"\",Masterblatt!C871=\"\"),\"\",Masterblatt!B871 & \" \" & Masterblatt!C871)","v":""},null,null,null,null,null,null,null,null,null,null,null,null,null,null,{"$f":"IF(Masterblatt!F871=\"\",\"\",Masterblatt!F871)","v":""}]
[{"$f":"IF(Masterblatt!A872=\"\",\"\",Masterblatt!A872)","v":871},null,{"$f":"IF(AND(Masterblatt!B872=\"\",Masterblatt!C872=\"\"),\"\",Masterblatt!B872 & \" \" & Masterblatt!C872)","v":""},null,null,null,null,null,null,null,null,null,null,null,null,null,null,{"$f":"IF(Masterblatt!F872=\"\",\"\",Masterblatt!F872)","v":""}]
[{"$f":"IF(Masterblatt!A873=\"\",\"\",Masterblatt!A873)","v":872},null,{"$f":"IF(AND(Masterblatt!B873=\"\",Masterblatt!C873=\"\"),\"\",Masterblatt!B873 & \" \" & Masterblatt!C873)","v":""},null,null,null,null,null,null,null,null,null,null,null,null,null,null,{"$f":"IF(Masterblatt!F873=\"\",\"\",Masterblatt!F873)","v":""}]
[{"$f":"IF(Masterblatt!A874=\"\",\"\",Masterblatt!A874)","v":873},null,{"$f":"IF(AND(Masterblatt!B874=\"\",Masterblatt!C874=\"\"),\"\",Masterblatt!B874 & \" \" & Masterblatt!C874)","v":""},null,null,null,null,null,null,null,null,null,null,null,null,null,null,{"$f":"IF(Masterblatt!F874=\"\",\"\",Masterblatt!F874)","v":""}]
[{"$f":"IF(Masterblatt!A875=\"\",\"\",Masterblatt!A875)","v":874},null,{"$f":"IF(AND(Masterblatt!B875=\"\",Masterblatt!C875=\"\"),\"\",Masterblatt!B875 & \" \" & Masterblatt!C875)","v":""},null,null,null,null,null,null,null,null,null,null,null,null,null,null,{"$f":"IF(Masterblatt!F875=\"\",\"\",Masterblatt!F875)","v":""}]
[{"$f":"IF(Masterblatt!A876=\"\",\"\",Masterblatt!A876)","v":875},null,{"$f":"IF(AND(Masterblatt!B876=\"\",Masterblatt!C876=\"\"),\"\",Masterblatt!B876 & \" \" & Masterblatt!C876)","v":""},null,null,null,null,null,null,null,null,null,null,null,null,null,null,{"$f":"IF(Masterblatt!F876=\"\",\"\",Masterblatt!F876)","v":""}]
[{"$f":"IF(Masterblatt!A877=\"\",\"\",Masterblatt!A877)","v":876},null,{"$f":"IF(AND(Masterblatt!B877=\"\",Masterblatt!C877=\"\"),\"\",Masterblatt!B877 & \" \" & Masterblatt!C877)","v":""},null,null,null,null,null,null,null,null,null,null,null,null,null,null,{"$f":"IF(Masterblatt!F877=\"\",\"\",Masterblatt!F877)","v":""}]
[{"$f":"IF(Masterblatt!A878=\"\",\"\",Masterblatt!A878)","v":877},null,{"$f":"IF(AND(Masterblatt!B878=\"\",Masterblatt!C878=\"\"),\"\",Masterblatt!B878 & \" \" & Masterblatt!C878)","v":""},null,null,null,null,null,null,null,null,null,null,null,null,null,null,{"$f":"IF(Masterblatt!F878=\"\",\"\",Masterblatt!F878)","v":""}]
[{"$f":"IF(Masterblatt!A879=\"\",\"\",Masterblatt!A879)","v":878},null,{"$f":"IF(AND(Masterblatt!B879=\"\",Masterblatt!C879=\"\"),\"\",Masterblatt!B879 & \" \" & Masterblatt!C879)","v":""},null,null,null,null,null,null,null,null,null,null,null,null,null,null,{"$f":"IF(Masterblatt!F879=\"\",\"\",Masterblatt!F879)","v":""}]
[{"$f":"IF(Masterblatt!A880=\"\",\"\",Masterblatt!A880)","v":879},null,{"$f":"IF(AND(Masterblatt!B880=\"\",Masterblatt!C880=\"\"),\"\",Masterblatt!B880 & \" \" & Masterblatt!C880)","v":""},null,null,null,null,null,null,null,null,null,null,null,null,null,null,{"$f":"IF(Masterblatt!F880=\"\",\"\",Masterblatt!F880)","v":""}]
[{"$f":"IF(Masterblatt!A881=\"\",\"\",Masterblatt!A881)","v":880},null,{"$f":"IF(AND(Masterblatt!B881=\"\",Masterblatt!C881=\"\"),\"\",Masterblatt!B881 & \" \" & Masterblatt!C881)","v":""},null,null,null,null,null,null,null,null,null,null,null,null,null,null,{"$f":"IF(Masterblatt!F881=\"\",\"\",Masterblatt!F881)","v":""}]
[{"$f":"IF(Masterblatt!A882=\"\",\"\",Masterblatt!A882)","v":881},null,{"$f":"IF(AND(Masterblatt!B882=\"\",Masterblatt!C882=\"\"),\"\",Masterblatt!B882 & \" \" & Masterblatt!C882)","v":""},null,null,null,null,null,null,null,null,null,null,null,null,null,null,{"$f":"IF(Masterblatt!F882=\"\",\"\",Masterblatt!F882)","v":""}]
[{"$f":"IF(Masterblatt!A883=\"\",\"\",Masterblatt!A883)","v":882},null,{"$f":"IF(AND(Masterblatt!B883=\"\",Masterblatt!C883=\"\"),\"\",Masterblatt!B883 & \" \" & Masterblatt!C883)","v":""},null,null,null,null,null,null,null,null,null,null,null,null,null,null,{"$f":"IF(Masterblatt!F883=\"\",\"\",Masterblatt!F883)","v":""}]
[{"$f":"IF(Masterblatt!A884=\"\",\"\",Masterblatt!A884)","v":883},null,{"$f":"IF(AND(Masterblatt!B884=\"\",Masterblatt!C884=\"\"),\"\",Masterblatt!B884 & \" \" & Masterblatt!C884)","v":""},null,null,null,null,null,null,null,null,null,null,null,null,null,null,{"$f":"IF(Masterblatt!F884=\"\",\"\",Masterblatt!F884)","v":""}]
[{"$f":"IF(Masterblatt!A885=\"\",\"\",Masterblatt!A885)","v":884},null,{"$f":"IF(AND(Masterblatt!B885=\"\",Masterblatt!C885=\"\"),\"\",Masterblatt!B885 & \" \" & Masterblatt!C885)","v":""},null,null,null,null,null,null,null,null,null,null,null,null,null,null,{"$f":"IF(Masterblatt!F885=\"\",\"\",Masterblatt!F885)","v":""}]
[{"$f":"IF(Masterblatt!A886=\"\",\"\",Masterblatt!A886)","v":885},null,{"$f":"IF(AND(Masterblatt!B886=\"\",Masterblatt!C886=\"\"),\"\",Masterblatt!B886 & \" \" & Masterblatt!C886)","v":""},null,null,null,null,null,null,null,null,null,null,null,null,null,null,{"$f":"IF(Masterblatt!F886=\"\",\"\",Masterblatt!F886)","v":""}]
[{"$f":"IF(Masterblatt!A887=\"\",\"\",Masterblatt!A887)","v":886},null,{"$f":"IF(AND(Masterblatt!B887=\"\",Masterblatt!C887=\"\"),\"\",Masterblatt!B887 & \" \" & Masterblatt!C887)","v":""},null,null,null,null,null,null,null,null,null,null,null,null,null,null,{"$f":"IF(Masterblatt!F887=\"\",\"\",Masterblatt!F887)","v":""}]
[{"$f":"IF(Masterblatt!A888=\"\",\"\",Masterblatt!A888)","v":887},null,{"$f":"IF(AND(Masterblatt!B888=\"\",Masterblatt!C888=\"\"),\"\",Masterblatt!B888 & \" \" & Masterblatt!C888)","v":""},null,null,null,null,null,null,null,null,null,null,null,null,null,null,{"$f":"IF(Masterblatt!F888=\"\",\"\",Masterblatt!F888)","v":""}]
[{"$f":"IF(Masterblatt!A889=\"\",\"\",Masterblatt!A889)","v":888},null,{"$f":"IF(AND(Masterblatt!B889=\"\",Masterblatt!C889=\"\"),\"\",Masterblatt!B889 & \" \" & Masterblatt!C889)","v":""},null,null,null,null,null,null,null,null,null,null,null,null,null,null,{"$f":"IF(Masterblatt!F889=\"\",\"\",Masterblatt!F889)","v":""}]
[{"$f":"IF(Masterblatt!A890=\"\",\"\",Masterblatt!A890)","v":889},null,{"$f":"IF(AND(Masterblatt!B890=\"\",Masterblatt!C890=\"\"),\"\",Masterblatt!B890 & \" \" & Masterblatt!C890)","v":""},null,null,null,null,null,null,null,null,null,null,null,null,null,null,{"$f":"IF(Masterblatt!F890=\"\",\"\",Masterblatt!F890)","v":""}]
[{"$f":"IF(Masterblatt!A891=\"\",\"\",Masterblatt!A891)","v":890},null,{"$f":"IF(AND(Masterblatt!B891=\"\",Masterblatt!C891=\"\"),\"\",Masterblatt!B891 & \" \" & Masterblatt!C891)","v":""},null,null,null,null,null,null,null,null,null,null,null,null,null,null,{"$f":"IF(Masterblatt!F891=\"\",\"\",Masterblatt!F891)","v":""}]
[{"$f":"IF(Masterblatt!A892=\"\",\"\",Masterblatt!A892)","v":891},null,{"$f":"IF(AND(Masterblatt!B892=\"\",Masterblatt!C892=\"\"),\"\",Masterblatt!B892 & \" \" & Masterblatt!C892)","v":""},null,null,null,null,null,null,null,null,null,null,null,null,null,null,{"$f":"IF(Masterblatt!F892=\"\",\"\",Masterblatt!F892)","v":""}]
[{"$f":"IF(Masterblatt!A893=\"\",\"\",Masterblatt!A893)","v":892},null,{"$f":"IF(AND(Masterblatt!B893=\"\",Masterblatt!C893=\"\"),\"\",Masterblatt!B893 & \" \" & Masterblatt!C893)","v":""},null,null,null,null,null,null,null,null,null,null,null,null,null,null,{"$f":"IF(Masterblatt!F893=\"\",\"\",Masterblatt!F893)","v":""}]
[{"$f":"IF(Masterblatt!A894=\"\",\"\",Masterblatt!A894)","v":893},null,{"$f":"IF(AND(Masterblatt!B894=\"\",Masterblatt!C894=\"\"),\"\",Masterblatt!B894 & \" \" & Masterblatt!C894)","v":""},null,null,null,null,null,null,null,null,null,null,null,null,null,null,{"$f":"IF(Masterblatt!F894=\"\",\"\",Masterblatt!F894)","v":""}]
[{"$f":"IF(Masterblatt!A895=\"\",\"\",Masterblatt!A895)","v":894},null,{"$f":"IF(AND(Masterblatt!B895=\"\",Masterblatt!C895=\"\"),\"\",Masterblatt!B895 & \" \" & Masterblatt!C895)","v":""},null,null,null,null,null,null,null,null,null,null,null,null,null,null,{"$f":"IF(Masterblatt!F895=\"\",\"\",Masterblatt!F895)","v":""}]
[{"$f":"IF(Masterblatt!A896=\"\",\"\",Masterblatt!A896)","v":895},null,{"$f":"IF(AND(Masterblatt!B896=\"\",Masterblatt!C896=\"\"),\"\",Masterblatt!B896 & \" \" & Masterblatt!C896)","v":""},null,null,null,null,null,null,null,null,null,null,null,null,null,null,{"$f":"IF(Masterblatt!F896=\"\",\"\",Masterblatt!F896)","v":""}]
[{"$f":"IF(Masterblatt!A897=\"\",\"\",Masterblatt!A897)","v":896},null,{"$f":"IF(AND(Masterblatt!B897=\"\",Masterblatt!C897=\"\"),\"\",Masterblatt!B897 & \" \" & Masterblatt!C897)","v":""},null,null,null,null,null,null,null,null,null,null,null,null,null,null,{"$f":"IF(Masterblatt!F897=\"\",\"\",Masterblatt!F897)","v":""}]
[{"$f":"IF(Masterblatt!A898=\"\",\"\",Masterblatt!A898)","v":897},null,{"$f":"IF(AND(Masterblatt!B898=\"\",Masterblatt!C898=\"\"),\"\",Masterblatt!B898 & \" \" & Masterblatt!C898)","v":""},null,null,null,null,null,null,null,null,null,null,null,null,null,null,{"$f":"IF(Masterblatt!F898=\"\",\"\",Masterblatt!F898)","v":""}]
[{"$f":"IF(Masterblatt!A899=\"\",\"\",Masterblatt!A899)","v":898},null,{"$f":"IF(AND(Masterblatt!B899=\"\",Masterblatt!C899=\"\"),\"\",Masterblatt!B899 & \" \" & Masterblatt!C899)","v":""},null,null,null,null,null,null,null,null,null,null,null,null,null,null,{"$f":"IF(Masterblatt!F899=\"\",\"\",Masterblatt!F899)","v":""}]
[{"$f":"IF(Masterblatt!A900=\"\",\"\",Masterblatt!A900)","v":899},null,{"$f":"IF(AND(Masterblatt!B900=\"\",Masterblatt!C900=\"\"),\"\",Masterblatt!B900 & \" \" & Masterblatt!C900)","v":""},null,null,null,null,null,null,null,null,null,null,null,null,null,null,{"$f":"IF(Masterblatt!F900=\"\",\"\",Masterblatt!F900)","v":""}]
[{"$f":"IF(Masterblatt!A901=\"\",\"\",Masterblatt!A901)","v":900},null,{"$f":"IF(AND(Masterblatt!B901=\"\",Masterblatt!C901=\"\"),\"\",Masterblatt!B901 & \" \" & Masterblatt!C901)","v":""},null,null,null,null,null,null,null,null,null,null,null,null,null,null,{"$f":"IF(Masterblatt!F901=\"\",\"\",Masterblatt!F901)","v":""}]
[{"$f":"IF(Masterblatt!A902=\"\",\"\",Masterblatt!A902)","v":901},null,{"$f":"IF(AND(Masterblatt!B902=\"\",Masterblatt!C902=\"\"),\"\",Masterblatt!B902 & \" \" & Masterblatt!C902)","v":""},null,null,null,null,null,null,null,null,null,null,null,null,null,null,{"$f":"IF(Masterblatt!F902=\"\",\"\",Masterblatt!F902)","v":""}]
[{"$f":"IF(Masterblatt!A903=\"\",\"\",Masterblatt!A903)","v":902},null,{"$f":"IF(AND(Masterblatt!B903=\"\",Masterblatt!C903=\"\"),\"\",Masterblatt!B903 & \" \" & Masterblatt!C903)","v":""},null,null,null,null,null,null,null,null,null,null,null,null,null,null,{"$f":"IF(Masterblatt!F903=\"\",\"\",Masterblatt!F903)","v":""}]
[{"$f":"IF(Masterblatt!A904=\"\",\"\",Masterblatt!A904)","v":903},null,{"$f":"IF(AND(Masterblatt!B904=\"\",Masterblatt!C904=\"\"),\"\",Masterblatt!B904 & \" \" & Masterblatt!C904)","v":""},null,null,null,null,null,null,null,null,null,null,null,null,null,null,{"$f":"IF(Masterblatt!F904=\"\",\"\",Masterblatt!F904)","v":""}]
[{"$f":"IF(Masterblatt!A905=\"\",\"\",Masterblatt!A905)","v":904},null,{"$f":"IF(AND(Masterblatt!B905=\"\",Masterblatt!C905=\"\"),\"\",Masterblatt!B905 & \" \" & Masterblatt!C905)","v":""},null,null,null,null,null,null,null,null,null,null,null,null,null,null,{"$f":"IF(Masterblatt!F905=\"\",\"\",Masterblatt!F905)","v":""}]
[{"$f":"IF(Masterblatt!A906=\"\",\"\",Masterblatt!A906)","v":905},null,{"$f":"IF(AND(Masterblatt!B906=\"\",Masterblatt!C906=\"\"),\"\",Masterblatt!B906 & \" \" & Masterblatt!C906)","v":""},null,null,null,null,null,null,null,null,null,null,null,null,null,null,{"$f":"IF(Masterblatt!F906=\"\",\"\",Masterblatt!F906)","v":""}]
[{"$f":"IF(Masterblatt!A907=\"\",\"\",Masterblatt!A907)","v":906},null,{"$f":"IF(AND(Masterblatt!B907=\"\",Masterblatt!C907=\"\"),\"\",Masterblatt!B907 & \" \" & Masterblatt!C907)","v":""},null,null,null,null,null,null,null,null,null,null,null,null,null,null,{"$f":"IF(Masterblatt!F907=\"\",\"\",Masterblatt!F907)","v":""}]
[{"$f":"IF(Masterblatt!A908=\"\",\"\",Masterblatt!A908)","v":907},null,{"$f":"IF(AND(Masterblatt!B908=\"\",Masterblatt!C908=\"\"),\"\",Masterblatt!B908 & \" \" & Masterblatt!C908)","v":""},null,null,null,null,null,null,null,null,null,null,null,null,null,null,{"$f":"IF(Masterblatt!F908=\"\",\"\",Masterblatt!F908)","v":""}]
[{"$f":"IF(Masterblatt!A909=\"\",\"\",Masterblatt!A909)","v":908},null,{"$f":"IF(AND(Masterblatt!B909=\"\",Masterblatt!C909=\"\"),\"\",Masterblatt!B909 & \" \" & Masterblatt!C909)","v":""},null,null,null,null,null,null,null,null,null,null,null,null,null,null,{"$f":"IF(Masterblatt!F909=\"\",\"\",Masterblatt!F909)","v":""}]
[{"$f":"IF(Masterblatt!A910=\"\",\"\",Masterblatt!A910)","v":909},null,{"$f":"IF(AND(Masterblatt!B910=\"\",Masterblatt!C910=\"\"),\"\",Masterblatt!B910 & \" \" & Masterblatt!C910)","v":""},null,null,null,null,null,null,null,null,null,null,null,null,null,null,{"$f":"IF(Masterblatt!F910=\"\",\"\",Masterblatt!F910)","v":""}]
[{"$f":"IF(Masterblatt!A911=\"\",\"\",Masterblatt!A911)","v":910},null,{"$f":"IF(AND(Masterblatt!B911=\"\",Masterblatt!C911=\"\"),\"\",Masterblatt!B911 & \" \" & Masterblatt!C911)","v":""},null,null,null,null,null,null,null,null,null,null,null,null,null,null,{"$f":"IF(Masterblatt!F911=\"\",\"\",Masterblatt!F911)","v":""}]
[{"$f":"IF(Masterblatt!A912=\"\",\"\",Masterblatt!A912)","v":911},null,{"$f":"IF(AND(Masterblatt!B912=\"\",Masterblatt!C912=\"\"),\"\",Masterblatt!B912 & \" \" & Masterblatt!C912)","v":""},null,null,null,null,null,null,null,null,null,null,null,null,null,null,{"$f":"IF(Masterblatt!F912=\"\",\"\",Masterblatt!F912)","v":""}]
[{"$f":"IF(Masterblatt!A913=\"\",\"\",Masterblatt!A913)","v":912},null,{"$f":"IF(AND(Masterblatt!B913=\"\",Masterblatt!C913=\"\"),\"\",Masterblatt!B913 & \" \" & Masterblatt!C913)","v":""},null,null,null,null,null,null,null,null,null,null,null,null,null,null,{"$f":"IF(Masterblatt!F913=\"\",\"\",Masterblatt!F913)","v":""}]
[{"$f":"IF(Masterblatt!A914=\"\",\"\",Masterblatt!A914)","v":913},null,{"$f":"IF(AND(Masterblatt!B914=\"\",Masterblatt!C914=\"\"),\"\",Masterblatt!B914 & \" \" & Masterblatt!C914)","v":""},null,null,null,null,null,null,null,null,null,null,null,null,null,null,{"$f":"IF(Masterblatt!F914=\"\",\"\",Masterblatt!F914)","v":""}]
[{"$f":"IF(Masterblatt!A915=\"\",\"\",Masterblatt!A915)","v":914},null,{"$f":"IF(AND(Masterblatt!B915=\"\",Masterblatt!C915=\"\"),\"\",Masterblatt!B915 & \" \" & Masterblatt!C915)","v":""},null,null,null,null,null,null,null,null,null,null,null,null,null,null,{"$f":"IF(Masterblatt!F915=\"\",\"\",Masterblatt!F915)","v":""}]
[{"$f":"IF(Masterblatt!A916=\"\",\"\",Masterblatt!A916)","v":915},null,{"$f":"IF(AND(Masterblatt!B916=\"\",Masterblatt!C916=\"\"),\"\",Masterblatt!B916 & \" \" & Masterblatt!C916)","v":""},null,null,null,null,null,null,null,null,null,null,null,null,null,null,{"$f":"IF(Masterblatt!F916=\"\",\"\",Masterblatt!F916)","v":""}]
[{"$f":"IF(Masterblatt!A917=\"\",\"\",Masterblatt!A917)","v":916},null,{"$f":"IF(AND(Masterblatt!B917=\"\",Masterblatt!C917=\"\"),\"\",Masterblatt!B917 & \" \" & Masterblatt!C917)","v":""},null,null,null,null,null,null,null,null,null,null,null,null,null,null,{"$f":"IF(Masterblatt!F917=\"\",\"\",Masterblatt!F917)","v":""}]
[{"$f":"IF(Masterblatt!A918=\"\",\"\",Masterblatt!A918)","v":917},null,{"$f":"IF(AND(Masterblatt!B918=\"\",Masterblatt!C918=\"\"),\"\",Masterblatt!B918 & \" \" & Masterblatt!C918)","v":""},null,null,null,null,null,null,null,null,null,null,null,null,null,null,{"$f":"IF(Masterblatt!F918=\"\",\"\",Masterblatt!F918)","v":""}]
[{"$f":"IF(Masterblatt!A919=\"\",\"\",Masterblatt!A919)","v":918},null,{"$f":"IF(AND(Masterblatt!B919=\"\",Masterblatt!C919=\"\"),\"\",Masterblatt!B919 & \" \" & Masterblatt!C919)","v":""},null,null,null,null,null,null,null,null,null,null,null,null,null,null,{"$f":"IF(Masterblatt!F919=\"\",\"\",Masterblatt!F919)","v":""}]
[{"$f":"IF(Masterblatt!A920=\"\",\"\",Masterblatt!A920)","v":919},null,{"$f":"IF(AND(Masterblatt!B920=\"\",Masterblatt!C920=\"\"),\"\",Masterblatt!B920 & \" \" & Masterblatt!C920)","v":""},null,null,null,null,null,null,null,null,null,null,null,null,null,null,{"$f":"IF(Masterblatt!F920=\"\",\"\",Masterblatt!F920)","v":""}]
[{"$f":"IF(Masterblatt!A921=\"\",\"\",Masterblatt!A921)","v":920},null,{"$f":"IF(AND(Masterblatt!B921=\"\",Masterblatt!C921=\"\"),\"\",Masterblatt!B921 & \" \" & Masterblatt!C921)","v":""},null,null,null,null,null,null,null,null,null,null,null,null,null,null,{"$f":"IF(Masterblatt!F921=\"\",\"\",Masterblatt!F921)","v":""}]
[{"$f":"IF(Masterblatt!A922=\"\",\"\",Masterblatt!A922)","v":921},null,{"$f":"IF(AND(Masterblatt!B922=\"\",Masterblatt!C922=\"\"),\"\",Masterblatt!B922 & \" \" & Masterblatt!C922)","v":""},null,null,null,null,null,null,null,null,null,null,null,null,null,null,{"$f":"IF(Masterblatt!F922=\"\",\"\",Masterblatt!F922)","v":""}]
[{"$f":"IF(Masterblatt!A923=\"\",\"\",Masterblatt!A923)","v":922},null,{"$f":"IF(AND(Masterblatt!B923=\"\",Masterblatt!C923=\"\"),\"\",Masterblatt!B923 & \" \" & Masterblatt!C923)","v":""},null,null,null,null,null,null,null,null,null,null,null,null,null,null,{"$f":"IF(Masterblatt!F923=\"\",\"\",Masterblatt!F923)","v":""}]
[{"$f":"IF(Masterblatt!A924=\"\",\"\",Masterblatt!A924)","v":923},null,{"$f":"IF(AND(Masterblatt!B924=\"\",Masterblatt!C924=\"\"),\"\",Masterblatt!B924 & \" \" & Masterblatt!C924)","v":""},null,null,null,null,null,null,null,null,null,null,null,null,null,null,{"$f":"IF(Masterblatt!F924=\"\",\"\",Masterblatt!F924)","v":""}]
[{"$f":"IF(Masterblatt!A925=\"\",\"\",Masterblatt!A925)","v":924},null,{"$f":"IF(AND(Masterblatt!B925=\"\",Masterblatt!C925=\"\"),\"\",Masterblatt!B925 & \" \" & Masterblatt!C925)","v":""},null,null,null,null,null,null,null,null,null,null,null,null,null,null,{"$f":"IF(Masterblatt!F925=\"\",\"\",Masterblatt!F925)","v":""}]
[{"$f":"IF(Masterblatt!A926=\"\",\"\",Masterblatt!A926)","v":925},null,{"$f":"IF(AND(Masterblatt!B926=\"\",Masterblatt!C926=\"\"),\"\",Masterblatt!B926 & \" \" & Masterblatt!C926)","v":""},null,null,null,null,null,null,null,null,null,null,null,null,null,null,{"$f":"IF(Masterblatt!F926=\"\",\"\",Masterblatt!F926)","v":""}]
[{"$f":"IF(Masterblatt!A927=\"\",\"\",Masterblatt!A927)","v":926},null,{"$f":"IF(AND(Masterblatt!B927=\"\",Masterblatt!C927=\"\"),\"\",Masterblatt!B927 & \" \" & Masterblatt!C927)","v":""},null,null,null,null,null,null,null,null,null,null,null,null,null,null,{"$f":"IF(Masterblatt!F927=\"\",\"\",Masterblatt!F927)","v":""}]
[{"$f":"IF(Masterblatt!A928=\"\",\"\",Masterblatt!A928)","v":927},null,{"$f":"IF(AND(Masterblatt!B928=\"\",Masterblatt!C928=\"\"),\"\",Masterblatt!B928 & \" \" & Masterblatt!C928)","v":""},null,null,null,null,null,null,null,null,null,null,null,null,null,null,{"$f":"IF(Masterblatt!F928=\"\",\"\",Masterblatt!F928)","v":""}]
[{"$f":"IF(Masterblatt!A929=\"\",\"\",Masterblatt!A929)","v":928},null,{"$f":"IF(AND(Masterblatt!B929=\"\",Masterblatt!C929=\"\"),\"\",Masterblatt!B929 & \" \" & Masterblatt!C929)","v":""},null,null,null,null,null,null,null,null,null,null,null,null,null,null,{"$f":"IF(Masterblatt!F929=\"\",\"\",Masterblatt!F929)","v":""}]
[{"$f":"IF(Masterblatt!A930=\"\",\"\",Masterblatt!A930)","v":929},null,{"$f":"IF(AND(Masterblatt!B930=\"\",Masterblatt!C930=\"\"),\"\",Masterblatt!B930 & \" \" & Masterblatt!C930)","v":""},null,null,null,null,null,null,null,null,null,null,null,null,null,null,{"$f":"IF(Masterblatt!F930=\"\",\"\",Masterblatt!F930)","v":""}]
[{"$f":"IF(Masterblatt!A931=\"\",\"\",Masterblatt!A931)","v":930},null,{"$f":"IF(AND(Masterblatt!B931=\"\",Masterblatt!C931=\"\"),\"\",Masterblatt!B931 & \" \" & Masterblatt!C931)","v":""},null,null,null,null,null,null,null,null,null,null,null,null,null,null,{"$f":"IF(Masterblatt!F931=\"\",\"\",Masterblatt!F931)","v":""}]
[{"$f":"IF(Masterblatt!A932=\"\",\"\",Masterblatt!A932)","v":931},null,{"$f":"IF(AND(Masterblatt!B932=\"\",Masterblatt!C932=\"\"),\"\",Masterblatt!B932 & \" \" & Masterblatt!C932)","v":""},null,null,null,null,null,null,null,null,null,null,null,null,null,null,{"$f":"IF(Masterblatt!F932=\"\",\"\",Masterblatt!F932)","v":""}]
[{"$f":"IF(Masterblatt!A933=\"\",\"\",Masterblatt!A933)","v":932},null,{"$f":"IF(AND(Masterblatt!B933=\"\",Masterblatt!C933=\"\"),\"\",Masterblatt!B933 & \" \" & Masterblatt!C933)","v":""},null,null,null,null,null,null,null,null,null,null,null,null,null,null,{"$f":"IF(Masterblatt!F933=\"\",\"\",Masterblatt!F933)","v":""}]
[{"$f":"IF(Masterblatt!A934=\"\",\"\",Masterblatt!A934)","v":933},null,{"$f":"IF(AND(Masterblatt!B934=\"\",Masterblatt!C934=\"\"),\"\",Masterblatt!B934 & \" \" & Masterblatt!C934)","v":""},null,null,null,null,null,null,null,null,null,null,null,null,null,null,{"$f":"IF(Masterblatt!F934=\"\",\"\",Masterblatt!F934)","v":""}]
[{"$f":"IF(Masterblatt!A935=\"\",\"\",Masterblatt!A935)","v":934},null,{"$f":"IF(AND(Masterblatt!B935=\"\",Masterblatt!C935=\"\"),\"\",Masterblatt!B935 & \" \" & Masterblatt!C935)","v":""},null,null,null,null,null,null,null,null,null,null,null,null,null,null,{"$f":"IF(Masterblatt!F935=\"\",\"\",Masterblatt!F935)","v":""}]
[{"$f":"IF(Masterblatt!A936=\"\",\"\",Masterblatt!A936)","v":935},null,{"$f":"IF(AND(Masterblatt!B936=\"\",Masterblatt!C936=\"\"),\"\",Masterblatt!B936 & \" \" & Masterblatt!C936)","v":""},null,null,null,null,null,null,null,null,null,null,null,null,null,null,{"$f":"IF(Masterblatt!F936=\"\",\"\",Masterblatt!F936)","v":""}]
[{"$f":"IF(Masterblatt!A937=\"\",\"\",Masterblatt!A937)","v":936},null,{"$f":"IF(AND(Masterblatt!B937=\"\",Masterblatt!C937=\"\"),\"\",Masterblatt!B937 & \" \" & Masterblatt!C937)","v":""},null,null,null,null,null,null,null,null,null,null,null,null,null,null,{"$f":"IF(Masterblatt!F937=\"\",\"\",Masterblatt!F937)","v":""}]
[{"$f":"IF(Masterblatt!A938=\"\",\"\",Masterblatt!A938)","v":937},null,{"$f":"IF(AND(Masterblatt!B938=\"\",Masterblatt!C938=\"\"),\"\",Masterblatt!B938 & \" \" & Masterblatt!C938)","v":""},null,null,null,null,null,null,null,null,null,null,null,null,null,null,{"$f":"IF(Masterblatt!F938=\"\",\"\",Masterblatt!F938)","v":""}]
[{"$f":"IF(Masterblatt!A939=\"\",\"\",Masterblatt!A939)","v":938},null,{"$f":"IF(AND(Masterblatt!B939=\"\",Masterblatt!C939=\"\"),\"\",Masterblatt!B939 & \" \" & Masterblatt!C939)","v":""},null,null,null,null,null,null,null,null,null,null,null,null,null,null,{"$f":"IF(Masterblatt!F939=\"\",\"\",Masterblatt!F939)","v":""}]
[{"$f":"IF(Masterblatt!A940=\"\",\"\",Masterblatt!A940)","v":939},null,{"$f":"IF(AND(Masterblatt!B940=\"\",Masterblatt!C940=\"\"),\"\",Masterblatt!B940 & \" \" & Masterblatt!C940)","v":""},null,null,null,null,null,null,null,null,null,null,null,null,null,null,{"$f":"IF(Masterblatt!F940=\"\",\"\",Masterblatt!F940)","v":""}]
[{"$f":"IF(Masterblatt!A941=\"\",\"\",Masterblatt!A941)","v":940},null,{"$f":"IF(AND(Masterblatt!B941=\"\",Masterblatt!C941=\"\"),\"\",Masterblatt!B941 & \" \" & Masterblatt!C941)","v":""},null,null,null,null,null,null,null,null,null,null,null,null,null,null,{"$f":"IF(Masterblatt!F941=\"\",\"\",Masterblatt!F941)","v":""}]
[{"$f":"IF(Masterblatt!A942=\"\",\"\",Masterblatt!A942)","v":941},null,{"$f":"IF(AND(Masterblatt!B942=\"\",Masterblatt!C942=\"\"),\"\",Masterblatt!B942 & \" \" & Masterblatt!C942)","v":""},null,null,null,null,null,null,null,null,null,null,null,null,null,null,{"$f":"IF(Masterblatt!F942=\"\",\"\",Masterblatt!F942)","v":""}]
[{"$f":"IF(Masterblatt!A943=\"\",\"\",Masterblatt!A943)","v":942},null,{"$f":"IF(AND(Masterblatt!B943=\"\",Masterblatt!C943=\"\"),\"\",Masterblatt!B943 & \" \" & Masterblatt!C943)","v":""},null,null,null,null,null,null,null,null,null,null,null,null,null,null,{"$f":"IF(Masterblatt!F943=\"\",\"\",Masterblatt!F943)","v":""}]
[{"$f":"IF(Masterblatt!A944=\"\",\"\",Masterblatt!A944)","v":943},null,{"$f":"IF(AND(Masterblatt!B944=\"\",Masterblatt!C944=\"\"),\"\",Masterblatt!B944 & \" \" & Masterblatt!C944)","v":""},null,null,null,null,null,null,null,null,null,null,null,null,null,null,{"$f":"IF(Masterblatt!F944=\"\",\"\",Masterblatt!F944)","v":""}]
[{"$f":"IF(Masterblatt!A945=\"\",\"\",Masterblatt!A945)","v":944},null,{"$f":"IF(AND(Masterblatt!B945=\"\",Masterblatt!C945=\"\"),\"\",Masterblatt!B945 & \" \" & Masterblatt!C945)","v":""},null,null,null,null,null,null,null,null,null,null,null,null,null,null,{"$f":"IF(Masterblatt!F945=\"\",\"\",Masterblatt!F945)","v":""}]
[{"$f":"IF(Masterblatt!A946=\"\",\"\",Masterblatt!A946)","v":945},null,{"$f":"IF(AND(Masterblatt!B946=\"\",Masterblatt!C946=\"\"),\"\",Masterblatt!B946 & \" \" & Masterblatt!C946)","v":""},null,null,null,null,null,null,null,null,null,null,null,null,null,null,{"$f":"IF(Masterblatt!F946=\"\",\"\",Masterblatt!F946)","v":""}]
[{"$f":"IF(Masterblatt!A947=\"\",\"\",Masterblatt!A947)","v":946},null,{"$f":"IF(AND(Masterblatt!B947=\"\",Masterblatt!C947=\"\"),\"\",Masterblatt!B947 & \" \" & Masterblatt!C947)","v":""},null,null,null,null,null,null,null,null,null,null,null,null,null,null,{"$f":"IF(Masterblatt!F947=\"\",\"\",Masterblatt!F947)","v":""}]
[{"$f":"IF(Masterblatt!A948=\"\",\"\",Masterblatt!A948)","v":947},null,{"$f":"IF(AND(Masterblatt!B948=\"\",Masterblatt!C948=\"\"),\"\",Masterblatt!B948 & \" \" & Masterblatt!C948)","v":""},null,null,null,null,null,null,null,null,null,null,null,null,null,null,{"$f":"IF(Masterblatt!F948=\"\",\"\",Masterblatt!F948)","v":""}]
[{"$f":"IF(Masterblatt!A949=\"\",\"\",Masterblatt!A949)","v":948},null,{"$f":"IF(AND(Masterblatt!B949=\"\",Masterblatt!C949=\"\"),\"\",Masterblatt!B949 & \" \" & Masterblatt!C949)","v":""},null,null,null,null,null,null,null,null,null,null,null,null,null,null,{"$f":"IF(Masterblatt!F949=\"\",\"\",Masterblatt!F949)","v":""}]
[{"$f":"IF(Masterblatt!A950=\"\",\"\",Masterblatt!A950)","v":949},null,{"$f":"IF(AND(Masterblatt!B950=\"\",Masterblatt!C950=\"\"),\"\",Masterblatt!B950 & \" \" & Masterblatt!C950)","v":""},null,null,null,null,null,null,null,null,null,null,null,null,null,null,{"$f":"IF(Masterblatt!F950=\"\",\"\",Masterblatt!F950)","v":""}]
[{"$f":"IF(Masterblatt!A951=\"\",\"\",Masterblatt!A951)","v":950},null,{"$f":"IF(AND(Masterblatt!B951=\"\",Masterblatt!C951=\"\"),\"\",Masterblatt!B951 & \" \" & Masterblatt!C951)","v":""},null,null,null,null,null,null,null,null,null,null,null,null,null,null,{"$f":"IF(Masterblatt!F951=\"\",\"\",Masterblatt!F951)","v":""}]
[{"$f":"IF(Masterblatt!A952=\"\",\"\",Masterblatt!A952)","v":951},null,{"$f":"IF(AND(Masterblatt!B952=\"\",Masterblatt!C952=\"\"),\"\",Masterblatt!B952 & \" \" & Masterblatt!C952)","v":""},null,null,null,null,null,null,null,null,null,null,null,null,null,null,{"$f":"IF(Masterblatt!F952=\"\",\"\",Masterblatt!F952)","v":""}]
[{"$f":"IF(Masterblatt!A953=\"\",\"\",Masterblatt!A953)","v":952},null,{"$f":"IF(AND(Masterblatt!B953=\"\",Masterblatt!C953=\"\"),\"\",Masterblatt!B953 & \" \" & Masterblatt!C953)","v":""},null,null,null,null,null,null,null,null,null,null,null,null,null,null,{"$f":"IF(Masterblatt!F953=\"\",\"\",Masterblatt!F953)","v":""}]
[{"$f":"IF(Masterblatt!A954=\"\",\"\",Masterblatt!A954)","v":953},null,{"$f":"IF(AND(Masterblatt!B954=\"\",Masterblatt!C954=\"\"),\"\",Masterblatt!B954 & \" \" & Masterblatt!C954)","v":""},null,null,null,null,null,null,null,null,null,null,null,null,null,null,{"$f":"IF(Masterblatt!F954=\"\",\"\",Masterblatt!F954)","v":""}]
[{"$f":"IF(Masterblatt!A955=\"\",\"\",Masterblatt!A955)","v":954},null,{"$f":"IF(AND(Masterblatt!B955=\"\",Masterblatt!C955=\"\"),\"\",Masterblatt!B955 & \" \" & Masterblatt!C955)","v":""},null,null,null,null,null,null,null,null,null,null,null,null,null,null,{"$f":"IF(Masterblatt!F955=\"\",\"\",Masterblatt!F955)","v":""}]
[{"$f":"IF(Masterblatt!A956=\"\",\"\",Masterblatt!A956)","v":955},null,{"$f":"IF(AND(Masterblatt!B956=\"\",Masterblatt!C956=\"\"),\"\",Masterblatt!B956 & \" \" & Masterblatt!C956)","v":""},null,null,null,null,null,null,null,null,null,null,null,null,null,null,{"$f":"IF(Masterblatt!F956=\"\",\"\",Masterblatt!F956)","v":""}]
[{"$f":"IF(Masterblatt!A957=\"\",\"\",Masterblatt!A957)","v":956},null,{"$f":"IF(AND(Masterblatt!B957=\"\",Masterblatt!C957=\"\"),\"\",Masterblatt!B957 & \" \" & Masterblatt!C957)","v":""},null,null,null,null,null,null,null,null,null,null,null,null,null,null,{"$f":"IF(Masterblatt!F957=\"\",\"\",Masterblatt!F957)","v":""}]
[{"$f":"IF(Masterblatt!A958=\"\",\"\",Masterblatt!A958)","v":957},null,{"$f":"IF(AND(Masterblatt!B958=\"\",Masterblatt!C958=\"\"),\"\",Masterblatt!B958 & \" \" & Masterblatt!C958)","v":""},null,null,null,null,null,null,null,null,null,null,null,null,null,null,{"$f":"IF(Masterblatt!F958=\"\",\"\",Masterblatt!F958)","v":""}]
[{"$f":"IF(Masterblatt!A959=\"\",\"\",Masterblatt!A959)","v":958},null,{"$f":"IF(AND(Masterblatt!B959=\"\",Masterblatt!C959=\"\"),\"\",Masterblatt!B959 & \" \" & Masterblatt!C959)","v":""},null,null,null,null,null,null,null,null,null,null,null,null,null,null,{"$f":"IF(Masterblatt!F959=\"\",\"\",Masterblatt!F959)","v":""}]
[{"$f":"IF(Masterblatt!A960=\"\",\"\",Masterblatt!A960)","v":959},null,{"$f":"IF(AND(Masterblatt!B960=\"\",Masterblatt!C960=\"\"),\"\",Masterblatt!B960 & \" \" & Masterblatt!C960)","v":""},null,null,null,null,null,null,null,null,null,null,null,null,null,null,{"$f":"IF(Masterblatt!F960=\"\",\"\",Masterblatt!F960)","v":""}]
[{"$f":"IF(Masterblatt!A961=\"\",\"\",Masterblatt!A961)","v":960},null,{"$f":"IF(AND(Masterblatt!B961=\"\",Masterblatt!C961=\"\"),\"\",Masterblatt!B961 & \" \" & Masterblatt!C961)","v":""},null,null,null,null,null,null,null,null,null,null,null,null,null,null,{"$f":"IF(Masterblatt!F961=\"\",\"\",Masterblatt!F961)","v":""}]
[{"$f":"IF(Masterblatt!A962=\"\",\"\",Masterblatt!A962)","v":961},null,{"$f":"IF(AND(Masterblatt!B962=\"\",Masterblatt!C962=\"\"),\"\",Masterblatt!B962 & \" \" & Masterblatt!C962)","v":""},null,null,null,null,null,null,null,null,null,null,null,null,null,null,{"$f":"IF(Masterblatt!F962=\"\",\"\",Masterblatt!F962)","v":""}]
[{"$f":"IF(Masterblatt!A963=\"\",\"\",Masterblatt!A963)","v":962},null,{"$f":"IF(AND(Masterblatt!B963=\"\",Masterblatt!C963=\"\"),\"\",Masterblatt!B963 & \" \" & Masterblatt!C963)","v":""},null,null,null,null,null,null,null,null,null,null,null,null,null,null,{"$f":"IF(Masterblatt!F963=\"\",\"\",Masterblatt!F963)","v":""}]
[{"$f":"IF(Masterblatt!A964=\"\",\"\",Masterblatt!A964)","v":963},null,{"$f":"IF(AND(Masterblatt!B964=\"\",Masterblatt!C964=\"\"),\"\",Masterblatt!B964 & \" \" & Masterblatt!C964)","v":""},null,null,null,null,null,null,null,null,null,null,null,null,null,null,{"$f":"IF(Masterblatt!F964=\"\",\"\",Masterblatt!F964)","v":""}]
[{"$f":"IF(Masterblatt!A965=\"\",\"\",Masterblatt!A965)","v":964},null,{"$f":"IF(AND(Masterblatt!B965=\"\",Masterblatt!C965=\"\"),\"\",Masterblatt!B965 & \" \" & Masterblatt!C965)","v":""},null,null,null,null,null,null,null,null,null,null,null,null,null,null,{"$f":"IF(Masterblatt!F965=\"\",\"\",Masterblatt!F965)","v":""}]
[{"$f":"IF(Masterblatt!A966=\"\",\"\",Masterblatt!A966)","v":965},null,{"$f":"IF(AND(Masterblatt!B966=\"\",Masterblatt!C966=\"\"),\"\",Masterblatt!B966 & \" \" & Masterblatt!C966)","v":""},null,null,null,null,null,null,null,null,null,null,null,null,null,null,{"$f":"IF(Masterblatt!F966=\"\",\"\",Masterblatt!F966)","v":""}]
[{"$f":"IF(Masterblatt!A967=\"\",\"\",Masterblatt!A967)","v":966},null,{"$f":"IF(AND(Masterblatt!B967=\"\",Masterblatt!C967=\"\"),\"\",Masterblatt!B967 & \" \" & Masterblatt!C967)","v":""},null,null,null,null,null,null,null,null,null,null,null,null,null,null,{"$f":"IF(Masterblatt!F967=\"\",\"\",Masterblatt!F967)","v":""}]
[{"$f":"IF(Masterblatt!A968=\"\",\"\",Masterblatt!A968)","v":967},null,{"$f":"IF(AND(Masterblatt!B968=\"\",Masterblatt!C968=\"\"),\"\",Masterblatt!B968 & \" \" & Masterblatt!C968)","v":""},null,null,null,null,null,null,null,null,null,null,null,null,null,null,{"$f":"IF(Masterblatt!F968=\"\",\"\",Masterblatt!F968)","v":""}]
[{"$f":"IF(Masterblatt!A969=\"\",\"\",Masterblatt!A969)","v":968},null,{"$f":"IF(AND(Masterblatt!B969=\"\",Masterblatt!C969=\"\"),\"\",Masterblatt!B969 & \" \" & Masterblatt!C969)","v":""},null,null,null,null,null,null,null,null,null,null,null,null,null,null,{"$f":"IF(Masterblatt!F969=\"\",\"\",Masterblatt!F969)","v":""}]
[{"$f":"IF(Masterblatt!A970=\"\",\"\",Masterblatt!A970)","v":969},null,{"$f":"IF(AND(Masterblatt!B970=\"\",Masterblatt!C970=\"\"),\"\",Masterblatt!B970 & \" \" & Masterblatt!C970)","v":""},null,null,null,null,null,null,null,null,null,null,null,null,null,null,{"$f":"IF(Masterblatt!F970=\"\",\"\",Masterblatt!F970)","v":""}]
[{"$f":"IF(Masterblatt!A971=\"\",\"\",Masterblatt!A971)","v":970},null,{"$f":"IF(AND(Masterblatt!B971=\"\",Masterblatt!C971=\"\"),\"\",Masterblatt!B971 & \" \" & Masterblatt!C971)","v":""},null,null,null,null,null,null,null,null,null,null,null,null,null,null,{"$f":"IF(Masterblatt!F971=\"\",\"\",Masterblatt!F971)","v":""}]
[{"$f":"IF(Masterblatt!A972=\"\",\"\",Masterblatt!A972)","v":971},null,{"$f":"IF(AND(Masterblatt!B972=\"\",Masterblatt!C972=\"\"),\"\",Masterblatt!B972 & \" \" & Masterblatt!C972)","v":""},null,null,null,null,null,null,null,null,null,null,null,null,null,null,{"$f":"IF(Masterblatt!F972=\"\",\"\",Masterblatt!F972)","v":""}]
[{"$f":"IF(Masterblatt!A973=\"\",\"\",Masterblatt!A973)","v":972},null,{"$f":"IF(AND(Masterblatt!B973=\"\",Masterblatt!C973=\"\"),\"\",Masterblatt!B973 & \" \" & Masterblatt!C973)","v":""},null,null,null,null,null,null,null,null,null,null,null,null,null,null,{"$f":"IF(Masterblatt!F973=\"\",\"\",Masterblatt!F973)","v":""}]
[{"$f":"IF(Masterblatt!A974=\"\",\"\",Masterblatt!A974)","v":973},null,{"$f":"IF(AND(Masterblatt!B974=\"\",Masterblatt!C974=\"\"),\"\",Masterblatt!B974 & \" \" & Masterblatt!C974)","v":""},null,null,null,null,null,null,null,null,null,null,null,null,null,null,{"$f":"IF(Masterblatt!F974=\"\",\"\",Masterblatt!F974)","v":""}]
[{"$f":"IF(Masterblatt!A975=\"\",\"\",Masterblatt!A975)","v":974},null,{"$f":"IF(AND(Masterblatt!B975=\"\",Masterblatt!C975=\"\"),\"\",Masterblatt!B975 & \" \" & Masterblatt!C975)","v":""},null,null,null,null,null,null,null,null,null,null,null,null,null,null,{"$f":"IF(Masterblatt!F975=\"\",\"\",Masterblatt!F975)","v":""}]
[{"$f":"IF(Masterblatt!A976=\"\",\"\",Masterblatt!A976)","v":975},null,{"$f":"IF(AND(Masterblatt!B976=\"\",Masterblatt!C976=\"\"),\"\",Masterblatt!B976 & \" \" & Masterblatt!C976)","v":""},null,null,null,null,null,null,null,null,null,null,null,null,null,null,{"$f":"IF(Masterblatt!F976=\"\",\"\",Masterblatt!F976)","v":""}]
[{"$f":"IF(Masterblatt!A977=\"\",\"\",Masterblatt!A977)","v":976},null,{"$f":"IF(AND(Masterblatt!B977=\"\",Masterblatt!C977=\"\"),\"\",Masterblatt!B977 & \" \" & Masterblatt!C977)","v":""},null,null,null,null,null,null,null,null,null,null,null,null,null,null,{"$f":"IF(Masterblatt!F977=\"\",\"\",Masterblatt!F977)","v":""}]
[{"$f":"IF(Masterblatt!A978=\"\",\"\",Masterblatt!A978)","v":977},null,{"$f":"IF(AND(Masterblatt!B978=\"\",Masterblatt!C978=\"\"),\"\",Masterblatt!B978 & \" \" & Masterblatt!C978)","v":""},null,null,null,null,null,null,null,null,null,null,null,null,null,null,{"$f":"IF(Masterblatt!F978=\"\",\"\",Masterblatt!F978)","v":""}]
[{"$f":"IF(Masterblatt!A979=\"\",\"\",Masterblatt!A979)","v":978},null,{"$f":"IF(AND(Masterblatt!B979=\"\",Masterblatt!C979=\"\"),\"\",Masterblatt!B979 & \" \" & Masterblatt!C979)","v":""},null,null,null,null,null,null,null,null,null,null,null,null,null,null,{"$f":"IF(Masterblatt!F979=\"\",\"\",Masterblatt!F979)","v":""}]
[{"$f":"IF(Masterblatt!A980=\"\",\"\",Masterblatt!A980)","v":979},null,{"$f":"IF(AND(Masterblatt!B980=\"\",Masterblatt!C980=\"\"),\"\",Masterblatt!B980 & \" \" & Masterblatt!C980)","v":""},null,null,null,null,null,null,null,null,null,null,null,null,null,null,{"$f":"IF(Masterblatt!F980=\"\",\"\",Masterblatt!F980)","v":""}]
[{"$f":"IF(Masterblatt!A981=\"\",\"\",Masterblatt!A981)","v":980},null,{"$f":"IF(AND(Masterblatt!B981=\"\",Masterblatt!C981=\"\"),\"\",Masterblatt!B981 & \" \" & Masterblatt!C981)","v":""},null,null,null,null,null,null,null,null,null,null,null,null,null,null,{"$f":"IF(Masterblatt!F981=\"\",\"\",Masterblatt!F981)","v":""}]
[{"$f":"IF(Masterblatt!A982=\"\",\"\",Masterblatt!A982)","v":981},null,{"$f":"IF(AND(Masterblatt!B982=\"\",Masterblatt!C982=\"\"),\"\",Masterblatt!B982 & \" \" & Masterblatt!C982)","v":""},null,null,null,null,null,null,null,null,null,null,null,null,null,null,{"$f":"IF(Masterblatt!F982=\"\",\"\",Masterblatt!F982)","v":""}]
[{"$f":"IF(Masterblatt!A983=\"\",\"\",Masterblatt!A983)","v":982},null,{"$f":"IF(AND(Masterblatt!B983=\"\",Masterblatt!C983=\"\"),\"\",Masterblatt!B983 & \" \" & Masterblatt!C983)","v":""},null,null,null,null,null,null,null,null,null,null,null,null,null,null,{"$f":"IF(Masterblatt!F983=\"\",\"\",Masterblatt!F983)","v":""}]
[{"$f":"IF(Masterblatt!A984=\"\",\"\",Masterblatt!A984)","v":983},null,{"$f":"IF(AND(Masterblatt!B984=\"\",Masterblatt!C984=\"\"),\"\",Masterblatt!B984 & \" \" & Masterblatt!C984)","v":""},null,null,null,null,null,null,null,null,null,null,null,null,null,null,{"$f":"IF(Masterblatt!F984=\"\",\"\",Masterblatt!F984)","v":""}]
[{"$f":"IF(Masterblatt!A985=\"\",\"\",Masterblatt!A985)","v":984},null,{"$f":"IF(AND(Masterblatt!B985=\"\",Masterblatt!C985=\"\"),\"\",Masterblatt!B985 & \" \" & Masterblatt!C985)","v":""},null,null,null,null,null,null,null,null,null,null,null,null,null,null,{"$f":"IF(Masterblatt!F985=\"\",\"\",Masterblatt!F985)","v":""}]
[{"$f":"IF(Masterblatt!A986=\"\",\"\",Masterblatt!A986)","v":985},null,{"$f":"IF(AND(Masterblatt!B986=\"\",Masterblatt!C986=\"\"),\"\",Masterblatt!B986 & \" \" & Masterblatt!C986)","v":""},null,null,null,null,null,null,null,null,null,null,null,null,null,null,{"$f":"IF(Masterblatt!F986=\"\",\"\",Masterblatt!F986)","v":""}]
[{"$f":"IF(Masterblatt!A987=\"\",\"\",Masterblatt!A987)","v":986},null,{"$f":"IF(AND(Masterblatt!B987=\"\",Masterblatt!C987=\"\"),\"\",Masterblatt!B987 & \" \" & Masterblatt!C987)","v":""},null,null,null,null,null,null,null,null,null,null,null,null,null,null,{"$f":"IF(Masterblatt!F987=\"\",\"\",Masterblatt!F987)","v":""}]
[{"$f":"IF(Masterblatt!A988=\"\",\"\",Masterblatt!A988)","v":987},null,{"$f":"IF(AND(Masterblatt!B988=\"\",Masterblatt!C988=\"\"),\"\",Masterblatt!B988 & \" \" & Masterblatt!C988)","v":""},null,null,null,null,null,null,null,null,null,null,null,null,null,null,{"$f":"IF(Masterblatt!F988=\"\",\"\",Masterblatt!F988)","v":""}]
[{"$f":"IF(Masterblatt!A989=\"\",\"\",Masterblatt!A989)","v":988},null,{"$f":"IF(AND(Masterblatt!B989=\"\",Masterblatt!C989=\"\"),\"\",Masterblatt!B989 & \" \" & Masterblatt!C989)","v":""},null,null,null,null,null,null,null,null,null,null,null,null,null,null,{"$f":"IF(Masterblatt!F989=\"\",\"\",Masterblatt!F989)","v":""}]
[{"$f":"IF(Masterblatt!A990=\"\",\"\",Masterblatt!A990)","v":989},null,{"$f":"IF(AND(Masterblatt!B990=\"\",Masterblatt!C990=\"\"),\"\",Masterblatt!B990 & \" \" & Masterblatt!C990)","v":""},null,null,null,null,null,null,null,null,null,null,null,null,null,null,{"$f":"IF(Masterblatt!F990=\"\",\"\",Masterblatt!F990)","v":""}]
[{"$f":"IF(Masterblatt!A991=\"\",\"\",Masterblatt!A991)","v":990},null,{"$f":"IF(AND(Masterblatt!B991=\"\",Masterblatt!C991=\"\"),\"\",Masterblatt!B991 & \" \" & Masterblatt!C991)","v":""},null,null,null,null,null,null,null,null,null,null,null,null,null,null,{"$f":"IF(Masterblatt!F991=\"\",\"\",Masterblatt!F991)","v":""}]
[{"$f":"IF(Masterblatt!A992=\"\",\"\",Masterblatt!A992)","v":991},null,{"$f":"IF(AND(Masterblatt!B992=\"\",Masterblatt!C992=\"\"),\"\",Masterblatt!B992 & \" \" & Masterblatt!C992)","v":""},null,null,null,null,null,null,null,null,null,null,null,null,null,null,{"$f":"IF(Masterblatt!F992=\"\",\"\",Masterblatt!F992)","v":""}]

{"sheet":"WertungstabelleM","index":6,"n_rows":33,"n_cols":7,"rows_kept":33,"cut":false,"hidden":false,"merged":[[2,0,2,6]]}
["Notentabelle - HiBa Gelände"]
[]
["HiBa Gelände"]
["Referenzzeit \"Normbahn Wangen a.A\" (s)","Prozentual","Zeit auf dieser Bahn (s)","Wertung - 10","Note - 5","Beurteilung","Qualifikation"]
[87.01,{"$f":"A5/$B$32","v":0.70169354838709685},{"$f":"B5*$B$33","v":87.01},10,5,"Hervorragend",5]
[90.01,{"$f":"A6/$B$32","v":0.72588709677419361},90.01,9.8000000000000007,4.9000000000000004,"Hervorragend",5]
[93.01,0.75008064516129036,93.01,9.5,4.8,"Hervorragend",5]
[96.01,0.77427419354838711,96.01,9.3000000000000007,4.7,"Hervorragend",5]
[99.01,0.79846774193548387,99.01,9.1999999999999993,4.5999999999999996,"Hervorragend",5]
[102.01,0.82266129032258073,102.01,9.1,4.5,"Hervorragend",5]
[106.01,0.85491935483870973,106.01,9,4.4000000000000004,"Sehr gut",4]
[110.01,0.88717741935483874,110.01,8.8000000000000007,4.3,"Sehr gut",4]
[114.01,0.91943548387096774,114.01,8.5,4.2,"Sehr gut",4]
[118.01,0.95169354838709685,118.01,8,4,"Sehr gut",4]
[124.01,1.0000806451612905,124.01000000000002,7.5,3.6,"Gut",3]
[130.01,1.0484677419354838,130.01,7.3,3.3,"Gut",3]
[136.01,1.0968548387096773,136.01,7,3,"Gut",3]
[138.01,1.1129838709677418,138.01,6.8,2.9,"Genügend",2]
[140.01,1.1291129032258065,140.01,6.5,2.8,"Genügend",2]
[142.01,1.145241935483871,142.01,6,2.6,"Genügend",2]
[144.01,1.1613709677419355,144.01,5.8,2.4,"Genügend",2]
[147.01,1.1855645161290322,147.01,5.5,2.2000000000000002,"Genügend",2]
[150.01,1.209758064516129,150.01,5.3,2,"Genügend",2]
[155.01,1.2500806451612902,155.01,5,1.8,"Ungenügend",1]
[160.01,1.2904032258064515,160.01,4,1.6,"Ungenügend",1]
[165.01,1.3307258064516128,165.01,3.5,1.4,"Ungenügend",1]
[170.01,1.371048387096774,170.01,2.5,1.2,"Ungenügend",1]
[175.01,1.4113709677419355,175.01,2,1.1000000000000001,"Ungenügend",1]
[180.01,{"$f":"A29/$B$32","v":1.4516935483870967},180.01,1,1,"Ungenügend",1]
[]
["Referenzzeiten"]
["Referenzlaufzeit aus Standardbahn",{"$f":"Bahnkonfigurator!G24","v":124},"s"]
["Durchschnitt für diese spezifische Bahn",{"$f":"Bahnkonfigurator!C31","v":124},"s"]

{"sheet":"WertungstabelleF","index":7,"n_rows":33,"n_cols":7,"rows_kept":33,"cut":false,"hidden":false,"merged":[[2,0,2,6]]}
["Notentabelle - HiBa Gelände"]
[]
["HiBa Gelände"]
["Referenzzeit Frauen \"Normbahn Wangen a.A\" (s)","Prozentual","Zeit auf dieser Bahn (s)","Wertung - 10","Note - 5","Beurteilung","Qualifikation"]
[100.01,{"$f":"A5/$B$32","v":0.73},{"$f":"B5*$B$33","v":100.00999999999999},10,5,"Hervorragend",5]
[103.01,{"$f":"A6/$B$32","v":0.75189781021897817},{"$f":"B6*$B$33","v":103.01},9.8000000000000007,4.9000000000000004,"Hervorragend",5]
[106.01,0.77379562043795624,{"$f":"B7*$B$33","v":106.01},9.5,4.8,"Hervorragend",5]
[109.01,0.79569343065693432,109.01,9.3000000000000007,4.7,"Hervorragend",5]
[112.01,0.8175912408759124,112.01,9.1999999999999993,4.5999999999999996,"Hervorragend",5]
[115.01,0.83948905109489058,115.01,9.1,4.5,"Hervorragend",5]
[119.01,0.86868613138686135,{"$f":"B11*$B$33","v":119.01},9,4.4000000000000004,"Sehr gut",4]
[123.01,0.89788321167883212,{"$f":"B12*$B$33","v":123.01},8.8000000000000007,4.3,"Sehr gut",4]
[127.01,0.92708029197080299,127.01,8.5,4.2,"Sehr gut",4]
[131.01,0.95627737226277365,131.01,8,4,"Sehr gut",4]
[137.01,1.0000729927007299,137.01,7.5,3.6,"Gut",3]
[143.01,1.0438686131386861,143.01,7.3,3.3,"Gut",3]
[149.01,1.0876642335766422,149.01,7,3,"Gut",3]
[151.01,1.1022627737226276,151.01,6.8,2.9,"Genügend",2]
[153.01,1.116861313868613,153.01,6.5,2.8,"Genügend",2]
[155.01,1.1314598540145984,155.00999999999996,6,2.6,"Genügend",2]
[157.01,1.146058394160584,157.01,5.8,2.4,"Genügend",2]
[160.01,1.1679562043795619,160.01,5.5,2.2000000000000002,"Genügend",2]
[163.01,1.1898540145985401,163.01,5.3,2,"Genügend",2]
[168.01,1.2263503649635037,168.01000000000002,5,1.8,"Ungenügend",1]
[173.01,1.262846715328467,173.01,4,1.6,"Ungenügend",1]
[178.01,1.2993430656934306,178.01,3.5,1.4,"Ungenügend",1]
[183.01,1.3358394160583942,183.01,2.5,1.2,"Ungenügend",1]
[188.01,1.3723357664233575,188.01,2,1.1000000000000001,"Ungenügend",1]
[193.01,{"$f":"A29/$B$32","v":1.4088321167883211},{"$f":"B29*$B$33","v":193.01},1,1,"Ungenügend",1]
[]
["Referenzzeiten"]
["Referenzlaufzeit aus Standardbahn",{"$f":"Bahnkonfigurator!I24","v":137},"s"]
["Durchschnitt für diese spezifische Bahn",{"$f":"Bahnkonfigurator!E31","v":137},"s"]

{"sheet":"Hilfsblatt","index":8,"n_rows":71,"n_cols":11,"rows_kept":71,"cut":false,"hidden":false,"merged":[]}
["Startnummer",1,"Zeile",{"$f":"MATCH(Startnummer,Masterblatt!A:A,0)","v":2}]
[]
["Typ","Masterblatt-Spalte","Wert",null,"Typ","Masterblatt-Spalte","Wert",null,"Typ","Masterblatt-Spalte","Wert"]
["Nachname",{"$f":"COLUMN(Tabelle3[[#Headers],[Name\nNom\nNome]])","v":2},{"$f":"VLOOKUP($B$1,Masterblatt!$A:$O,B4,FALSE)","v":0},null,"AO1",{"$f":"COLUMN(Tabelle3[[#Headers],[AO1\nOA1\nOE1]])","v":9},{"$f":"VLOOKUP($B$1,Masterblatt!$A:$O,F4,FALSE)","v":0}]
["Vorname",{"$f":"COLUMN(Tabelle3[[#Headers],[Vorname\nPrénom\nPrenome]])","v":3},{"$f":"VLOOKUP($B$1,Masterblatt!$A:$O,B5,FALSE)","v":0},null,"AO2",{"$f":"COLUMN(Tabelle3[[#Headers],[AO2\nOA2\nOE2]])","v":10},{"$f":"VLOOKUP($B$1,Masterblatt!$A:$O,F5,FALSE)","v":0}]
[null,null,null,null,"AO3",{"$f":"COLUMN(Tabelle3[[#Headers],[AO3\nOA3\nOE3]])","v":11},{"$f":"VLOOKUP($B$1,Masterblatt!$A:$O,F6,FALSE)","v":0}]
["Jahrgang",{"$f":"COLUMN(Tabelle3[[#Headers],[Jahrgang\nAnnée\nAnni\n'[JJJJ']]])","v":5},{"$f":"VLOOKUP($B$1,Masterblatt!$A:$O,B7,FALSE)","v":0},null,"AO4",{"$f":"COLUMN(Tabelle3[[#Headers],[AO4\nOA4\nOE4]])","v":12},{"$f":"VLOOKUP($B$1,Masterblatt!$A:$O,F7,FALSE)","v":0}]
["Geschlecht",{"$f":"COLUMN(Tabelle3[[#Headers],[Geschlecht\nSexe\nSexe\n'[m/f']]])","v":6},{"$f":"VLOOKUP($B$1,Masterblatt!$A:$O,B8,FALSE)","v":0},null,"AO5",{"$f":"COLUMN(Tabelle3[[#Headers],[AO5\nOA5\nOE5]])","v":13},{"$f":"VLOOKUP($B$1,Masterblatt!$A:$O,F8,FALSE)","v":0}]
["AHV-Nummer",{"$f":"COLUMN(Tabelle3[[#Headers],[Versicherten Nummer\nNuméro sécurité social\nNumero di assicurati\n'[756.0000.0000.00']]])","v":4},{"$f":"VLOOKUP($B$1,Masterblatt!$A:$O,B9,FALSE)","v":0},null,"Zug",{"$f":"COLUMN(Tabelle3[[#Headers],[Klasse / Zug\nClasse / Section\nClasse / Sezione]])","v":15},{"$f":"VLOOKUP($B$1,Masterblatt!$A:$O,F9,FALSE)","v":0}]
["Anstellung",{"$f":"COLUMN(Tabelle3[[#Headers],[Anstellung\nEmploi\nImpiego]])","v":7},{"$f":"VLOOKUP($B$1,Masterblatt!$A:$O,B10,FALSE)","v":0},null,"Nr. und Ort",{"$f":"COLUMN(#REF!)","v":{"$error":"#REF!"}},{"$f":"VLOOKUP($B$1,Masterblatt!$A:$O,F10,FALSE)","v":{"$error":"#REF!"}}]
["Grad",{"$f":"COLUMN(Tabelle3[[#Headers],[Grad\nGrade\nGrado]])","v":8},{"$f":"VLOOKUP($B$1,Masterblatt!$A:$O,B11,FALSE)","v":0}]
[]
["Letzte Zeile mit Resultat",{"$f":"SUMPRODUCT(MAX((Masterblatt!P1:P1000<>\"\")*ROW(Masterblatt!P1:P1000)))","v":1}]
[]
[]
[]
[]
[]
[]
[]
[]
[]
[]
[]
[]
[]
[]
[]
[]
[]
[]
[]
[null,null,{"$f":"IF(MAX(C17:C19)>0,MAX(C17:C19),\"\")","v":""},{"$f":"IF(C33>0, C33,\"\")","v":""}]
[]
[]
[]
[]
[]
[]
[]
[]
[]
[]
["Statische Informationen - Spaltennummern"]
["Spalte","Spaltennummer"]
["Startnummer",{"$f":"COLUMN(Masterblatt!A1)","v":1}]
["Name",{"$f":"COLUMN(Tabelle3[[#Headers],[Name\nNom\nNome]])","v":2}]
["Vorname",{"$f":"COLUMN(Tabelle3[[#Headers],[Vorname\nPrénom\nPrenome]])","v":3}]
["AHV",{"$f":"COLUMN(Tabelle3[[#Headers],[Versicherten Nummer\nNuméro sécurité social\nNumero di assicurati\n'[756.0000.0000.00']]])","v":4}]
["Jahrgang",{"$f":"COLUMN(Tabelle3[[#Headers],[Jahrgang\nAnnée\nAnni\n'[JJJJ']]])","v":5}]
["Geschlecht",{"$f":"COLUMN(Tabelle3[[#Headers],[Geschlecht\nSexe\nSexe\n'[m/f']]])","v":6}]
["Anstellung",{"$f":"COLUMN(Tabelle3[[#Headers],[Anstellung\nEmploi\nImpiego]])","v":7}]
["Grad",{"$f":"COLUMN(Tabelle3[[#Headers],[Grad\nGrade\nGrado]])","v":8}]
["AO1",{"$f":"COLUMN(Tabelle3[[#Headers],[AO1\nOA1\nOE1]])","v":9}]
["AO2",{"$f":"COLUMN(Tabelle3[[#Headers],[AO2\nOA2\nOE2]])","v":10}]
["AO3",{"$f":"COLUMN(Tabelle3[[#Headers],[AO3\nOA3\nOE3]])","v":11}]
["AO4",{"$f":"COLUMN(Tabelle3[[#Headers],[AO4\nOA4\nOE4]])","v":12}]
["AO5",{"$f":"COLUMN(Tabelle3[[#Headers],[AO5\nOA5\nOE5]])","v":13}]
["Zug",{"$f":"COLUMN(Tabelle3[[#Headers],[Klasse / Zug\nClasse / Section\nClasse / Sezione]])","v":15}]
["Nr. und Ort",{"$f":"COLUMN(#REF!)","v":{"$error":"#REF!"}}]
["Sport und Beegunsverhalten",{"$f":"COLUMN(#REF!)","v":{"$error":"#REF!"}}]
["Grösse",{"$f":"COLUMN(#REF!)","v":{"$error":"#REF!"}}]
["Gewicht",{"$f":"COLUMN(#REF!)","v":{"$error":"#REF!"}}]
["Taille",{"$f":"COLUMN(#REF!)","v":{"$error":"#REF!"}}]
["Ballstoss",{"$f":"COLUMN(#REF!)","v":{"$error":"#REF!"}}]
["Globaler Rumkrafttest",{"$f":"COLUMN(#REF!)","v":{"$error":"#REF!"}}]
["Standweitsprung",{"$f":"COLUMN(#REF!)","v":{"$error":"#REF!"}}]
["Einbeinstand",{"$f":"COLUMN(#REF!)","v":{"$error":"#REF!"}}]
["Ausdauer: Rundbahn",{"$f":"COLUMN(#REF!)","v":{"$error":"#REF!"}}]
["Ausdauer: Pendel",{"$f":"COLUMN(#REF!)","v":{"$error":"#REF!"}}]
["Audauer: Walking",{"$f":"COLUMN(#REF!)","v":{"$error":"#REF!"}}]

{"sheet":"Drop-Down-Listen","index":9,"n_rows":1691,"n_cols":14,"rows_kept":1691,"cut":false,"hidden":false,"merged":[[0,2,0,4]]}
["Drop-Down-Listen",null,"Dynamic - Do NOT change these helper columns manually!"]
["Anstellungen","AO Alle_Möglichen","AO Suche_Helper1","AO Suche_Helper2","AO Suche_Helper3","AO1","AO2","AO3","AO4","AO5","AO6","Wert","Grad","Geschlecht"]
["BM","A Aufkl Det 10",{"$f":"--ISNUMBER(IFERROR(SEARCH(AO_Search_Value,B3,1),\"\"))","v":0},{"$f":"IF(C3=1,COUNTIF($C$3:C3,1),\"\")","v":""},{"$f":"IFERROR(INDEX(DROPDOWN_AOSuche_Alle,MATCH(ROWS($D$3:D3),DROPDOWN_AOSuche_Helper2,0)),\"\")","v":"Pil S LW 85"},"A Stab",null,null,null,null,null,"Ja","Rekr","m"]
["FBM","A Stab",0,{"$f":"IF(C4=1,COUNTIF($C$3:C4,1),\"\")","v":""},{"$f":"IFERROR(INDEX(DROPDOWN_AOSuche_Alle,MATCH(ROWS($D$3:D4),DROPDOWN_AOSuche_Helper2,0)),\"\")","v":""},"A Stab","Stab A Stab",null,null,null,null,"Nein","Sdt","f"]
["ZM","AAZ 30",0,{"$f":"IF(C5=1,COUNTIF($C$3:C5,1),\"\")","v":""},{"$f":"IFERROR(INDEX(DROPDOWN_AOSuche_Alle,MATCH(ROWS($D$3:D5),DROPDOWN_AOSuche_Helper2,0)),\"\")","v":""},"A Stab","Ei Ustü Det A Stab",null,null,null,null,null,"Gfr"]
["Miliz","ABC Abw Bat 10",0,{"$f":"IF(C6=1,COUNTIF($C$3:C6,1),\"\")","v":""},{"$f":"IFERROR(INDEX(DROPDOWN_AOSuche_Alle,MATCH(ROWS($D$3:D6),DROPDOWN_AOSuche_Helper2,0)),\"\")","v":""},"Kdo Op",null,null,null,null,null,null,"Obgfr"]
["ziv MA","ABC Abw Ei Kp",0,{"$f":"IF(C7=1,COUNTIF($C$3:C7,1),\"\")","v":""},{"$f":"IFERROR(INDEX(DROPDOWN_AOSuche_Alle,MATCH(ROWS($D$3:D7),DROPDOWN_AOSuche_Helper2,0)),\"\")","v":""},"Kdo Op","Stab Kdo Op",null,null,null,null,null,"Kpl"]
[null,"ABC Abw Kp 10/1",0,{"$f":"IF(C8=1,COUNTIF($C$3:C8,1),\"\")","v":""},{"$f":"IFERROR(INDEX(DROPDOWN_AOSuche_Alle,MATCH(ROWS($D$3:D8),DROPDOWN_AOSuche_Helper2,0)),\"\")","v":""},"Kdo Op","HQ A Ber Det 104",null,null,null,null,null,"Wm"]
[null,"ABC Abw Kp 10/2",0,{"$f":"IF(C9=1,COUNTIF($C$3:C9,1),\"\")","v":""},{"$f":"IFERROR(INDEX(DROPDOWN_AOSuche_Alle,MATCH(ROWS($D$3:D9),DROPDOWN_AOSuche_Helper2,0)),\"\")","v":""},"Kdo Op","HQ A Ber Det 204",null,null,null,null,null,"Obwm"]
[null,"ABC Abw Kp 10/3",0,{"$f":"IF(C10=1,COUNTIF($C$3:C10,1),\"\")","v":""},{"$f":"IFERROR(INDEX(DROPDOWN_AOSuche_Alle,MATCH(ROWS($D$3:D10),DROPDOWN_AOSuche_Helper2,0)),\"\")","v":""},"Kdo Op","Ei Ustü Det Kdo Op",null,null,null,null,null,"Fw"]
[null,"ABC Abw Kp 10/4",0,{"$f":"IF(C11=1,COUNTIF($C$3:C11,1),\"\")","v":""},{"$f":"IFERROR(INDEX(DROPDOWN_AOSuche_Alle,MATCH(ROWS($D$3:D11),DROPDOWN_AOSuche_Helper2,0)),\"\")","v":""},"Kdo Op","MND",null,null,null,null,null,"Four"]
[null,"ABC Abw Lab 1",0,{"$f":"IF(C12=1,COUNTIF($C$3:C12,1),\"\")","v":""},{"$f":"IFERROR(INDEX(DROPDOWN_AOSuche_Alle,MATCH(ROWS($D$3:D12),DROPDOWN_AOSuche_Helper2,0)),\"\")","v":""},"Kdo Op","MND","Stab MND",null,null,null,null,"Hptfw"]
[null,"ABC Abw Lab Kp 1/1",0,{"$f":"IF(C13=1,COUNTIF($C$3:C13,1),\"\")","v":""},{"$f":"IFERROR(INDEX(DROPDOWN_AOSuche_Alle,MATCH(ROWS($D$3:D13),DROPDOWN_AOSuche_Helper2,0)),\"\")","v":""},"Kdo Op","MND","DPSA",null,null,null,null,"Adj Uof"]
[null,"ABC Abw Lab Kp 1/2",0,{"$f":"IF(C14=1,COUNTIF($C$3:C14,1),\"\")","v":""},{"$f":"IFERROR(INDEX(DROPDOWN_AOSuche_Alle,MATCH(ROWS($D$3:D14),DROPDOWN_AOSuche_Helper2,0)),\"\")","v":""},"Kdo Op","HE",null,null,null,null,null,"Stabsadj"]
["AO_Search_Value","ABC Abw Lab Kp 1/3",0,{"$f":"IF(C15=1,COUNTIF($C$3:C15,1),\"\")","v":""},{"$f":"IFERROR(INDEX(DROPDOWN_AOSuche_Alle,MATCH(ROWS($D$3:D15),DROPDOWN_AOSuche_Helper2,0)),\"\")","v":""},"Kdo Op","HE","HE Stab",null,null,null,null,"Hptadj"]
["pil","ABC Abw RS 58-1",0,{"$f":"IF(C16=1,COUNTIF($C$3:C16,1),\"\")","v":""},{"$f":"IFERROR(INDEX(DROPDOWN_AOSuche_Alle,MATCH(ROWS($D$3:D16),DROPDOWN_AOSuche_Helper2,0)),\"\")","v":""},"Kdo Op","HE","Komp Zen FFS",null,null,null,null,"Chefadj"]
[null,"ABC Abw RS 58-2",0,{"$f":"IF(C17=1,COUNTIF($C$3:C17,1),\"\")","v":""},{"$f":"IFERROR(INDEX(DROPDOWN_AOSuche_Alle,MATCH(ROWS($D$3:D17),DROPDOWN_AOSuche_Helper2,0)),\"\")","v":""},"Kdo Op","HE","Komp Zen FFS","Stab Komp Zen FFS",null,null,null,"Fachof"]
[null,"ABC Abw RS 58-3",0,{"$f":"IF(C18=1,COUNTIF($C$3:C18,1),\"\")","v":""},{"$f":"IFERROR(INDEX(DROPDOWN_AOSuche_Alle,MATCH(ROWS($D$3:D18),DROPDOWN_AOSuche_Helper2,0)),\"\")","v":""},"Kdo Op","HE","Komp Zen FFS","Betr Kp FIS",null,null,null,"Lt"]
[null,"ABC Abw RS 77-1",0,{"$f":"IF(C19=1,COUNTIF($C$3:C19,1),\"\")","v":""},{"$f":"IFERROR(INDEX(DROPDOWN_AOSuche_Alle,MATCH(ROWS($D$3:D19),DROPDOWN_AOSuche_Helper2,0)),\"\")","v":""},"Kdo Op","HE","HE Stabsbat 20",null,null,null,null,"Oblt"]
[null,"ABC Abw RS 77-2",0,{"$f":"IF(C20=1,COUNTIF($C$3:C20,1),\"\")","v":""},{"$f":"IFERROR(INDEX(DROPDOWN_AOSuche_Alle,MATCH(ROWS($D$3:D20),DROPDOWN_AOSuche_Helper2,0)),\"\")","v":""},"Kdo Op","HE","HE Stabsbat 20","Stab HE Stabsbat 20",null,null,null,"Hptm"]
[null,"ABC Abw RS Kp 77-1/1",0,{"$f":"IF(C21=1,COUNTIF($C$3:C21,1),\"\")","v":""},{"$f":"IFERROR(INDEX(DROPDOWN_AOSuche_Alle,MATCH(ROWS($D$3:D21),DROPDOWN_AOSuche_Helper2,0)),\"\")","v":""},"Kdo Op","HE","HE Stabsbat 20","HE Stabskp 20",null,null,null,"Maj"]
[null,"ABC Abw RS Kp 77-1/2",0,{"$f":"IF(C22=1,COUNTIF($C$3:C22,1),\"\")","v":""},{"$f":"IFERROR(INDEX(DROPDOWN_AOSuche_Alle,MATCH(ROWS($D$3:D22),DROPDOWN_AOSuche_Helper2,0)),\"\")","v":""},"Kdo Op","HE","HE Stabsbat 20","HE Betr Kp 20/1",null,null,null,"Maj i Gst"]
[null,"ABC Abw RS Kp 77-2/1",0,{"$f":"IF(C23=1,COUNTIF($C$3:C23,1),\"\")","v":""},{"$f":"IFERROR(INDEX(DROPDOWN_AOSuche_Alle,MATCH(ROWS($D$3:D23),DROPDOWN_AOSuche_Helper2,0)),\"\")","v":""},"Kdo Op","HE","HE Stabsbat 20","HE Uem Kp 20/2",null,null,null,"Oberstlt"]
[null,"ABC Abw RS Kp 77-2/2",0,{"$f":"IF(C24=1,COUNTIF($C$3:C24,1),\"\")","v":""},{"$f":"IFERROR(INDEX(DROPDOWN_AOSuche_Alle,MATCH(ROWS($D$3:D24),DROPDOWN_AOSuche_Helper2,0)),\"\")","v":""},"Kdo Op","HE","HE Stabsbat 20","HE Si Kp 20/3",null,null,null,"Oberstlt i Gst"]
[null,"ABC Abw S 77",0,{"$f":"IF(C25=1,COUNTIF($C$3:C25,1),\"\")","v":""},{"$f":"IFERROR(INDEX(DROPDOWN_AOSuche_Alle,MATCH(ROWS($D$3:D25),DROPDOWN_AOSuche_Helper2,0)),\"\")","v":""},"Kdo Op","HE","HE Stabsbat 20","FFZ Bttr 20/4",null,null,null,"Oberst"]
[null,"ABC Abw UOS 77-1",0,{"$f":"IF(C26=1,COUNTIF($C$3:C26,1),\"\")","v":""},{"$f":"IFERROR(INDEX(DROPDOWN_AOSuche_Alle,MATCH(ROWS($D$3:D26),DROPDOWN_AOSuche_Helper2,0)),\"\")","v":""},"Kdo Op","HE","Mech Br 1",null,null,null,null,"Oberst i Gst"]
[null,"ABC Abw UOS 77-2",0,{"$f":"IF(C27=1,COUNTIF($C$3:C27,1),\"\")","v":""},{"$f":"IFERROR(INDEX(DROPDOWN_AOSuche_Alle,MATCH(ROWS($D$3:D27),DROPDOWN_AOSuche_Helper2,0)),\"\")","v":""},"Kdo Op","HE","Mech Br 1","Stab Mech Br 1",null,null,null,"Br"]
[null,"Art Abt 1",0,{"$f":"IF(C28=1,COUNTIF($C$3:C28,1),\"\")","v":""},{"$f":"IFERROR(INDEX(DROPDOWN_AOSuche_Alle,MATCH(ROWS($D$3:D28),DROPDOWN_AOSuche_Helper2,0)),\"\")","v":""},"Kdo Op","HE","Mech Br 1","Mech Br Stabsbat 1",null,null,null,"Div"]
[null,"Art Abt 10",0,{"$f":"IF(C29=1,COUNTIF($C$3:C29,1),\"\")","v":""},{"$f":"IFERROR(INDEX(DROPDOWN_AOSuche_Alle,MATCH(ROWS($D$3:D29),DROPDOWN_AOSuche_Helper2,0)),\"\")","v":""},"Kdo Op","HE","Mech Br 1","Mech Br Stabsbat 1","Stab Mech Br Stabsbat 1",null,null,"KKdt"]
[null,"Art Abt 16",0,{"$f":"IF(C30=1,COUNTIF($C$3:C30,1),\"\")","v":""},{"$f":"IFERROR(INDEX(DROPDOWN_AOSuche_Alle,MATCH(ROWS($D$3:D30),DROPDOWN_AOSuche_Helper2,0)),\"\")","v":""},"Kdo Op","HE","Mech Br 1","Mech Br Stabsbat 1","Mech Br Stabskp 1"]
[null,"Art Abt 49",0,{"$f":"IF(C31=1,COUNTIF($C$3:C31,1),\"\")","v":""},{"$f":"IFERROR(INDEX(DROPDOWN_AOSuche_Alle,MATCH(ROWS($D$3:D31),DROPDOWN_AOSuche_Helper2,0)),\"\")","v":""},"Kdo Op","HE","Mech Br 1","Mech Br Stabsbat 1","Mech Br Betr Kp 1/1"]
[null,"Art Bttr 1/1",0,{"$f":"IF(C32=1,COUNTIF($C$3:C32,1),\"\")","v":""},{"$f":"IFERROR(INDEX(DROPDOWN_AOSuche_Alle,MATCH(ROWS($D$3:D32),DROPDOWN_AOSuche_Helper2,0)),\"\")","v":""},"Kdo Op","HE","Mech Br 1","Mech Br Stabsbat 1","Mech Br Uem Kp 1/2"]
[null,"Art Bttr 1/2",0,{"$f":"IF(C33=1,COUNTIF($C$3:C33,1),\"\")","v":""},{"$f":"IFERROR(INDEX(DROPDOWN_AOSuche_Alle,MATCH(ROWS($D$3:D33),DROPDOWN_AOSuche_Helper2,0)),\"\")","v":""},"Kdo Op","HE","Mech Br 1","Mech Br Stabsbat 1","Mech Br Fhr St Kp 1/3"]
[null,"Art Bttr 1/3",0,{"$f":"IF(C34=1,COUNTIF($C$3:C34,1),\"\")","v":""},{"$f":"IFERROR(INDEX(DROPDOWN_AOSuche_Alle,MATCH(ROWS($D$3:D34),DROPDOWN_AOSuche_Helper2,0)),\"\")","v":""},"Kdo Op","HE","Mech Br 1","Mech Br Stabsbat 1","Mech Br Si Kp 1/4"]
[null,"Art Bttr 1/4",0,{"$f":"IF(C35=1,COUNTIF($C$3:C35,1),\"\")","v":""},{"$f":"IFERROR(INDEX(DROPDOWN_AOSuche_Alle,MATCH(ROWS($D$3:D35),DROPDOWN_AOSuche_Helper2,0)),\"\")","v":""},"Kdo Op","HE","Mech Br 1","Mech Br Stabsbat 1","FFZ Bttr 1/5"]
[null,"Art Bttr 10/1",0,{"$f":"IF(C36=1,COUNTIF($C$3:C36,1),\"\")","v":""},{"$f":"IFERROR(INDEX(DROPDOWN_AOSuche_Alle,MATCH(ROWS($D$3:D36),DROPDOWN_AOSuche_Helper2,0)),\"\")","v":""},"Kdo Op","HE","Mech Br 1","Pz Bat 12"]
[null,"Art Bttr 10/2",0,{"$f":"IF(C37=1,COUNTIF($C$3:C37,1),\"\")","v":""},{"$f":"IFERROR(INDEX(DROPDOWN_AOSuche_Alle,MATCH(ROWS($D$3:D37),DROPDOWN_AOSuche_Helper2,0)),\"\")","v":""},"Kdo Op","HE","Mech Br 1","Pz Bat 12","Stab Pz Bat 12"]
[null,"Art Bttr 10/3",0,{"$f":"IF(C38=1,COUNTIF($C$3:C38,1),\"\")","v":""},{"$f":"IFERROR(INDEX(DROPDOWN_AOSuche_Alle,MATCH(ROWS($D$3:D38),DROPDOWN_AOSuche_Helper2,0)),\"\")","v":""},"Kdo Op","HE","Mech Br 1","Pz Bat 12","Pz Stabskp 12"]
[null,"Art Bttr 10/4",0,{"$f":"IF(C39=1,COUNTIF($C$3:C39,1),\"\")","v":""},{"$f":"IFERROR(INDEX(DROPDOWN_AOSuche_Alle,MATCH(ROWS($D$3:D39),DROPDOWN_AOSuche_Helper2,0)),\"\")","v":""},"Kdo Op","HE","Mech Br 1","Pz Bat 12","Pz Log Kp 12"]
[null,"Art Bttr 16/1",0,{"$f":"IF(C40=1,COUNTIF($C$3:C40,1),\"\")","v":""},{"$f":"IFERROR(INDEX(DROPDOWN_AOSuche_Alle,MATCH(ROWS($D$3:D40),DROPDOWN_AOSuche_Helper2,0)),\"\")","v":""},"Kdo Op","HE","Mech Br 1","Pz Bat 12","Pz Kp 12/1"]
[null,"Art Bttr 16/2",0,{"$f":"IF(C41=1,COUNTIF($C$3:C41,1),\"\")","v":""},{"$f":"IFERROR(INDEX(DROPDOWN_AOSuche_Alle,MATCH(ROWS($D$3:D41),DROPDOWN_AOSuche_Helper2,0)),\"\")","v":""},"Kdo Op","HE","Mech Br 1","Pz Bat 12","Pz Kp 12/2"]
[null,"Art Bttr 16/3",0,{"$f":"IF(C42=1,COUNTIF($C$3:C42,1),\"\")","v":""},{"$f":"IFERROR(INDEX(DROPDOWN_AOSuche_Alle,MATCH(ROWS($D$3:D42),DROPDOWN_AOSuche_Helper2,0)),\"\")","v":""},"Kdo Op","HE","Mech Br 1","Pz Bat 12","Pz Gren Kp 12/3"]
[null,"Art Bttr 16/4",0,{"$f":"IF(C43=1,COUNTIF($C$3:C43,1),\"\")","v":""},{"$f":"IFERROR(INDEX(DROPDOWN_AOSuche_Alle,MATCH(ROWS($D$3:D43),DROPDOWN_AOSuche_Helper2,0)),\"\")","v":""},"Kdo Op","HE","Mech Br 1","Pz Bat 12","Pz Gren Kp 12/4"]
[null,"Art Bttr 49/1",0,{"$f":"IF(C44=1,COUNTIF($C$3:C44,1),\"\")","v":""},{"$f":"IFERROR(INDEX(DROPDOWN_AOSuche_Alle,MATCH(ROWS($D$3:D44),DROPDOWN_AOSuche_Helper2,0)),\"\")","v":""},"Kdo Op","HE","Mech Br 1","Mech Bat 17"]
[null,"Art Bttr 49/2",0,{"$f":"IF(C45=1,COUNTIF($C$3:C45,1),\"\")","v":""},{"$f":"IFERROR(INDEX(DROPDOWN_AOSuche_Alle,MATCH(ROWS($D$3:D45),DROPDOWN_AOSuche_Helper2,0)),\"\")","v":""},"Kdo Op","HE","Mech Br 1","Mech Bat 17","Stab Mech Bat 17"]
[null,"Art Bttr 49/3",0,{"$f":"IF(C46=1,COUNTIF($C$3:C46,1),\"\")","v":""},{"$f":"IFERROR(INDEX(DROPDOWN_AOSuche_Alle,MATCH(ROWS($D$3:D46),DROPDOWN_AOSuche_Helper2,0)),\"\")","v":""},"Kdo Op","HE","Mech Br 1","Mech Bat 17","Mech Stabskp 17"]
[null,"Art Bttr 49/4",0,{"$f":"IF(C47=1,COUNTIF($C$3:C47,1),\"\")","v":""},{"$f":"IFERROR(INDEX(DROPDOWN_AOSuche_Alle,MATCH(ROWS($D$3:D47),DROPDOWN_AOSuche_Helper2,0)),\"\")","v":""},"Kdo Op","HE","Mech Br 1","Mech Bat 17","Mech Log Kp 17"]
[null,"Art Flt Bttr 1",0,{"$f":"IF(C48=1,COUNTIF($C$3:C48,1),\"\")","v":""},{"$f":"IFERROR(INDEX(DROPDOWN_AOSuche_Alle,MATCH(ROWS($D$3:D48),DROPDOWN_AOSuche_Helper2,0)),\"\")","v":""},"Kdo Op","HE","Mech Br 1","Mech Bat 17","Pz Kp 17/1"]
[null,"Art Flt Bttr 10",0,{"$f":"IF(C49=1,COUNTIF($C$3:C49,1),\"\")","v":""},{"$f":"IFERROR(INDEX(DROPDOWN_AOSuche_Alle,MATCH(ROWS($D$3:D49),DROPDOWN_AOSuche_Helper2,0)),\"\")","v":""},"Kdo Op","HE","Mech Br 1","Mech Bat 17","Pz Kp 17/2"]
[null,"Art Flt Bttr 16",0,{"$f":"IF(C50=1,COUNTIF($C$3:C50,1),\"\")","v":""},{"$f":"IFERROR(INDEX(DROPDOWN_AOSuche_Alle,MATCH(ROWS($D$3:D50),DROPDOWN_AOSuche_Helper2,0)),\"\")","v":""},"Kdo Op","HE","Mech Br 1","Mech Bat 17","Pz Gren Kp 17/3"]
[null,"Art Flt Bttr 49",0,{"$f":"IF(C51=1,COUNTIF($C$3:C51,1),\"\")","v":""},{"$f":"IFERROR(INDEX(DROPDOWN_AOSuche_Alle,MATCH(ROWS($D$3:D51),DROPDOWN_AOSuche_Helper2,0)),\"\")","v":""},"Kdo Op","HE","Mech Br 1","Mech Bat 17","Pz Gren Kp 17/4"]
[null,"Art Log Bttr 1",0,{"$f":"IF(C52=1,COUNTIF($C$3:C52,1),\"\")","v":""},{"$f":"IFERROR(INDEX(DROPDOWN_AOSuche_Alle,MATCH(ROWS($D$3:D52),DROPDOWN_AOSuche_Helper2,0)),\"\")","v":""},"Kdo Op","HE","Mech Br 1","Mech Bat 18"]
[null,"Art Log Bttr 10",0,{"$f":"IF(C53=1,COUNTIF($C$3:C53,1),\"\")","v":""},{"$f":"IFERROR(INDEX(DROPDOWN_AOSuche_Alle,MATCH(ROWS($D$3:D53),DROPDOWN_AOSuche_Helper2,0)),\"\")","v":""},"Kdo Op","HE","Mech Br 1","Mech Bat 18","Stab Mech Bat 18"]
[null,"Art Log Bttr 16",0,{"$f":"IF(C54=1,COUNTIF($C$3:C54,1),\"\")","v":""},{"$f":"IFERROR(INDEX(DROPDOWN_AOSuche_Alle,MATCH(ROWS($D$3:D54),DROPDOWN_AOSuche_Helper2,0)),\"\")","v":""},"Kdo Op","HE","Mech Br 1","Mech Bat 18","Mech Stabskp 18"]
[null,"Art Log Bttr 49",0,{"$f":"IF(C55=1,COUNTIF($C$3:C55,1),\"\")","v":""},{"$f":"IFERROR(INDEX(DROPDOWN_AOSuche_Alle,MATCH(ROWS($D$3:D55),DROPDOWN_AOSuche_Helper2,0)),\"\")","v":""},"Kdo Op","HE","Mech Br 1","Mech Bat 18","Mech Log Kp 18"]
[null,"Art RS 31-1",0,{"$f":"IF(C56=1,COUNTIF($C$3:C56,1),\"\")","v":""},{"$f":"IFERROR(INDEX(DROPDOWN_AOSuche_Alle,MATCH(ROWS($D$3:D56),DROPDOWN_AOSuche_Helper2,0)),\"\")","v":""},"Kdo Op","HE","Mech Br 1","Mech Bat 18","Pz Kp 18/1"]
[null,"Art RS 31-2",0,{"$f":"IF(C57=1,COUNTIF($C$3:C57,1),\"\")","v":""},{"$f":"IFERROR(INDEX(DROPDOWN_AOSuche_Alle,MATCH(ROWS($D$3:D57),DROPDOWN_AOSuche_Helper2,0)),\"\")","v":""},"Kdo Op","HE","Mech Br 1","Mech Bat 18","Pz Kp 18/2"]
[null,"Art RS 31-3",0,{"$f":"IF(C58=1,COUNTIF($C$3:C58,1),\"\")","v":""},{"$f":"IFERROR(INDEX(DROPDOWN_AOSuche_Alle,MATCH(ROWS($D$3:D58),DROPDOWN_AOSuche_Helper2,0)),\"\")","v":""},"Kdo Op","HE","Mech Br 1","Mech Bat 18","Pz Gren Kp 18/3"]
[null,"Art RS Bttr 31-1/1",0,{"$f":"IF(C59=1,COUNTIF($C$3:C59,1),\"\")","v":""},{"$f":"IFERROR(INDEX(DROPDOWN_AOSuche_Alle,MATCH(ROWS($D$3:D59),DROPDOWN_AOSuche_Helper2,0)),\"\")","v":""},"Kdo Op","HE","Mech Br 1","Mech Bat 18","Pz Gren Kp 18/4"]
[null,"Art RS Bttr 31-1/2",0,{"$f":"IF(C60=1,COUNTIF($C$3:C60,1),\"\")","v":""},{"$f":"IFERROR(INDEX(DROPDOWN_AOSuche_Alle,MATCH(ROWS($D$3:D60),DROPDOWN_AOSuche_Helper2,0)),\"\")","v":""},"Kdo Op","HE","Mech Br 1","Pz Sap Bat 1"]
[null,"Art RS Bttr 31-1/3",0,{"$f":"IF(C61=1,COUNTIF($C$3:C61,1),\"\")","v":""},{"$f":"IFERROR(INDEX(DROPDOWN_AOSuche_Alle,MATCH(ROWS($D$3:D61),DROPDOWN_AOSuche_Helper2,0)),\"\")","v":""},"Kdo Op","HE","Mech Br 1","Pz Sap Bat 1","Stab Pz Sap Bat 1"]
[null,"Art RS Bttr 31-1/4",0,{"$f":"IF(C62=1,COUNTIF($C$3:C62,1),\"\")","v":""},{"$f":"IFERROR(INDEX(DROPDOWN_AOSuche_Alle,MATCH(ROWS($D$3:D62),DROPDOWN_AOSuche_Helper2,0)),\"\")","v":""},"Kdo Op","HE","Mech Br 1","Pz Sap Bat 1","Pz Sap Stabskp 1"]
[null,"Art RS Bttr 31-1/5",0,{"$f":"IF(C63=1,COUNTIF($C$3:C63,1),\"\")","v":""},{"$f":"IFERROR(INDEX(DROPDOWN_AOSuche_Alle,MATCH(ROWS($D$3:D63),DROPDOWN_AOSuche_Helper2,0)),\"\")","v":""},"Kdo Op","HE","Mech Br 1","Pz Sap Bat 1","Pz Sap Log Kp 1"]
[null,"Art RS Bttr 31-2/1",0,{"$f":"IF(C64=1,COUNTIF($C$3:C64,1),\"\")","v":""},{"$f":"IFERROR(INDEX(DROPDOWN_AOSuche_Alle,MATCH(ROWS($D$3:D64),DROPDOWN_AOSuche_Helper2,0)),\"\")","v":""},"Kdo Op","HE","Mech Br 1","Pz Sap Bat 1","Pz Sap Kp 1/1"]
[null,"Art RS Bttr 31-2/2",0,{"$f":"IF(C65=1,COUNTIF($C$3:C65,1),\"\")","v":""},{"$f":"IFERROR(INDEX(DROPDOWN_AOSuche_Alle,MATCH(ROWS($D$3:D65),DROPDOWN_AOSuche_Helper2,0)),\"\")","v":""},"Kdo Op","HE","Mech Br 1","Pz Sap Bat 1","Pz Sap Kp 1/2"]
[null,"Art RS Bttr 31-2/3",0,{"$f":"IF(C66=1,COUNTIF($C$3:C66,1),\"\")","v":""},{"$f":"IFERROR(INDEX(DROPDOWN_AOSuche_Alle,MATCH(ROWS($D$3:D66),DROPDOWN_AOSuche_Helper2,0)),\"\")","v":""},"Kdo Op","HE","Mech Br 1","Pz Sap Bat 1","Pz Sap Kp 1/3"]
[null,"Art RS Bttr 31-2/4",{"$f":"--ISNUMBER(IFERROR(SEARCH(AO_Search_Value,B67,1),\"\"))","v":0},{"$f":"IF(C67=1,COUNTIF($C$3:C67,1),\"\")","v":""},{"$f":"IFERROR(INDEX(DROPDOWN_AOSuche_Alle,MATCH(ROWS($D$3:D67),DROPDOWN_AOSuche_Helper2,0)),\"\")","v":""},"Kdo Op","HE","Mech Br 1","Aufkl Bat 1"]
[null,"Art RS Bttr 31-2/5",0,{"$f":"IF(C68=1,COUNTIF($C$3:C68,1),\"\")","v":""},{"$f":"IFERROR(INDEX(DROPDOWN_AOSuche_Alle,MATCH(ROWS($D$3:D68),DROPDOWN_AOSuche_Helper2,0)),\"\")","v":""},"Kdo Op","HE","Mech Br 1","Aufkl Bat 1","Stab Aufkl Bat 1"]
[null,"Art S 31",0,{"$f":"IF(C69=1,COUNTIF($C$3:C69,1),\"\")","v":""},{"$f":"IFERROR(INDEX(DROPDOWN_AOSuche_Alle,MATCH(ROWS($D$3:D69),DROPDOWN_AOSuche_Helper2,0)),\"\")","v":""},"Kdo Op","HE","Mech Br 1","Aufkl Bat 1","Aufkl Stabskp 1"]
[null,"Art UOS 31-1",0,{"$f":"IF(C70=1,COUNTIF($C$3:C70,1),\"\")","v":""},{"$f":"IFERROR(INDEX(DROPDOWN_AOSuche_Alle,MATCH(ROWS($D$3:D70),DROPDOWN_AOSuche_Helper2,0)),\"\")","v":""},"Kdo Op","HE","Mech Br 1","Aufkl Bat 1","Aufkl Log Kp 1"]
[null,"Art UOS 31-2",0,{"$f":"IF(C71=1,COUNTIF($C$3:C71,1),\"\")","v":""},{"$f":"IFERROR(INDEX(DROPDOWN_AOSuche_Alle,MATCH(ROWS($D$3:D71),DROPDOWN_AOSuche_Helper2,0)),\"\")","v":""},"Kdo Op","HE","Mech Br 1","Aufkl Bat 1","Aufkl Kp 1/1"]
[null,"Art UOS Kl 31-1/1",0,{"$f":"IF(C72=1,COUNTIF($C$3:C72,1),\"\")","v":""},{"$f":"IFERROR(INDEX(DROPDOWN_AOSuche_Alle,MATCH(ROWS($D$3:D72),DROPDOWN_AOSuche_Helper2,0)),\"\")","v":""},"Kdo Op","HE","Mech Br 1","Aufkl Bat 1","Aufkl Kp 1/2"]
[null,"Art UOS Kl 31-1/2",0,{"$f":"IF(C73=1,COUNTIF($C$3:C73,1),\"\")","v":""},{"$f":"IFERROR(INDEX(DROPDOWN_AOSuche_Alle,MATCH(ROWS($D$3:D73),DROPDOWN_AOSuche_Helper2,0)),\"\")","v":""},"Kdo Op","HE","Mech Br 1","Aufkl Bat 1","Aufkl Kp 1/3"]
[null,"Art UOS Kl 31-1/3",0,{"$f":"IF(C74=1,COUNTIF($C$3:C74,1),\"\")","v":""},{"$f":"IFERROR(INDEX(DROPDOWN_AOSuche_Alle,MATCH(ROWS($D$3:D74),DROPDOWN_AOSuche_Helper2,0)),\"\")","v":""},"Kdo Op","HE","Mech Br 1","Art Abt 1"]
[null,"Art UOS Kl 31-1/4",0,{"$f":"IF(C75=1,COUNTIF($C$3:C75,1),\"\")","v":""},{"$f":"IFERROR(INDEX(DROPDOWN_AOSuche_Alle,MATCH(ROWS($D$3:D75),DROPDOWN_AOSuche_Helper2,0)),\"\")","v":""},"Kdo Op","HE","Mech Br 1","Art Abt 1","Stab Art Abt 1"]
[null,"Art UOS Kl 31-1/5",0,{"$f":"IF(C76=1,COUNTIF($C$3:C76,1),\"\")","v":""},{"$f":"IFERROR(INDEX(DROPDOWN_AOSuche_Alle,MATCH(ROWS($D$3:D76),DROPDOWN_AOSuche_Helper2,0)),\"\")","v":""},"Kdo Op","HE","Mech Br 1","Art Abt 1","Art Flt Bttr 1"]
[null,"Art UOS Kl 31-1/Kdo-Kp",0,{"$f":"IF(C77=1,COUNTIF($C$3:C77,1),\"\")","v":""},{"$f":"IFERROR(INDEX(DROPDOWN_AOSuche_Alle,MATCH(ROWS($D$3:D77),DROPDOWN_AOSuche_Helper2,0)),\"\")","v":""},"Kdo Op","HE","Mech Br 1","Art Abt 1","Art Log Bttr 1"]
[null,"Art UOS Kl 31-2/ Kdo-Kp",0,{"$f":"IF(C78=1,COUNTIF($C$3:C78,1),\"\")","v":""},{"$f":"IFERROR(INDEX(DROPDOWN_AOSuche_Alle,MATCH(ROWS($D$3:D78),DROPDOWN_AOSuche_Helper2,0)),\"\")","v":""},"Kdo Op","HE","Mech Br 1","Art Abt 1","Art Bttr 1/1"]
[null,"Art UOS Kl 31-2/1",0,{"$f":"IF(C79=1,COUNTIF($C$3:C79,1),\"\")","v":""},{"$f":"IFERROR(INDEX(DROPDOWN_AOSuche_Alle,MATCH(ROWS($D$3:D79),DROPDOWN_AOSuche_Helper2,0)),\"\")","v":""},"Kdo Op","HE","Mech Br 1","Art Abt 1","Art Bttr 1/2"]
[null,"Art UOS Kl 31-2/2",0,{"$f":"IF(C80=1,COUNTIF($C$3:C80,1),\"\")","v":""},{"$f":"IFERROR(INDEX(DROPDOWN_AOSuche_Alle,MATCH(ROWS($D$3:D80),DROPDOWN_AOSuche_Helper2,0)),\"\")","v":""},"Kdo Op","HE","Mech Br 1","Art Abt 1","Art Bttr 1/3"]
[null,"Art UOS Kl 31-2/3",0,{"$f":"IF(C81=1,COUNTIF($C$3:C81,1),\"\")","v":""},{"$f":"IFERROR(INDEX(DROPDOWN_AOSuche_Alle,MATCH(ROWS($D$3:D81),DROPDOWN_AOSuche_Helper2,0)),\"\")","v":""},"Kdo Op","HE","Mech Br 1","Art Abt 1","Art Bttr 1/4"]
[null,"Art UOS Kl 31-2/4",0,{"$f":"IF(C82=1,COUNTIF($C$3:C82,1),\"\")","v":""},{"$f":"IFERROR(INDEX(DROPDOWN_AOSuche_Alle,MATCH(ROWS($D$3:D82),DROPDOWN_AOSuche_Helper2,0)),\"\")","v":""},"Kdo Op","HE","Mech Br 4"]
[null,"Art UOS Kl 31-2/5",0,{"$f":"IF(C83=1,COUNTIF($C$3:C83,1),\"\")","v":""},{"$f":"IFERROR(INDEX(DROPDOWN_AOSuche_Alle,MATCH(ROWS($D$3:D83),DROPDOWN_AOSuche_Helper2,0)),\"\")","v":""},"Kdo Op","HE","Mech Br 4","Stab Mech Br 4"]
[null,"Aufkl Bat 1",0,{"$f":"IF(C84=1,COUNTIF($C$3:C84,1),\"\")","v":""},{"$f":"IFERROR(INDEX(DROPDOWN_AOSuche_Alle,MATCH(ROWS($D$3:D84),DROPDOWN_AOSuche_Helper2,0)),\"\")","v":""},"Kdo Op","HE","Mech Br 4","Mech Br Stabsbat 4"]
[null,"Aufkl Bat 11",0,{"$f":"IF(C85=1,COUNTIF($C$3:C85,1),\"\")","v":""},{"$f":"IFERROR(INDEX(DROPDOWN_AOSuche_Alle,MATCH(ROWS($D$3:D85),DROPDOWN_AOSuche_Helper2,0)),\"\")","v":""},"Kdo Op","HE","Mech Br 4","Mech Br Stabsbat 4","Stab Mech Br Stabsbat 4"]
[null,"Aufkl Bat 4",0,{"$f":"IF(C86=1,COUNTIF($C$3:C86,1),\"\")","v":""},{"$f":"IFERROR(INDEX(DROPDOWN_AOSuche_Alle,MATCH(ROWS($D$3:D86),DROPDOWN_AOSuche_Helper2,0)),\"\")","v":""},"Kdo Op","HE","Mech Br 4","Mech Br Stabsbat 4","Mech Br Stabskp 4"]
[null,"Aufkl Bat 5",0,{"$f":"IF(C87=1,COUNTIF($C$3:C87,1),\"\")","v":""},{"$f":"IFERROR(INDEX(DROPDOWN_AOSuche_Alle,MATCH(ROWS($D$3:D87),DROPDOWN_AOSuche_Helper2,0)),\"\")","v":""},"Kdo Op","HE","Mech Br 4","Mech Br Stabsbat 4","Mech Br Betr Kp 4/1"]
[null,"Aufkl Kp 1/1",0,{"$f":"IF(C88=1,COUNTIF($C$3:C88,1),\"\")","v":""},{"$f":"IFERROR(INDEX(DROPDOWN_AOSuche_Alle,MATCH(ROWS($D$3:D88),DROPDOWN_AOSuche_Helper2,0)),\"\")","v":""},"Kdo Op","HE","Mech Br 4","Mech Br Stabsbat 4","Mech Br Uem Kp 4/2"]
[null,"Aufkl Kp 1/2",0,{"$f":"IF(C89=1,COUNTIF($C$3:C89,1),\"\")","v":""},{"$f":"IFERROR(INDEX(DROPDOWN_AOSuche_Alle,MATCH(ROWS($D$3:D89),DROPDOWN_AOSuche_Helper2,0)),\"\")","v":""},"Kdo Op","HE","Mech Br 4","Mech Br Stabsbat 4","Mech Br Fhr St Kp 4/3"]
[null,"Aufkl Kp 1/3",0,{"$f":"IF(C90=1,COUNTIF($C$3:C90,1),\"\")","v":""},{"$f":"IFERROR(INDEX(DROPDOWN_AOSuche_Alle,MATCH(ROWS($D$3:D90),DROPDOWN_AOSuche_Helper2,0)),\"\")","v":""},"Kdo Op","HE","Mech Br 4","Mech Br Stabsbat 4","Mech Br Si Kp 4/4"]
[null,"Aufkl Kp 11/1",0,{"$f":"IF(C91=1,COUNTIF($C$3:C91,1),\"\")","v":""},{"$f":"IFERROR(INDEX(DROPDOWN_AOSuche_Alle,MATCH(ROWS($D$3:D91),DROPDOWN_AOSuche_Helper2,0)),\"\")","v":""},"Kdo Op","HE","Mech Br 4","Mech Br Stabsbat 4","FFZ Bttr 4/5"]
[null,"Aufkl Kp 11/2",0,{"$f":"IF(C92=1,COUNTIF($C$3:C92,1),\"\")","v":""},{"$f":"IFERROR(INDEX(DROPDOWN_AOSuche_Alle,MATCH(ROWS($D$3:D92),DROPDOWN_AOSuche_Helper2,0)),\"\")","v":""},"Kdo Op","HE","Mech Br 4","Aufkl Bat 4"]
[null,"Aufkl Kp 11/3",0,{"$f":"IF(C93=1,COUNTIF($C$3:C93,1),\"\")","v":""},{"$f":"IFERROR(INDEX(DROPDOWN_AOSuche_Alle,MATCH(ROWS($D$3:D93),DROPDOWN_AOSuche_Helper2,0)),\"\")","v":""},"Kdo Op","HE","Mech Br 4","Aufkl Bat 4","Stab Aufkl Bat 4"]
[null,"Aufkl Kp 4/1",0,{"$f":"IF(C94=1,COUNTIF($C$3:C94,1),\"\")","v":""},{"$f":"IFERROR(INDEX(DROPDOWN_AOSuche_Alle,MATCH(ROWS($D$3:D94),DROPDOWN_AOSuche_Helper2,0)),\"\")","v":""},"Kdo Op","HE","Mech Br 4","Aufkl Bat 4","Aufkl Stabskp 4"]
[null,"Aufkl Kp 4/2",0,{"$f":"IF(C95=1,COUNTIF($C$3:C95,1),\"\")","v":""},{"$f":"IFERROR(INDEX(DROPDOWN_AOSuche_Alle,MATCH(ROWS($D$3:D95),DROPDOWN_AOSuche_Helper2,0)),\"\")","v":""},"Kdo Op","HE","Mech Br 4","Aufkl Bat 4","Aufkl Log Kp 4"]
[null,"Aufkl Kp 4/3",0,{"$f":"IF(C96=1,COUNTIF($C$3:C96,1),\"\")","v":""},{"$f":"IFERROR(INDEX(DROPDOWN_AOSuche_Alle,MATCH(ROWS($D$3:D96),DROPDOWN_AOSuche_Helper2,0)),\"\")","v":""},"Kdo Op","HE","Mech Br 4","Aufkl Bat 4","Aufkl Kp 4/1"]
[null,"Aufkl Kp 5/1",0,{"$f":"IF(C97=1,COUNTIF($C$3:C97,1),\"\")","v":""},{"$f":"IFERROR(INDEX(DROPDOWN_AOSuche_Alle,MATCH(ROWS($D$3:D97),DROPDOWN_AOSuche_Helper2,0)),\"\")","v":""},"Kdo Op","HE","Mech Br 4","Aufkl Bat 4","Aufkl Kp 4/2"]
[null,"Aufkl Kp 5/2",0,{"$f":"IF(C98=1,COUNTIF($C$3:C98,1),\"\")","v":""},{"$f":"IFERROR(INDEX(DROPDOWN_AOSuche_Alle,MATCH(ROWS($D$3:D98),DROPDOWN_AOSuche_Helper2,0)),\"\")","v":""},"Kdo Op","HE","Mech Br 4","Aufkl Bat 4","Aufkl Kp 4/3"]
[null,"Aufkl Kp 5/3",0,{"$f":"IF(C99=1,COUNTIF($C$3:C99,1),\"\")","v":""},{"$f":"IFERROR(INDEX(DROPDOWN_AOSuche_Alle,MATCH(ROWS($D$3:D99),DROPDOWN_AOSuche_Helper2,0)),\"\")","v":""},"Kdo Op","HE","Mech Br 4","Aufkl Bat 5"]
[null,"Aufkl Log Kp 1",0,{"$f":"IF(C100=1,COUNTIF($C$3:C100,1),\"\")","v":""},{"$f":"IFERROR(INDEX(DROPDOWN_AOSuche_Alle,MATCH(ROWS($D$3:D100),DROPDOWN_AOSuche_Helper2,0)),\"\")","v":""},"Kdo Op","HE","Mech Br 4","Aufkl Bat 5","Stab Aufkl Bat 5"]
[null,"Aufkl Log Kp 11",0,{"$f":"IF(C101=1,COUNTIF($C$3:C101,1),\"\")","v":""},{"$f":"IFERROR(INDEX(DROPDOWN_AOSuche_Alle,MATCH(ROWS($D$3:D101),DROPDOWN_AOSuche_Helper2,0)),\"\")","v":""},"Kdo Op","HE","Mech Br 4","Aufkl Bat 5","Aufkl Stabskp 5"]
[null,"Aufkl Log Kp 4",0,{"$f":"IF(C102=1,COUNTIF($C$3:C102,1),\"\")","v":""},{"$f":"IFERROR(INDEX(DROPDOWN_AOSuche_Alle,MATCH(ROWS($D$3:D102),DROPDOWN_AOSuche_Helper2,0)),\"\")","v":""},"Kdo Op","HE","Mech Br 4","Aufkl Bat 5","Aufkl Log Kp 5"]
[null,"Aufkl Log Kp 5",0,{"$f":"IF(C103=1,COUNTIF($C$3:C103,1),\"\")","v":""},{"$f":"IFERROR(INDEX(DROPDOWN_AOSuche_Alle,MATCH(ROWS($D$3:D103),DROPDOWN_AOSuche_Helper2,0)),\"\")","v":""},"Kdo Op","HE","Mech Br 4","Aufkl Bat 5","Aufkl Kp 5/1"]
[null,"Aufkl Stabskp 1",0,{"$f":"IF(C104=1,COUNTIF($C$3:C104,1),\"\")","v":""},{"$f":"IFERROR(INDEX(DROPDOWN_AOSuche_Alle,MATCH(ROWS($D$3:D104),DROPDOWN_AOSuche_Helper2,0)),\"\")","v":""},"Kdo Op","HE","Mech Br 4","Aufkl Bat 5","Aufkl Kp 5/2"]
[null,"Aufkl Stabskp 11",0,{"$f":"IF(C105=1,COUNTIF($C$3:C105,1),\"\")","v":""},{"$f":"IFERROR(INDEX(DROPDOWN_AOSuche_Alle,MATCH(ROWS($D$3:D105),DROPDOWN_AOSuche_Helper2,0)),\"\")","v":""},"Kdo Op","HE","Mech Br 4","Aufkl Bat 5","Aufkl Kp 5/3"]
[null,"Aufkl Stabskp 4",0,{"$f":"IF(C106=1,COUNTIF($C$3:C106,1),\"\")","v":""},{"$f":"IFERROR(INDEX(DROPDOWN_AOSuche_Alle,MATCH(ROWS($D$3:D106),DROPDOWN_AOSuche_Helper2,0)),\"\")","v":""},"Kdo Op","HE","Mech Br 4","Art Abt 10"]
[null,"Aufkl Stabskp 5",0,{"$f":"IF(C107=1,COUNTIF($C$3:C107,1),\"\")","v":""},{"$f":"IFERROR(INDEX(DROPDOWN_AOSuche_Alle,MATCH(ROWS($D$3:D107),DROPDOWN_AOSuche_Helper2,0)),\"\")","v":""},"Kdo Op","HE","Mech Br 4","Art Abt 10","Stab Art Abt 10"]
[null,"AZ Rttg Epeisses 76",0,{"$f":"IF(C108=1,COUNTIF($C$3:C108,1),\"\")","v":""},{"$f":"IFERROR(INDEX(DROPDOWN_AOSuche_Alle,MATCH(ROWS($D$3:D108),DROPDOWN_AOSuche_Helper2,0)),\"\")","v":""},"Kdo Op","HE","Mech Br 4","Art Abt 10","Art Flt Bttr 10"]
[null,"Betr Det Kdo AZ Spez Kräfte",0,{"$f":"IF(C109=1,COUNTIF($C$3:C109,1),\"\")","v":""},{"$f":"IFERROR(INDEX(DROPDOWN_AOSuche_Alle,MATCH(ROWS($D$3:D109),DROPDOWN_AOSuche_Helper2,0)),\"\")","v":""},"Kdo Op","HE","Mech Br 4","Art Abt 10","Art Log Bttr 10"]
[null,"Betr Det Kdo AZA",0,{"$f":"IF(C110=1,COUNTIF($C$3:C110,1),\"\")","v":""},{"$f":"IFERROR(INDEX(DROPDOWN_AOSuche_Alle,MATCH(ROWS($D$3:D110),DROPDOWN_AOSuche_Helper2,0)),\"\")","v":""},"Kdo Op","HE","Mech Br 4","Art Abt 10","Art Bttr 10/1"]
[null,"Betr Det Kdo BUSA",0,{"$f":"IF(C111=1,COUNTIF($C$3:C111,1),\"\")","v":""},{"$f":"IFERROR(INDEX(DROPDOWN_AOSuche_Alle,MATCH(ROWS($D$3:D111),DROPDOWN_AOSuche_Helper2,0)),\"\")","v":""},"Kdo Op","HE","Mech Br 4","Art Abt 10","Art Bttr 10/2"]
[null,"Betr Det Kdo Gst S",0,{"$f":"IF(C112=1,COUNTIF($C$3:C112,1),\"\")","v":""},{"$f":"IFERROR(INDEX(DROPDOWN_AOSuche_Alle,MATCH(ROWS($D$3:D112),DROPDOWN_AOSuche_Helper2,0)),\"\")","v":""},"Kdo Op","HE","Mech Br 4","Art Abt 10","Art Bttr 10/3"]
[null,"Betr Det Kdo MILAK",0,{"$f":"IF(C113=1,COUNTIF($C$3:C113,1),\"\")","v":""},{"$f":"IFERROR(INDEX(DROPDOWN_AOSuche_Alle,MATCH(ROWS($D$3:D113),DROPDOWN_AOSuche_Helper2,0)),\"\")","v":""},"Kdo Op","HE","Mech Br 4","Art Abt 10","Art Bttr 10/4"]
[null,"Betr Det Kdo PDG",0,{"$f":"IF(C114=1,COUNTIF($C$3:C114,1),\"\")","v":""},{"$f":"IFERROR(INDEX(DROPDOWN_AOSuche_Alle,MATCH(ROWS($D$3:D114),DROPDOWN_AOSuche_Helper2,0)),\"\")","v":""},"Kdo Op","HE","Mech Br 4","Art Abt 49"]
[null,"Betr Det Kdo Rekr",0,{"$f":"IF(C115=1,COUNTIF($C$3:C115,1),\"\")","v":""},{"$f":"IFERROR(INDEX(DROPDOWN_AOSuche_Alle,MATCH(ROWS($D$3:D115),DROPDOWN_AOSuche_Helper2,0)),\"\")","v":""},"Kdo Op","HE","Mech Br 4","Art Abt 49","Stab Art Abt 49"]
[null,"Betr Det Kdo SKS",0,{"$f":"IF(C116=1,COUNTIF($C$3:C116,1),\"\")","v":""},{"$f":"IFERROR(INDEX(DROPDOWN_AOSuche_Alle,MATCH(ROWS($D$3:D116),DROPDOWN_AOSuche_Helper2,0)),\"\")","v":""},"Kdo Op","HE","Mech Br 4","Art Abt 49","Art Flt Bttr 49"]
[null,"Betr Det Kdo ZS",0,{"$f":"IF(C117=1,COUNTIF($C$3:C117,1),\"\")","v":""},{"$f":"IFERROR(INDEX(DROPDOWN_AOSuche_Alle,MATCH(ROWS($D$3:D117),DROPDOWN_AOSuche_Helper2,0)),\"\")","v":""},"Kdo Op","HE","Mech Br 4","Art Abt 49","Art Log Bttr 49"]
[null,"Betr Det Komp Zen ABC/KAMIR",0,{"$f":"IF(C118=1,COUNTIF($C$3:C118,1),\"\")","v":""},{"$f":"IFERROR(INDEX(DROPDOWN_AOSuche_Alle,MATCH(ROWS($D$3:D118),DROPDOWN_AOSuche_Helper2,0)),\"\")","v":""},"Kdo Op","HE","Mech Br 4","Art Abt 49","Art Bttr 49/1"]
[null,"Betr Det Komp Zen Geb D A",0,{"$f":"IF(C119=1,COUNTIF($C$3:C119,1),\"\")","v":""},{"$f":"IFERROR(INDEX(DROPDOWN_AOSuche_Alle,MATCH(ROWS($D$3:D119),DROPDOWN_AOSuche_Helper2,0)),\"\")","v":""},"Kdo Op","HE","Mech Br 4","Art Abt 49","Art Bttr 49/2"]
[null,"Betr Det Komp Zen Mil Musik",0,{"$f":"IF(C120=1,COUNTIF($C$3:C120,1),\"\")","v":""},{"$f":"IFERROR(INDEX(DROPDOWN_AOSuche_Alle,MATCH(ROWS($D$3:D120),DROPDOWN_AOSuche_Helper2,0)),\"\")","v":""},"Kdo Op","HE","Mech Br 4","Art Abt 49","Art Bttr 49/3"]
[null,"Betr Det Komp Zen MP",0,{"$f":"IF(C121=1,COUNTIF($C$3:C121,1),\"\")","v":""},{"$f":"IFERROR(INDEX(DROPDOWN_AOSuche_Alle,MATCH(ROWS($D$3:D121),DROPDOWN_AOSuche_Helper2,0)),\"\")","v":""},"Kdo Op","HE","Mech Br 4","Art Abt 49","Art Bttr 49/4"]
[null,"Betr Det Komp Zen SWISSINT",0,{"$f":"IF(C122=1,COUNTIF($C$3:C122,1),\"\")","v":""},{"$f":"IFERROR(INDEX(DROPDOWN_AOSuche_Alle,MATCH(ROWS($D$3:D122),DROPDOWN_AOSuche_Helper2,0)),\"\")","v":""},"Kdo Op","HE","Mech Br 4","Pont Bat 26"]
[null,"Betr Det Komp Zen Vet D u A T",0,{"$f":"IF(C123=1,COUNTIF($C$3:C123,1),\"\")","v":""},{"$f":"IFERROR(INDEX(DROPDOWN_AOSuche_Alle,MATCH(ROWS($D$3:D123),DROPDOWN_AOSuche_Helper2,0)),\"\")","v":""},"Kdo Op","HE","Mech Br 4","Pont Bat 26","Stab Pont Bat 26"]
[null,"Betr Det Koord Stelle 1",0,{"$f":"IF(C124=1,COUNTIF($C$3:C124,1),\"\")","v":""},{"$f":"IFERROR(INDEX(DROPDOWN_AOSuche_Alle,MATCH(ROWS($D$3:D124),DROPDOWN_AOSuche_Helper2,0)),\"\")","v":""},"Kdo Op","HE","Mech Br 4","Pont Bat 26","Pont Stabskp 26"]
[null,"Betr Det Koord Stelle 2",0,{"$f":"IF(C125=1,COUNTIF($C$3:C125,1),\"\")","v":""},{"$f":"IFERROR(INDEX(DROPDOWN_AOSuche_Alle,MATCH(ROWS($D$3:D125),DROPDOWN_AOSuche_Helper2,0)),\"\")","v":""},"Kdo Op","HE","Mech Br 4","Pont Bat 26","Sap Kp 26/1"]
[null,"Betr Det Koord Stelle 3",0,{"$f":"IF(C126=1,COUNTIF($C$3:C126,1),\"\")","v":""},{"$f":"IFERROR(INDEX(DROPDOWN_AOSuche_Alle,MATCH(ROWS($D$3:D126),DROPDOWN_AOSuche_Helper2,0)),\"\")","v":""},"Kdo Op","HE","Mech Br 4","Pont Bat 26","Pont Kp 26/2"]
[null,"Betr Det Koord Stelle 4",0,{"$f":"IF(C127=1,COUNTIF($C$3:C127,1),\"\")","v":""},{"$f":"IFERROR(INDEX(DROPDOWN_AOSuche_Alle,MATCH(ROWS($D$3:D127),DROPDOWN_AOSuche_Helper2,0)),\"\")","v":""},"Kdo Op","HE","Mech Br 4","Pont Bat 26","Pont Kp 26/3"]
[null,"Betr Det Kt AG",0,{"$f":"IF(C128=1,COUNTIF($C$3:C128,1),\"\")","v":""},{"$f":"IFERROR(INDEX(DROPDOWN_AOSuche_Alle,MATCH(ROWS($D$3:D128),DROPDOWN_AOSuche_Helper2,0)),\"\")","v":""},"Kdo Op","HE","Mech Br 11"]
[null,"Betr Det Kt AR/AI",0,{"$f":"IF(C129=1,COUNTIF($C$3:C129,1),\"\")","v":""},{"$f":"IFERROR(INDEX(DROPDOWN_AOSuche_Alle,MATCH(ROWS($D$3:D129),DROPDOWN_AOSuche_Helper2,0)),\"\")","v":""},"Kdo Op","HE","Mech Br 11","Stab Mech Br 11"]
[null,"Betr Det Kt BE",0,{"$f":"IF(C130=1,COUNTIF($C$3:C130,1),\"\")","v":""},{"$f":"IFERROR(INDEX(DROPDOWN_AOSuche_Alle,MATCH(ROWS($D$3:D130),DROPDOWN_AOSuche_Helper2,0)),\"\")","v":""},"Kdo Op","HE","Mech Br 11","Mech Br Stabsbat 11"]
[null,"Betr Det Kt BL",{"$f":"--ISNUMBER(IFERROR(SEARCH(AO_Search_Value,B131,1),\"\"))","v":0},{"$f":"IF(C131=1,COUNTIF($C$3:C131,1),\"\")","v":""},{"$f":"IFERROR(INDEX(DROPDOWN_AOSuche_Alle,MATCH(ROWS($D$3:D131),DROPDOWN_AOSuche_Helper2,0)),\"\")","v":""},"Kdo Op","HE","Mech Br 11","Mech Br Stabsbat 11","Stab Mech Br Stabsbat 11"]
[null,"Betr Det Kt BS",0,{"$f":"IF(C132=1,COUNTIF($C$3:C132,1),\"\")","v":""},{"$f":"IFERROR(INDEX(DROPDOWN_AOSuche_Alle,MATCH(ROWS($D$3:D132),DROPDOWN_AOSuche_Helper2,0)),\"\")","v":""},"Kdo Op","HE","Mech Br 11","Mech Br Stabsbat 11","Mech Br Stabskp 11"]
[null,"Betr Det Kt FR",0,{"$f":"IF(C133=1,COUNTIF($C$3:C133,1),\"\")","v":""},{"$f":"IFERROR(INDEX(DROPDOWN_AOSuche_Alle,MATCH(ROWS($D$3:D133),DROPDOWN_AOSuche_Helper2,0)),\"\")","v":""},"Kdo Op","HE","Mech Br 11","Mech Br Stabsbat 11","Mech Br Betr Kp 11/1"]
[null,"Betr Det Kt GE",0,{"$f":"IF(C134=1,COUNTIF($C$3:C134,1),\"\")","v":""},{"$f":"IFERROR(INDEX(DROPDOWN_AOSuche_Alle,MATCH(ROWS($D$3:D134),DROPDOWN_AOSuche_Helper2,0)),\"\")","v":""},"Kdo Op","HE","Mech Br 11","Mech Br Stabsbat 11","Mech Br Uem Kp 11/2"]
[null,"Betr Det Kt GL",0,{"$f":"IF(C135=1,COUNTIF($C$3:C135,1),\"\")","v":""},{"$f":"IFERROR(INDEX(DROPDOWN_AOSuche_Alle,MATCH(ROWS($D$3:D135),DROPDOWN_AOSuche_Helper2,0)),\"\")","v":""},"Kdo Op","HE","Mech Br 11","Mech Br Stabsbat 11","Mech Br Fhr St Kp 11/3"]
[null,"Betr Det Kt GR",0,{"$f":"IF(C136=1,COUNTIF($C$3:C136,1),\"\")","v":""},{"$f":"IFERROR(INDEX(DROPDOWN_AOSuche_Alle,MATCH(ROWS($D$3:D136),DROPDOWN_AOSuche_Helper2,0)),\"\")","v":""},"Kdo Op","HE","Mech Br 11","Mech Br Stabsbat 11","Mech Br Si Kp 11/4"]
[null,"Betr Det Kt JU",0,{"$f":"IF(C137=1,COUNTIF($C$3:C137,1),\"\")","v":""},{"$f":"IFERROR(INDEX(DROPDOWN_AOSuche_Alle,MATCH(ROWS($D$3:D137),DROPDOWN_AOSuche_Helper2,0)),\"\")","v":""},"Kdo Op","HE","Mech Br 11","Mech Br Stabsbat 11","FFZ Bttr 11/5"]
[null,"Betr Det Kt LU",0,{"$f":"IF(C138=1,COUNTIF($C$3:C138,1),\"\")","v":""},{"$f":"IFERROR(INDEX(DROPDOWN_AOSuche_Alle,MATCH(ROWS($D$3:D138),DROPDOWN_AOSuche_Helper2,0)),\"\")","v":""},"Kdo Op","HE","Mech Br 11","Pz Bat 13"]
[null,"Betr Det Kt NE",0,{"$f":"IF(C139=1,COUNTIF($C$3:C139,1),\"\")","v":""},{"$f":"IFERROR(INDEX(DROPDOWN_AOSuche_Alle,MATCH(ROWS($D$3:D139),DROPDOWN_AOSuche_Helper2,0)),\"\")","v":""},"Kdo Op","HE","Mech Br 11","Pz Bat 13","Stab Pz Bat 13"]
[null,"Betr Det Kt NW",0,{"$f":"IF(C140=1,COUNTIF($C$3:C140,1),\"\")","v":""},{"$f":"IFERROR(INDEX(DROPDOWN_AOSuche_Alle,MATCH(ROWS($D$3:D140),DROPDOWN_AOSuche_Helper2,0)),\"\")","v":""},"Kdo Op","HE","Mech Br 11","Pz Bat 13","Pz Stabskp 13"]
[null,"Betr Det Kt SG",0,{"$f":"IF(C141=1,COUNTIF($C$3:C141,1),\"\")","v":""},{"$f":"IFERROR(INDEX(DROPDOWN_AOSuche_Alle,MATCH(ROWS($D$3:D141),DROPDOWN_AOSuche_Helper2,0)),\"\")","v":""},"Kdo Op","HE","Mech Br 11","Pz Bat 13","Pz Log Kp 13"]
[null,"Betr Det Kt SH",0,{"$f":"IF(C142=1,COUNTIF($C$3:C142,1),\"\")","v":""},{"$f":"IFERROR(INDEX(DROPDOWN_AOSuche_Alle,MATCH(ROWS($D$3:D142),DROPDOWN_AOSuche_Helper2,0)),\"\")","v":""},"Kdo Op","HE","Mech Br 11","Pz Bat 13","Pz Kp 13/1"]
[null,"Betr Det Kt SO",0,{"$f":"IF(C143=1,COUNTIF($C$3:C143,1),\"\")","v":""},{"$f":"IFERROR(INDEX(DROPDOWN_AOSuche_Alle,MATCH(ROWS($D$3:D143),DROPDOWN_AOSuche_Helper2,0)),\"\")","v":""},"Kdo Op","HE","Mech Br 11","Pz Bat 13","Pz Kp 13/2"]
[null,"Betr Det Kt SZ",0,{"$f":"IF(C144=1,COUNTIF($C$3:C144,1),\"\")","v":""},{"$f":"IFERROR(INDEX(DROPDOWN_AOSuche_Alle,MATCH(ROWS($D$3:D144),DROPDOWN_AOSuche_Helper2,0)),\"\")","v":""},"Kdo Op","HE","Mech Br 11","Pz Bat 13","Pz Gren Kp 13/3"]
[null,"Betr Det Kt TG",0,{"$f":"IF(C145=1,COUNTIF($C$3:C145,1),\"\")","v":""},{"$f":"IFERROR(INDEX(DROPDOWN_AOSuche_Alle,MATCH(ROWS($D$3:D145),DROPDOWN_AOSuche_Helper2,0)),\"\")","v":""},"Kdo Op","HE","Mech Br 11","Pz Bat 13","Pz Gren Kp 13/4"]
[null,"Betr Det Kt TI",0,{"$f":"IF(C146=1,COUNTIF($C$3:C146,1),\"\")","v":""},{"$f":"IFERROR(INDEX(DROPDOWN_AOSuche_Alle,MATCH(ROWS($D$3:D146),DROPDOWN_AOSuche_Helper2,0)),\"\")","v":""},"Kdo Op","HE","Mech Br 11","Mech Bat 14"]
[null,"Betr Det Kt UR",0,{"$f":"IF(C147=1,COUNTIF($C$3:C147,1),\"\")","v":""},{"$f":"IFERROR(INDEX(DROPDOWN_AOSuche_Alle,MATCH(ROWS($D$3:D147),DROPDOWN_AOSuche_Helper2,0)),\"\")","v":""},"Kdo Op","HE","Mech Br 11","Mech Bat 14","Stab Mech Bat 14"]
[null,"Betr Det Kt VD",0,{"$f":"IF(C148=1,COUNTIF($C$3:C148,1),\"\")","v":""},{"$f":"IFERROR(INDEX(DROPDOWN_AOSuche_Alle,MATCH(ROWS($D$3:D148),DROPDOWN_AOSuche_Helper2,0)),\"\")","v":""},"Kdo Op","HE","Mech Br 11","Mech Bat 14","Mech Stabskp 14"]
[null,"Betr Det Kt VS",0,{"$f":"IF(C149=1,COUNTIF($C$3:C149,1),\"\")","v":""},{"$f":"IFERROR(INDEX(DROPDOWN_AOSuche_Alle,MATCH(ROWS($D$3:D149),DROPDOWN_AOSuche_Helper2,0)),\"\")","v":""},"Kdo Op","HE","Mech Br 11","Mech Bat 14","Mech Log Kp 14"]
[null,"Betr Det Kt ZG",0,{"$f":"IF(C150=1,COUNTIF($C$3:C150,1),\"\")","v":""},{"$f":"IFERROR(INDEX(DROPDOWN_AOSuche_Alle,MATCH(ROWS($D$3:D150),DROPDOWN_AOSuche_Helper2,0)),\"\")","v":""},"Kdo Op","HE","Mech Br 11","Mech Bat 14","Pz Kp 14/1"]
[null,"Betr Det Kt ZH",0,{"$f":"IF(C151=1,COUNTIF($C$3:C151,1),\"\")","v":""},{"$f":"IFERROR(INDEX(DROPDOWN_AOSuche_Alle,MATCH(ROWS($D$3:D151),DROPDOWN_AOSuche_Helper2,0)),\"\")","v":""},"Kdo Op","HE","Mech Br 11","Mech Bat 14","Pz Kp 14/2"]
[null,"Betr Det LVb Flab 33",0,{"$f":"IF(C152=1,COUNTIF($C$3:C152,1),\"\")","v":""},{"$f":"IFERROR(INDEX(DROPDOWN_AOSuche_Alle,MATCH(ROWS($D$3:D152),DROPDOWN_AOSuche_Helper2,0)),\"\")","v":""},"Kdo Op","HE","Mech Br 11","Mech Bat 14","Pz Gren Kp 14/3"]
[null,"Betr Det LVb Flab/FU",0,{"$f":"IF(C153=1,COUNTIF($C$3:C153,1),\"\")","v":""},{"$f":"IFERROR(INDEX(DROPDOWN_AOSuche_Alle,MATCH(ROWS($D$3:D153),DROPDOWN_AOSuche_Helper2,0)),\"\")","v":""},"Kdo Op","HE","Mech Br 11","Mech Bat 14","Pz Gren Kp 14/4"]
[null,"Betr Det LVb G/Rttg/ABC",0,{"$f":"IF(C154=1,COUNTIF($C$3:C154,1),\"\")","v":""},{"$f":"IFERROR(INDEX(DROPDOWN_AOSuche_Alle,MATCH(ROWS($D$3:D154),DROPDOWN_AOSuche_Helper2,0)),\"\")","v":""},"Kdo Op","HE","Mech Br 11","Mech Bat 29"]
[null,"Betr Det LVb Inf",0,{"$f":"IF(C155=1,COUNTIF($C$3:C155,1),\"\")","v":""},{"$f":"IFERROR(INDEX(DROPDOWN_AOSuche_Alle,MATCH(ROWS($D$3:D155),DROPDOWN_AOSuche_Helper2,0)),\"\")","v":""},"Kdo Op","HE","Mech Br 11","Mech Bat 29","Stab Mech Bat 29"]
[null,"Betr Det LVb Log",0,{"$f":"IF(C156=1,COUNTIF($C$3:C156,1),\"\")","v":""},{"$f":"IFERROR(INDEX(DROPDOWN_AOSuche_Alle,MATCH(ROWS($D$3:D156),DROPDOWN_AOSuche_Helper2,0)),\"\")","v":""},"Kdo Op","HE","Mech Br 11","Mech Bat 29","Mech Stabskp 29"]
[null,"Betr Det LVb Pz/Art",0,{"$f":"IF(C157=1,COUNTIF($C$3:C157,1),\"\")","v":""},{"$f":"IFERROR(INDEX(DROPDOWN_AOSuche_Alle,MATCH(ROWS($D$3:D157),DROPDOWN_AOSuche_Helper2,0)),\"\")","v":""},"Kdo Op","HE","Mech Br 11","Mech Bat 29","Mech Log Kp 29"]
[null,"Betr Det LW AT Br",0,{"$f":"IF(C158=1,COUNTIF($C$3:C158,1),\"\")","v":""},{"$f":"IFERROR(INDEX(DROPDOWN_AOSuche_Alle,MATCH(ROWS($D$3:D158),DROPDOWN_AOSuche_Helper2,0)),\"\")","v":""},"Kdo Op","HE","Mech Br 11","Mech Bat 29","Pz Kp 29/1"]
[null,"Betr Kp FIS",0,{"$f":"IF(C159=1,COUNTIF($C$3:C159,1),\"\")","v":""},{"$f":"IFERROR(INDEX(DROPDOWN_AOSuche_Alle,MATCH(ROWS($D$3:D159),DROPDOWN_AOSuche_Helper2,0)),\"\")","v":""},"Kdo Op","HE","Mech Br 11","Mech Bat 29","Pz Kp 29/2"]
[null,"Big Band",0,{"$f":"IF(C160=1,COUNTIF($C$3:C160,1),\"\")","v":""},{"$f":"IFERROR(INDEX(DROPDOWN_AOSuche_Alle,MATCH(ROWS($D$3:D160),DROPDOWN_AOSuche_Helper2,0)),\"\")","v":""},"Kdo Op","HE","Mech Br 11","Mech Bat 29","Pz Gren Kp 29/3"]
[null,"Blasorchester",0,{"$f":"IF(C161=1,COUNTIF($C$3:C161,1),\"\")","v":""},{"$f":"IFERROR(INDEX(DROPDOWN_AOSuche_Alle,MATCH(ROWS($D$3:D161),DROPDOWN_AOSuche_Helper2,0)),\"\")","v":""},"Kdo Op","HE","Mech Br 11","Mech Bat 29","Pz Gren Kp 29/4"]
[null,"Brass Band",0,{"$f":"IF(C162=1,COUNTIF($C$3:C162,1),\"\")","v":""},{"$f":"IFERROR(INDEX(DROPDOWN_AOSuche_Alle,MATCH(ROWS($D$3:D162),DROPDOWN_AOSuche_Helper2,0)),\"\")","v":""},"Kdo Op","HE","Mech Br 11","Pz Sap Bat 11"]
[null,"Central Band",0,{"$f":"IF(C163=1,COUNTIF($C$3:C163,1),\"\")","v":""},{"$f":"IFERROR(INDEX(DROPDOWN_AOSuche_Alle,MATCH(ROWS($D$3:D163),DROPDOWN_AOSuche_Helper2,0)),\"\")","v":""},"Kdo Op","HE","Mech Br 11","Pz Sap Bat 11","Stab Pz Sap Bat 11"]
[null,"CNO Kp 46/5",0,{"$f":"IF(C164=1,COUNTIF($C$3:C164,1),\"\")","v":""},{"$f":"IFERROR(INDEX(DROPDOWN_AOSuche_Alle,MATCH(ROWS($D$3:D164),DROPDOWN_AOSuche_Helper2,0)),\"\")","v":""},"Kdo Op","HE","Mech Br 11","Pz Sap Bat 11","Pz Sap Stabskp 11"]
[null,"D bei Wpl Bern",0,{"$f":"IF(C165=1,COUNTIF($C$3:C165,1),\"\")","v":""},{"$f":"IFERROR(INDEX(DROPDOWN_AOSuche_Alle,MATCH(ROWS($D$3:D165),DROPDOWN_AOSuche_Helper2,0)),\"\")","v":""},"Kdo Op","HE","Mech Br 11","Pz Sap Bat 11","Pz Sap Log Kp 11"]
[null,"DPSA",0,{"$f":"IF(C166=1,COUNTIF($C$3:C166,1),\"\")","v":""},{"$f":"IFERROR(INDEX(DROPDOWN_AOSuche_Alle,MATCH(ROWS($D$3:D166),DROPDOWN_AOSuche_Helper2,0)),\"\")","v":""},"Kdo Op","HE","Mech Br 11","Pz Sap Bat 11","Pz Sap Kp 11/1"]
[null,"Dro Kdo 84",0,{"$f":"IF(C167=1,COUNTIF($C$3:C167,1),\"\")","v":""},{"$f":"IFERROR(INDEX(DROPDOWN_AOSuche_Alle,MATCH(ROWS($D$3:D167),DROPDOWN_AOSuche_Helper2,0)),\"\")","v":""},"Kdo Op","HE","Mech Br 11","Pz Sap Bat 11","Pz Sap Kp 11/2"]
[null,"Dro St 7",0,{"$f":"IF(C168=1,COUNTIF($C$3:C168,1),\"\")","v":""},{"$f":"IFERROR(INDEX(DROPDOWN_AOSuche_Alle,MATCH(ROWS($D$3:D168),DROPDOWN_AOSuche_Helper2,0)),\"\")","v":""},"Kdo Op","HE","Mech Br 11","Pz Sap Bat 11","Pz Sap Kp 11/3"]
[null,"DVS RS WPE",0,{"$f":"IF(C169=1,COUNTIF($C$3:C169,1),\"\")","v":""},{"$f":"IFERROR(INDEX(DROPDOWN_AOSuche_Alle,MATCH(ROWS($D$3:D169),DROPDOWN_AOSuche_Helper2,0)),\"\")","v":""},"Kdo Op","HE","Mech Br 11","Aufkl Bat 11"]
[null,"Ei Kdo MP",0,{"$f":"IF(C170=1,COUNTIF($C$3:C170,1),\"\")","v":""},{"$f":"IFERROR(INDEX(DROPDOWN_AOSuche_Alle,MATCH(ROWS($D$3:D170),DROPDOWN_AOSuche_Helper2,0)),\"\")","v":""},"Kdo Op","HE","Mech Br 11","Aufkl Bat 11","Stab Aufkl Bat 11"]
[null,"Ei Kdo MP FS",0,{"$f":"IF(C171=1,COUNTIF($C$3:C171,1),\"\")","v":""},{"$f":"IFERROR(INDEX(DROPDOWN_AOSuche_Alle,MATCH(ROWS($D$3:D171),DROPDOWN_AOSuche_Helper2,0)),\"\")","v":""},"Kdo Op","HE","Mech Br 11","Aufkl Bat 11","Aufkl Stabskp 11"]
[null,"Ei Kdo MP Sich D",0,{"$f":"IF(C172=1,COUNTIF($C$3:C172,1),\"\")","v":""},{"$f":"IFERROR(INDEX(DROPDOWN_AOSuche_Alle,MATCH(ROWS($D$3:D172),DROPDOWN_AOSuche_Helper2,0)),\"\")","v":""},"Kdo Op","HE","Mech Br 11","Aufkl Bat 11","Aufkl Log Kp 11"]
[null,"Ei Ustü Det A Stab",0,{"$f":"IF(C173=1,COUNTIF($C$3:C173,1),\"\")","v":""},{"$f":"IFERROR(INDEX(DROPDOWN_AOSuche_Alle,MATCH(ROWS($D$3:D173),DROPDOWN_AOSuche_Helper2,0)),\"\")","v":""},"Kdo Op","HE","Mech Br 11","Aufkl Bat 11","Aufkl Kp 11/1"]
[null,"Ei Ustü Det Kdo MP",0,{"$f":"IF(C174=1,COUNTIF($C$3:C174,1),\"\")","v":""},{"$f":"IFERROR(INDEX(DROPDOWN_AOSuche_Alle,MATCH(ROWS($D$3:D174),DROPDOWN_AOSuche_Helper2,0)),\"\")","v":""},"Kdo Op","HE","Mech Br 11","Aufkl Bat 11","Aufkl Kp 11/2"]
[null,"Ei Ustü Det Kdo Op",0,{"$f":"IF(C175=1,COUNTIF($C$3:C175,1),\"\")","v":""},{"$f":"IFERROR(INDEX(DROPDOWN_AOSuche_Alle,MATCH(ROWS($D$3:D175),DROPDOWN_AOSuche_Helper2,0)),\"\")","v":""},"Kdo Op","HE","Mech Br 11","Aufkl Bat 11","Aufkl Kp 11/3"]
[null,"EinfK Mob Kader LW",0,{"$f":"IF(C176=1,COUNTIF($C$3:C176,1),\"\")","v":""},{"$f":"IFERROR(INDEX(DROPDOWN_AOSuche_Alle,MATCH(ROWS($D$3:D176),DROPDOWN_AOSuche_Helper2,0)),\"\")","v":""},"Kdo Op","HE","Mech Br 11","Art Abt 16"]
[null,"EKF Abt 51",0,{"$f":"IF(C177=1,COUNTIF($C$3:C177,1),\"\")","v":""},{"$f":"IFERROR(INDEX(DROPDOWN_AOSuche_Alle,MATCH(ROWS($D$3:D177),DROPDOWN_AOSuche_Helper2,0)),\"\")","v":""},"Kdo Op","HE","Mech Br 11","Art Abt 16","Stab Art Abt 16"]
[null,"EKF Abt 52",0,{"$f":"IF(C178=1,COUNTIF($C$3:C178,1),\"\")","v":""},{"$f":"IFERROR(INDEX(DROPDOWN_AOSuche_Alle,MATCH(ROWS($D$3:D178),DROPDOWN_AOSuche_Helper2,0)),\"\")","v":""},"Kdo Op","HE","Mech Br 11","Art Abt 16","Art Flt Bttr 16"]
[null,"EKF Ber Det 104",0,{"$f":"IF(C179=1,COUNTIF($C$3:C179,1),\"\")","v":""},{"$f":"IFERROR(INDEX(DROPDOWN_AOSuche_Alle,MATCH(ROWS($D$3:D179),DROPDOWN_AOSuche_Helper2,0)),\"\")","v":""},"Kdo Op","HE","Mech Br 11","Art Abt 16","Art Log Bttr 16"]
[null,"EKF Ber Det 204",0,{"$f":"IF(C180=1,COUNTIF($C$3:C180,1),\"\")","v":""},{"$f":"IFERROR(INDEX(DROPDOWN_AOSuche_Alle,MATCH(ROWS($D$3:D180),DROPDOWN_AOSuche_Helper2,0)),\"\")","v":""},"Kdo Op","HE","Mech Br 11","Art Abt 16","Art Bttr 16/1"]
[null,"EKF Kp 46/1",0,{"$f":"IF(C181=1,COUNTIF($C$3:C181,1),\"\")","v":""},{"$f":"IFERROR(INDEX(DROPDOWN_AOSuche_Alle,MATCH(ROWS($D$3:D181),DROPDOWN_AOSuche_Helper2,0)),\"\")","v":""},"Kdo Op","HE","Mech Br 11","Art Abt 16","Art Bttr 16/2"]
[null,"EKF Kp 46/2",0,{"$f":"IF(C182=1,COUNTIF($C$3:C182,1),\"\")","v":""},{"$f":"IFERROR(INDEX(DROPDOWN_AOSuche_Alle,MATCH(ROWS($D$3:D182),DROPDOWN_AOSuche_Helper2,0)),\"\")","v":""},"Kdo Op","HE","Mech Br 11","Art Abt 16","Art Bttr 16/3"]
[null,"EKF Kp 46/3",0,{"$f":"IF(C183=1,COUNTIF($C$3:C183,1),\"\")","v":""},{"$f":"IFERROR(INDEX(DROPDOWN_AOSuche_Alle,MATCH(ROWS($D$3:D183),DROPDOWN_AOSuche_Helper2,0)),\"\")","v":""},"Kdo Op","HE","Mech Br 11","Art Abt 16","Art Bttr 16/4"]
[null,"EKF Kp 46/4",0,{"$f":"IF(C184=1,COUNTIF($C$3:C184,1),\"\")","v":""},{"$f":"IFERROR(INDEX(DROPDOWN_AOSuche_Alle,MATCH(ROWS($D$3:D184),DROPDOWN_AOSuche_Helper2,0)),\"\")","v":""},"Kdo Op","Ter Div 1"]
[null,"EKF Kp 51/1",0,{"$f":"IF(C185=1,COUNTIF($C$3:C185,1),\"\")","v":""},{"$f":"IFERROR(INDEX(DROPDOWN_AOSuche_Alle,MATCH(ROWS($D$3:D185),DROPDOWN_AOSuche_Helper2,0)),\"\")","v":""},"Kdo Op","Ter Div 1","Stab Ter Div 1"]
[null,"EKF Kp 51/2",0,{"$f":"IF(C186=1,COUNTIF($C$3:C186,1),\"\")","v":""},{"$f":"IFERROR(INDEX(DROPDOWN_AOSuche_Alle,MATCH(ROWS($D$3:D186),DROPDOWN_AOSuche_Helper2,0)),\"\")","v":""},"Kdo Op","Ter Div 1","Koord Stelle 1"]
[null,"EKF Kp 52/1",0,{"$f":"IF(C187=1,COUNTIF($C$3:C187,1),\"\")","v":""},{"$f":"IFERROR(INDEX(DROPDOWN_AOSuche_Alle,MATCH(ROWS($D$3:D187),DROPDOWN_AOSuche_Helper2,0)),\"\")","v":""},"Kdo Op","Ter Div 1","Koord Stelle 1","Stab Koord Stelle 1"]
[null,"EKF Kp 52/2",0,{"$f":"IF(C188=1,COUNTIF($C$3:C188,1),\"\")","v":""},{"$f":"IFERROR(INDEX(DROPDOWN_AOSuche_Alle,MATCH(ROWS($D$3:D188),DROPDOWN_AOSuche_Helper2,0)),\"\")","v":""},"Kdo Op","Ter Div 1","Koord Stelle 1","Betr Det Koord Stelle 1"]
[null,"EKF RS 64-1",0,{"$f":"IF(C189=1,COUNTIF($C$3:C189,1),\"\")","v":""},{"$f":"IFERROR(INDEX(DROPDOWN_AOSuche_Alle,MATCH(ROWS($D$3:D189),DROPDOWN_AOSuche_Helper2,0)),\"\")","v":""},"Kdo Op","Ter Div 1","Ing Stab 1"]
[null,"EKF RS 64-2",0,{"$f":"IF(C190=1,COUNTIF($C$3:C190,1),\"\")","v":""},{"$f":"IFERROR(INDEX(DROPDOWN_AOSuche_Alle,MATCH(ROWS($D$3:D190),DROPDOWN_AOSuche_Helper2,0)),\"\")","v":""},"Kdo Op","Ter Div 1","Ter Div Stabsbat 1"]
[null,"EKF RS 64-3",0,{"$f":"IF(C191=1,COUNTIF($C$3:C191,1),\"\")","v":""},{"$f":"IFERROR(INDEX(DROPDOWN_AOSuche_Alle,MATCH(ROWS($D$3:D191),DROPDOWN_AOSuche_Helper2,0)),\"\")","v":""},"Kdo Op","Ter Div 1","Ter Div Stabsbat 1","Stab Ter Div Stabsbat 1"]
[null,"EKF RS Kp 64-1/1",0,{"$f":"IF(C192=1,COUNTIF($C$3:C192,1),\"\")","v":""},{"$f":"IFERROR(INDEX(DROPDOWN_AOSuche_Alle,MATCH(ROWS($D$3:D192),DROPDOWN_AOSuche_Helper2,0)),\"\")","v":""},"Kdo Op","Ter Div 1","Ter Div Stabsbat 1","Ter Div Stabskp 1"]
[null,"EKF RS Kp 64-1/2",0,{"$f":"IF(C193=1,COUNTIF($C$3:C193,1),\"\")","v":""},{"$f":"IFERROR(INDEX(DROPDOWN_AOSuche_Alle,MATCH(ROWS($D$3:D193),DROPDOWN_AOSuche_Helper2,0)),\"\")","v":""},"Kdo Op","Ter Div 1","Ter Div Stabsbat 1","Ter Div Betr Kp 1/1"]
[null,"EKF RS Kp 64-2/1",0,{"$f":"IF(C194=1,COUNTIF($C$3:C194,1),\"\")","v":""},{"$f":"IFERROR(INDEX(DROPDOWN_AOSuche_Alle,MATCH(ROWS($D$3:D194),DROPDOWN_AOSuche_Helper2,0)),\"\")","v":""},"Kdo Op","Ter Div 1","Ter Div Stabsbat 1","Ter Div Uem Kp 1/2"]
[null,"EKF RS Kp 64-2/2",{"$f":"--ISNUMBER(IFERROR(SEARCH(AO_Search_Value,B195,1),\"\"))","v":0},{"$f":"IF(C195=1,COUNTIF($C$3:C195,1),\"\")","v":""},{"$f":"IFERROR(INDEX(DROPDOWN_AOSuche_Alle,MATCH(ROWS($D$3:D195),DROPDOWN_AOSuche_Helper2,0)),\"\")","v":""},"Kdo Op","Ter Div 1","Ter Div Stabsbat 1","Ter Div Si Kp 1/3"]
[null,"EKF S 64",0,{"$f":"IF(C196=1,COUNTIF($C$3:C196,1),\"\")","v":""},{"$f":"IFERROR(INDEX(DROPDOWN_AOSuche_Alle,MATCH(ROWS($D$3:D196),DROPDOWN_AOSuche_Helper2,0)),\"\")","v":""},"Kdo Op","Ter Div 1","Ter Div Stabsbat 1","Ter Div Aufkl Kp 1/4"]
[null,"EKF Stabskp 51",0,{"$f":"IF(C197=1,COUNTIF($C$3:C197,1),\"\")","v":""},{"$f":"IFERROR(INDEX(DROPDOWN_AOSuche_Alle,MATCH(ROWS($D$3:D197),DROPDOWN_AOSuche_Helper2,0)),\"\")","v":""},"Kdo Op","Ter Div 1","Inf Bat 13"]
[null,"EKF Stabskp 52",0,{"$f":"IF(C198=1,COUNTIF($C$3:C198,1),\"\")","v":""},{"$f":"IFERROR(INDEX(DROPDOWN_AOSuche_Alle,MATCH(ROWS($D$3:D198),DROPDOWN_AOSuche_Helper2,0)),\"\")","v":""},"Kdo Op","Ter Div 1","Inf Bat 13","Stab Inf Bat 13"]
[null,"EKF UOS 64-1",0,{"$f":"IF(C199=1,COUNTIF($C$3:C199,1),\"\")","v":""},{"$f":"IFERROR(INDEX(DROPDOWN_AOSuche_Alle,MATCH(ROWS($D$3:D199),DROPDOWN_AOSuche_Helper2,0)),\"\")","v":""},"Kdo Op","Ter Div 1","Inf Bat 13","Inf Stabskp 13"]
[null,"EKF UOS 64-2",0,{"$f":"IF(C200=1,COUNTIF($C$3:C200,1),\"\")","v":""},{"$f":"IFERROR(INDEX(DROPDOWN_AOSuche_Alle,MATCH(ROWS($D$3:D200),DROPDOWN_AOSuche_Helper2,0)),\"\")","v":""},"Kdo Op","Ter Div 1","Inf Bat 13","Inf Kp 13/1"]
[null,"Elo Abt 46",0,{"$f":"IF(C201=1,COUNTIF($C$3:C201,1),\"\")","v":""},{"$f":"IFERROR(INDEX(DROPDOWN_AOSuche_Alle,MATCH(ROWS($D$3:D201),DROPDOWN_AOSuche_Helper2,0)),\"\")","v":""},"Kdo Op","Ter Div 1","Inf Bat 13","Inf Kp 13/2"]
[null,"Elo Stabskp 46",0,{"$f":"IF(C202=1,COUNTIF($C$3:C202,1),\"\")","v":""},{"$f":"IFERROR(INDEX(DROPDOWN_AOSuche_Alle,MATCH(ROWS($D$3:D202),DROPDOWN_AOSuche_Helper2,0)),\"\")","v":""},"Kdo Op","Ter Div 1","Inf Bat 13","Inf Kp 13/3"]
[null,"Fachstab AS",0,{"$f":"IF(C203=1,COUNTIF($C$3:C203,1),\"\")","v":""},{"$f":"IFERROR(INDEX(DROPDOWN_AOSuche_Alle,MATCH(ROWS($D$3:D203),DROPDOWN_AOSuche_Helper2,0)),\"\")","v":""},"Kdo Op","Ter Div 1","Inf Bat 13","Inf Ustü Kp 13/4"]
[null,"Fachstab Flusi",0,{"$f":"IF(C204=1,COUNTIF($C$3:C204,1),\"\")","v":""},{"$f":"IFERROR(INDEX(DROPDOWN_AOSuche_Alle,MATCH(ROWS($D$3:D204),DROPDOWN_AOSuche_Helper2,0)),\"\")","v":""},"Kdo Op","Ter Div 1","Inf Bat 19"]
[null,"Fachstab Ih",0,{"$f":"IF(C205=1,COUNTIF($C$3:C205,1),\"\")","v":""},{"$f":"IFERROR(INDEX(DROPDOWN_AOSuche_Alle,MATCH(ROWS($D$3:D205),DROPDOWN_AOSuche_Helper2,0)),\"\")","v":""},"Kdo Op","Ter Div 1","Inf Bat 19","Stab Inf Bat 19"]
[null,"Fachstab LW",0,{"$f":"IF(C206=1,COUNTIF($C$3:C206,1),\"\")","v":""},{"$f":"IFERROR(INDEX(DROPDOWN_AOSuche_Alle,MATCH(ROWS($D$3:D206),DROPDOWN_AOSuche_Helper2,0)),\"\")","v":""},"Kdo Op","Ter Div 1","Inf Bat 19","Inf Stabskp 19"]
[null,"Fachstab MIKA",0,{"$f":"IF(C207=1,COUNTIF($C$3:C207,1),\"\")","v":""},{"$f":"IFERROR(INDEX(DROPDOWN_AOSuche_Alle,MATCH(ROWS($D$3:D207),DROPDOWN_AOSuche_Helper2,0)),\"\")","v":""},"Kdo Op","Ter Div 1","Inf Bat 19","Inf Kp 19/1"]
[null,"Fachstab PPD A",0,{"$f":"IF(C208=1,COUNTIF($C$3:C208,1),\"\")","v":""},{"$f":"IFERROR(INDEX(DROPDOWN_AOSuche_Alle,MATCH(ROWS($D$3:D208),DROPDOWN_AOSuche_Helper2,0)),\"\")","v":""},"Kdo Op","Ter Div 1","Inf Bat 19","Inf Kp 19/2"]
[null,"Fachstab SAT",0,{"$f":"IF(C209=1,COUNTIF($C$3:C209,1),\"\")","v":""},{"$f":"IFERROR(INDEX(DROPDOWN_AOSuche_Alle,MATCH(ROWS($D$3:D209),DROPDOWN_AOSuche_Helper2,0)),\"\")","v":""},"Kdo Op","Ter Div 1","Inf Bat 19","Inf Kp 19/3"]
[null,"Fachstab SDA",0,{"$f":"IF(C210=1,COUNTIF($C$3:C210,1),\"\")","v":""},{"$f":"IFERROR(INDEX(DROPDOWN_AOSuche_Alle,MATCH(ROWS($D$3:D210),DROPDOWN_AOSuche_Helper2,0)),\"\")","v":""},"Kdo Op","Ter Div 1","Inf Bat 19","Inf Ustü Kp 19/4"]
[null,"Fachstab Sport",0,{"$f":"IF(C211=1,COUNTIF($C$3:C211,1),\"\")","v":""},{"$f":"IFERROR(INDEX(DROPDOWN_AOSuche_Alle,MATCH(ROWS($D$3:D211),DROPDOWN_AOSuche_Helper2,0)),\"\")","v":""},"Kdo Op","Ter Div 1","S Bat 1"]
[null,"Fachstab Tc",0,{"$f":"IF(C212=1,COUNTIF($C$3:C212,1),\"\")","v":""},{"$f":"IFERROR(INDEX(DROPDOWN_AOSuche_Alle,MATCH(ROWS($D$3:D212),DROPDOWN_AOSuche_Helper2,0)),\"\")","v":""},"Kdo Op","Ter Div 1","S Bat 1","Stab S Bat 1"]
[null,"Fachstab Wetter",0,{"$f":"IF(C213=1,COUNTIF($C$3:C213,1),\"\")","v":""},{"$f":"IFERROR(INDEX(DROPDOWN_AOSuche_Alle,MATCH(ROWS($D$3:D213),DROPDOWN_AOSuche_Helper2,0)),\"\")","v":""},"Kdo Op","Ter Div 1","S Bat 1","S Stabskp 1"]
[null,"FFZ Bttr 1/5",0,{"$f":"IF(C214=1,COUNTIF($C$3:C214,1),\"\")","v":""},{"$f":"IFERROR(INDEX(DROPDOWN_AOSuche_Alle,MATCH(ROWS($D$3:D214),DROPDOWN_AOSuche_Helper2,0)),\"\")","v":""},"Kdo Op","Ter Div 1","S Bat 1","S Kp 1/1"]
[null,"FFZ Bttr 11/5",0,{"$f":"IF(C215=1,COUNTIF($C$3:C215,1),\"\")","v":""},{"$f":"IFERROR(INDEX(DROPDOWN_AOSuche_Alle,MATCH(ROWS($D$3:D215),DROPDOWN_AOSuche_Helper2,0)),\"\")","v":""},"Kdo Op","Ter Div 1","S Bat 1","S Kp 1/2"]
[null,"FFZ Bttr 20/4",0,{"$f":"IF(C216=1,COUNTIF($C$3:C216,1),\"\")","v":""},{"$f":"IFERROR(INDEX(DROPDOWN_AOSuche_Alle,MATCH(ROWS($D$3:D216),DROPDOWN_AOSuche_Helper2,0)),\"\")","v":""},"Kdo Op","Ter Div 1","S Bat 1","S Kp 1/3"]
[null,"FFZ Bttr 4/5",0,{"$f":"IF(C217=1,COUNTIF($C$3:C217,1),\"\")","v":""},{"$f":"IFERROR(INDEX(DROPDOWN_AOSuche_Alle,MATCH(ROWS($D$3:D217),DROPDOWN_AOSuche_Helper2,0)),\"\")","v":""},"Kdo Op","Ter Div 1","S Bat 1","S Ustü Kp 1/4"]
[null,"FIS IKT Kp 41/4",0,{"$f":"IF(C218=1,COUNTIF($C$3:C218,1),\"\")","v":""},{"$f":"IFERROR(INDEX(DROPDOWN_AOSuche_Alle,MATCH(ROWS($D$3:D218),DROPDOWN_AOSuche_Helper2,0)),\"\")","v":""},"Kdo Op","Ter Div 1","S Bat 14"]
[null,"FIS KP Kp 41/3",0,{"$f":"IF(C219=1,COUNTIF($C$3:C219,1),\"\")","v":""},{"$f":"IFERROR(INDEX(DROPDOWN_AOSuche_Alle,MATCH(ROWS($D$3:D219),DROPDOWN_AOSuche_Helper2,0)),\"\")","v":""},"Kdo Op","Ter Div 1","S Bat 14","Stab S Bat 14"]
[null,"FK 1 ABC Spürer",0,{"$f":"IF(C220=1,COUNTIF($C$3:C220,1),\"\")","v":""},{"$f":"IFERROR(INDEX(DROPDOWN_AOSuche_Alle,MATCH(ROWS($D$3:D220),DROPDOWN_AOSuche_Helper2,0)),\"\")","v":""},"Kdo Op","Ter Div 1","S Bat 14","S Stabskp 14"]
[null,"FK 1 ABC Uof Anw",0,{"$f":"IF(C221=1,COUNTIF($C$3:C221,1),\"\")","v":""},{"$f":"IFERROR(INDEX(DROPDOWN_AOSuche_Alle,MATCH(ROWS($D$3:D221),DROPDOWN_AOSuche_Helper2,0)),\"\")","v":""},"Kdo Op","Ter Div 1","S Bat 14","S Kp 14/1"]
[null,"FK 1 Schuma",0,{"$f":"IF(C222=1,COUNTIF($C$3:C222,1),\"\")","v":""},{"$f":"IFERROR(INDEX(DROPDOWN_AOSuche_Alle,MATCH(ROWS($D$3:D222),DROPDOWN_AOSuche_Helper2,0)),\"\")","v":""},"Kdo Op","Ter Div 1","S Bat 14","S Kp 14/2"]
[null,"FK 1 Umschlag Gt Fahr 45",0,{"$f":"IF(C223=1,COUNTIF($C$3:C223,1),\"\")","v":""},{"$f":"IFERROR(INDEX(DROPDOWN_AOSuche_Alle,MATCH(ROWS($D$3:D223),DROPDOWN_AOSuche_Helper2,0)),\"\")","v":""},"Kdo Op","Ter Div 1","S Bat 14","S Kp 14/3"]
[null,"FK 1 WA Einh Fw",0,{"$f":"IF(C224=1,COUNTIF($C$3:C224,1),\"\")","v":""},{"$f":"IFERROR(INDEX(DROPDOWN_AOSuche_Alle,MATCH(ROWS($D$3:D224),DROPDOWN_AOSuche_Helper2,0)),\"\")","v":""},"Kdo Op","Ter Div 1","S Bat 14","S Ustü Kp 14/4"]
[null,"FK 1 WA Four",0,{"$f":"IF(C225=1,COUNTIF($C$3:C225,1),\"\")","v":""},{"$f":"IFERROR(INDEX(DROPDOWN_AOSuche_Alle,MATCH(ROWS($D$3:D225),DROPDOWN_AOSuche_Helper2,0)),\"\")","v":""},"Kdo Op","Ter Div 1","Geb Inf Bat 7"]
[null,"FK 10 Umschlag Gt Fahr 45",0,{"$f":"IF(C226=1,COUNTIF($C$3:C226,1),\"\")","v":""},{"$f":"IFERROR(INDEX(DROPDOWN_AOSuche_Alle,MATCH(ROWS($D$3:D226),DROPDOWN_AOSuche_Helper2,0)),\"\")","v":""},"Kdo Op","Ter Div 1","Geb Inf Bat 7","Stab Geb Inf Bat 7"]
[null,"FK 1-1 LUSIA PPD",0,{"$f":"IF(C227=1,COUNTIF($C$3:C227,1),\"\")","v":""},{"$f":"IFERROR(INDEX(DROPDOWN_AOSuche_Alle,MATCH(ROWS($D$3:D227),DROPDOWN_AOSuche_Helper2,0)),\"\")","v":""},"Kdo Op","Ter Div 1","Geb Inf Bat 7","Geb Inf Stabskp 7"]
[null,"FK 11 Umschlag Gt Fahr 45",0,{"$f":"IF(C228=1,COUNTIF($C$3:C228,1),\"\")","v":""},{"$f":"IFERROR(INDEX(DROPDOWN_AOSuche_Alle,MATCH(ROWS($D$3:D228),DROPDOWN_AOSuche_Helper2,0)),\"\")","v":""},"Kdo Op","Ter Div 1","Geb Inf Bat 7","Geb Inf Kp 7/1"]
[null,"FK 1-2 LUSIA PPD",0,{"$f":"IF(C229=1,COUNTIF($C$3:C229,1),\"\")","v":""},{"$f":"IFERROR(INDEX(DROPDOWN_AOSuche_Alle,MATCH(ROWS($D$3:D229),DROPDOWN_AOSuche_Helper2,0)),\"\")","v":""},"Kdo Op","Ter Div 1","Geb Inf Bat 7","Geb Inf Kp 7/2"]
[null,"FK 12 Umschlag Gt Fahr 45",0,{"$f":"IF(C230=1,COUNTIF($C$3:C230,1),\"\")","v":""},{"$f":"IFERROR(INDEX(DROPDOWN_AOSuche_Alle,MATCH(ROWS($D$3:D230),DROPDOWN_AOSuche_Helper2,0)),\"\")","v":""},"Kdo Op","Ter Div 1","Geb Inf Bat 7","Geb Inf Kp 7/3"]
[null,"FK 1-3 LUSIA PPD",0,{"$f":"IF(C231=1,COUNTIF($C$3:C231,1),\"\")","v":""},{"$f":"IFERROR(INDEX(DROPDOWN_AOSuche_Alle,MATCH(ROWS($D$3:D231),DROPDOWN_AOSuche_Helper2,0)),\"\")","v":""},"Kdo Op","Ter Div 1","Geb Inf Bat 7","Geb Inf Ustü Kp 7/4"]
[null,"FK 13 Umschlag Gt Fahr 45",0,{"$f":"IF(C232=1,COUNTIF($C$3:C232,1),\"\")","v":""},{"$f":"IFERROR(INDEX(DROPDOWN_AOSuche_Alle,MATCH(ROWS($D$3:D232),DROPDOWN_AOSuche_Helper2,0)),\"\")","v":""},"Kdo Op","Ter Div 1","G Bat 2"]
[null,"FK 14 Umschlag Gt Fahr 45",0,{"$f":"IF(C233=1,COUNTIF($C$3:C233,1),\"\")","v":""},{"$f":"IFERROR(INDEX(DROPDOWN_AOSuche_Alle,MATCH(ROWS($D$3:D233),DROPDOWN_AOSuche_Helper2,0)),\"\")","v":""},"Kdo Op","Ter Div 1","G Bat 2","Stab G Bat 2"]
[null,"FK 15 Umschlag Gt Fahr 45",0,{"$f":"IF(C234=1,COUNTIF($C$3:C234,1),\"\")","v":""},{"$f":"IFERROR(INDEX(DROPDOWN_AOSuche_Alle,MATCH(ROWS($D$3:D234),DROPDOWN_AOSuche_Helper2,0)),\"\")","v":""},"Kdo Op","Ter Div 1","G Bat 2","G Stabskp 2"]
[null,"FK 16 Umschlag Gt Fahr 45",0,{"$f":"IF(C235=1,COUNTIF($C$3:C235,1),\"\")","v":""},{"$f":"IFERROR(INDEX(DROPDOWN_AOSuche_Alle,MATCH(ROWS($D$3:D235),DROPDOWN_AOSuche_Helper2,0)),\"\")","v":""},"Kdo Op","Ter Div 1","G Bat 2","Sap Kp 2/1"]
[null,"FK 2 ABC Spürer",0,{"$f":"IF(C236=1,COUNTIF($C$3:C236,1),\"\")","v":""},{"$f":"IFERROR(INDEX(DROPDOWN_AOSuche_Alle,MATCH(ROWS($D$3:D236),DROPDOWN_AOSuche_Helper2,0)),\"\")","v":""},"Kdo Op","Ter Div 1","G Bat 2","Sap Kp 2/2"]
[null,"FK 2 ABC Uof Anw",0,{"$f":"IF(C237=1,COUNTIF($C$3:C237,1),\"\")","v":""},{"$f":"IFERROR(INDEX(DROPDOWN_AOSuche_Alle,MATCH(ROWS($D$3:D237),DROPDOWN_AOSuche_Helper2,0)),\"\")","v":""},"Kdo Op","Ter Div 1","G Bat 2","Pont Kp 2/3"]
[null,"FK 2 Schuma",0,{"$f":"IF(C238=1,COUNTIF($C$3:C238,1),\"\")","v":""},{"$f":"IFERROR(INDEX(DROPDOWN_AOSuche_Alle,MATCH(ROWS($D$3:D238),DROPDOWN_AOSuche_Helper2,0)),\"\")","v":""},"Kdo Op","Ter Div 1","Rttg Bat 1"]
[null,"FK 2 Umschlag Gt Fahr 45",0,{"$f":"IF(C239=1,COUNTIF($C$3:C239,1),\"\")","v":""},{"$f":"IFERROR(INDEX(DROPDOWN_AOSuche_Alle,MATCH(ROWS($D$3:D239),DROPDOWN_AOSuche_Helper2,0)),\"\")","v":""},"Kdo Op","Ter Div 1","Rttg Bat 1","Stab Rttg Bat 1"]
[null,"FK 2 WA Einh Fw",0,{"$f":"IF(C240=1,COUNTIF($C$3:C240,1),\"\")","v":""},{"$f":"IFERROR(INDEX(DROPDOWN_AOSuche_Alle,MATCH(ROWS($D$3:D240),DROPDOWN_AOSuche_Helper2,0)),\"\")","v":""},"Kdo Op","Ter Div 1","Rttg Bat 1","Rttg Stabskp 1"]
[null,"FK 2 WA Four",0,{"$f":"IF(C241=1,COUNTIF($C$3:C241,1),\"\")","v":""},{"$f":"IFERROR(INDEX(DROPDOWN_AOSuche_Alle,MATCH(ROWS($D$3:D241),DROPDOWN_AOSuche_Helper2,0)),\"\")","v":""},"Kdo Op","Ter Div 1","Rttg Bat 1","Rttg Kp 1/1"]
[null,"FK 2-1 LUSIA PPD",0,{"$f":"IF(C242=1,COUNTIF($C$3:C242,1),\"\")","v":""},{"$f":"IFERROR(INDEX(DROPDOWN_AOSuche_Alle,MATCH(ROWS($D$3:D242),DROPDOWN_AOSuche_Helper2,0)),\"\")","v":""},"Kdo Op","Ter Div 1","Rttg Bat 1","Rttg Kp 1/2"]
[null,"FK 2-2 LUSIA PPD",0,{"$f":"IF(C243=1,COUNTIF($C$3:C243,1),\"\")","v":""},{"$f":"IFERROR(INDEX(DROPDOWN_AOSuche_Alle,MATCH(ROWS($D$3:D243),DROPDOWN_AOSuche_Helper2,0)),\"\")","v":""},"Kdo Op","Ter Div 1","Rttg Bat 1","Rttg Kp 1/3"]
[null,"FK 2-3 LUSIA PPD",0,{"$f":"IF(C244=1,COUNTIF($C$3:C244,1),\"\")","v":""},{"$f":"IFERROR(INDEX(DROPDOWN_AOSuche_Alle,MATCH(ROWS($D$3:D244),DROPDOWN_AOSuche_Helper2,0)),\"\")","v":""},"Kdo Op","Ter Div 1","Kdo PDG"]
[null,"FK 3 ABC Spürer",0,{"$f":"IF(C245=1,COUNTIF($C$3:C245,1),\"\")","v":""},{"$f":"IFERROR(INDEX(DROPDOWN_AOSuche_Alle,MATCH(ROWS($D$3:D245),DROPDOWN_AOSuche_Helper2,0)),\"\")","v":""},"Kdo Op","Ter Div 1","Kdo PDG","Stab Kdo PDG"]
[null,"FK 3 Schuma",0,{"$f":"IF(C246=1,COUNTIF($C$3:C246,1),\"\")","v":""},{"$f":"IFERROR(INDEX(DROPDOWN_AOSuche_Alle,MATCH(ROWS($D$3:D246),DROPDOWN_AOSuche_Helper2,0)),\"\")","v":""},"Kdo Op","Ter Div 1","Kdo PDG","Betr Det Kdo PDG"]
[null,"FK 3 Umschlag Gt Fahr 45",0,{"$f":"IF(C247=1,COUNTIF($C$3:C247,1),\"\")","v":""},{"$f":"IFERROR(INDEX(DROPDOWN_AOSuche_Alle,MATCH(ROWS($D$3:D247),DROPDOWN_AOSuche_Helper2,0)),\"\")","v":""},"Kdo Op","Ter Div 1","D bei Wpl Bern"]
[null,"FK 4 ABC Spürer",0,{"$f":"IF(C248=1,COUNTIF($C$3:C248,1),\"\")","v":""},{"$f":"IFERROR(INDEX(DROPDOWN_AOSuche_Alle,MATCH(ROWS($D$3:D248),DROPDOWN_AOSuche_Helper2,0)),\"\")","v":""},"Kdo Op","Ter Div 2"]
[null,"FK 4 Umschlag Gt Fahr 45",0,{"$f":"IF(C249=1,COUNTIF($C$3:C249,1),\"\")","v":""},{"$f":"IFERROR(INDEX(DROPDOWN_AOSuche_Alle,MATCH(ROWS($D$3:D249),DROPDOWN_AOSuche_Helper2,0)),\"\")","v":""},"Kdo Op","Ter Div 2","Stab Ter Div 2"]
[null,"FK 5 ABC Spürer",0,{"$f":"IF(C250=1,COUNTIF($C$3:C250,1),\"\")","v":""},{"$f":"IFERROR(INDEX(DROPDOWN_AOSuche_Alle,MATCH(ROWS($D$3:D250),DROPDOWN_AOSuche_Helper2,0)),\"\")","v":""},"Kdo Op","Ter Div 2","Koord Stelle 2"]
[null,"FK 5 Umschlag Gt Fahr 45",0,{"$f":"IF(C251=1,COUNTIF($C$3:C251,1),\"\")","v":""},{"$f":"IFERROR(INDEX(DROPDOWN_AOSuche_Alle,MATCH(ROWS($D$3:D251),DROPDOWN_AOSuche_Helper2,0)),\"\")","v":""},"Kdo Op","Ter Div 2","Koord Stelle 2","Stab Koord Stelle 2"]
[null,"FK 6 ABC Spürer",0,{"$f":"IF(C252=1,COUNTIF($C$3:C252,1),\"\")","v":""},{"$f":"IFERROR(INDEX(DROPDOWN_AOSuche_Alle,MATCH(ROWS($D$3:D252),DROPDOWN_AOSuche_Helper2,0)),\"\")","v":""},"Kdo Op","Ter Div 2","Koord Stelle 2","Betr Det Koord Stelle 2"]
[null,"FK 6 Umschlag Gt Fahr 45",0,{"$f":"IF(C253=1,COUNTIF($C$3:C253,1),\"\")","v":""},{"$f":"IFERROR(INDEX(DROPDOWN_AOSuche_Alle,MATCH(ROWS($D$3:D253),DROPDOWN_AOSuche_Helper2,0)),\"\")","v":""},"Kdo Op","Ter Div 2","Ing Stab 2"]
[null,"FK 7 ABC Spürer",0,{"$f":"IF(C254=1,COUNTIF($C$3:C254,1),\"\")","v":""},{"$f":"IFERROR(INDEX(DROPDOWN_AOSuche_Alle,MATCH(ROWS($D$3:D254),DROPDOWN_AOSuche_Helper2,0)),\"\")","v":""},"Kdo Op","Ter Div 2","Ter Div Stabsbat 2"]
[null,"FK 7 Umschlag Gt Fahr 45",0,{"$f":"IF(C255=1,COUNTIF($C$3:C255,1),\"\")","v":""},{"$f":"IFERROR(INDEX(DROPDOWN_AOSuche_Alle,MATCH(ROWS($D$3:D255),DROPDOWN_AOSuche_Helper2,0)),\"\")","v":""},"Kdo Op","Ter Div 2","Ter Div Stabsbat 2","Stab Ter Div Stabsbat 2"]
[null,"FK 8 ABC Spürer",0,{"$f":"IF(C256=1,COUNTIF($C$3:C256,1),\"\")","v":""},{"$f":"IFERROR(INDEX(DROPDOWN_AOSuche_Alle,MATCH(ROWS($D$3:D256),DROPDOWN_AOSuche_Helper2,0)),\"\")","v":""},"Kdo Op","Ter Div 2","Ter Div Stabsbat 2","Ter Div Stabskp 2"]
[null,"FK 8 Umschlag Gt Fahr 45",0,{"$f":"IF(C257=1,COUNTIF($C$3:C257,1),\"\")","v":""},{"$f":"IFERROR(INDEX(DROPDOWN_AOSuche_Alle,MATCH(ROWS($D$3:D257),DROPDOWN_AOSuche_Helper2,0)),\"\")","v":""},"Kdo Op","Ter Div 2","Ter Div Stabsbat 2","Ter Div Betr Kp 2/1"]
[null,"FK 9 ABC Spürer",0,{"$f":"IF(C258=1,COUNTIF($C$3:C258,1),\"\")","v":""},{"$f":"IFERROR(INDEX(DROPDOWN_AOSuche_Alle,MATCH(ROWS($D$3:D258),DROPDOWN_AOSuche_Helper2,0)),\"\")","v":""},"Kdo Op","Ter Div 2","Ter Div Stabsbat 2","Ter Div Uem Kp 2/2"]
[null,"FK 9 Umschlag Gt Fahr 45",{"$f":"--ISNUMBER(IFERROR(SEARCH(AO_Search_Value,B259,1),\"\"))","v":0},{"$f":"IF(C259=1,COUNTIF($C$3:C259,1),\"\")","v":""},{"$f":"IFERROR(INDEX(DROPDOWN_AOSuche_Alle,MATCH(ROWS($D$3:D259),DROPDOWN_AOSuche_Helper2,0)),\"\")","v":""},"Kdo Op","Ter Div 2","Ter Div Stabsbat 2","Ter Div Si Kp 2/3"]
[null,"FK Einh San 42-1",0,{"$f":"IF(C260=1,COUNTIF($C$3:C260,1),\"\")","v":""},{"$f":"IFERROR(INDEX(DROPDOWN_AOSuche_Alle,MATCH(ROWS($D$3:D260),DROPDOWN_AOSuche_Helper2,0)),\"\")","v":""},"Kdo Op","Ter Div 2","Ter Div Stabsbat 2","Ter Div Aufkl Kp 2/4"]
[null,"FK Einh San 42-2",0,{"$f":"IF(C261=1,COUNTIF($C$3:C261,1),\"\")","v":""},{"$f":"IFERROR(INDEX(DROPDOWN_AOSuche_Alle,MATCH(ROWS($D$3:D261),DROPDOWN_AOSuche_Helper2,0)),\"\")","v":""},"Kdo Op","Ter Div 2","Inf Bat 11"]
[null,"FK Einh San 42-3",0,{"$f":"IF(C262=1,COUNTIF($C$3:C262,1),\"\")","v":""},{"$f":"IFERROR(INDEX(DROPDOWN_AOSuche_Alle,MATCH(ROWS($D$3:D262),DROPDOWN_AOSuche_Helper2,0)),\"\")","v":""},"Kdo Op","Ter Div 2","Inf Bat 11","Stab Inf Bat 11"]
[null,"FK Swiss advanced",0,{"$f":"IF(C263=1,COUNTIF($C$3:C263,1),\"\")","v":""},{"$f":"IFERROR(INDEX(DROPDOWN_AOSuche_Alle,MATCH(ROWS($D$3:D263),DROPDOWN_AOSuche_Helper2,0)),\"\")","v":""},"Kdo Op","Ter Div 2","Inf Bat 11","Inf Stabskp 11"]
[null,"FK Swiss Basic",0,{"$f":"IF(C264=1,COUNTIF($C$3:C264,1),\"\")","v":""},{"$f":"IFERROR(INDEX(DROPDOWN_AOSuche_Alle,MATCH(ROWS($D$3:D264),DROPDOWN_AOSuche_Helper2,0)),\"\")","v":""},"Kdo Op","Ter Div 2","Inf Bat 11","Inf Kp 11/1"]
[null,"FK Swiss Exercise",0,{"$f":"IF(C265=1,COUNTIF($C$3:C265,1),\"\")","v":""},{"$f":"IFERROR(INDEX(DROPDOWN_AOSuche_Alle,MATCH(ROWS($D$3:D265),DROPDOWN_AOSuche_Helper2,0)),\"\")","v":""},"Kdo Op","Ter Div 2","Inf Bat 11","Inf Kp 11/2"]
[null,"FK Swiss Lab",0,{"$f":"IF(C266=1,COUNTIF($C$3:C266,1),\"\")","v":""},{"$f":"IFERROR(INDEX(DROPDOWN_AOSuche_Alle,MATCH(ROWS($D$3:D266),DROPDOWN_AOSuche_Helper2,0)),\"\")","v":""},"Kdo Op","Ter Div 2","Inf Bat 11","Inf Kp 11/3"]
[null,"Fl Ber Kp 104",0,{"$f":"IF(C267=1,COUNTIF($C$3:C267,1),\"\")","v":""},{"$f":"IFERROR(INDEX(DROPDOWN_AOSuche_Alle,MATCH(ROWS($D$3:D267),DROPDOWN_AOSuche_Helper2,0)),\"\")","v":""},"Kdo Op","Ter Div 2","Inf Bat 11","Inf Ustü Kp 11/4"]
[null,"Fl Ber Kp 204",0,{"$f":"IF(C268=1,COUNTIF($C$3:C268,1),\"\")","v":""},{"$f":"IFERROR(INDEX(DROPDOWN_AOSuche_Alle,MATCH(ROWS($D$3:D268),DROPDOWN_AOSuche_Helper2,0)),\"\")","v":""},"Kdo Op","Ter Div 2","Inf Bat 20"]
[null,"Fl Geschw 11",0,{"$f":"IF(C269=1,COUNTIF($C$3:C269,1),\"\")","v":""},{"$f":"IFERROR(INDEX(DROPDOWN_AOSuche_Alle,MATCH(ROWS($D$3:D269),DROPDOWN_AOSuche_Helper2,0)),\"\")","v":""},"Kdo Op","Ter Div 2","Inf Bat 20","Stab Inf Bat 20"]
[null,"Fl Geschw 13",0,{"$f":"IF(C270=1,COUNTIF($C$3:C270,1),\"\")","v":""},{"$f":"IFERROR(INDEX(DROPDOWN_AOSuche_Alle,MATCH(ROWS($D$3:D270),DROPDOWN_AOSuche_Helper2,0)),\"\")","v":""},"Kdo Op","Ter Div 2","Inf Bat 20","Inf Stabskp 20"]
[null,"Fl Geschw 14",0,{"$f":"IF(C271=1,COUNTIF($C$3:C271,1),\"\")","v":""},{"$f":"IFERROR(INDEX(DROPDOWN_AOSuche_Alle,MATCH(ROWS($D$3:D271),DROPDOWN_AOSuche_Helper2,0)),\"\")","v":""},"Kdo Op","Ter Div 2","Inf Bat 20","Inf Kp 20/1"]
[null,"Fl Kp 11",0,{"$f":"IF(C272=1,COUNTIF($C$3:C272,1),\"\")","v":""},{"$f":"IFERROR(INDEX(DROPDOWN_AOSuche_Alle,MATCH(ROWS($D$3:D272),DROPDOWN_AOSuche_Helper2,0)),\"\")","v":""},"Kdo Op","Ter Div 2","Inf Bat 20","Inf Kp 20/2"]
[null,"Fl Kp 13",0,{"$f":"IF(C273=1,COUNTIF($C$3:C273,1),\"\")","v":""},{"$f":"IFERROR(INDEX(DROPDOWN_AOSuche_Alle,MATCH(ROWS($D$3:D273),DROPDOWN_AOSuche_Helper2,0)),\"\")","v":""},"Kdo Op","Ter Div 2","Inf Bat 20","Inf Kp 20/3"]
[null,"Fl Kp 14",0,{"$f":"IF(C274=1,COUNTIF($C$3:C274,1),\"\")","v":""},{"$f":"IFERROR(INDEX(DROPDOWN_AOSuche_Alle,MATCH(ROWS($D$3:D274),DROPDOWN_AOSuche_Helper2,0)),\"\")","v":""},"Kdo Op","Ter Div 2","Inf Bat 20","Inf Ustü Kp 20/4"]
[null,"Fl OS 81-1",0,{"$f":"IF(C275=1,COUNTIF($C$3:C275,1),\"\")","v":""},{"$f":"IFERROR(INDEX(DROPDOWN_AOSuche_Alle,MATCH(ROWS($D$3:D275),DROPDOWN_AOSuche_Helper2,0)),\"\")","v":""},"Kdo Op","Ter Div 2","Inf Bat 56"]
[null,"Fl OS 81-2",0,{"$f":"IF(C276=1,COUNTIF($C$3:C276,1),\"\")","v":""},{"$f":"IFERROR(INDEX(DROPDOWN_AOSuche_Alle,MATCH(ROWS($D$3:D276),DROPDOWN_AOSuche_Helper2,0)),\"\")","v":""},"Kdo Op","Ter Div 2","Inf Bat 56","Stab Inf Bat 56"]
[null,"Fl RS 81-1",0,{"$f":"IF(C277=1,COUNTIF($C$3:C277,1),\"\")","v":""},{"$f":"IFERROR(INDEX(DROPDOWN_AOSuche_Alle,MATCH(ROWS($D$3:D277),DROPDOWN_AOSuche_Helper2,0)),\"\")","v":""},"Kdo Op","Ter Div 2","Inf Bat 56","Inf Stabskp 56"]
[null,"Fl RS 81-2",0,{"$f":"IF(C278=1,COUNTIF($C$3:C278,1),\"\")","v":""},{"$f":"IFERROR(INDEX(DROPDOWN_AOSuche_Alle,MATCH(ROWS($D$3:D278),DROPDOWN_AOSuche_Helper2,0)),\"\")","v":""},"Kdo Op","Ter Div 2","Inf Bat 56","Inf Kp 56/1"]
[null,"Fl RS 81-3",0,{"$f":"IF(C279=1,COUNTIF($C$3:C279,1),\"\")","v":""},{"$f":"IFERROR(INDEX(DROPDOWN_AOSuche_Alle,MATCH(ROWS($D$3:D279),DROPDOWN_AOSuche_Helper2,0)),\"\")","v":""},"Kdo Op","Ter Div 2","Inf Bat 56","Inf Kp 56/2"]
[null,"Fl RS 82-1",0,{"$f":"IF(C280=1,COUNTIF($C$3:C280,1),\"\")","v":""},{"$f":"IFERROR(INDEX(DROPDOWN_AOSuche_Alle,MATCH(ROWS($D$3:D280),DROPDOWN_AOSuche_Helper2,0)),\"\")","v":""},"Kdo Op","Ter Div 2","Inf Bat 56","Inf Kp 56/3"]
[null,"Fl RS 82-2",0,{"$f":"IF(C281=1,COUNTIF($C$3:C281,1),\"\")","v":""},{"$f":"IFERROR(INDEX(DROPDOWN_AOSuche_Alle,MATCH(ROWS($D$3:D281),DROPDOWN_AOSuche_Helper2,0)),\"\")","v":""},"Kdo Op","Ter Div 2","Inf Bat 56","Inf Ustü Kp 56/4"]
[null,"Fl RS 82-3",0,{"$f":"IF(C282=1,COUNTIF($C$3:C282,1),\"\")","v":""},{"$f":"IFERROR(INDEX(DROPDOWN_AOSuche_Alle,MATCH(ROWS($D$3:D282),DROPDOWN_AOSuche_Helper2,0)),\"\")","v":""},"Kdo Op","Ter Div 2","Inf Bat 97"]
[null,"Fl RS Kp 81-1/1",0,{"$f":"IF(C283=1,COUNTIF($C$3:C283,1),\"\")","v":""},{"$f":"IFERROR(INDEX(DROPDOWN_AOSuche_Alle,MATCH(ROWS($D$3:D283),DROPDOWN_AOSuche_Helper2,0)),\"\")","v":""},"Kdo Op","Ter Div 2","Inf Bat 97","Stab Inf Bat 97"]
[null,"Fl RS Kp 81-1/2",0,{"$f":"IF(C284=1,COUNTIF($C$3:C284,1),\"\")","v":""},{"$f":"IFERROR(INDEX(DROPDOWN_AOSuche_Alle,MATCH(ROWS($D$3:D284),DROPDOWN_AOSuche_Helper2,0)),\"\")","v":""},"Kdo Op","Ter Div 2","Inf Bat 97","Inf Stabskp 97"]
[null,"Fl RS Kp 81-1/3",0,{"$f":"IF(C285=1,COUNTIF($C$3:C285,1),\"\")","v":""},{"$f":"IFERROR(INDEX(DROPDOWN_AOSuche_Alle,MATCH(ROWS($D$3:D285),DROPDOWN_AOSuche_Helper2,0)),\"\")","v":""},"Kdo Op","Ter Div 2","Inf Bat 97","Inf Kp 97/1"]
[null,"Fl RS Kp 81-1/4",0,{"$f":"IF(C286=1,COUNTIF($C$3:C286,1),\"\")","v":""},{"$f":"IFERROR(INDEX(DROPDOWN_AOSuche_Alle,MATCH(ROWS($D$3:D286),DROPDOWN_AOSuche_Helper2,0)),\"\")","v":""},"Kdo Op","Ter Div 2","Inf Bat 97","Inf Kp 97/2"]
[null,"Fl RS Kp 81-2/1",0,{"$f":"IF(C287=1,COUNTIF($C$3:C287,1),\"\")","v":""},{"$f":"IFERROR(INDEX(DROPDOWN_AOSuche_Alle,MATCH(ROWS($D$3:D287),DROPDOWN_AOSuche_Helper2,0)),\"\")","v":""},"Kdo Op","Ter Div 2","Inf Bat 97","Inf Kp 97/3"]
[null,"Fl RS Kp 81-2/2",0,{"$f":"IF(C288=1,COUNTIF($C$3:C288,1),\"\")","v":""},{"$f":"IFERROR(INDEX(DROPDOWN_AOSuche_Alle,MATCH(ROWS($D$3:D288),DROPDOWN_AOSuche_Helper2,0)),\"\")","v":""},"Kdo Op","Ter Div 2","Inf Bat 97","Inf Ustü Kp 97/4"]
[null,"Fl RS Kp 81-2/3",0,{"$f":"IF(C289=1,COUNTIF($C$3:C289,1),\"\")","v":""},{"$f":"IFERROR(INDEX(DROPDOWN_AOSuche_Alle,MATCH(ROWS($D$3:D289),DROPDOWN_AOSuche_Helper2,0)),\"\")","v":""},"Kdo Op","Ter Div 2","G Bat 6"]
[null,"Fl RS Kp 81-2/4",0,{"$f":"IF(C290=1,COUNTIF($C$3:C290,1),\"\")","v":""},{"$f":"IFERROR(INDEX(DROPDOWN_AOSuche_Alle,MATCH(ROWS($D$3:D290),DROPDOWN_AOSuche_Helper2,0)),\"\")","v":""},"Kdo Op","Ter Div 2","G Bat 6","Stab G Bat 6"]
[null,"Fl S 81",0,{"$f":"IF(C291=1,COUNTIF($C$3:C291,1),\"\")","v":""},{"$f":"IFERROR(INDEX(DROPDOWN_AOSuche_Alle,MATCH(ROWS($D$3:D291),DROPDOWN_AOSuche_Helper2,0)),\"\")","v":""},"Kdo Op","Ter Div 2","G Bat 6","G Stabskp 6"]
[null,"Fl St 11",0,{"$f":"IF(C292=1,COUNTIF($C$3:C292,1),\"\")","v":""},{"$f":"IFERROR(INDEX(DROPDOWN_AOSuche_Alle,MATCH(ROWS($D$3:D292),DROPDOWN_AOSuche_Helper2,0)),\"\")","v":""},"Kdo Op","Ter Div 2","G Bat 6","Sap Kp 6/1"]
[null,"Fl St 17",0,{"$f":"IF(C293=1,COUNTIF($C$3:C293,1),\"\")","v":""},{"$f":"IFERROR(INDEX(DROPDOWN_AOSuche_Alle,MATCH(ROWS($D$3:D293),DROPDOWN_AOSuche_Helper2,0)),\"\")","v":""},"Kdo Op","Ter Div 2","G Bat 6","Sap Kp 6/2"]
[null,"Fl St 18",0,{"$f":"IF(C294=1,COUNTIF($C$3:C294,1),\"\")","v":""},{"$f":"IFERROR(INDEX(DROPDOWN_AOSuche_Alle,MATCH(ROWS($D$3:D294),DROPDOWN_AOSuche_Helper2,0)),\"\")","v":""},"Kdo Op","Ter Div 2","G Bat 6","Pont Kp 6/3"]
[null,"Fl St 19",0,{"$f":"IF(C295=1,COUNTIF($C$3:C295,1),\"\")","v":""},{"$f":"IFERROR(INDEX(DROPDOWN_AOSuche_Alle,MATCH(ROWS($D$3:D295),DROPDOWN_AOSuche_Helper2,0)),\"\")","v":""},"Kdo Op","Ter Div 2","Rttg Bat 2"]
[null,"Fl St 6",0,{"$f":"IF(C296=1,COUNTIF($C$3:C296,1),\"\")","v":""},{"$f":"IFERROR(INDEX(DROPDOWN_AOSuche_Alle,MATCH(ROWS($D$3:D296),DROPDOWN_AOSuche_Helper2,0)),\"\")","v":""},"Kdo Op","Ter Div 2","Rttg Bat 2","Stab Rttg Bat 2"]
[null,"Fl St 8",0,{"$f":"IF(C297=1,COUNTIF($C$3:C297,1),\"\")","v":""},{"$f":"IFERROR(INDEX(DROPDOWN_AOSuche_Alle,MATCH(ROWS($D$3:D297),DROPDOWN_AOSuche_Helper2,0)),\"\")","v":""},"Kdo Op","Ter Div 2","Rttg Bat 2","Rttg Stabskp 2"]
[null,"Fl UOS 81-1",0,{"$f":"IF(C298=1,COUNTIF($C$3:C298,1),\"\")","v":""},{"$f":"IFERROR(INDEX(DROPDOWN_AOSuche_Alle,MATCH(ROWS($D$3:D298),DROPDOWN_AOSuche_Helper2,0)),\"\")","v":""},"Kdo Op","Ter Div 2","Rttg Bat 2","Rttg Kp 2/1"]
[null,"Fl UOS 81-1 (GAE PAY)",0,{"$f":"IF(C299=1,COUNTIF($C$3:C299,1),\"\")","v":""},{"$f":"IFERROR(INDEX(DROPDOWN_AOSuche_Alle,MATCH(ROWS($D$3:D299),DROPDOWN_AOSuche_Helper2,0)),\"\")","v":""},"Kdo Op","Ter Div 2","Rttg Bat 2","Rttg Kp 2/2"]
[null,"Fl UOS 81-2",0,{"$f":"IF(C300=1,COUNTIF($C$3:C300,1),\"\")","v":""},{"$f":"IFERROR(INDEX(DROPDOWN_AOSuche_Alle,MATCH(ROWS($D$3:D300),DROPDOWN_AOSuche_Helper2,0)),\"\")","v":""},"Kdo Op","Ter Div 2","Rttg Bat 2","Rttg Kp 2/3"]
[null,"Fl UOS 81-2 (GAE PAY)",0,{"$f":"IF(C301=1,COUNTIF($C$3:C301,1),\"\")","v":""},{"$f":"IFERROR(INDEX(DROPDOWN_AOSuche_Alle,MATCH(ROWS($D$3:D301),DROPDOWN_AOSuche_Helper2,0)),\"\")","v":""},"Kdo Op","Ter Div 3"]
[null,"Flab Ber Bttr 104",0,{"$f":"IF(C302=1,COUNTIF($C$3:C302,1),\"\")","v":""},{"$f":"IFERROR(INDEX(DROPDOWN_AOSuche_Alle,MATCH(ROWS($D$3:D302),DROPDOWN_AOSuche_Helper2,0)),\"\")","v":""},"Kdo Op","Ter Div 3","Stab Ter Div 3"]
[null,"Flab Ber Bttr 204",0,{"$f":"IF(C303=1,COUNTIF($C$3:C303,1),\"\")","v":""},{"$f":"IFERROR(INDEX(DROPDOWN_AOSuche_Alle,MATCH(ROWS($D$3:D303),DROPDOWN_AOSuche_Helper2,0)),\"\")","v":""},"Kdo Op","Ter Div 3","Koord Stelle 3"]
[null,"Flab OS 33-1",0,{"$f":"IF(C304=1,COUNTIF($C$3:C304,1),\"\")","v":""},{"$f":"IFERROR(INDEX(DROPDOWN_AOSuche_Alle,MATCH(ROWS($D$3:D304),DROPDOWN_AOSuche_Helper2,0)),\"\")","v":""},"Kdo Op","Ter Div 3","Koord Stelle 3","Stab Koord Stelle 3"]
[null,"Flab OS 33-2",0,{"$f":"IF(C305=1,COUNTIF($C$3:C305,1),\"\")","v":""},{"$f":"IFERROR(INDEX(DROPDOWN_AOSuche_Alle,MATCH(ROWS($D$3:D305),DROPDOWN_AOSuche_Helper2,0)),\"\")","v":""},"Kdo Op","Ter Div 3","Koord Stelle 3","Betr Det Koord Stelle 3"]
[null,"Flab RS 33-1",0,{"$f":"IF(C306=1,COUNTIF($C$3:C306,1),\"\")","v":""},{"$f":"IFERROR(INDEX(DROPDOWN_AOSuche_Alle,MATCH(ROWS($D$3:D306),DROPDOWN_AOSuche_Helper2,0)),\"\")","v":""},"Kdo Op","Ter Div 3","Ing Stab 3"]
[null,"Flab RS 33-1 Bttr 1",0,{"$f":"IF(C307=1,COUNTIF($C$3:C307,1),\"\")","v":""},{"$f":"IFERROR(INDEX(DROPDOWN_AOSuche_Alle,MATCH(ROWS($D$3:D307),DROPDOWN_AOSuche_Helper2,0)),\"\")","v":""},"Kdo Op","Ter Div 3","Ter Div Stabsbat 3"]
[null,"Flab RS 33-1 Bttr 2",0,{"$f":"IF(C308=1,COUNTIF($C$3:C308,1),\"\")","v":""},{"$f":"IFERROR(INDEX(DROPDOWN_AOSuche_Alle,MATCH(ROWS($D$3:D308),DROPDOWN_AOSuche_Helper2,0)),\"\")","v":""},"Kdo Op","Ter Div 3","Ter Div Stabsbat 3","Stab Ter Div Stabsbat 3"]
[null,"Flab RS 33-1 Bttr 3",0,{"$f":"IF(C309=1,COUNTIF($C$3:C309,1),\"\")","v":""},{"$f":"IFERROR(INDEX(DROPDOWN_AOSuche_Alle,MATCH(ROWS($D$3:D309),DROPDOWN_AOSuche_Helper2,0)),\"\")","v":""},"Kdo Op","Ter Div 3","Ter Div Stabsbat 3","Ter Div Stabskp 3"]
[null,"Flab RS 33-1 Bttr 4",0,{"$f":"IF(C310=1,COUNTIF($C$3:C310,1),\"\")","v":""},{"$f":"IFERROR(INDEX(DROPDOWN_AOSuche_Alle,MATCH(ROWS($D$3:D310),DROPDOWN_AOSuche_Helper2,0)),\"\")","v":""},"Kdo Op","Ter Div 3","Ter Div Stabsbat 3","Ter Div Betr Kp 3/1"]
[null,"Flab RS 33-1 Fahr Ausb EMMEN",0,{"$f":"IF(C311=1,COUNTIF($C$3:C311,1),\"\")","v":""},{"$f":"IFERROR(INDEX(DROPDOWN_AOSuche_Alle,MATCH(ROWS($D$3:D311),DROPDOWN_AOSuche_Helper2,0)),\"\")","v":""},"Kdo Op","Ter Div 3","Ter Div Stabsbat 3","Ter Div Uem Kp 3/2"]
[null,"Flab RS 33-1 Fahr Ausb PAYERNE",0,{"$f":"IF(C312=1,COUNTIF($C$3:C312,1),\"\")","v":""},{"$f":"IFERROR(INDEX(DROPDOWN_AOSuche_Alle,MATCH(ROWS($D$3:D312),DROPDOWN_AOSuche_Helper2,0)),\"\")","v":""},"Kdo Op","Ter Div 3","Ter Div Stabsbat 3","Ter Div Si Kp 3/3"]
[null,"Flab RS 33-2",0,{"$f":"IF(C313=1,COUNTIF($C$3:C313,1),\"\")","v":""},{"$f":"IFERROR(INDEX(DROPDOWN_AOSuche_Alle,MATCH(ROWS($D$3:D313),DROPDOWN_AOSuche_Helper2,0)),\"\")","v":""},"Kdo Op","Ter Div 3","Ter Div Stabsbat 3","Ter Div Aufkl Kp 3/4"]
[null,"Flab RS 33-2 Bttr 1",0,{"$f":"IF(C314=1,COUNTIF($C$3:C314,1),\"\")","v":""},{"$f":"IFERROR(INDEX(DROPDOWN_AOSuche_Alle,MATCH(ROWS($D$3:D314),DROPDOWN_AOSuche_Helper2,0)),\"\")","v":""},"Kdo Op","Ter Div 3","Geb Inf Bat 29"]
[null,"Flab RS 33-2 Bttr 2",0,{"$f":"IF(C315=1,COUNTIF($C$3:C315,1),\"\")","v":""},{"$f":"IFERROR(INDEX(DROPDOWN_AOSuche_Alle,MATCH(ROWS($D$3:D315),DROPDOWN_AOSuche_Helper2,0)),\"\")","v":""},"Kdo Op","Ter Div 3","Geb Inf Bat 29","Stab Geb Inf Bat 29"]
[null,"Flab RS 33-2 Bttr 3",0,{"$f":"IF(C316=1,COUNTIF($C$3:C316,1),\"\")","v":""},{"$f":"IFERROR(INDEX(DROPDOWN_AOSuche_Alle,MATCH(ROWS($D$3:D316),DROPDOWN_AOSuche_Helper2,0)),\"\")","v":""},"Kdo Op","Ter Div 3","Geb Inf Bat 29","Geb Inf Stabskp 29"]
[null,"Flab RS 33-2 Bttr 4",0,{"$f":"IF(C317=1,COUNTIF($C$3:C317,1),\"\")","v":""},{"$f":"IFERROR(INDEX(DROPDOWN_AOSuche_Alle,MATCH(ROWS($D$3:D317),DROPDOWN_AOSuche_Helper2,0)),\"\")","v":""},"Kdo Op","Ter Div 3","Geb Inf Bat 29","Geb Inf Kp 29/1"]
[null,"Flab RS 33-2 Fahr Ausb EMMEN",0,{"$f":"IF(C318=1,COUNTIF($C$3:C318,1),\"\")","v":""},{"$f":"IFERROR(INDEX(DROPDOWN_AOSuche_Alle,MATCH(ROWS($D$3:D318),DROPDOWN_AOSuche_Helper2,0)),\"\")","v":""},"Kdo Op","Ter Div 3","Geb Inf Bat 29","Geb Inf Kp 29/2"]
[null,"Flab RS 33-2 Fahr Ausb PAYERNE",0,{"$f":"IF(C319=1,COUNTIF($C$3:C319,1),\"\")","v":""},{"$f":"IFERROR(INDEX(DROPDOWN_AOSuche_Alle,MATCH(ROWS($D$3:D319),DROPDOWN_AOSuche_Helper2,0)),\"\")","v":""},"Kdo Op","Ter Div 3","Geb Inf Bat 29","Geb Inf Kp 29/3"]
[null,"Flab RS 90-1",0,{"$f":"IF(C320=1,COUNTIF($C$3:C320,1),\"\")","v":""},{"$f":"IFERROR(INDEX(DROPDOWN_AOSuche_Alle,MATCH(ROWS($D$3:D320),DROPDOWN_AOSuche_Helper2,0)),\"\")","v":""},"Kdo Op","Ter Div 3","Geb Inf Bat 29","Geb Inf Ustü Kp 29/4"]
[null,"Flab RS 90-2",0,{"$f":"IF(C321=1,COUNTIF($C$3:C321,1),\"\")","v":""},{"$f":"IFERROR(INDEX(DROPDOWN_AOSuche_Alle,MATCH(ROWS($D$3:D321),DROPDOWN_AOSuche_Helper2,0)),\"\")","v":""},"Kdo Op","Ter Div 3","Geb Inf Bat 30"]
[null,"Flab RS 90-3",0,{"$f":"IF(C322=1,COUNTIF($C$3:C322,1),\"\")","v":""},{"$f":"IFERROR(INDEX(DROPDOWN_AOSuche_Alle,MATCH(ROWS($D$3:D322),DROPDOWN_AOSuche_Helper2,0)),\"\")","v":""},"Kdo Op","Ter Div 3","Geb Inf Bat 30","Stab Geb Inf Bat 30"]
[null,"Flab RS 93-1",{"$f":"--ISNUMBER(IFERROR(SEARCH(AO_Search_Value,B323,1),\"\"))","v":0},{"$f":"IF(C323=1,COUNTIF($C$3:C323,1),\"\")","v":""},{"$f":"IFERROR(INDEX(DROPDOWN_AOSuche_Alle,MATCH(ROWS($D$3:D323),DROPDOWN_AOSuche_Helper2,0)),\"\")","v":""},"Kdo Op","Ter Div 3","Geb Inf Bat 30","Geb Inf Stabskp 30"]
[null,"Flab RS 93-2",0,{"$f":"IF(C324=1,COUNTIF($C$3:C324,1),\"\")","v":""},{"$f":"IFERROR(INDEX(DROPDOWN_AOSuche_Alle,MATCH(ROWS($D$3:D324),DROPDOWN_AOSuche_Helper2,0)),\"\")","v":""},"Kdo Op","Ter Div 3","Geb Inf Bat 30","Geb Inf Kp 30/1"]
[null,"Flab RS 93-3",0,{"$f":"IF(C325=1,COUNTIF($C$3:C325,1),\"\")","v":""},{"$f":"IFERROR(INDEX(DROPDOWN_AOSuche_Alle,MATCH(ROWS($D$3:D325),DROPDOWN_AOSuche_Helper2,0)),\"\")","v":""},"Kdo Op","Ter Div 3","Geb Inf Bat 30","Geb Inf Kp 30/2"]
[null,"Flab S 33",0,{"$f":"IF(C326=1,COUNTIF($C$3:C326,1),\"\")","v":""},{"$f":"IFERROR(INDEX(DROPDOWN_AOSuche_Alle,MATCH(ROWS($D$3:D326),DROPDOWN_AOSuche_Helper2,0)),\"\")","v":""},"Kdo Op","Ter Div 3","Geb Inf Bat 30","Geb Inf Kp 30/3"]
[null,"Flab UOS 33-1",0,{"$f":"IF(C327=1,COUNTIF($C$3:C327,1),\"\")","v":""},{"$f":"IFERROR(INDEX(DROPDOWN_AOSuche_Alle,MATCH(ROWS($D$3:D327),DROPDOWN_AOSuche_Helper2,0)),\"\")","v":""},"Kdo Op","Ter Div 3","Geb Inf Bat 30","Geb Inf Ustü Kp 30/4"]
[null,"Flab UOS 33-2",0,{"$f":"IF(C328=1,COUNTIF($C$3:C328,1),\"\")","v":""},{"$f":"IFERROR(INDEX(DROPDOWN_AOSuche_Alle,MATCH(ROWS($D$3:D328),DROPDOWN_AOSuche_Helper2,0)),\"\")","v":""},"Kdo Op","Ter Div 3","Geb Inf Bat 48"]
[null,"Flpl Abt 11",0,{"$f":"IF(C329=1,COUNTIF($C$3:C329,1),\"\")","v":""},{"$f":"IFERROR(INDEX(DROPDOWN_AOSuche_Alle,MATCH(ROWS($D$3:D329),DROPDOWN_AOSuche_Helper2,0)),\"\")","v":""},"Kdo Op","Ter Div 3","Geb Inf Bat 48","Stab Geb Inf Bat 48"]
[null,"Flpl Abt 13",0,{"$f":"IF(C330=1,COUNTIF($C$3:C330,1),\"\")","v":""},{"$f":"IFERROR(INDEX(DROPDOWN_AOSuche_Alle,MATCH(ROWS($D$3:D330),DROPDOWN_AOSuche_Helper2,0)),\"\")","v":""},"Kdo Op","Ter Div 3","Geb Inf Bat 48","Geb Inf Stabskp 48"]
[null,"Flpl Abt 14",0,{"$f":"IF(C331=1,COUNTIF($C$3:C331,1),\"\")","v":""},{"$f":"IFERROR(INDEX(DROPDOWN_AOSuche_Alle,MATCH(ROWS($D$3:D331),DROPDOWN_AOSuche_Helper2,0)),\"\")","v":""},"Kdo Op","Ter Div 3","Geb Inf Bat 48","Geb Inf Kp 48/1"]
[null,"Flpl Kdo 11",0,{"$f":"IF(C332=1,COUNTIF($C$3:C332,1),\"\")","v":""},{"$f":"IFERROR(INDEX(DROPDOWN_AOSuche_Alle,MATCH(ROWS($D$3:D332),DROPDOWN_AOSuche_Helper2,0)),\"\")","v":""},"Kdo Op","Ter Div 3","Geb Inf Bat 48","Geb Inf Kp 48/2"]
[null,"Flpl Kdo 13",0,{"$f":"IF(C333=1,COUNTIF($C$3:C333,1),\"\")","v":""},{"$f":"IFERROR(INDEX(DROPDOWN_AOSuche_Alle,MATCH(ROWS($D$3:D333),DROPDOWN_AOSuche_Helper2,0)),\"\")","v":""},"Kdo Op","Ter Div 3","Geb Inf Bat 48","Geb Inf Kp 48/3"]
[null,"Flpl Kdo 2",0,{"$f":"IF(C334=1,COUNTIF($C$3:C334,1),\"\")","v":""},{"$f":"IFERROR(INDEX(DROPDOWN_AOSuche_Alle,MATCH(ROWS($D$3:D334),DROPDOWN_AOSuche_Helper2,0)),\"\")","v":""},"Kdo Op","Ter Div 3","Geb Inf Bat 48","Geb Inf Ustü Kp 48/4"]
[null,"Flpl Kdo 4",0,{"$f":"IF(C335=1,COUNTIF($C$3:C335,1),\"\")","v":""},{"$f":"IFERROR(INDEX(DROPDOWN_AOSuche_Alle,MATCH(ROWS($D$3:D335),DROPDOWN_AOSuche_Helper2,0)),\"\")","v":""},"Kdo Op","Ter Div 3","Geb Inf Bat 91"]
[null,"Flpl Kdo 7",0,{"$f":"IF(C336=1,COUNTIF($C$3:C336,1),\"\")","v":""},{"$f":"IFERROR(INDEX(DROPDOWN_AOSuche_Alle,MATCH(ROWS($D$3:D336),DROPDOWN_AOSuche_Helper2,0)),\"\")","v":""},"Kdo Op","Ter Div 3","Geb Inf Bat 91","Stab Geb Inf Bat 91"]
[null,"Flpl Log Kp 11",0,{"$f":"IF(C337=1,COUNTIF($C$3:C337,1),\"\")","v":""},{"$f":"IFERROR(INDEX(DROPDOWN_AOSuche_Alle,MATCH(ROWS($D$3:D337),DROPDOWN_AOSuche_Helper2,0)),\"\")","v":""},"Kdo Op","Ter Div 3","Geb Inf Bat 91","Geb Inf Stabskp 91"]
[null,"Flpl Log Kp 13",0,{"$f":"IF(C338=1,COUNTIF($C$3:C338,1),\"\")","v":""},{"$f":"IFERROR(INDEX(DROPDOWN_AOSuche_Alle,MATCH(ROWS($D$3:D338),DROPDOWN_AOSuche_Helper2,0)),\"\")","v":""},"Kdo Op","Ter Div 3","Geb Inf Bat 91","Geb Inf Kp 91/1"]
[null,"Flpl Log Kp 14",0,{"$f":"IF(C339=1,COUNTIF($C$3:C339,1),\"\")","v":""},{"$f":"IFERROR(INDEX(DROPDOWN_AOSuche_Alle,MATCH(ROWS($D$3:D339),DROPDOWN_AOSuche_Helper2,0)),\"\")","v":""},"Kdo Op","Ter Div 3","Geb Inf Bat 91","Geb Inf Kp 91/2"]
[null,"Flpl Si Kp 11",0,{"$f":"IF(C340=1,COUNTIF($C$3:C340,1),\"\")","v":""},{"$f":"IFERROR(INDEX(DROPDOWN_AOSuche_Alle,MATCH(ROWS($D$3:D340),DROPDOWN_AOSuche_Helper2,0)),\"\")","v":""},"Kdo Op","Ter Div 3","Geb Inf Bat 91","Geb Inf Kp 91/3"]
[null,"Flpl Si Kp 13",0,{"$f":"IF(C341=1,COUNTIF($C$3:C341,1),\"\")","v":""},{"$f":"IFERROR(INDEX(DROPDOWN_AOSuche_Alle,MATCH(ROWS($D$3:D341),DROPDOWN_AOSuche_Helper2,0)),\"\")","v":""},"Kdo Op","Ter Div 3","Geb Inf Bat 91","Geb Inf Ustü Kp 91/4"]
[null,"Flpl Si Kp 14",0,{"$f":"IF(C342=1,COUNTIF($C$3:C342,1),\"\")","v":""},{"$f":"IFERROR(INDEX(DROPDOWN_AOSuche_Alle,MATCH(ROWS($D$3:D342),DROPDOWN_AOSuche_Helper2,0)),\"\")","v":""},"Kdo Op","Ter Div 3","G Bat 9"]
[null,"Flpl Si Kp 7",0,{"$f":"IF(C343=1,COUNTIF($C$3:C343,1),\"\")","v":""},{"$f":"IFERROR(INDEX(DROPDOWN_AOSuche_Alle,MATCH(ROWS($D$3:D343),DROPDOWN_AOSuche_Helper2,0)),\"\")","v":""},"Kdo Op","Ter Div 3","G Bat 9","Stab G Bat 9"]
[null,"Flpl Stabskp 11",0,{"$f":"IF(C344=1,COUNTIF($C$3:C344,1),\"\")","v":""},{"$f":"IFERROR(INDEX(DROPDOWN_AOSuche_Alle,MATCH(ROWS($D$3:D344),DROPDOWN_AOSuche_Helper2,0)),\"\")","v":""},"Kdo Op","Ter Div 3","G Bat 9","G Stabskp 9"]
[null,"Flpl Stabskp 13",0,{"$f":"IF(C345=1,COUNTIF($C$3:C345,1),\"\")","v":""},{"$f":"IFERROR(INDEX(DROPDOWN_AOSuche_Alle,MATCH(ROWS($D$3:D345),DROPDOWN_AOSuche_Helper2,0)),\"\")","v":""},"Kdo Op","Ter Div 3","G Bat 9","Sap Kp 9/1"]
[null,"Flpl Stabskp 14",0,{"$f":"IF(C346=1,COUNTIF($C$3:C346,1),\"\")","v":""},{"$f":"IFERROR(INDEX(DROPDOWN_AOSuche_Alle,MATCH(ROWS($D$3:D346),DROPDOWN_AOSuche_Helper2,0)),\"\")","v":""},"Kdo Op","Ter Div 3","G Bat 9","Sap Kp 9/2"]
[null,"Flz Ih Kp 11",0,{"$f":"IF(C347=1,COUNTIF($C$3:C347,1),\"\")","v":""},{"$f":"IFERROR(INDEX(DROPDOWN_AOSuche_Alle,MATCH(ROWS($D$3:D347),DROPDOWN_AOSuche_Helper2,0)),\"\")","v":""},"Kdo Op","Ter Div 3","G Bat 9","Sap Kp 9/3"]
[null,"Flz Ih Kp 13",0,{"$f":"IF(C348=1,COUNTIF($C$3:C348,1),\"\")","v":""},{"$f":"IFERROR(INDEX(DROPDOWN_AOSuche_Alle,MATCH(ROWS($D$3:D348),DROPDOWN_AOSuche_Helper2,0)),\"\")","v":""},"Kdo Op","Ter Div 3","Rttg Bat 3"]
[null,"Flz Ih Kp 14",0,{"$f":"IF(C349=1,COUNTIF($C$3:C349,1),\"\")","v":""},{"$f":"IFERROR(INDEX(DROPDOWN_AOSuche_Alle,MATCH(ROWS($D$3:D349),DROPDOWN_AOSuche_Helper2,0)),\"\")","v":""},"Kdo Op","Ter Div 3","Rttg Bat 3","Stab Rttg Bat 3"]
[null,"Fsch AufklRS 1-1",0,{"$f":"IF(C350=1,COUNTIF($C$3:C350,1),\"\")","v":""},{"$f":"IFERROR(INDEX(DROPDOWN_AOSuche_Alle,MATCH(ROWS($D$3:D350),DROPDOWN_AOSuche_Helper2,0)),\"\")","v":""},"Kdo Op","Ter Div 3","Rttg Bat 3","Rttg Stabskp 3"]
[null,"Fsch Aufkl Kp 17",0,{"$f":"IF(C351=1,COUNTIF($C$3:C351,1),\"\")","v":""},{"$f":"IFERROR(INDEX(DROPDOWN_AOSuche_Alle,MATCH(ROWS($D$3:D351),DROPDOWN_AOSuche_Helper2,0)),\"\")","v":""},"Kdo Op","Ter Div 3","Rttg Bat 3","Rttg Kp 3/1"]
[null,"FU Bat 41",0,{"$f":"IF(C352=1,COUNTIF($C$3:C352,1),\"\")","v":""},{"$f":"IFERROR(INDEX(DROPDOWN_AOSuche_Alle,MATCH(ROWS($D$3:D352),DROPDOWN_AOSuche_Helper2,0)),\"\")","v":""},"Kdo Op","Ter Div 3","Rttg Bat 3","Rttg Kp 3/2"]
[null,"FU Ber Kp 104",0,{"$f":"IF(C353=1,COUNTIF($C$3:C353,1),\"\")","v":""},{"$f":"IFERROR(INDEX(DROPDOWN_AOSuche_Alle,MATCH(ROWS($D$3:D353),DROPDOWN_AOSuche_Helper2,0)),\"\")","v":""},"Kdo Op","Ter Div 3","Rttg Bat 3","Rttg Kp 3/3"]
[null,"FU Ber Kp 204",0,{"$f":"IF(C354=1,COUNTIF($C$3:C354,1),\"\")","v":""},{"$f":"IFERROR(INDEX(DROPDOWN_AOSuche_Alle,MATCH(ROWS($D$3:D354),DROPDOWN_AOSuche_Helper2,0)),\"\")","v":""},"Kdo Op","Ter Div 4"]
[null,"FU Br 41",0,{"$f":"IF(C355=1,COUNTIF($C$3:C355,1),\"\")","v":""},{"$f":"IFERROR(INDEX(DROPDOWN_AOSuche_Alle,MATCH(ROWS($D$3:D355),DROPDOWN_AOSuche_Helper2,0)),\"\")","v":""},"Kdo Op","Ter Div 4","Stab Ter Div 4"]
[null,"FU OS 30",0,{"$f":"IF(C356=1,COUNTIF($C$3:C356,1),\"\")","v":""},{"$f":"IFERROR(INDEX(DROPDOWN_AOSuche_Alle,MATCH(ROWS($D$3:D356),DROPDOWN_AOSuche_Helper2,0)),\"\")","v":""},"Kdo Op","Ter Div 4","Koord Stelle 4"]
[null,"FU OS 30-1",0,{"$f":"IF(C357=1,COUNTIF($C$3:C357,1),\"\")","v":""},{"$f":"IFERROR(INDEX(DROPDOWN_AOSuche_Alle,MATCH(ROWS($D$3:D357),DROPDOWN_AOSuche_Helper2,0)),\"\")","v":""},"Kdo Op","Ter Div 4","Koord Stelle 4","Stab Koord Stelle 4"]
[null,"FU OS 30-2",0,{"$f":"IF(C358=1,COUNTIF($C$3:C358,1),\"\")","v":""},{"$f":"IFERROR(INDEX(DROPDOWN_AOSuche_Alle,MATCH(ROWS($D$3:D358),DROPDOWN_AOSuche_Helper2,0)),\"\")","v":""},"Kdo Op","Ter Div 4","Koord Stelle 4","Betr Det Koord Stelle 4"]
[null,"FU RS 63-1",0,{"$f":"IF(C359=1,COUNTIF($C$3:C359,1),\"\")","v":""},{"$f":"IFERROR(INDEX(DROPDOWN_AOSuche_Alle,MATCH(ROWS($D$3:D359),DROPDOWN_AOSuche_Helper2,0)),\"\")","v":""},"Kdo Op","Ter Div 4","Ing Stab 4"]
[null,"FU RS 63-2",0,{"$f":"IF(C360=1,COUNTIF($C$3:C360,1),\"\")","v":""},{"$f":"IFERROR(INDEX(DROPDOWN_AOSuche_Alle,MATCH(ROWS($D$3:D360),DROPDOWN_AOSuche_Helper2,0)),\"\")","v":""},"Kdo Op","Ter Div 4","Ter Div Stabsbat 4"]
[null,"FU RS Kp 63-1/1",0,{"$f":"IF(C361=1,COUNTIF($C$3:C361,1),\"\")","v":""},{"$f":"IFERROR(INDEX(DROPDOWN_AOSuche_Alle,MATCH(ROWS($D$3:D361),DROPDOWN_AOSuche_Helper2,0)),\"\")","v":""},"Kdo Op","Ter Div 4","Ter Div Stabsbat 4","Stab Ter Div Stabsbat 4"]
[null,"FU RS Kp 63-1/2",0,{"$f":"IF(C362=1,COUNTIF($C$3:C362,1),\"\")","v":""},{"$f":"IFERROR(INDEX(DROPDOWN_AOSuche_Alle,MATCH(ROWS($D$3:D362),DROPDOWN_AOSuche_Helper2,0)),\"\")","v":""},"Kdo Op","Ter Div 4","Ter Div Stabsbat 4","Ter Div Stabskp 4"]
[null,"FU RS Kp 63-1/3",0,{"$f":"IF(C363=1,COUNTIF($C$3:C363,1),\"\")","v":""},{"$f":"IFERROR(INDEX(DROPDOWN_AOSuche_Alle,MATCH(ROWS($D$3:D363),DROPDOWN_AOSuche_Helper2,0)),\"\")","v":""},"Kdo Op","Ter Div 4","Ter Div Stabsbat 4","Ter Div Betr Kp 4/1"]
[null,"FU RS Kp 63-2/1",0,{"$f":"IF(C364=1,COUNTIF($C$3:C364,1),\"\")","v":""},{"$f":"IFERROR(INDEX(DROPDOWN_AOSuche_Alle,MATCH(ROWS($D$3:D364),DROPDOWN_AOSuche_Helper2,0)),\"\")","v":""},"Kdo Op","Ter Div 4","Ter Div Stabsbat 4","Ter Div Uem Kp 4/2"]
[null,"FU RS Kp 63-2/2",0,{"$f":"IF(C365=1,COUNTIF($C$3:C365,1),\"\")","v":""},{"$f":"IFERROR(INDEX(DROPDOWN_AOSuche_Alle,MATCH(ROWS($D$3:D365),DROPDOWN_AOSuche_Helper2,0)),\"\")","v":""},"Kdo Op","Ter Div 4","Ter Div Stabsbat 4","Ter Div Si Kp 4/3"]
[null,"FU RS Kp 63-2/3",0,{"$f":"IF(C366=1,COUNTIF($C$3:C366,1),\"\")","v":""},{"$f":"IFERROR(INDEX(DROPDOWN_AOSuche_Alle,MATCH(ROWS($D$3:D366),DROPDOWN_AOSuche_Helper2,0)),\"\")","v":""},"Kdo Op","Ter Div 4","Ter Div Stabsbat 4","Ter Div Aufkl Kp 4/4"]
[null,"FU S 63",0,{"$f":"IF(C367=1,COUNTIF($C$3:C367,1),\"\")","v":""},{"$f":"IFERROR(INDEX(DROPDOWN_AOSuche_Alle,MATCH(ROWS($D$3:D367),DROPDOWN_AOSuche_Helper2,0)),\"\")","v":""},"Kdo Op","Ter Div 4","Inf Bat 61"]
[null,"FU Stabskp 41",0,{"$f":"IF(C368=1,COUNTIF($C$3:C368,1),\"\")","v":""},{"$f":"IFERROR(INDEX(DROPDOWN_AOSuche_Alle,MATCH(ROWS($D$3:D368),DROPDOWN_AOSuche_Helper2,0)),\"\")","v":""},"Kdo Op","Ter Div 4","Inf Bat 61","Stab Inf Bat 61"]
[null,"FU UOS 63-1",0,{"$f":"IF(C369=1,COUNTIF($C$3:C369,1),\"\")","v":""},{"$f":"IFERROR(INDEX(DROPDOWN_AOSuche_Alle,MATCH(ROWS($D$3:D369),DROPDOWN_AOSuche_Helper2,0)),\"\")","v":""},"Kdo Op","Ter Div 4","Inf Bat 61","Inf Stabskp 61"]
[null,"FU UOS 63-2",0,{"$f":"IF(C370=1,COUNTIF($C$3:C370,1),\"\")","v":""},{"$f":"IFERROR(INDEX(DROPDOWN_AOSuche_Alle,MATCH(ROWS($D$3:D370),DROPDOWN_AOSuche_Helper2,0)),\"\")","v":""},"Kdo Op","Ter Div 4","Inf Bat 61","Inf Kp 61/1"]
[null,"FUB",0,{"$f":"IF(C371=1,COUNTIF($C$3:C371,1),\"\")","v":""},{"$f":"IFERROR(INDEX(DROPDOWN_AOSuche_Alle,MATCH(ROWS($D$3:D371),DROPDOWN_AOSuche_Helper2,0)),\"\")","v":""},"Kdo Op","Ter Div 4","Inf Bat 61","Inf Kp 61/2"]
[null,"FULW RS 95-1",0,{"$f":"IF(C372=1,COUNTIF($C$3:C372,1),\"\")","v":""},{"$f":"IFERROR(INDEX(DROPDOWN_AOSuche_Alle,MATCH(ROWS($D$3:D372),DROPDOWN_AOSuche_Helper2,0)),\"\")","v":""},"Kdo Op","Ter Div 4","Inf Bat 61","Inf Kp 61/3"]
[null,"FULW RS 95-2",0,{"$f":"IF(C373=1,COUNTIF($C$3:C373,1),\"\")","v":""},{"$f":"IFERROR(INDEX(DROPDOWN_AOSuche_Alle,MATCH(ROWS($D$3:D373),DROPDOWN_AOSuche_Helper2,0)),\"\")","v":""},"Kdo Op","Ter Div 4","Inf Bat 61","Inf Ustü Kp 61/4"]
[null,"FULW RS 95-3",0,{"$f":"IF(C374=1,COUNTIF($C$3:C374,1),\"\")","v":""},{"$f":"IFERROR(INDEX(DROPDOWN_AOSuche_Alle,MATCH(ROWS($D$3:D374),DROPDOWN_AOSuche_Helper2,0)),\"\")","v":""},"Kdo Op","Ter Div 4","Inf Bat 65"]
[null,"G Bat 2",0,{"$f":"IF(C375=1,COUNTIF($C$3:C375,1),\"\")","v":""},{"$f":"IFERROR(INDEX(DROPDOWN_AOSuche_Alle,MATCH(ROWS($D$3:D375),DROPDOWN_AOSuche_Helper2,0)),\"\")","v":""},"Kdo Op","Ter Div 4","Inf Bat 65","Stab Inf Bat 65"]
[null,"G Bat 23",0,{"$f":"IF(C376=1,COUNTIF($C$3:C376,1),\"\")","v":""},{"$f":"IFERROR(INDEX(DROPDOWN_AOSuche_Alle,MATCH(ROWS($D$3:D376),DROPDOWN_AOSuche_Helper2,0)),\"\")","v":""},"Kdo Op","Ter Div 4","Inf Bat 65","Inf Stabskp 65"]
[null,"G Bat 6",0,{"$f":"IF(C377=1,COUNTIF($C$3:C377,1),\"\")","v":""},{"$f":"IFERROR(INDEX(DROPDOWN_AOSuche_Alle,MATCH(ROWS($D$3:D377),DROPDOWN_AOSuche_Helper2,0)),\"\")","v":""},"Kdo Op","Ter Div 4","Inf Bat 65","Inf Kp 65/1"]
[null,"G Bat 9",0,{"$f":"IF(C378=1,COUNTIF($C$3:C378,1),\"\")","v":""},{"$f":"IFERROR(INDEX(DROPDOWN_AOSuche_Alle,MATCH(ROWS($D$3:D378),DROPDOWN_AOSuche_Helper2,0)),\"\")","v":""},"Kdo Op","Ter Div 4","Inf Bat 65","Inf Kp 65/2"]
[null,"G RS 73-1",0,{"$f":"IF(C379=1,COUNTIF($C$3:C379,1),\"\")","v":""},{"$f":"IFERROR(INDEX(DROPDOWN_AOSuche_Alle,MATCH(ROWS($D$3:D379),DROPDOWN_AOSuche_Helper2,0)),\"\")","v":""},"Kdo Op","Ter Div 4","Inf Bat 65","Inf Kp 65/3"]
[null,"G RS 73-1 Gru Ausr Fz",0,{"$f":"IF(C380=1,COUNTIF($C$3:C380,1),\"\")","v":""},{"$f":"IFERROR(INDEX(DROPDOWN_AOSuche_Alle,MATCH(ROWS($D$3:D380),DROPDOWN_AOSuche_Helper2,0)),\"\")","v":""},"Kdo Op","Ter Div 4","Inf Bat 65","Inf Ustü Kp 65/4"]
[null,"G RS 73-2",0,{"$f":"IF(C381=1,COUNTIF($C$3:C381,1),\"\")","v":""},{"$f":"IFERROR(INDEX(DROPDOWN_AOSuche_Alle,MATCH(ROWS($D$3:D381),DROPDOWN_AOSuche_Helper2,0)),\"\")","v":""},"Kdo Op","Ter Div 4","Geb Inf Bat 85"]
[null,"G RS 73-2 Gru Ausr Fz",0,{"$f":"IF(C382=1,COUNTIF($C$3:C382,1),\"\")","v":""},{"$f":"IFERROR(INDEX(DROPDOWN_AOSuche_Alle,MATCH(ROWS($D$3:D382),DROPDOWN_AOSuche_Helper2,0)),\"\")","v":""},"Kdo Op","Ter Div 4","Geb Inf Bat 85","Stab Geb Inf Bat 85"]
[null,"G RS 73-3",0,{"$f":"IF(C383=1,COUNTIF($C$3:C383,1),\"\")","v":""},{"$f":"IFERROR(INDEX(DROPDOWN_AOSuche_Alle,MATCH(ROWS($D$3:D383),DROPDOWN_AOSuche_Helper2,0)),\"\")","v":""},"Kdo Op","Ter Div 4","Geb Inf Bat 85","Geb Inf Stabskp 85"]
[null,"G RS Kp 73-1/1",0,{"$f":"IF(C384=1,COUNTIF($C$3:C384,1),\"\")","v":""},{"$f":"IFERROR(INDEX(DROPDOWN_AOSuche_Alle,MATCH(ROWS($D$3:D384),DROPDOWN_AOSuche_Helper2,0)),\"\")","v":""},"Kdo Op","Ter Div 4","Geb Inf Bat 85","Geb Inf Kp 85/1"]
[null,"G RS Kp 73-1/2",0,{"$f":"IF(C385=1,COUNTIF($C$3:C385,1),\"\")","v":""},{"$f":"IFERROR(INDEX(DROPDOWN_AOSuche_Alle,MATCH(ROWS($D$3:D385),DROPDOWN_AOSuche_Helper2,0)),\"\")","v":""},"Kdo Op","Ter Div 4","Geb Inf Bat 85","Geb Inf Kp 85/2"]
[null,"G RS Kp 73-1/3",0,{"$f":"IF(C386=1,COUNTIF($C$3:C386,1),\"\")","v":""},{"$f":"IFERROR(INDEX(DROPDOWN_AOSuche_Alle,MATCH(ROWS($D$3:D386),DROPDOWN_AOSuche_Helper2,0)),\"\")","v":""},"Kdo Op","Ter Div 4","Geb Inf Bat 85","Geb Inf Kp 85/3"]
[null,"G RS Kp 73-2/1",{"$f":"--ISNUMBER(IFERROR(SEARCH(AO_Search_Value,B387,1),\"\"))","v":0},{"$f":"IF(C387=1,COUNTIF($C$3:C387,1),\"\")","v":""},{"$f":"IFERROR(INDEX(DROPDOWN_AOSuche_Alle,MATCH(ROWS($D$3:D387),DROPDOWN_AOSuche_Helper2,0)),\"\")","v":""},"Kdo Op","Ter Div 4","Geb Inf Bat 85","Geb Inf Ustü Kp 85/4"]
[null,"G RS Kp 73-2/2",0,{"$f":"IF(C388=1,COUNTIF($C$3:C388,1),\"\")","v":""},{"$f":"IFERROR(INDEX(DROPDOWN_AOSuche_Alle,MATCH(ROWS($D$3:D388),DROPDOWN_AOSuche_Helper2,0)),\"\")","v":""},"Kdo Op","Ter Div 4","Geb S Bat 6"]
[null,"G RS Kp 73-2/3",0,{"$f":"IF(C389=1,COUNTIF($C$3:C389,1),\"\")","v":""},{"$f":"IFERROR(INDEX(DROPDOWN_AOSuche_Alle,MATCH(ROWS($D$3:D389),DROPDOWN_AOSuche_Helper2,0)),\"\")","v":""},"Kdo Op","Ter Div 4","Geb S Bat 6","Stab Geb S Bat 6"]
[null,"G RS Kp 73-2/4",0,{"$f":"IF(C390=1,COUNTIF($C$3:C390,1),\"\")","v":""},{"$f":"IFERROR(INDEX(DROPDOWN_AOSuche_Alle,MATCH(ROWS($D$3:D390),DROPDOWN_AOSuche_Helper2,0)),\"\")","v":""},"Kdo Op","Ter Div 4","Geb S Bat 6","Geb S Stabskp 6"]
[null,"G S 73",0,{"$f":"IF(C391=1,COUNTIF($C$3:C391,1),\"\")","v":""},{"$f":"IFERROR(INDEX(DROPDOWN_AOSuche_Alle,MATCH(ROWS($D$3:D391),DROPDOWN_AOSuche_Helper2,0)),\"\")","v":""},"Kdo Op","Ter Div 4","Geb S Bat 6","Geb S Kp 6/1"]
[null,"G Stabskp 2",0,{"$f":"IF(C392=1,COUNTIF($C$3:C392,1),\"\")","v":""},{"$f":"IFERROR(INDEX(DROPDOWN_AOSuche_Alle,MATCH(ROWS($D$3:D392),DROPDOWN_AOSuche_Helper2,0)),\"\")","v":""},"Kdo Op","Ter Div 4","Geb S Bat 6","Geb S Kp 6/2"]
[null,"G Stabskp 23",0,{"$f":"IF(C393=1,COUNTIF($C$3:C393,1),\"\")","v":""},{"$f":"IFERROR(INDEX(DROPDOWN_AOSuche_Alle,MATCH(ROWS($D$3:D393),DROPDOWN_AOSuche_Helper2,0)),\"\")","v":""},"Kdo Op","Ter Div 4","Geb S Bat 6","Geb S Kp 6/3"]
[null,"G Stabskp 6",0,{"$f":"IF(C394=1,COUNTIF($C$3:C394,1),\"\")","v":""},{"$f":"IFERROR(INDEX(DROPDOWN_AOSuche_Alle,MATCH(ROWS($D$3:D394),DROPDOWN_AOSuche_Helper2,0)),\"\")","v":""},"Kdo Op","Ter Div 4","Geb S Bat 6","Geb S Ustü Kp 6/4"]
[null,"G Stabskp 9",0,{"$f":"IF(C395=1,COUNTIF($C$3:C395,1),\"\")","v":""},{"$f":"IFERROR(INDEX(DROPDOWN_AOSuche_Alle,MATCH(ROWS($D$3:D395),DROPDOWN_AOSuche_Helper2,0)),\"\")","v":""},"Kdo Op","Ter Div 4","G Bat 23"]
[null,"G UOS 73-1",0,{"$f":"IF(C396=1,COUNTIF($C$3:C396,1),\"\")","v":""},{"$f":"IFERROR(INDEX(DROPDOWN_AOSuche_Alle,MATCH(ROWS($D$3:D396),DROPDOWN_AOSuche_Helper2,0)),\"\")","v":""},"Kdo Op","Ter Div 4","G Bat 23","Stab G Bat 23"]
[null,"G UOS 73-2",0,{"$f":"IF(C397=1,COUNTIF($C$3:C397,1),\"\")","v":""},{"$f":"IFERROR(INDEX(DROPDOWN_AOSuche_Alle,MATCH(ROWS($D$3:D397),DROPDOWN_AOSuche_Helper2,0)),\"\")","v":""},"Kdo Op","Ter Div 4","G Bat 23","G Stabskp 23"]
[null,"G/Rttg/ABC OS 74-1",0,{"$f":"IF(C398=1,COUNTIF($C$3:C398,1),\"\")","v":""},{"$f":"IFERROR(INDEX(DROPDOWN_AOSuche_Alle,MATCH(ROWS($D$3:D398),DROPDOWN_AOSuche_Helper2,0)),\"\")","v":""},"Kdo Op","Ter Div 4","G Bat 23","Sap Kp 23/1"]
[null,"G/Rttg/ABC OS 74-2",0,{"$f":"IF(C399=1,COUNTIF($C$3:C399,1),\"\")","v":""},{"$f":"IFERROR(INDEX(DROPDOWN_AOSuche_Alle,MATCH(ROWS($D$3:D399),DROPDOWN_AOSuche_Helper2,0)),\"\")","v":""},"Kdo Op","Ter Div 4","G Bat 23","Sap Kp 23/2"]
[null,"Geb Inf Bat 29",0,{"$f":"IF(C400=1,COUNTIF($C$3:C400,1),\"\")","v":""},{"$f":"IFERROR(INDEX(DROPDOWN_AOSuche_Alle,MATCH(ROWS($D$3:D400),DROPDOWN_AOSuche_Helper2,0)),\"\")","v":""},"Kdo Op","Ter Div 4","G Bat 23","Sap Kp 23/3"]
[null,"Geb Inf Bat 30",0,{"$f":"IF(C401=1,COUNTIF($C$3:C401,1),\"\")","v":""},{"$f":"IFERROR(INDEX(DROPDOWN_AOSuche_Alle,MATCH(ROWS($D$3:D401),DROPDOWN_AOSuche_Helper2,0)),\"\")","v":""},"Kdo Op","Ter Div 4","Rttg Bat 4"]
[null,"Geb Inf Bat 48",0,{"$f":"IF(C402=1,COUNTIF($C$3:C402,1),\"\")","v":""},{"$f":"IFERROR(INDEX(DROPDOWN_AOSuche_Alle,MATCH(ROWS($D$3:D402),DROPDOWN_AOSuche_Helper2,0)),\"\")","v":""},"Kdo Op","Ter Div 4","Rttg Bat 4","Stab Rttg Bat 4"]
[null,"Geb Inf Bat 7",0,{"$f":"IF(C403=1,COUNTIF($C$3:C403,1),\"\")","v":""},{"$f":"IFERROR(INDEX(DROPDOWN_AOSuche_Alle,MATCH(ROWS($D$3:D403),DROPDOWN_AOSuche_Helper2,0)),\"\")","v":""},"Kdo Op","Ter Div 4","Rttg Bat 4","Rttg Stabskp 4"]
[null,"Geb Inf Bat 85",0,{"$f":"IF(C404=1,COUNTIF($C$3:C404,1),\"\")","v":""},{"$f":"IFERROR(INDEX(DROPDOWN_AOSuche_Alle,MATCH(ROWS($D$3:D404),DROPDOWN_AOSuche_Helper2,0)),\"\")","v":""},"Kdo Op","Ter Div 4","Rttg Bat 4","Rttg Kp 4/1"]
[null,"Geb Inf Bat 91",0,{"$f":"IF(C405=1,COUNTIF($C$3:C405,1),\"\")","v":""},{"$f":"IFERROR(INDEX(DROPDOWN_AOSuche_Alle,MATCH(ROWS($D$3:D405),DROPDOWN_AOSuche_Helper2,0)),\"\")","v":""},"Kdo Op","Ter Div 4","Rttg Bat 4","Rttg Kp 4/2"]
[null,"Geb Inf Kp 29/1",0,{"$f":"IF(C406=1,COUNTIF($C$3:C406,1),\"\")","v":""},{"$f":"IFERROR(INDEX(DROPDOWN_AOSuche_Alle,MATCH(ROWS($D$3:D406),DROPDOWN_AOSuche_Helper2,0)),\"\")","v":""},"Kdo Op","Ter Div 4","Rttg Bat 4","Rttg Kp 4/3"]
[null,"Geb Inf Kp 29/2",0,{"$f":"IF(C407=1,COUNTIF($C$3:C407,1),\"\")","v":""},{"$f":"IFERROR(INDEX(DROPDOWN_AOSuche_Alle,MATCH(ROWS($D$3:D407),DROPDOWN_AOSuche_Helper2,0)),\"\")","v":""},"Kdo Op","Kdo MP"]
[null,"Geb Inf Kp 29/3",0,{"$f":"IF(C408=1,COUNTIF($C$3:C408,1),\"\")","v":""},{"$f":"IFERROR(INDEX(DROPDOWN_AOSuche_Alle,MATCH(ROWS($D$3:D408),DROPDOWN_AOSuche_Helper2,0)),\"\")","v":""},"Kdo Op","Kdo MP","Stab Kdo MP"]
[null,"Geb Inf Kp 30/1",0,{"$f":"IF(C409=1,COUNTIF($C$3:C409,1),\"\")","v":""},{"$f":"IFERROR(INDEX(DROPDOWN_AOSuche_Alle,MATCH(ROWS($D$3:D409),DROPDOWN_AOSuche_Helper2,0)),\"\")","v":""},"Kdo Op","Kdo MP","Ei Ustü Det Kdo MP"]
[null,"Geb Inf Kp 30/2",0,{"$f":"IF(C410=1,COUNTIF($C$3:C410,1),\"\")","v":""},{"$f":"IFERROR(INDEX(DROPDOWN_AOSuche_Alle,MATCH(ROWS($D$3:D410),DROPDOWN_AOSuche_Helper2,0)),\"\")","v":""},"Kdo Op","Kdo MP","Ei Kdo MP"]
[null,"Geb Inf Kp 30/3",0,{"$f":"IF(C411=1,COUNTIF($C$3:C411,1),\"\")","v":""},{"$f":"IFERROR(INDEX(DROPDOWN_AOSuche_Alle,MATCH(ROWS($D$3:D411),DROPDOWN_AOSuche_Helper2,0)),\"\")","v":""},"Kdo Op","Kdo MP","Ei Kdo MP","Stab Ei Kdo MP"]
[null,"Geb Inf Kp 48/1",0,{"$f":"IF(C412=1,COUNTIF($C$3:C412,1),\"\")","v":""},{"$f":"IFERROR(INDEX(DROPDOWN_AOSuche_Alle,MATCH(ROWS($D$3:D412),DROPDOWN_AOSuche_Helper2,0)),\"\")","v":""},"Kdo Op","Kdo MP","Ei Kdo MP","MP Det WEST"]
[null,"Geb Inf Kp 48/2",0,{"$f":"IF(C413=1,COUNTIF($C$3:C413,1),\"\")","v":""},{"$f":"IFERROR(INDEX(DROPDOWN_AOSuche_Alle,MATCH(ROWS($D$3:D413),DROPDOWN_AOSuche_Helper2,0)),\"\")","v":""},"Kdo Op","Kdo MP","Ei Kdo MP","MP Det OST"]
[null,"Geb Inf Kp 48/3",0,{"$f":"IF(C414=1,COUNTIF($C$3:C414,1),\"\")","v":""},{"$f":"IFERROR(INDEX(DROPDOWN_AOSuche_Alle,MATCH(ROWS($D$3:D414),DROPDOWN_AOSuche_Helper2,0)),\"\")","v":""},"Kdo Op","Kdo MP","Ei Kdo MP Sich D"]
[null,"Geb Inf Kp 7/1",0,{"$f":"IF(C415=1,COUNTIF($C$3:C415,1),\"\")","v":""},{"$f":"IFERROR(INDEX(DROPDOWN_AOSuche_Alle,MATCH(ROWS($D$3:D415),DROPDOWN_AOSuche_Helper2,0)),\"\")","v":""},"Kdo Op","Kdo MP","Ei Kdo MP Sich D","Stab Ei Kdo MP Sich D"]
[null,"Geb Inf Kp 7/2",0,{"$f":"IF(C416=1,COUNTIF($C$3:C416,1),\"\")","v":""},{"$f":"IFERROR(INDEX(DROPDOWN_AOSuche_Alle,MATCH(ROWS($D$3:D416),DROPDOWN_AOSuche_Helper2,0)),\"\")","v":""},"Kdo Op","Kdo MP","Ei Kdo MP Sich D","MP Sich D Det WEST"]
[null,"Geb Inf Kp 7/3",0,{"$f":"IF(C417=1,COUNTIF($C$3:C417,1),\"\")","v":""},{"$f":"IFERROR(INDEX(DROPDOWN_AOSuche_Alle,MATCH(ROWS($D$3:D417),DROPDOWN_AOSuche_Helper2,0)),\"\")","v":""},"Kdo Op","Kdo MP","Ei Kdo MP Sich D","MP Sich D Det OST"]
[null,"Geb Inf Kp 85/1",0,{"$f":"IF(C418=1,COUNTIF($C$3:C418,1),\"\")","v":""},{"$f":"IFERROR(INDEX(DROPDOWN_AOSuche_Alle,MATCH(ROWS($D$3:D418),DROPDOWN_AOSuche_Helper2,0)),\"\")","v":""},"Kdo Op","Kdo MP","Ei Kdo MP FS"]
[null,"Geb Inf Kp 85/2",0,{"$f":"IF(C419=1,COUNTIF($C$3:C419,1),\"\")","v":""},{"$f":"IFERROR(INDEX(DROPDOWN_AOSuche_Alle,MATCH(ROWS($D$3:D419),DROPDOWN_AOSuche_Helper2,0)),\"\")","v":""},"Kdo Op","Kdo MP","Ei Kdo MP FS","Stab Ei Kdo MP FS"]
[null,"Geb Inf Kp 85/3",0,{"$f":"IF(C420=1,COUNTIF($C$3:C420,1),\"\")","v":""},{"$f":"IFERROR(INDEX(DROPDOWN_AOSuche_Alle,MATCH(ROWS($D$3:D420),DROPDOWN_AOSuche_Helper2,0)),\"\")","v":""},"Kdo Op","Kdo MP","Ei Kdo MP FS","MP Kripo Det"]
[null,"Geb Inf Kp 91/1",0,{"$f":"IF(C421=1,COUNTIF($C$3:C421,1),\"\")","v":""},{"$f":"IFERROR(INDEX(DROPDOWN_AOSuche_Alle,MATCH(ROWS($D$3:D421),DROPDOWN_AOSuche_Helper2,0)),\"\")","v":""},"Kdo Op","Kdo MP","Ei Kdo MP FS","MP Schutzdet"]
[null,"Geb Inf Kp 91/2",0,{"$f":"IF(C422=1,COUNTIF($C$3:C422,1),\"\")","v":""},{"$f":"IFERROR(INDEX(DROPDOWN_AOSuche_Alle,MATCH(ROWS($D$3:D422),DROPDOWN_AOSuche_Helper2,0)),\"\")","v":""},"Kdo Op","Kdo MP","MP Ber Kp 104"]
[null,"Geb Inf Kp 91/3",0,{"$f":"IF(C423=1,COUNTIF($C$3:C423,1),\"\")","v":""},{"$f":"IFERROR(INDEX(DROPDOWN_AOSuche_Alle,MATCH(ROWS($D$3:D423),DROPDOWN_AOSuche_Helper2,0)),\"\")","v":""},"Kdo Op","Kdo MP","MP Ber Kp 204"]
[null,"Geb Inf Stabskp 29",0,{"$f":"IF(C424=1,COUNTIF($C$3:C424,1),\"\")","v":""},{"$f":"IFERROR(INDEX(DROPDOWN_AOSuche_Alle,MATCH(ROWS($D$3:D424),DROPDOWN_AOSuche_Helper2,0)),\"\")","v":""},"Kdo Op","Kdo MP","Komp Zen MP"]
[null,"Geb Inf Stabskp 30",0,{"$f":"IF(C425=1,COUNTIF($C$3:C425,1),\"\")","v":""},{"$f":"IFERROR(INDEX(DROPDOWN_AOSuche_Alle,MATCH(ROWS($D$3:D425),DROPDOWN_AOSuche_Helper2,0)),\"\")","v":""},"Kdo Op","Kdo MP","Komp Zen MP","Stab Komp Zen MP"]
[null,"Geb Inf Stabskp 48",0,{"$f":"IF(C426=1,COUNTIF($C$3:C426,1),\"\")","v":""},{"$f":"IFERROR(INDEX(DROPDOWN_AOSuche_Alle,MATCH(ROWS($D$3:D426),DROPDOWN_AOSuche_Helper2,0)),\"\")","v":""},"Kdo Op","Kdo MP","Komp Zen MP","Betr Det Komp Zen MP"]
[null,"Geb Inf Stabskp 7",0,{"$f":"IF(C427=1,COUNTIF($C$3:C427,1),\"\")","v":""},{"$f":"IFERROR(INDEX(DROPDOWN_AOSuche_Alle,MATCH(ROWS($D$3:D427),DROPDOWN_AOSuche_Helper2,0)),\"\")","v":""},"Kdo Op","Kdo MP","Komp Zen MP","TLG A MP"]
[null,"Geb Inf Stabskp 85",0,{"$f":"IF(C428=1,COUNTIF($C$3:C428,1),\"\")","v":""},{"$f":"IFERROR(INDEX(DROPDOWN_AOSuche_Alle,MATCH(ROWS($D$3:D428),DROPDOWN_AOSuche_Helper2,0)),\"\")","v":""},"Kdo Op","Kdo MP","MP Bat 1"]
[null,"Geb Inf Stabskp 91",0,{"$f":"IF(C429=1,COUNTIF($C$3:C429,1),\"\")","v":""},{"$f":"IFERROR(INDEX(DROPDOWN_AOSuche_Alle,MATCH(ROWS($D$3:D429),DROPDOWN_AOSuche_Helper2,0)),\"\")","v":""},"Kdo Op","Kdo MP","MP Bat 1","Stab MP Bat 1"]
[null,"Geb Inf Ustü Kp 29/4",0,{"$f":"IF(C430=1,COUNTIF($C$3:C430,1),\"\")","v":""},{"$f":"IFERROR(INDEX(DROPDOWN_AOSuche_Alle,MATCH(ROWS($D$3:D430),DROPDOWN_AOSuche_Helper2,0)),\"\")","v":""},"Kdo Op","Kdo MP","MP Bat 1","MP Stabskp 1"]
[null,"Geb Inf Ustü Kp 30/4",0,{"$f":"IF(C431=1,COUNTIF($C$3:C431,1),\"\")","v":""},{"$f":"IFERROR(INDEX(DROPDOWN_AOSuche_Alle,MATCH(ROWS($D$3:D431),DROPDOWN_AOSuche_Helper2,0)),\"\")","v":""},"Kdo Op","Kdo MP","MP Bat 1","MP Gren Kp 1/1"]
[null,"Geb Inf Ustü Kp 48/4",0,{"$f":"IF(C432=1,COUNTIF($C$3:C432,1),\"\")","v":""},{"$f":"IFERROR(INDEX(DROPDOWN_AOSuche_Alle,MATCH(ROWS($D$3:D432),DROPDOWN_AOSuche_Helper2,0)),\"\")","v":""},"Kdo Op","Kdo MP","MP Bat 1","MP Kp 1/2"]
[null,"Geb Inf Ustü Kp 7/4",0,{"$f":"IF(C433=1,COUNTIF($C$3:C433,1),\"\")","v":""},{"$f":"IFERROR(INDEX(DROPDOWN_AOSuche_Alle,MATCH(ROWS($D$3:D433),DROPDOWN_AOSuche_Helper2,0)),\"\")","v":""},"Kdo Op","Kdo MP","MP Bat 1","MP Kp 1/3"]
[null,"Geb Inf Ustü Kp 85/4",0,{"$f":"IF(C434=1,COUNTIF($C$3:C434,1),\"\")","v":""},{"$f":"IFERROR(INDEX(DROPDOWN_AOSuche_Alle,MATCH(ROWS($D$3:D434),DROPDOWN_AOSuche_Helper2,0)),\"\")","v":""},"Kdo Op","Kdo MP","MP Bat 2"]
[null,"Geb Inf Ustü Kp 91/4",0,{"$f":"IF(C435=1,COUNTIF($C$3:C435,1),\"\")","v":""},{"$f":"IFERROR(INDEX(DROPDOWN_AOSuche_Alle,MATCH(ROWS($D$3:D435),DROPDOWN_AOSuche_Helper2,0)),\"\")","v":""},"Kdo Op","Kdo MP","MP Bat 2","Stab MP Bat 2"]
[null,"Geb S Bat 6",0,{"$f":"IF(C436=1,COUNTIF($C$3:C436,1),\"\")","v":""},{"$f":"IFERROR(INDEX(DROPDOWN_AOSuche_Alle,MATCH(ROWS($D$3:D436),DROPDOWN_AOSuche_Helper2,0)),\"\")","v":""},"Kdo Op","Kdo MP","MP Bat 2","MP Stabskp 2"]
[null,"Geb S Kp 6/1",0,{"$f":"IF(C437=1,COUNTIF($C$3:C437,1),\"\")","v":""},{"$f":"IFERROR(INDEX(DROPDOWN_AOSuche_Alle,MATCH(ROWS($D$3:D437),DROPDOWN_AOSuche_Helper2,0)),\"\")","v":""},"Kdo Op","Kdo MP","MP Bat 2","MP Gren Kp 2/1"]
[null,"Geb S Kp 6/2",0,{"$f":"IF(C438=1,COUNTIF($C$3:C438,1),\"\")","v":""},{"$f":"IFERROR(INDEX(DROPDOWN_AOSuche_Alle,MATCH(ROWS($D$3:D438),DROPDOWN_AOSuche_Helper2,0)),\"\")","v":""},"Kdo Op","Kdo MP","MP Bat 2","MP Kp 2/2"]
[null,"Geb S Kp 6/3",0,{"$f":"IF(C439=1,COUNTIF($C$3:C439,1),\"\")","v":""},{"$f":"IFERROR(INDEX(DROPDOWN_AOSuche_Alle,MATCH(ROWS($D$3:D439),DROPDOWN_AOSuche_Helper2,0)),\"\")","v":""},"Kdo Op","Kdo MP","MP Bat 2","MP Kp 2/3"]
[null,"Geb S Stabskp 6",0,{"$f":"IF(C440=1,COUNTIF($C$3:C440,1),\"\")","v":""},{"$f":"IFERROR(INDEX(DROPDOWN_AOSuche_Alle,MATCH(ROWS($D$3:D440),DROPDOWN_AOSuche_Helper2,0)),\"\")","v":""},"Kdo Op","Kdo MP","MP Bat 3"]
[null,"Geb S Ustü Kp 6/4",0,{"$f":"IF(C441=1,COUNTIF($C$3:C441,1),\"\")","v":""},{"$f":"IFERROR(INDEX(DROPDOWN_AOSuche_Alle,MATCH(ROWS($D$3:D441),DROPDOWN_AOSuche_Helper2,0)),\"\")","v":""},"Kdo Op","Kdo MP","MP Bat 3","Stab MP Bat 3"]
[null,"Geb Spez Abt 1",0,{"$f":"IF(C442=1,COUNTIF($C$3:C442,1),\"\")","v":""},{"$f":"IFERROR(INDEX(DROPDOWN_AOSuche_Alle,MATCH(ROWS($D$3:D442),DROPDOWN_AOSuche_Helper2,0)),\"\")","v":""},"Kdo Op","Kdo MP","MP Bat 3","MP Stabskp 3"]
[null,"Geb Spez Ber Det 104",0,{"$f":"IF(C443=1,COUNTIF($C$3:C443,1),\"\")","v":""},{"$f":"IFERROR(INDEX(DROPDOWN_AOSuche_Alle,MATCH(ROWS($D$3:D443),DROPDOWN_AOSuche_Helper2,0)),\"\")","v":""},"Kdo Op","Kdo MP","MP Bat 3","MP Gren Kp 3/1"]
[null,"Geb Spez Ber Det 204",0,{"$f":"IF(C444=1,COUNTIF($C$3:C444,1),\"\")","v":""},{"$f":"IFERROR(INDEX(DROPDOWN_AOSuche_Alle,MATCH(ROWS($D$3:D444),DROPDOWN_AOSuche_Helper2,0)),\"\")","v":""},"Kdo Op","Kdo MP","MP Bat 3","MP Kp 3/2"]
[null,"Geb Spez Kp 1/1",0,{"$f":"IF(C445=1,COUNTIF($C$3:C445,1),\"\")","v":""},{"$f":"IFERROR(INDEX(DROPDOWN_AOSuche_Alle,MATCH(ROWS($D$3:D445),DROPDOWN_AOSuche_Helper2,0)),\"\")","v":""},"Kdo Op","Kdo MP","MP Bat 3","MP Kp 3/3"]
[null,"Geb Spez Kp 1/2",0,{"$f":"IF(C446=1,COUNTIF($C$3:C446,1),\"\")","v":""},{"$f":"IFERROR(INDEX(DROPDOWN_AOSuche_Alle,MATCH(ROWS($D$3:D446),DROPDOWN_AOSuche_Helper2,0)),\"\")","v":""},"Kdo Op","Kdo MP","MP Bat 4"]
[null,"Geb Spez RS 15-1",0,{"$f":"IF(C447=1,COUNTIF($C$3:C447,1),\"\")","v":""},{"$f":"IFERROR(INDEX(DROPDOWN_AOSuche_Alle,MATCH(ROWS($D$3:D447),DROPDOWN_AOSuche_Helper2,0)),\"\")","v":""},"Kdo Op","Kdo MP","MP Bat 4","Stab MP Bat 4"]
[null,"Geb Spez RS 15-2",0,{"$f":"IF(C448=1,COUNTIF($C$3:C448,1),\"\")","v":""},{"$f":"IFERROR(INDEX(DROPDOWN_AOSuche_Alle,MATCH(ROWS($D$3:D448),DROPDOWN_AOSuche_Helper2,0)),\"\")","v":""},"Kdo Op","Kdo MP","MP Bat 4","MP Stabskp 4"]
[null,"Geb Spez RS Kp 15/1",0,{"$f":"IF(C449=1,COUNTIF($C$3:C449,1),\"\")","v":""},{"$f":"IFERROR(INDEX(DROPDOWN_AOSuche_Alle,MATCH(ROWS($D$3:D449),DROPDOWN_AOSuche_Helper2,0)),\"\")","v":""},"Kdo Op","Kdo MP","MP Bat 4","MP Gren Kp 4/1"]
[null,"Geb Spez RS Kp 15/2",0,{"$f":"IF(C450=1,COUNTIF($C$3:C450,1),\"\")","v":""},{"$f":"IFERROR(INDEX(DROPDOWN_AOSuche_Alle,MATCH(ROWS($D$3:D450),DROPDOWN_AOSuche_Helper2,0)),\"\")","v":""},"Kdo Op","Kdo MP","MP Bat 4","MP Kp 4/2"]
[null,"Geb Spez S 15",{"$f":"--ISNUMBER(IFERROR(SEARCH(AO_Search_Value,B451,1),\"\"))","v":0},{"$f":"IF(C451=1,COUNTIF($C$3:C451,1),\"\")","v":""},{"$f":"IFERROR(INDEX(DROPDOWN_AOSuche_Alle,MATCH(ROWS($D$3:D451),DROPDOWN_AOSuche_Helper2,0)),\"\")","v":""},"Kdo Op","Kdo MP","MP Bat 4","MP Kp 4/3"]
[null,"Geb Spez UOS 15-1",0,{"$f":"IF(C452=1,COUNTIF($C$3:C452,1),\"\")","v":""},{"$f":"IFERROR(INDEX(DROPDOWN_AOSuche_Alle,MATCH(ROWS($D$3:D452),DROPDOWN_AOSuche_Helper2,0)),\"\")","v":""},"Kdo Op","LW"]
[null,"Geb Spez UOS 15-2",0,{"$f":"IF(C453=1,COUNTIF($C$3:C453,1),\"\")","v":""},{"$f":"IFERROR(INDEX(DROPDOWN_AOSuche_Alle,MATCH(ROWS($D$3:D453),DROPDOWN_AOSuche_Helper2,0)),\"\")","v":""},"Kdo Op","LW","LW Stab"]
[null,"Geb Spez UOS Kl 15/1",0,{"$f":"IF(C454=1,COUNTIF($C$3:C454,1),\"\")","v":""},{"$f":"IFERROR(INDEX(DROPDOWN_AOSuche_Alle,MATCH(ROWS($D$3:D454),DROPDOWN_AOSuche_Helper2,0)),\"\")","v":""},"Kdo Op","LW","LW Stab","EinfK Mob Kader LW"]
[null,"Geb Spez UOS Kl 15/2",0,{"$f":"IF(C455=1,COUNTIF($C$3:C455,1),\"\")","v":""},{"$f":"IFERROR(INDEX(DROPDOWN_AOSuche_Alle,MATCH(ROWS($D$3:D455),DROPDOWN_AOSuche_Helper2,0)),\"\")","v":""},"Kdo Op","LW","LW Stabskp"]
[null,"Gren ad hoc Kp",0,{"$f":"IF(C456=1,COUNTIF($C$3:C456,1),\"\")","v":""},{"$f":"IFERROR(INDEX(DROPDOWN_AOSuche_Alle,MATCH(ROWS($D$3:D456),DROPDOWN_AOSuche_Helper2,0)),\"\")","v":""},"Kdo Op","LW","Fachstab LW"]
[null,"Gren Aufkl Kp 20/4",0,{"$f":"IF(C457=1,COUNTIF($C$3:C457,1),\"\")","v":""},{"$f":"IFERROR(INDEX(DROPDOWN_AOSuche_Alle,MATCH(ROWS($D$3:D457),DROPDOWN_AOSuche_Helper2,0)),\"\")","v":""},"Kdo Op","LW","Ing Stab LW"]
[null,"Gren Aufkl Kp 30/4",0,{"$f":"IF(C458=1,COUNTIF($C$3:C458,1),\"\")","v":""},{"$f":"IFERROR(INDEX(DROPDOWN_AOSuche_Alle,MATCH(ROWS($D$3:D458),DROPDOWN_AOSuche_Helper2,0)),\"\")","v":""},"Kdo Op","LW","Fachstab Flusi"]
[null,"Gren Bat 20",0,{"$f":"IF(C459=1,COUNTIF($C$3:C459,1),\"\")","v":""},{"$f":"IFERROR(INDEX(DROPDOWN_AOSuche_Alle,MATCH(ROWS($D$3:D459),DROPDOWN_AOSuche_Helper2,0)),\"\")","v":""},"Kdo Op","LW","Fachstab Ih"]
[null,"Gren Bat 30",0,{"$f":"IF(C460=1,COUNTIF($C$3:C460,1),\"\")","v":""},{"$f":"IFERROR(INDEX(DROPDOWN_AOSuche_Alle,MATCH(ROWS($D$3:D460),DROPDOWN_AOSuche_Helper2,0)),\"\")","v":""},"Kdo Op","LW","Fachstab Wetter"]
[null,"Gren Kp 20/1",0,{"$f":"IF(C461=1,COUNTIF($C$3:C461,1),\"\")","v":""},{"$f":"IFERROR(INDEX(DROPDOWN_AOSuche_Alle,MATCH(ROWS($D$3:D461),DROPDOWN_AOSuche_Helper2,0)),\"\")","v":""},"Kdo Op","LW","Op Zen LW"]
[null,"Gren Kp 20/2",0,{"$f":"IF(C462=1,COUNTIF($C$3:C462,1),\"\")","v":""},{"$f":"IFERROR(INDEX(DROPDOWN_AOSuche_Alle,MATCH(ROWS($D$3:D462),DROPDOWN_AOSuche_Helper2,0)),\"\")","v":""},"Kdo Op","LW","Op Zen LW","Stab Op Zen LW"]
[null,"Gren Kp 20/3",0,{"$f":"IF(C463=1,COUNTIF($C$3:C463,1),\"\")","v":""},{"$f":"IFERROR(INDEX(DROPDOWN_AOSuche_Alle,MATCH(ROWS($D$3:D463),DROPDOWN_AOSuche_Helper2,0)),\"\")","v":""},"Kdo Op","LW","Op Zen LW","LT Geschw 4"]
[null,"Gren Kp 30/1",0,{"$f":"IF(C464=1,COUNTIF($C$3:C464,1),\"\")","v":""},{"$f":"IFERROR(INDEX(DROPDOWN_AOSuche_Alle,MATCH(ROWS($D$3:D464),DROPDOWN_AOSuche_Helper2,0)),\"\")","v":""},"Kdo Op","LW","Op Zen LW","LT Geschw 4","Stab LT Geschw 4"]
[null,"Gren Kp 30/2",0,{"$f":"IF(C465=1,COUNTIF($C$3:C465,1),\"\")","v":""},{"$f":"IFERROR(INDEX(DROPDOWN_AOSuche_Alle,MATCH(ROWS($D$3:D465),DROPDOWN_AOSuche_Helper2,0)),\"\")","v":""},"Kdo Op","LW","Op Zen LW","LT Geschw 4","LT St 2"]
[null,"Gren Kp 30/3",0,{"$f":"IF(C466=1,COUNTIF($C$3:C466,1),\"\")","v":""},{"$f":"IFERROR(INDEX(DROPDOWN_AOSuche_Alle,MATCH(ROWS($D$3:D466),DROPDOWN_AOSuche_Helper2,0)),\"\")","v":""},"Kdo Op","LW","Flpl Kdo 2"]
[null,"Gren OS 1-1",0,{"$f":"IF(C467=1,COUNTIF($C$3:C467,1),\"\")","v":""},{"$f":"IFERROR(INDEX(DROPDOWN_AOSuche_Alle,MATCH(ROWS($D$3:D467),DROPDOWN_AOSuche_Helper2,0)),\"\")","v":""},"Kdo Op","LW","Flpl Kdo 2","Stab Flpl Kdo 2"]
[null,"Gren RS 1",0,{"$f":"IF(C468=1,COUNTIF($C$3:C468,1),\"\")","v":""},{"$f":"IFERROR(INDEX(DROPDOWN_AOSuche_Alle,MATCH(ROWS($D$3:D468),DROPDOWN_AOSuche_Helper2,0)),\"\")","v":""},"Kdo Op","LW","Flpl Kdo 2","LT Geschw 2"]
[null,"Gren RS 1-1",0,{"$f":"IF(C469=1,COUNTIF($C$3:C469,1),\"\")","v":""},{"$f":"IFERROR(INDEX(DROPDOWN_AOSuche_Alle,MATCH(ROWS($D$3:D469),DROPDOWN_AOSuche_Helper2,0)),\"\")","v":""},"Kdo Op","LW","Flpl Kdo 2","LT Geschw 2","Stab LT Geschw 2"]
[null,"Gren RS 1-2",0,{"$f":"IF(C470=1,COUNTIF($C$3:C470,1),\"\")","v":""},{"$f":"IFERROR(INDEX(DROPDOWN_AOSuche_Alle,MATCH(ROWS($D$3:D470),DROPDOWN_AOSuche_Helper2,0)),\"\")","v":""},"Kdo Op","LW","Flpl Kdo 2","LT Geschw 2","LT St 6"]
[null,"Gren RS 2",0,{"$f":"IF(C471=1,COUNTIF($C$3:C471,1),\"\")","v":""},{"$f":"IFERROR(INDEX(DROPDOWN_AOSuche_Alle,MATCH(ROWS($D$3:D471),DROPDOWN_AOSuche_Helper2,0)),\"\")","v":""},"Kdo Op","LW","Flpl Kdo 2","LT Geschw 2","LT St 8"]
[null,"Gren RS Kp 1-1/1",0,{"$f":"IF(C472=1,COUNTIF($C$3:C472,1),\"\")","v":""},{"$f":"IFERROR(INDEX(DROPDOWN_AOSuche_Alle,MATCH(ROWS($D$3:D472),DROPDOWN_AOSuche_Helper2,0)),\"\")","v":""},"Kdo Op","LW","Flpl Kdo 2","LT Geschw 2","LT Kp 2"]
[null,"Gren RS Kp 1-2/1",0,{"$f":"IF(C473=1,COUNTIF($C$3:C473,1),\"\")","v":""},{"$f":"IFERROR(INDEX(DROPDOWN_AOSuche_Alle,MATCH(ROWS($D$3:D473),DROPDOWN_AOSuche_Helper2,0)),\"\")","v":""},"Kdo Op","LW","Flpl Kdo 2","LT Abt 2"]
[null,"Gren Stabskp 20",0,{"$f":"IF(C474=1,COUNTIF($C$3:C474,1),\"\")","v":""},{"$f":"IFERROR(INDEX(DROPDOWN_AOSuche_Alle,MATCH(ROWS($D$3:D474),DROPDOWN_AOSuche_Helper2,0)),\"\")","v":""},"Kdo Op","LW","Flpl Kdo 2","LT Abt 2","Stab LT Abt 2"]
[null,"Gren Stabskp 30",0,{"$f":"IF(C475=1,COUNTIF($C$3:C475,1),\"\")","v":""},{"$f":"IFERROR(INDEX(DROPDOWN_AOSuche_Alle,MATCH(ROWS($D$3:D475),DROPDOWN_AOSuche_Helper2,0)),\"\")","v":""},"Kdo Op","LW","Flpl Kdo 2","LT Abt 2","LT Sup Kp 2"]
[null,"Gren UOS 1-1",0,{"$f":"IF(C476=1,COUNTIF($C$3:C476,1),\"\")","v":""},{"$f":"IFERROR(INDEX(DROPDOWN_AOSuche_Alle,MATCH(ROWS($D$3:D476),DROPDOWN_AOSuche_Helper2,0)),\"\")","v":""},"Kdo Op","LW","Flpl Kdo 2","LT Abt 2","LT Log Kp 2"]
[null,"Gren UOS 1-2",0,{"$f":"IF(C477=1,COUNTIF($C$3:C477,1),\"\")","v":""},{"$f":"IFERROR(INDEX(DROPDOWN_AOSuche_Alle,MATCH(ROWS($D$3:D477),DROPDOWN_AOSuche_Helper2,0)),\"\")","v":""},"Kdo Op","LW","Flpl Kdo 2","LT Abt 2","LT Ustü Kp 2"]
[null,"Gren Ustü Kp 20/5",0,{"$f":"IF(C478=1,COUNTIF($C$3:C478,1),\"\")","v":""},{"$f":"IFERROR(INDEX(DROPDOWN_AOSuche_Alle,MATCH(ROWS($D$3:D478),DROPDOWN_AOSuche_Helper2,0)),\"\")","v":""},"Kdo Op","LW","Flpl Kdo 2","LT Si Kp 2"]
[null,"Gren/Fsch Aufkl OS 1-2",0,{"$f":"IF(C479=1,COUNTIF($C$3:C479,1),\"\")","v":""},{"$f":"IFERROR(INDEX(DROPDOWN_AOSuche_Alle,MATCH(ROWS($D$3:D479),DROPDOWN_AOSuche_Helper2,0)),\"\")","v":""},"Kdo Op","LW","Flpl Kdo 2","LT Geschw 3"]
[null,"Gren/Fsch Aufkl UOS 1-2",0,{"$f":"IF(C480=1,COUNTIF($C$3:C480,1),\"\")","v":""},{"$f":"IFERROR(INDEX(DROPDOWN_AOSuche_Alle,MATCH(ROWS($D$3:D480),DROPDOWN_AOSuche_Helper2,0)),\"\")","v":""},"Kdo Op","LW","Flpl Kdo 2","LT Geschw 3","Stab LT Geschw 3"]
[null,"HE",0,{"$f":"IF(C481=1,COUNTIF($C$3:C481,1),\"\")","v":""},{"$f":"IFERROR(INDEX(DROPDOWN_AOSuche_Alle,MATCH(ROWS($D$3:D481),DROPDOWN_AOSuche_Helper2,0)),\"\")","v":""},"Kdo Op","LW","Flpl Kdo 2","LT Geschw 3","LT St 3"]
[null,"HE Betr Kp 20/1",0,{"$f":"IF(C482=1,COUNTIF($C$3:C482,1),\"\")","v":""},{"$f":"IFERROR(INDEX(DROPDOWN_AOSuche_Alle,MATCH(ROWS($D$3:D482),DROPDOWN_AOSuche_Helper2,0)),\"\")","v":""},"Kdo Op","LW","Flpl Kdo 2","LT Geschw 3","LT St 4"]
[null,"HE Si Kp 20/3",0,{"$f":"IF(C483=1,COUNTIF($C$3:C483,1),\"\")","v":""},{"$f":"IFERROR(INDEX(DROPDOWN_AOSuche_Alle,MATCH(ROWS($D$3:D483),DROPDOWN_AOSuche_Helper2,0)),\"\")","v":""},"Kdo Op","LW","Flpl Kdo 2","LT Geschw 3","LT Kp 3"]
[null,"HE Stab",0,{"$f":"IF(C484=1,COUNTIF($C$3:C484,1),\"\")","v":""},{"$f":"IFERROR(INDEX(DROPDOWN_AOSuche_Alle,MATCH(ROWS($D$3:D484),DROPDOWN_AOSuche_Helper2,0)),\"\")","v":""},"Kdo Op","LW","Flpl Kdo 2","LT Abt 3"]
[null,"HE Stabsbat 20",0,{"$f":"IF(C485=1,COUNTIF($C$3:C485,1),\"\")","v":""},{"$f":"IFERROR(INDEX(DROPDOWN_AOSuche_Alle,MATCH(ROWS($D$3:D485),DROPDOWN_AOSuche_Helper2,0)),\"\")","v":""},"Kdo Op","LW","Flpl Kdo 2","LT Abt 3","Stab LT Abt 3"]
[null,"HE Stabskp 20",0,{"$f":"IF(C486=1,COUNTIF($C$3:C486,1),\"\")","v":""},{"$f":"IFERROR(INDEX(DROPDOWN_AOSuche_Alle,MATCH(ROWS($D$3:D486),DROPDOWN_AOSuche_Helper2,0)),\"\")","v":""},"Kdo Op","LW","Flpl Kdo 2","LT Abt 3","LT Sup Kp 3"]
[null,"HE Uem Kp 20/2",0,{"$f":"IF(C487=1,COUNTIF($C$3:C487,1),\"\")","v":""},{"$f":"IFERROR(INDEX(DROPDOWN_AOSuche_Alle,MATCH(ROWS($D$3:D487),DROPDOWN_AOSuche_Helper2,0)),\"\")","v":""},"Kdo Op","LW","Flpl Kdo 2","LT Abt 3","LT Log Kp 3"]
[null,"HKA",0,{"$f":"IF(C488=1,COUNTIF($C$3:C488,1),\"\")","v":""},{"$f":"IFERROR(INDEX(DROPDOWN_AOSuche_Alle,MATCH(ROWS($D$3:D488),DROPDOWN_AOSuche_Helper2,0)),\"\")","v":""},"Kdo Op","LW","Flpl Kdo 2","LT Abt 3","LT Ustü Kp 3"]
[null,"Höh Uof LG 49",0,{"$f":"IF(C489=1,COUNTIF($C$3:C489,1),\"\")","v":""},{"$f":"IFERROR(INDEX(DROPDOWN_AOSuche_Alle,MATCH(ROWS($D$3:D489),DROPDOWN_AOSuche_Helper2,0)),\"\")","v":""},"Kdo Op","LW","Flpl Kdo 2","LT Si Kp 3"]
[null,"Höh Uof LG 49-1",0,{"$f":"IF(C490=1,COUNTIF($C$3:C490,1),\"\")","v":""},{"$f":"IFERROR(INDEX(DROPDOWN_AOSuche_Alle,MATCH(ROWS($D$3:D490),DROPDOWN_AOSuche_Helper2,0)),\"\")","v":""},"Kdo Op","LW","Flpl Kdo 4"]
[null,"Höh Uof LG 49-2",0,{"$f":"IF(C491=1,COUNTIF($C$3:C491,1),\"\")","v":""},{"$f":"IFERROR(INDEX(DROPDOWN_AOSuche_Alle,MATCH(ROWS($D$3:D491),DROPDOWN_AOSuche_Helper2,0)),\"\")","v":""},"Kdo Op","LW","Flpl Kdo 4","Stab Flpl Kdo 4"]
[null,"Höh Uof LG 49-3",0,{"$f":"IF(C492=1,COUNTIF($C$3:C492,1),\"\")","v":""},{"$f":"IFERROR(INDEX(DROPDOWN_AOSuche_Alle,MATCH(ROWS($D$3:D492),DROPDOWN_AOSuche_Helper2,0)),\"\")","v":""},"Kdo Op","LW","Flpl Kdo 4","LT St 7"]
[null,"Höh Uof LG 49-4",0,{"$f":"IF(C493=1,COUNTIF($C$3:C493,1),\"\")","v":""},{"$f":"IFERROR(INDEX(DROPDOWN_AOSuche_Alle,MATCH(ROWS($D$3:D493),DROPDOWN_AOSuche_Helper2,0)),\"\")","v":""},"Kdo Op","LW","Flpl Kdo 7"]
[null,"HQ A Ber Det 104",0,{"$f":"IF(C494=1,COUNTIF($C$3:C494,1),\"\")","v":""},{"$f":"IFERROR(INDEX(DROPDOWN_AOSuche_Alle,MATCH(ROWS($D$3:D494),DROPDOWN_AOSuche_Helper2,0)),\"\")","v":""},"Kdo Op","LW","Flpl Kdo 7","Stab Flpl Kdo 7"]
[null,"HQ A Ber Det 204",0,{"$f":"IF(C495=1,COUNTIF($C$3:C495,1),\"\")","v":""},{"$f":"IFERROR(INDEX(DROPDOWN_AOSuche_Alle,MATCH(ROWS($D$3:D495),DROPDOWN_AOSuche_Helper2,0)),\"\")","v":""},"Kdo Op","LW","Flpl Kdo 7","Zfl St 12"]
[null,"HQ Bat 11",0,{"$f":"IF(C496=1,COUNTIF($C$3:C496,1),\"\")","v":""},{"$f":"IFERROR(INDEX(DROPDOWN_AOSuche_Alle,MATCH(ROWS($D$3:D496),DROPDOWN_AOSuche_Helper2,0)),\"\")","v":""},"Kdo Op","LW","Flpl Kdo 7","Flpl Si Kp 7"]
[null,"HQ Bat 22",0,{"$f":"IF(C497=1,COUNTIF($C$3:C497,1),\"\")","v":""},{"$f":"IFERROR(INDEX(DROPDOWN_AOSuche_Alle,MATCH(ROWS($D$3:D497),DROPDOWN_AOSuche_Helper2,0)),\"\")","v":""},"Kdo Op","LW","Flpl Kdo 11"]
[null,"HQ Bat 25",0,{"$f":"IF(C498=1,COUNTIF($C$3:C498,1),\"\")","v":""},{"$f":"IFERROR(INDEX(DROPDOWN_AOSuche_Alle,MATCH(ROWS($D$3:D498),DROPDOWN_AOSuche_Helper2,0)),\"\")","v":""},"Kdo Op","LW","Flpl Kdo 11","Stab Flpl Kdo 11"]
[null,"HQ Betr Kp 11/1",0,{"$f":"IF(C499=1,COUNTIF($C$3:C499,1),\"\")","v":""},{"$f":"IFERROR(INDEX(DROPDOWN_AOSuche_Alle,MATCH(ROWS($D$3:D499),DROPDOWN_AOSuche_Helper2,0)),\"\")","v":""},"Kdo Op","LW","Flpl Kdo 11","Fl Geschw 11"]
[null,"HQ Betr Kp 22/1",0,{"$f":"IF(C500=1,COUNTIF($C$3:C500,1),\"\")","v":""},{"$f":"IFERROR(INDEX(DROPDOWN_AOSuche_Alle,MATCH(ROWS($D$3:D500),DROPDOWN_AOSuche_Helper2,0)),\"\")","v":""},"Kdo Op","LW","Flpl Kdo 11","Fl Geschw 11","Stab Fl Geschw 11"]
[null,"HQ Betr Kp 25/1",0,{"$f":"IF(C501=1,COUNTIF($C$3:C501,1),\"\")","v":""},{"$f":"IFERROR(INDEX(DROPDOWN_AOSuche_Alle,MATCH(ROWS($D$3:D501),DROPDOWN_AOSuche_Helper2,0)),\"\")","v":""},"Kdo Op","LW","Flpl Kdo 11","Fl Geschw 11","Fl St 6"]
[null,"HQ Betr Kp 25/2",0,{"$f":"IF(C502=1,COUNTIF($C$3:C502,1),\"\")","v":""},{"$f":"IFERROR(INDEX(DROPDOWN_AOSuche_Alle,MATCH(ROWS($D$3:D502),DROPDOWN_AOSuche_Helper2,0)),\"\")","v":""},"Kdo Op","LW","Flpl Kdo 11","Fl Geschw 11","Fl St 17"]
[null,"HQ Betr Kp 25/3",0,{"$f":"IF(C503=1,COUNTIF($C$3:C503,1),\"\")","v":""},{"$f":"IFERROR(INDEX(DROPDOWN_AOSuche_Alle,MATCH(ROWS($D$3:D503),DROPDOWN_AOSuche_Helper2,0)),\"\")","v":""},"Kdo Op","LW","Flpl Kdo 11","Fl Geschw 11","Fl Kp 11"]
[null,"HQ IKT Kp 11/4",0,{"$f":"IF(C504=1,COUNTIF($C$3:C504,1),\"\")","v":""},{"$f":"IFERROR(INDEX(DROPDOWN_AOSuche_Alle,MATCH(ROWS($D$3:D504),DROPDOWN_AOSuche_Helper2,0)),\"\")","v":""},"Kdo Op","LW","Flpl Kdo 11","Flpl Abt 11"]
[null,"HQ IKT Kp 22/4",0,{"$f":"IF(C505=1,COUNTIF($C$3:C505,1),\"\")","v":""},{"$f":"IFERROR(INDEX(DROPDOWN_AOSuche_Alle,MATCH(ROWS($D$3:D505),DROPDOWN_AOSuche_Helper2,0)),\"\")","v":""},"Kdo Op","LW","Flpl Kdo 11","Flpl Abt 11","Stab Flpl Abt 11"]
[null,"HQ IKT Kp 25/5",0,{"$f":"IF(C506=1,COUNTIF($C$3:C506,1),\"\")","v":""},{"$f":"IFERROR(INDEX(DROPDOWN_AOSuche_Alle,MATCH(ROWS($D$3:D506),DROPDOWN_AOSuche_Helper2,0)),\"\")","v":""},"Kdo Op","LW","Flpl Kdo 11","Flpl Abt 11","Flpl Stabskp 11"]
[null,"HQ Sich Kp 11/2",0,{"$f":"IF(C507=1,COUNTIF($C$3:C507,1),\"\")","v":""},{"$f":"IFERROR(INDEX(DROPDOWN_AOSuche_Alle,MATCH(ROWS($D$3:D507),DROPDOWN_AOSuche_Helper2,0)),\"\")","v":""},"Kdo Op","LW","Flpl Kdo 11","Flpl Abt 11","Flz Ih Kp 11"]
[null,"HQ Sich Kp 22/2",0,{"$f":"IF(C508=1,COUNTIF($C$3:C508,1),\"\")","v":""},{"$f":"IFERROR(INDEX(DROPDOWN_AOSuche_Alle,MATCH(ROWS($D$3:D508),DROPDOWN_AOSuche_Helper2,0)),\"\")","v":""},"Kdo Op","LW","Flpl Kdo 11","Flpl Abt 11","Flpl Log Kp 11"]
[null,"HQ Trsp Kp 11/3",0,{"$f":"IF(C509=1,COUNTIF($C$3:C509,1),\"\")","v":""},{"$f":"IFERROR(INDEX(DROPDOWN_AOSuche_Alle,MATCH(ROWS($D$3:D509),DROPDOWN_AOSuche_Helper2,0)),\"\")","v":""},"Kdo Op","LW","Flpl Kdo 11","Flpl Si Kp 11"]
[null,"HQ Trsp Kp 22/3",0,{"$f":"IF(C510=1,COUNTIF($C$3:C510,1),\"\")","v":""},{"$f":"IFERROR(INDEX(DROPDOWN_AOSuche_Alle,MATCH(ROWS($D$3:D510),DROPDOWN_AOSuche_Helper2,0)),\"\")","v":""},"Kdo Op","LW","Flpl Kdo 11","Fl Geschw 14"]
[null,"HQ Trsp Kp 25/4",0,{"$f":"IF(C511=1,COUNTIF($C$3:C511,1),\"\")","v":""},{"$f":"IFERROR(INDEX(DROPDOWN_AOSuche_Alle,MATCH(ROWS($D$3:D511),DROPDOWN_AOSuche_Helper2,0)),\"\")","v":""},"Kdo Op","LW","Flpl Kdo 11","Fl Geschw 14","Stab Fl Geschw 14"]
[null,"Hundefhr Kp 13/5",0,{"$f":"IF(C512=1,COUNTIF($C$3:C512,1),\"\")","v":""},{"$f":"IFERROR(INDEX(DROPDOWN_AOSuche_Alle,MATCH(ROWS($D$3:D512),DROPDOWN_AOSuche_Helper2,0)),\"\")","v":""},"Kdo Op","LW","Flpl Kdo 11","Fl Geschw 14","Fl St 18"]
[null,"Ifl St 14",0,{"$f":"IF(C513=1,COUNTIF($C$3:C513,1),\"\")","v":""},{"$f":"IFERROR(INDEX(DROPDOWN_AOSuche_Alle,MATCH(ROWS($D$3:D513),DROPDOWN_AOSuche_Helper2,0)),\"\")","v":""},"Kdo Op","LW","Flpl Kdo 11","Fl Geschw 14","Fl St 19"]
[null,"Ih RS 43-1",0,{"$f":"IF(C514=1,COUNTIF($C$3:C514,1),\"\")","v":""},{"$f":"IFERROR(INDEX(DROPDOWN_AOSuche_Alle,MATCH(ROWS($D$3:D514),DROPDOWN_AOSuche_Helper2,0)),\"\")","v":""},"Kdo Op","LW","Flpl Kdo 11","Fl Geschw 14","Fl Kp 14"]
[null,"Ih RS 43-2",{"$f":"--ISNUMBER(IFERROR(SEARCH(AO_Search_Value,B515,1),\"\"))","v":0},{"$f":"IF(C515=1,COUNTIF($C$3:C515,1),\"\")","v":""},{"$f":"IFERROR(INDEX(DROPDOWN_AOSuche_Alle,MATCH(ROWS($D$3:D515),DROPDOWN_AOSuche_Helper2,0)),\"\")","v":""},"Kdo Op","LW","Flpl Kdo 11","Flpl Abt 14"]
[null,"Ih RS 50-1",0,{"$f":"IF(C516=1,COUNTIF($C$3:C516,1),\"\")","v":""},{"$f":"IFERROR(INDEX(DROPDOWN_AOSuche_Alle,MATCH(ROWS($D$3:D516),DROPDOWN_AOSuche_Helper2,0)),\"\")","v":""},"Kdo Op","LW","Flpl Kdo 11","Flpl Abt 14","Stab Flpl Abt 14"]
[null,"Ih RS 50-2",0,{"$f":"IF(C517=1,COUNTIF($C$3:C517,1),\"\")","v":""},{"$f":"IFERROR(INDEX(DROPDOWN_AOSuche_Alle,MATCH(ROWS($D$3:D517),DROPDOWN_AOSuche_Helper2,0)),\"\")","v":""},"Kdo Op","LW","Flpl Kdo 11","Flpl Abt 14","Flpl Stabskp 14"]
[null,"Ih RS 50-3",0,{"$f":"IF(C518=1,COUNTIF($C$3:C518,1),\"\")","v":""},{"$f":"IFERROR(INDEX(DROPDOWN_AOSuche_Alle,MATCH(ROWS($D$3:D518),DROPDOWN_AOSuche_Helper2,0)),\"\")","v":""},"Kdo Op","LW","Flpl Kdo 11","Flpl Abt 14","Flz Ih Kp 14"]
[null,"Ih RS Kp 43-1/1",0,{"$f":"IF(C519=1,COUNTIF($C$3:C519,1),\"\")","v":""},{"$f":"IFERROR(INDEX(DROPDOWN_AOSuche_Alle,MATCH(ROWS($D$3:D519),DROPDOWN_AOSuche_Helper2,0)),\"\")","v":""},"Kdo Op","LW","Flpl Kdo 11","Flpl Abt 14","Flpl Log Kp 14"]
[null,"Ih RS Kp 43-1/2",0,{"$f":"IF(C520=1,COUNTIF($C$3:C520,1),\"\")","v":""},{"$f":"IFERROR(INDEX(DROPDOWN_AOSuche_Alle,MATCH(ROWS($D$3:D520),DROPDOWN_AOSuche_Helper2,0)),\"\")","v":""},"Kdo Op","LW","Flpl Kdo 11","Flpl Si Kp 14"]
[null,"Ih RS Kp 43-1/3",0,{"$f":"IF(C521=1,COUNTIF($C$3:C521,1),\"\")","v":""},{"$f":"IFERROR(INDEX(DROPDOWN_AOSuche_Alle,MATCH(ROWS($D$3:D521),DROPDOWN_AOSuche_Helper2,0)),\"\")","v":""},"Kdo Op","LW","Flpl Kdo 11","LT Geschw 1"]
[null,"Ih RS Kp 43-1/4",0,{"$f":"IF(C522=1,COUNTIF($C$3:C522,1),\"\")","v":""},{"$f":"IFERROR(INDEX(DROPDOWN_AOSuche_Alle,MATCH(ROWS($D$3:D522),DROPDOWN_AOSuche_Helper2,0)),\"\")","v":""},"Kdo Op","LW","Flpl Kdo 11","LT Geschw 1","Stab LT Geschw 1"]
[null,"Ih RS Kp 43-2/1",0,{"$f":"IF(C523=1,COUNTIF($C$3:C523,1),\"\")","v":""},{"$f":"IFERROR(INDEX(DROPDOWN_AOSuche_Alle,MATCH(ROWS($D$3:D523),DROPDOWN_AOSuche_Helper2,0)),\"\")","v":""},"Kdo Op","LW","Flpl Kdo 11","LT Geschw 1","LT St 1"]
[null,"Ih RS Kp 43-2/2",0,{"$f":"IF(C524=1,COUNTIF($C$3:C524,1),\"\")","v":""},{"$f":"IFERROR(INDEX(DROPDOWN_AOSuche_Alle,MATCH(ROWS($D$3:D524),DROPDOWN_AOSuche_Helper2,0)),\"\")","v":""},"Kdo Op","LW","Flpl Kdo 11","LT Geschw 1","LT St 5"]
[null,"Ih RS Kp 43-2/3",0,{"$f":"IF(C525=1,COUNTIF($C$3:C525,1),\"\")","v":""},{"$f":"IFERROR(INDEX(DROPDOWN_AOSuche_Alle,MATCH(ROWS($D$3:D525),DROPDOWN_AOSuche_Helper2,0)),\"\")","v":""},"Kdo Op","LW","Flpl Kdo 11","LT Geschw 1","LT Kp 1"]
[null,"Ih RS Kp 43-2/4",0,{"$f":"IF(C526=1,COUNTIF($C$3:C526,1),\"\")","v":""},{"$f":"IFERROR(INDEX(DROPDOWN_AOSuche_Alle,MATCH(ROWS($D$3:D526),DROPDOWN_AOSuche_Helper2,0)),\"\")","v":""},"Kdo Op","LW","Flpl Kdo 11","LT Abt 1"]
[null,"Ih S 43",0,{"$f":"IF(C527=1,COUNTIF($C$3:C527,1),\"\")","v":""},{"$f":"IFERROR(INDEX(DROPDOWN_AOSuche_Alle,MATCH(ROWS($D$3:D527),DROPDOWN_AOSuche_Helper2,0)),\"\")","v":""},"Kdo Op","LW","Flpl Kdo 11","LT Abt 1","Stab LT Abt 1"]
[null,"Ih UOS 43-1",0,{"$f":"IF(C528=1,COUNTIF($C$3:C528,1),\"\")","v":""},{"$f":"IFERROR(INDEX(DROPDOWN_AOSuche_Alle,MATCH(ROWS($D$3:D528),DROPDOWN_AOSuche_Helper2,0)),\"\")","v":""},"Kdo Op","LW","Flpl Kdo 11","LT Abt 1","LT Sup Kp 1"]
[null,"Ih UOS 43-2",0,{"$f":"IF(C529=1,COUNTIF($C$3:C529,1),\"\")","v":""},{"$f":"IFERROR(INDEX(DROPDOWN_AOSuche_Alle,MATCH(ROWS($D$3:D529),DROPDOWN_AOSuche_Helper2,0)),\"\")","v":""},"Kdo Op","LW","Flpl Kdo 11","LT Abt 1","LT Log Kp 1"]
[null,"Ik Kp 41/1",0,{"$f":"IF(C530=1,COUNTIF($C$3:C530,1),\"\")","v":""},{"$f":"IFERROR(INDEX(DROPDOWN_AOSuche_Alle,MATCH(ROWS($D$3:D530),DROPDOWN_AOSuche_Helper2,0)),\"\")","v":""},"Kdo Op","LW","Flpl Kdo 11","LT Abt 1","LT Ustü Kp 1"]
[null,"Ik RS 61-1",0,{"$f":"IF(C531=1,COUNTIF($C$3:C531,1),\"\")","v":""},{"$f":"IFERROR(INDEX(DROPDOWN_AOSuche_Alle,MATCH(ROWS($D$3:D531),DROPDOWN_AOSuche_Helper2,0)),\"\")","v":""},"Kdo Op","LW","Flpl Kdo 11","LT Si Kp 1"]
[null,"Ik RS 61-2",0,{"$f":"IF(C532=1,COUNTIF($C$3:C532,1),\"\")","v":""},{"$f":"IFERROR(INDEX(DROPDOWN_AOSuche_Alle,MATCH(ROWS($D$3:D532),DROPDOWN_AOSuche_Helper2,0)),\"\")","v":""},"Kdo Op","LW","Flpl Kdo 13"]
[null,"Ik RS Kp 61-1/1",0,{"$f":"IF(C533=1,COUNTIF($C$3:C533,1),\"\")","v":""},{"$f":"IFERROR(INDEX(DROPDOWN_AOSuche_Alle,MATCH(ROWS($D$3:D533),DROPDOWN_AOSuche_Helper2,0)),\"\")","v":""},"Kdo Op","LW","Flpl Kdo 13","Stab Flpl Kdo 13"]
[null,"Ik RS Kp 61-1/2",0,{"$f":"IF(C534=1,COUNTIF($C$3:C534,1),\"\")","v":""},{"$f":"IFERROR(INDEX(DROPDOWN_AOSuche_Alle,MATCH(ROWS($D$3:D534),DROPDOWN_AOSuche_Helper2,0)),\"\")","v":""},"Kdo Op","LW","Flpl Kdo 13","Fl Geschw 13"]
[null,"Ik RS Kp 61-1/3",0,{"$f":"IF(C535=1,COUNTIF($C$3:C535,1),\"\")","v":""},{"$f":"IFERROR(INDEX(DROPDOWN_AOSuche_Alle,MATCH(ROWS($D$3:D535),DROPDOWN_AOSuche_Helper2,0)),\"\")","v":""},"Kdo Op","LW","Flpl Kdo 13","Fl Geschw 13","Stab Fl Geschw 13"]
[null,"Ik RS Kp 61-1/4",0,{"$f":"IF(C536=1,COUNTIF($C$3:C536,1),\"\")","v":""},{"$f":"IFERROR(INDEX(DROPDOWN_AOSuche_Alle,MATCH(ROWS($D$3:D536),DROPDOWN_AOSuche_Helper2,0)),\"\")","v":""},"Kdo Op","LW","Flpl Kdo 13","Fl Geschw 13","Fl St 8"]
[null,"Ik RS Kp 61-2/1",0,{"$f":"IF(C537=1,COUNTIF($C$3:C537,1),\"\")","v":""},{"$f":"IFERROR(INDEX(DROPDOWN_AOSuche_Alle,MATCH(ROWS($D$3:D537),DROPDOWN_AOSuche_Helper2,0)),\"\")","v":""},"Kdo Op","LW","Flpl Kdo 13","Fl Geschw 13","Fl St 11"]
[null,"Ik RS Kp 61-2/2",0,{"$f":"IF(C538=1,COUNTIF($C$3:C538,1),\"\")","v":""},{"$f":"IFERROR(INDEX(DROPDOWN_AOSuche_Alle,MATCH(ROWS($D$3:D538),DROPDOWN_AOSuche_Helper2,0)),\"\")","v":""},"Kdo Op","LW","Flpl Kdo 13","Fl Geschw 13","Fl Kp 13"]
[null,"Ik RS Kp 61-2/3",0,{"$f":"IF(C539=1,COUNTIF($C$3:C539,1),\"\")","v":""},{"$f":"IFERROR(INDEX(DROPDOWN_AOSuche_Alle,MATCH(ROWS($D$3:D539),DROPDOWN_AOSuche_Helper2,0)),\"\")","v":""},"Kdo Op","LW","Flpl Kdo 13","Flpl Abt 13"]
[null,"Ik RS Kp 61-2/4",0,{"$f":"IF(C540=1,COUNTIF($C$3:C540,1),\"\")","v":""},{"$f":"IFERROR(INDEX(DROPDOWN_AOSuche_Alle,MATCH(ROWS($D$3:D540),DROPDOWN_AOSuche_Helper2,0)),\"\")","v":""},"Kdo Op","LW","Flpl Kdo 13","Flpl Abt 13","Stab Flpl Abt 13"]
[null,"Ik RS VT Ausb 61-1",0,{"$f":"IF(C541=1,COUNTIF($C$3:C541,1),\"\")","v":""},{"$f":"IFERROR(INDEX(DROPDOWN_AOSuche_Alle,MATCH(ROWS($D$3:D541),DROPDOWN_AOSuche_Helper2,0)),\"\")","v":""},"Kdo Op","LW","Flpl Kdo 13","Flpl Abt 13","Flpl Stabskp 13"]
[null,"Ik RS VT Ausb 61-2",0,{"$f":"IF(C542=1,COUNTIF($C$3:C542,1),\"\")","v":""},{"$f":"IFERROR(INDEX(DROPDOWN_AOSuche_Alle,MATCH(ROWS($D$3:D542),DROPDOWN_AOSuche_Helper2,0)),\"\")","v":""},"Kdo Op","LW","Flpl Kdo 13","Flpl Abt 13","Flz Ih Kp 13"]
[null,"Ik S 61",0,{"$f":"IF(C543=1,COUNTIF($C$3:C543,1),\"\")","v":""},{"$f":"IFERROR(INDEX(DROPDOWN_AOSuche_Alle,MATCH(ROWS($D$3:D543),DROPDOWN_AOSuche_Helper2,0)),\"\")","v":""},"Kdo Op","LW","Flpl Kdo 13","Flpl Abt 13","Flpl Log Kp 13"]
[null,"Ik UOS 61-1",0,{"$f":"IF(C544=1,COUNTIF($C$3:C544,1),\"\")","v":""},{"$f":"IFERROR(INDEX(DROPDOWN_AOSuche_Alle,MATCH(ROWS($D$3:D544),DROPDOWN_AOSuche_Helper2,0)),\"\")","v":""},"Kdo Op","LW","Flpl Kdo 13","Flpl Si Kp 13"]
[null,"Ik UOS 61-2",0,{"$f":"IF(C545=1,COUNTIF($C$3:C545,1),\"\")","v":""},{"$f":"IFERROR(INDEX(DROPDOWN_AOSuche_Alle,MATCH(ROWS($D$3:D545),DROPDOWN_AOSuche_Helper2,0)),\"\")","v":""},"Kdo Op","LW","LW AT Br"]
[null,"Ik UOS Kl 61-1/1",0,{"$f":"IF(C546=1,COUNTIF($C$3:C546,1),\"\")","v":""},{"$f":"IFERROR(INDEX(DROPDOWN_AOSuche_Alle,MATCH(ROWS($D$3:D546),DROPDOWN_AOSuche_Helper2,0)),\"\")","v":""},"Kdo Op","LW","LW AT Br","Stab LW AT Br"]
[null,"Ik UOS Kl 61-1/2",0,{"$f":"IF(C547=1,COUNTIF($C$3:C547,1),\"\")","v":""},{"$f":"IFERROR(INDEX(DROPDOWN_AOSuche_Alle,MATCH(ROWS($D$3:D547),DROPDOWN_AOSuche_Helper2,0)),\"\")","v":""},"Kdo Op","LW","LW AT Br","LW AT Br Stabskp"]
[null,"Ik UOS Kl 61-1/3",0,{"$f":"IF(C548=1,COUNTIF($C$3:C548,1),\"\")","v":""},{"$f":"IFERROR(INDEX(DROPDOWN_AOSuche_Alle,MATCH(ROWS($D$3:D548),DROPDOWN_AOSuche_Helper2,0)),\"\")","v":""},"Kdo Op","LW","LW AT Br","Betr Det LW AT Br"]
[null,"Ik UOS Kl 61-1/4",0,{"$f":"IF(C549=1,COUNTIF($C$3:C549,1),\"\")","v":""},{"$f":"IFERROR(INDEX(DROPDOWN_AOSuche_Alle,MATCH(ROWS($D$3:D549),DROPDOWN_AOSuche_Helper2,0)),\"\")","v":""},"Kdo Op","LW","LW AT Br","Dro Kdo 84"]
[null,"Ik UOS Kl 61-2/1",0,{"$f":"IF(C550=1,COUNTIF($C$3:C550,1),\"\")","v":""},{"$f":"IFERROR(INDEX(DROPDOWN_AOSuche_Alle,MATCH(ROWS($D$3:D550),DROPDOWN_AOSuche_Helper2,0)),\"\")","v":""},"Kdo Op","LW","LW AT Br","Dro Kdo 84","Stab Dro Kdo 84"]
[null,"Ik UOS Kl 61-2/2",0,{"$f":"IF(C551=1,COUNTIF($C$3:C551,1),\"\")","v":""},{"$f":"IFERROR(INDEX(DROPDOWN_AOSuche_Alle,MATCH(ROWS($D$3:D551),DROPDOWN_AOSuche_Helper2,0)),\"\")","v":""},"Kdo Op","LW","LW AT Br","Dro Kdo 84","Dro St 7"]
[null,"Ik UOS Kl 61-2/3",0,{"$f":"IF(C552=1,COUNTIF($C$3:C552,1),\"\")","v":""},{"$f":"IFERROR(INDEX(DROPDOWN_AOSuche_Alle,MATCH(ROWS($D$3:D552),DROPDOWN_AOSuche_Helper2,0)),\"\")","v":""},"Kdo Op","LW","LW AT Br","Fl Ber Kp 104"]
[null,"Ik UOS Kl 61-2/4",0,{"$f":"IF(C553=1,COUNTIF($C$3:C553,1),\"\")","v":""},{"$f":"IFERROR(INDEX(DROPDOWN_AOSuche_Alle,MATCH(ROWS($D$3:D553),DROPDOWN_AOSuche_Helper2,0)),\"\")","v":""},"Kdo Op","LW","LW AT Br","Fl Ber Kp 204"]
[null,"Inf Bat 11",0,{"$f":"IF(C554=1,COUNTIF($C$3:C554,1),\"\")","v":""},{"$f":"IFERROR(INDEX(DROPDOWN_AOSuche_Alle,MATCH(ROWS($D$3:D554),DROPDOWN_AOSuche_Helper2,0)),\"\")","v":""},"Kdo Op","LW","LW AT Br","Mob LW Radarabt 2"]
[null,"Inf Bat 13",0,{"$f":"IF(C555=1,COUNTIF($C$3:C555,1),\"\")","v":""},{"$f":"IFERROR(INDEX(DROPDOWN_AOSuche_Alle,MATCH(ROWS($D$3:D555),DROPDOWN_AOSuche_Helper2,0)),\"\")","v":""},"Kdo Op","LW","LW AT Br","Mob LW Radarabt 2","Stab Mob LW Radarabt 2"]
[null,"Inf Bat 19",0,{"$f":"IF(C556=1,COUNTIF($C$3:C556,1),\"\")","v":""},{"$f":"IFERROR(INDEX(DROPDOWN_AOSuche_Alle,MATCH(ROWS($D$3:D556),DROPDOWN_AOSuche_Helper2,0)),\"\")","v":""},"Kdo Op","LW","LW AT Br","Mob LW Radarabt 2","Mob LW Radarkp 21"]
[null,"Inf Bat 20",0,{"$f":"IF(C557=1,COUNTIF($C$3:C557,1),\"\")","v":""},{"$f":"IFERROR(INDEX(DROPDOWN_AOSuche_Alle,MATCH(ROWS($D$3:D557),DROPDOWN_AOSuche_Helper2,0)),\"\")","v":""},"Kdo Op","LW","LW AT Br","Mob LW Radarabt 2","Mob LW Radarkp 22"]
[null,"Inf Bat 56",0,{"$f":"IF(C558=1,COUNTIF($C$3:C558,1),\"\")","v":""},{"$f":"IFERROR(INDEX(DROPDOWN_AOSuche_Alle,MATCH(ROWS($D$3:D558),DROPDOWN_AOSuche_Helper2,0)),\"\")","v":""},"Kdo Op","LW","LW AT Br","Mob LW Radarabt 2","Mob LW Radarkp 23"]
[null,"Inf Bat 61",0,{"$f":"IF(C559=1,COUNTIF($C$3:C559,1),\"\")","v":""},{"$f":"IFERROR(INDEX(DROPDOWN_AOSuche_Alle,MATCH(ROWS($D$3:D559),DROPDOWN_AOSuche_Helper2,0)),\"\")","v":""},"Kdo Op","LW","LW AT Br","LW Na Abt 1"]
[null,"Inf Bat 65",0,{"$f":"IF(C560=1,COUNTIF($C$3:C560,1),\"\")","v":""},{"$f":"IFERROR(INDEX(DROPDOWN_AOSuche_Alle,MATCH(ROWS($D$3:D560),DROPDOWN_AOSuche_Helper2,0)),\"\")","v":""},"Kdo Op","LW","LW AT Br","LW Na Abt 1","Stab LW Na Abt 1"]
[null,"Inf Bat 97",0,{"$f":"IF(C561=1,COUNTIF($C$3:C561,1),\"\")","v":""},{"$f":"IFERROR(INDEX(DROPDOWN_AOSuche_Alle,MATCH(ROWS($D$3:D561),DROPDOWN_AOSuche_Helper2,0)),\"\")","v":""},"Kdo Op","LW","LW AT Br","LW Na Abt 1","LW Na Kp 1/1"]
[null,"Inf Ber Bat 104",0,{"$f":"IF(C562=1,COUNTIF($C$3:C562,1),\"\")","v":""},{"$f":"IFERROR(INDEX(DROPDOWN_AOSuche_Alle,MATCH(ROWS($D$3:D562),DROPDOWN_AOSuche_Helper2,0)),\"\")","v":""},"Kdo Op","LW","LW AT Br","LW Na Abt 1","LW Na Kp 1/2"]
[null,"Inf Ber Bat 204",0,{"$f":"IF(C563=1,COUNTIF($C$3:C563,1),\"\")","v":""},{"$f":"IFERROR(INDEX(DROPDOWN_AOSuche_Alle,MATCH(ROWS($D$3:D563),DROPDOWN_AOSuche_Helper2,0)),\"\")","v":""},"Kdo Op","LW","LW AT Br","LW Na Abt 1","LW EZ Betr Kp 1/3"]
[null,"Inf Ber Kp 104/1",0,{"$f":"IF(C564=1,COUNTIF($C$3:C564,1),\"\")","v":""},{"$f":"IFERROR(INDEX(DROPDOWN_AOSuche_Alle,MATCH(ROWS($D$3:D564),DROPDOWN_AOSuche_Helper2,0)),\"\")","v":""},"Kdo Op","LW","LW AT Br","LW Na Abt 1","LW EKF Kp 1/4"]
[null,"Inf Ber Kp 104/2",0,{"$f":"IF(C565=1,COUNTIF($C$3:C565,1),\"\")","v":""},{"$f":"IFERROR(INDEX(DROPDOWN_AOSuche_Alle,MATCH(ROWS($D$3:D565),DROPDOWN_AOSuche_Helper2,0)),\"\")","v":""},"Kdo Op","LW","LW AT Br","LW Na Abt 1","Wet Kp 1/5"]
[null,"Inf Ber Kp 204/1",0,{"$f":"IF(C566=1,COUNTIF($C$3:C566,1),\"\")","v":""},{"$f":"IFERROR(INDEX(DROPDOWN_AOSuche_Alle,MATCH(ROWS($D$3:D566),DROPDOWN_AOSuche_Helper2,0)),\"\")","v":""},"Kdo Op","LW","LW AT Br","LW Na Abt 2"]
[null,"Inf Ber Kp 204/2",0,{"$f":"IF(C567=1,COUNTIF($C$3:C567,1),\"\")","v":""},{"$f":"IFERROR(INDEX(DROPDOWN_AOSuche_Alle,MATCH(ROWS($D$3:D567),DROPDOWN_AOSuche_Helper2,0)),\"\")","v":""},"Kdo Op","LW","LW AT Br","LW Na Abt 2","Stab LW Na Abt 2"]
[null,"Inf DD RS 14-1",0,{"$f":"IF(C568=1,COUNTIF($C$3:C568,1),\"\")","v":""},{"$f":"IFERROR(INDEX(DROPDOWN_AOSuche_Alle,MATCH(ROWS($D$3:D568),DROPDOWN_AOSuche_Helper2,0)),\"\")","v":""},"Kdo Op","LW","LW AT Br","LW Na Abt 2","LW Na Kp 2/1"]
[null,"Inf DD RS 14-2",0,{"$f":"IF(C569=1,COUNTIF($C$3:C569,1),\"\")","v":""},{"$f":"IFERROR(INDEX(DROPDOWN_AOSuche_Alle,MATCH(ROWS($D$3:D569),DROPDOWN_AOSuche_Helper2,0)),\"\")","v":""},"Kdo Op","LW","LW AT Br","LW Na Abt 2","LW Na Kp 2/2"]
[null,"Inf DD RS 14-3",0,{"$f":"IF(C570=1,COUNTIF($C$3:C570,1),\"\")","v":""},{"$f":"IFERROR(INDEX(DROPDOWN_AOSuche_Alle,MATCH(ROWS($D$3:D570),DROPDOWN_AOSuche_Helper2,0)),\"\")","v":""},"Kdo Op","LW","LW AT Br","LW Na Abt 2","LW EZ Betr Kp 2/3"]
[null,"Inf DD RS Kp 14-1/1",0,{"$f":"IF(C571=1,COUNTIF($C$3:C571,1),\"\")","v":""},{"$f":"IFERROR(INDEX(DROPDOWN_AOSuche_Alle,MATCH(ROWS($D$3:D571),DROPDOWN_AOSuche_Helper2,0)),\"\")","v":""},"Kdo Op","LW","LW AT Br","LW Na Abt 2","LW EKF Kp 2/4"]
[null,"Inf DD RS Kp 14-1/2",0,{"$f":"IF(C572=1,COUNTIF($C$3:C572,1),\"\")","v":""},{"$f":"IFERROR(INDEX(DROPDOWN_AOSuche_Alle,MATCH(ROWS($D$3:D572),DROPDOWN_AOSuche_Helper2,0)),\"\")","v":""},"Kdo Op","LW","LW AT Br","LW Na Abt 2","Wet Kp 2/5"]
[null,"Inf DD RS Kp 14-2/1",0,{"$f":"IF(C573=1,COUNTIF($C$3:C573,1),\"\")","v":""},{"$f":"IFERROR(INDEX(DROPDOWN_AOSuche_Alle,MATCH(ROWS($D$3:D573),DROPDOWN_AOSuche_Helper2,0)),\"\")","v":""},"Kdo Op","LW","LW AT Br","Ifl St 14"]
[null,"Inf DD RS Kp 14-2/2",0,{"$f":"IF(C574=1,COUNTIF($C$3:C574,1),\"\")","v":""},{"$f":"IFERROR(INDEX(DROPDOWN_AOSuche_Alle,MATCH(ROWS($D$3:D574),DROPDOWN_AOSuche_Helper2,0)),\"\")","v":""},"Kdo Op","LW","LW AT Br","Fl S 81"]
[null,"Inf DD S 14",0,{"$f":"IF(C575=1,COUNTIF($C$3:C575,1),\"\")","v":""},{"$f":"IFERROR(INDEX(DROPDOWN_AOSuche_Alle,MATCH(ROWS($D$3:D575),DROPDOWN_AOSuche_Helper2,0)),\"\")","v":""},"Kdo Op","LW","LW AT Br","Fl S 81","Fl OS 81-1"]
[null,"Inf DD UOS 14-1",0,{"$f":"IF(C576=1,COUNTIF($C$3:C576,1),\"\")","v":""},{"$f":"IFERROR(INDEX(DROPDOWN_AOSuche_Alle,MATCH(ROWS($D$3:D576),DROPDOWN_AOSuche_Helper2,0)),\"\")","v":""},"Kdo Op","LW","LW AT Br","Fl S 81","Fl OS 81-2"]
[null,"Inf DD UOS 14-2",0,{"$f":"IF(C577=1,COUNTIF($C$3:C577,1),\"\")","v":""},{"$f":"IFERROR(INDEX(DROPDOWN_AOSuche_Alle,MATCH(ROWS($D$3:D577),DROPDOWN_AOSuche_Helper2,0)),\"\")","v":""},"Kdo Op","LW","LW AT Br","Fl S 81","Fl UOS 81-1"]
[null,"Inf DD UOS Kl 14-1/1",0,{"$f":"IF(C578=1,COUNTIF($C$3:C578,1),\"\")","v":""},{"$f":"IFERROR(INDEX(DROPDOWN_AOSuche_Alle,MATCH(ROWS($D$3:D578),DROPDOWN_AOSuche_Helper2,0)),\"\")","v":""},"Kdo Op","LW","LW AT Br","Fl S 81",null,"Fl UOS 81-1 (GAE PAY)"]
[null,"Inf DD UOS Kl 14-1/2",{"$f":"--ISNUMBER(IFERROR(SEARCH(AO_Search_Value,B579,1),\"\"))","v":0},{"$f":"IF(C579=1,COUNTIF($C$3:C579,1),\"\")","v":""},{"$f":"IFERROR(INDEX(DROPDOWN_AOSuche_Alle,MATCH(ROWS($D$3:D579),DROPDOWN_AOSuche_Helper2,0)),\"\")","v":""},"Kdo Op","LW","LW AT Br","Fl S 81","Fl UOS 81-2"]
[null,"Inf DD UOS Kl 14-2/1",0,{"$f":"IF(C580=1,COUNTIF($C$3:C580,1),\"\")","v":""},{"$f":"IFERROR(INDEX(DROPDOWN_AOSuche_Alle,MATCH(ROWS($D$3:D580),DROPDOWN_AOSuche_Helper2,0)),\"\")","v":""},"Kdo Op","LW","LW AT Br","Fl S 81",null,"Fl UOS 81-2 (GAE PAY)"]
[null,"Inf DD UOS Kl 14-2/2",0,{"$f":"IF(C581=1,COUNTIF($C$3:C581,1),\"\")","v":""},{"$f":"IFERROR(INDEX(DROPDOWN_AOSuche_Alle,MATCH(ROWS($D$3:D581),DROPDOWN_AOSuche_Helper2,0)),\"\")","v":""},"Kdo Op","LW","LW AT Br","Fl S 81","Fl RS 81-1"]
[null,"Inf DD UOS Kl 14-2/3",0,{"$f":"IF(C582=1,COUNTIF($C$3:C582,1),\"\")","v":""},{"$f":"IFERROR(INDEX(DROPDOWN_AOSuche_Alle,MATCH(ROWS($D$3:D582),DROPDOWN_AOSuche_Helper2,0)),\"\")","v":""},"Kdo Op","LW","LW AT Br","Fl S 81","Fl RS 81-1","Fl RS Kp 81-1/1"]
[null,"Inf Kp 11/1",0,{"$f":"IF(C583=1,COUNTIF($C$3:C583,1),\"\")","v":""},{"$f":"IFERROR(INDEX(DROPDOWN_AOSuche_Alle,MATCH(ROWS($D$3:D583),DROPDOWN_AOSuche_Helper2,0)),\"\")","v":""},"Kdo Op","LW","LW AT Br","Fl S 81","Fl RS 81-1","Fl RS Kp 81-1/2"]
[null,"Inf Kp 11/2",0,{"$f":"IF(C584=1,COUNTIF($C$3:C584,1),\"\")","v":""},{"$f":"IFERROR(INDEX(DROPDOWN_AOSuche_Alle,MATCH(ROWS($D$3:D584),DROPDOWN_AOSuche_Helper2,0)),\"\")","v":""},"Kdo Op","LW","LW AT Br","Fl S 81","Fl RS 81-1","Fl RS Kp 81-1/3"]
[null,"Inf Kp 11/3",0,{"$f":"IF(C585=1,COUNTIF($C$3:C585,1),\"\")","v":""},{"$f":"IFERROR(INDEX(DROPDOWN_AOSuche_Alle,MATCH(ROWS($D$3:D585),DROPDOWN_AOSuche_Helper2,0)),\"\")","v":""},"Kdo Op","LW","LW AT Br","Fl S 81","Fl RS 81-1","Fl RS Kp 81-1/4"]
[null,"Inf Kp 13/1",0,{"$f":"IF(C586=1,COUNTIF($C$3:C586,1),\"\")","v":""},{"$f":"IFERROR(INDEX(DROPDOWN_AOSuche_Alle,MATCH(ROWS($D$3:D586),DROPDOWN_AOSuche_Helper2,0)),\"\")","v":""},"Kdo Op","LW","LW AT Br","Fl S 81","Fl RS 81-2"]
[null,"Inf Kp 13/2",0,{"$f":"IF(C587=1,COUNTIF($C$3:C587,1),\"\")","v":""},{"$f":"IFERROR(INDEX(DROPDOWN_AOSuche_Alle,MATCH(ROWS($D$3:D587),DROPDOWN_AOSuche_Helper2,0)),\"\")","v":""},"Kdo Op","LW","LW AT Br","Fl S 81","Fl RS 81-2","Fl RS Kp 81-2/1"]
[null,"Inf Kp 13/3",0,{"$f":"IF(C588=1,COUNTIF($C$3:C588,1),\"\")","v":""},{"$f":"IFERROR(INDEX(DROPDOWN_AOSuche_Alle,MATCH(ROWS($D$3:D588),DROPDOWN_AOSuche_Helper2,0)),\"\")","v":""},"Kdo Op","LW","LW AT Br","Fl S 81","Fl RS 81-2","Fl RS Kp 81-2/2"]
[null,"Inf Kp 19/1",0,{"$f":"IF(C589=1,COUNTIF($C$3:C589,1),\"\")","v":""},{"$f":"IFERROR(INDEX(DROPDOWN_AOSuche_Alle,MATCH(ROWS($D$3:D589),DROPDOWN_AOSuche_Helper2,0)),\"\")","v":""},"Kdo Op","LW","LW AT Br","Fl S 81","Fl RS 81-2","Fl RS Kp 81-2/3"]
[null,"Inf Kp 19/2",0,{"$f":"IF(C590=1,COUNTIF($C$3:C590,1),\"\")","v":""},{"$f":"IFERROR(INDEX(DROPDOWN_AOSuche_Alle,MATCH(ROWS($D$3:D590),DROPDOWN_AOSuche_Helper2,0)),\"\")","v":""},"Kdo Op","LW","LW AT Br","Fl S 81","Fl RS 81-2","Fl RS Kp 81-2/4"]
[null,"Inf Kp 19/3",0,{"$f":"IF(C591=1,COUNTIF($C$3:C591,1),\"\")","v":""},{"$f":"IFERROR(INDEX(DROPDOWN_AOSuche_Alle,MATCH(ROWS($D$3:D591),DROPDOWN_AOSuche_Helper2,0)),\"\")","v":""},"Kdo Op","LW","LW AT Br","Fl S 81","TLG Zfhr Stv LW AT Br"]
[null,"Inf Kp 20/1",0,{"$f":"IF(C592=1,COUNTIF($C$3:C592,1),\"\")","v":""},{"$f":"IFERROR(INDEX(DROPDOWN_AOSuche_Alle,MATCH(ROWS($D$3:D592),DROPDOWN_AOSuche_Helper2,0)),\"\")","v":""},"Kdo Op","LW","LW AT Br","Fl S 81","Fl RS 81-1"]
[null,"Inf Kp 20/2",0,{"$f":"IF(C593=1,COUNTIF($C$3:C593,1),\"\")","v":""},{"$f":"IFERROR(INDEX(DROPDOWN_AOSuche_Alle,MATCH(ROWS($D$3:D593),DROPDOWN_AOSuche_Helper2,0)),\"\")","v":""},"Kdo Op","LW","LW AT Br","Fl S 81","Fl RS 81-2"]
[null,"Inf Kp 20/3",0,{"$f":"IF(C594=1,COUNTIF($C$3:C594,1),\"\")","v":""},{"$f":"IFERROR(INDEX(DROPDOWN_AOSuche_Alle,MATCH(ROWS($D$3:D594),DROPDOWN_AOSuche_Helper2,0)),\"\")","v":""},"Kdo Op","LW","LW AT Br","Fl S 81","Fl RS 81-3"]
[null,"Inf Kp 56/1",0,{"$f":"IF(C595=1,COUNTIF($C$3:C595,1),\"\")","v":""},{"$f":"IFERROR(INDEX(DROPDOWN_AOSuche_Alle,MATCH(ROWS($D$3:D595),DROPDOWN_AOSuche_Helper2,0)),\"\")","v":""},"Kdo Op","LW","LW AT Br","Fl S 81","Fl RS 82-1"]
[null,"Inf Kp 56/2",0,{"$f":"IF(C596=1,COUNTIF($C$3:C596,1),\"\")","v":""},{"$f":"IFERROR(INDEX(DROPDOWN_AOSuche_Alle,MATCH(ROWS($D$3:D596),DROPDOWN_AOSuche_Helper2,0)),\"\")","v":""},"Kdo Op","LW","LW AT Br","Fl S 81","Fl RS 82-2"]
[null,"Inf Kp 56/3",0,{"$f":"IF(C597=1,COUNTIF($C$3:C597,1),\"\")","v":""},{"$f":"IFERROR(INDEX(DROPDOWN_AOSuche_Alle,MATCH(ROWS($D$3:D597),DROPDOWN_AOSuche_Helper2,0)),\"\")","v":""},"Kdo Op","LW","LW AT Br","Fl S 81","Fl RS 82-3"]
[null,"Inf Kp 61/1",0,{"$f":"IF(C598=1,COUNTIF($C$3:C598,1),\"\")","v":""},{"$f":"IFERROR(INDEX(DROPDOWN_AOSuche_Alle,MATCH(ROWS($D$3:D598),DROPDOWN_AOSuche_Helper2,0)),\"\")","v":""},"Kdo Op","LW","LW AT Br","LW Tng Kdo 82"]
[null,"Inf Kp 61/2",0,{"$f":"IF(C599=1,COUNTIF($C$3:C599,1),\"\")","v":""},{"$f":"IFERROR(INDEX(DROPDOWN_AOSuche_Alle,MATCH(ROWS($D$3:D599),DROPDOWN_AOSuche_Helper2,0)),\"\")","v":""},"Kdo Op","LW","LW AT Br","LW Tng Kdo 82","LW Na RS 82-1"]
[null,"Inf Kp 61/3",0,{"$f":"IF(C600=1,COUNTIF($C$3:C600,1),\"\")","v":""},{"$f":"IFERROR(INDEX(DROPDOWN_AOSuche_Alle,MATCH(ROWS($D$3:D600),DROPDOWN_AOSuche_Helper2,0)),\"\")","v":""},"Kdo Op","LW","LW AT Br","LW Tng Kdo 82","LW Na RS 82-2"]
[null,"Inf Kp 65/1",0,{"$f":"IF(C601=1,COUNTIF($C$3:C601,1),\"\")","v":""},{"$f":"IFERROR(INDEX(DROPDOWN_AOSuche_Alle,MATCH(ROWS($D$3:D601),DROPDOWN_AOSuche_Helper2,0)),\"\")","v":""},"Kdo Op","LW","LW AT Br","LW Tng Kdo 82","LW Na UOS 82-1"]
[null,"Inf Kp 65/2",0,{"$f":"IF(C602=1,COUNTIF($C$3:C602,1),\"\")","v":""},{"$f":"IFERROR(INDEX(DROPDOWN_AOSuche_Alle,MATCH(ROWS($D$3:D602),DROPDOWN_AOSuche_Helper2,0)),\"\")","v":""},"Kdo Op","LW","LW AT Br","LW Tng Kdo 82","LW Na UOS 82-2"]
[null,"Inf Kp 65/3",0,{"$f":"IF(C603=1,COUNTIF($C$3:C603,1),\"\")","v":""},{"$f":"IFERROR(INDEX(DROPDOWN_AOSuche_Alle,MATCH(ROWS($D$3:D603),DROPDOWN_AOSuche_Helper2,0)),\"\")","v":""},"Kdo Op","LW","LW AT Br","LW Tng Kdo 82","Flab RS 90-1"]
[null,"Inf Kp 97/1",0,{"$f":"IF(C604=1,COUNTIF($C$3:C604,1),\"\")","v":""},{"$f":"IFERROR(INDEX(DROPDOWN_AOSuche_Alle,MATCH(ROWS($D$3:D604),DROPDOWN_AOSuche_Helper2,0)),\"\")","v":""},"Kdo Op","LW","LW AT Br","LW Tng Kdo 82","Flab RS 90-2"]
[null,"Inf Kp 97/2",0,{"$f":"IF(C605=1,COUNTIF($C$3:C605,1),\"\")","v":""},{"$f":"IFERROR(INDEX(DROPDOWN_AOSuche_Alle,MATCH(ROWS($D$3:D605),DROPDOWN_AOSuche_Helper2,0)),\"\")","v":""},"Kdo Op","LW","LW AT Br","LW Tng Kdo 82","Flab RS 90-3"]
[null,"Inf Kp 97/3",0,{"$f":"IF(C606=1,COUNTIF($C$3:C606,1),\"\")","v":""},{"$f":"IFERROR(INDEX(DROPDOWN_AOSuche_Alle,MATCH(ROWS($D$3:D606),DROPDOWN_AOSuche_Helper2,0)),\"\")","v":""},"Kdo Op","LW","LW AT Br","LW Tng Kdo 82","Flab RS 93-1"]
[null,"Inf OS 10",0,{"$f":"IF(C607=1,COUNTIF($C$3:C607,1),\"\")","v":""},{"$f":"IFERROR(INDEX(DROPDOWN_AOSuche_Alle,MATCH(ROWS($D$3:D607),DROPDOWN_AOSuche_Helper2,0)),\"\")","v":""},"Kdo Op","LW","LW AT Br","LW Tng Kdo 82","Flab RS 93-2"]
[null,"Inf OS 10-1",0,{"$f":"IF(C608=1,COUNTIF($C$3:C608,1),\"\")","v":""},{"$f":"IFERROR(INDEX(DROPDOWN_AOSuche_Alle,MATCH(ROWS($D$3:D608),DROPDOWN_AOSuche_Helper2,0)),\"\")","v":""},"Kdo Op","LW","LW AT Br","LW Tng Kdo 82","Flab RS 93-3"]
[null,"Inf OS 10-2",0,{"$f":"IF(C609=1,COUNTIF($C$3:C609,1),\"\")","v":""},{"$f":"IFERROR(INDEX(DROPDOWN_AOSuche_Alle,MATCH(ROWS($D$3:D609),DROPDOWN_AOSuche_Helper2,0)),\"\")","v":""},"Kdo Op","LW","LW AT Br","Pil S LW 85"]
[null,"Inf OS Kl 10-1/0",0,{"$f":"IF(C610=1,COUNTIF($C$3:C610,1),\"\")","v":""},{"$f":"IFERROR(INDEX(DROPDOWN_AOSuche_Alle,MATCH(ROWS($D$3:D610),DROPDOWN_AOSuche_Helper2,0)),\"\")","v":""},"Kdo Op","LW","LW AT Br","LW AT Br VDT"]
[null,"Inf OS Kl 10-1/1",0,{"$f":"IF(C611=1,COUNTIF($C$3:C611,1),\"\")","v":""},{"$f":"IFERROR(INDEX(DROPDOWN_AOSuche_Alle,MATCH(ROWS($D$3:D611),DROPDOWN_AOSuche_Helper2,0)),\"\")","v":""},"Kdo Op","LW","LVb Flab 33"]
[null,"Inf OS Kl 10-1/2",0,{"$f":"IF(C612=1,COUNTIF($C$3:C612,1),\"\")","v":""},{"$f":"IFERROR(INDEX(DROPDOWN_AOSuche_Alle,MATCH(ROWS($D$3:D612),DROPDOWN_AOSuche_Helper2,0)),\"\")","v":""},"Kdo Op","LW","LVb Flab 33","Kdo BODLUV 2020"]
[null,"Inf OS Kl 10-1/3",0,{"$f":"IF(C613=1,COUNTIF($C$3:C613,1),\"\")","v":""},{"$f":"IFERROR(INDEX(DROPDOWN_AOSuche_Alle,MATCH(ROWS($D$3:D613),DROPDOWN_AOSuche_Helper2,0)),\"\")","v":""},"Kdo Op","LW","LVb Flab 33","Kdo Tng BODLUV 33"]
[null,"Inf OS Kl 10-1/4",0,{"$f":"IF(C614=1,COUNTIF($C$3:C614,1),\"\")","v":""},{"$f":"IFERROR(INDEX(DROPDOWN_AOSuche_Alle,MATCH(ROWS($D$3:D614),DROPDOWN_AOSuche_Helper2,0)),\"\")","v":""},"Kdo Op","LW","LVb Flab 33","Kdo Tng BODLUV 33","TK 1 Flab"]
[null,"Inf OS Kl 10-1/5",0,{"$f":"IF(C615=1,COUNTIF($C$3:C615,1),\"\")","v":""},{"$f":"IFERROR(INDEX(DROPDOWN_AOSuche_Alle,MATCH(ROWS($D$3:D615),DROPDOWN_AOSuche_Helper2,0)),\"\")","v":""},"Kdo Op","LW","LVb Flab 33","Kdo Tng BODLUV 33","TK 2 Flab"]
[null,"Inf OS Kl 10-2/0",0,{"$f":"IF(C616=1,COUNTIF($C$3:C616,1),\"\")","v":""},{"$f":"IFERROR(INDEX(DROPDOWN_AOSuche_Alle,MATCH(ROWS($D$3:D616),DROPDOWN_AOSuche_Helper2,0)),\"\")","v":""},"Kdo Op","LW","LVb Flab 33","Kdo Tng BODLUV 33","TK 3 Flab"]
[null,"Inf OS Kl 10-2/1",0,{"$f":"IF(C617=1,COUNTIF($C$3:C617,1),\"\")","v":""},{"$f":"IFERROR(INDEX(DROPDOWN_AOSuche_Alle,MATCH(ROWS($D$3:D617),DROPDOWN_AOSuche_Helper2,0)),\"\")","v":""},"Kdo Op","LW","LVb Flab 33","Kdo Tng BODLUV 33","TK 4 Flab"]
[null,"Inf OS Kl 10-2/2",0,{"$f":"IF(C618=1,COUNTIF($C$3:C618,1),\"\")","v":""},{"$f":"IFERROR(INDEX(DROPDOWN_AOSuche_Alle,MATCH(ROWS($D$3:D618),DROPDOWN_AOSuche_Helper2,0)),\"\")","v":""},"Kdo Op","LW","LVb Flab 33","Kdo Tng BODLUV 33","TK 5 Flab"]
[null,"Inf OS Kl 10-2/3",0,{"$f":"IF(C619=1,COUNTIF($C$3:C619,1),\"\")","v":""},{"$f":"IFERROR(INDEX(DROPDOWN_AOSuche_Alle,MATCH(ROWS($D$3:D619),DROPDOWN_AOSuche_Helper2,0)),\"\")","v":""},"Kdo Op","LW","LVb Flab 33","Kdo Tng BODLUV 33","TK 6 Flab"]
[null,"Inf OS Kl 10-2/4",0,{"$f":"IF(C620=1,COUNTIF($C$3:C620,1),\"\")","v":""},{"$f":"IFERROR(INDEX(DROPDOWN_AOSuche_Alle,MATCH(ROWS($D$3:D620),DROPDOWN_AOSuche_Helper2,0)),\"\")","v":""},"Kdo Op","LW","LVb Flab 33","Stab LVb Flab 33"]
[null,"Inf OS Kl 10-2/5",0,{"$f":"IF(C621=1,COUNTIF($C$3:C621,1),\"\")","v":""},{"$f":"IFERROR(INDEX(DROPDOWN_AOSuche_Alle,MATCH(ROWS($D$3:D621),DROPDOWN_AOSuche_Helper2,0)),\"\")","v":""},"Kdo Op","LW","LVb Flab 33","Betr Det LVb Flab 33"]
[null,"Inf RS 11-1",0,{"$f":"IF(C622=1,COUNTIF($C$3:C622,1),\"\")","v":""},{"$f":"IFERROR(INDEX(DROPDOWN_AOSuche_Alle,MATCH(ROWS($D$3:D622),DROPDOWN_AOSuche_Helper2,0)),\"\")","v":""},"Kdo Op","LW","LVb Flab 33","Flab Ber Bttr 104"]
[null,"Inf RS 11-1/0, Fz",0,{"$f":"IF(C623=1,COUNTIF($C$3:C623,1),\"\")","v":""},{"$f":"IFERROR(INDEX(DROPDOWN_AOSuche_Alle,MATCH(ROWS($D$3:D623),DROPDOWN_AOSuche_Helper2,0)),\"\")","v":""},"Kdo Op","LW","LVb Flab 33","Flab Ber Bttr 204"]
[null,"Inf RS 11-2",0,{"$f":"IF(C624=1,COUNTIF($C$3:C624,1),\"\")","v":""},{"$f":"IFERROR(INDEX(DROPDOWN_AOSuche_Alle,MATCH(ROWS($D$3:D624),DROPDOWN_AOSuche_Helper2,0)),\"\")","v":""},"Kdo Op","LW","LVb Flab 33","M Flab Abt 32"]
[null,"Inf RS 11-3",0,{"$f":"IF(C625=1,COUNTIF($C$3:C625,1),\"\")","v":""},{"$f":"IFERROR(INDEX(DROPDOWN_AOSuche_Alle,MATCH(ROWS($D$3:D625),DROPDOWN_AOSuche_Helper2,0)),\"\")","v":""},"Kdo Op","LW","LVb Flab 33","M Flab Abt 32","Stab M Flab Abt 32"]
[null,"Inf RS 12-1",0,{"$f":"IF(C626=1,COUNTIF($C$3:C626,1),\"\")","v":""},{"$f":"IFERROR(INDEX(DROPDOWN_AOSuche_Alle,MATCH(ROWS($D$3:D626),DROPDOWN_AOSuche_Helper2,0)),\"\")","v":""},"Kdo Op","LW","LVb Flab 33","M Flab Abt 32","M Flab Stabsbttr 32"]
[null,"Inf RS 12-2",0,{"$f":"IF(C627=1,COUNTIF($C$3:C627,1),\"\")","v":""},{"$f":"IFERROR(INDEX(DROPDOWN_AOSuche_Alle,MATCH(ROWS($D$3:D627),DROPDOWN_AOSuche_Helper2,0)),\"\")","v":""},"Kdo Op","LW","LVb Flab 33","M Flab Abt 32","M Flab Bttr 32/1"]
[null,"Inf RS 12-3",0,{"$f":"IF(C628=1,COUNTIF($C$3:C628,1),\"\")","v":""},{"$f":"IFERROR(INDEX(DROPDOWN_AOSuche_Alle,MATCH(ROWS($D$3:D628),DROPDOWN_AOSuche_Helper2,0)),\"\")","v":""},"Kdo Op","LW","LVb Flab 33","M Flab Abt 32","M Flab Bttr 32/2"]
[null,"Inf RS 13-1",0,{"$f":"IF(C629=1,COUNTIF($C$3:C629,1),\"\")","v":""},{"$f":"IFERROR(INDEX(DROPDOWN_AOSuche_Alle,MATCH(ROWS($D$3:D629),DROPDOWN_AOSuche_Helper2,0)),\"\")","v":""},"Kdo Op","LW","LVb Flab 33","M Flab Abt 34"]
[null,"Inf RS 13-2",0,{"$f":"IF(C630=1,COUNTIF($C$3:C630,1),\"\")","v":""},{"$f":"IFERROR(INDEX(DROPDOWN_AOSuche_Alle,MATCH(ROWS($D$3:D630),DROPDOWN_AOSuche_Helper2,0)),\"\")","v":""},"Kdo Op","LW","LVb Flab 33","M Flab Abt 34","Stab M Flab Abt 34"]
[null,"Inf RS 13-3",0,{"$f":"IF(C631=1,COUNTIF($C$3:C631,1),\"\")","v":""},{"$f":"IFERROR(INDEX(DROPDOWN_AOSuche_Alle,MATCH(ROWS($D$3:D631),DROPDOWN_AOSuche_Helper2,0)),\"\")","v":""},"Kdo Op","LW","LVb Flab 33","M Flab Abt 34","M Flab Stabsbttr 34"]
[null,"Inf RS 2-1",0,{"$f":"IF(C632=1,COUNTIF($C$3:C632,1),\"\")","v":""},{"$f":"IFERROR(INDEX(DROPDOWN_AOSuche_Alle,MATCH(ROWS($D$3:D632),DROPDOWN_AOSuche_Helper2,0)),\"\")","v":""},"Kdo Op","LW","LVb Flab 33","M Flab Abt 34","M Flab Bttr 34/1"]
[null,"Inf RS 2-2",0,{"$f":"IF(C633=1,COUNTIF($C$3:C633,1),\"\")","v":""},{"$f":"IFERROR(INDEX(DROPDOWN_AOSuche_Alle,MATCH(ROWS($D$3:D633),DROPDOWN_AOSuche_Helper2,0)),\"\")","v":""},"Kdo Op","LW","LVb Flab 33","M Flab Abt 34","M Flab Bttr 34/2"]
[null,"Inf RS 2-3",0,{"$f":"IF(C634=1,COUNTIF($C$3:C634,1),\"\")","v":""},{"$f":"IFERROR(INDEX(DROPDOWN_AOSuche_Alle,MATCH(ROWS($D$3:D634),DROPDOWN_AOSuche_Helper2,0)),\"\")","v":""},"Kdo Op","LW","LVb Flab 33","M Flab Abt 45"]
[null,"Inf RS 3-1",0,{"$f":"IF(C635=1,COUNTIF($C$3:C635,1),\"\")","v":""},{"$f":"IFERROR(INDEX(DROPDOWN_AOSuche_Alle,MATCH(ROWS($D$3:D635),DROPDOWN_AOSuche_Helper2,0)),\"\")","v":""},"Kdo Op","LW","LVb Flab 33","M Flab Abt 45","Stab M Flab Abt 45"]
[null,"Inf RS 3-2",0,{"$f":"IF(C636=1,COUNTIF($C$3:C636,1),\"\")","v":""},{"$f":"IFERROR(INDEX(DROPDOWN_AOSuche_Alle,MATCH(ROWS($D$3:D636),DROPDOWN_AOSuche_Helper2,0)),\"\")","v":""},"Kdo Op","LW","LVb Flab 33","M Flab Abt 45","M Flab Stabsbttr 45"]
[null,"Inf RS 3-3",0,{"$f":"IF(C637=1,COUNTIF($C$3:C637,1),\"\")","v":""},{"$f":"IFERROR(INDEX(DROPDOWN_AOSuche_Alle,MATCH(ROWS($D$3:D637),DROPDOWN_AOSuche_Helper2,0)),\"\")","v":""},"Kdo Op","LW","LVb Flab 33","M Flab Abt 45","M Flab Bttr 45/1"]
[null,"Inf RS 5-1",0,{"$f":"IF(C638=1,COUNTIF($C$3:C638,1),\"\")","v":""},{"$f":"IFERROR(INDEX(DROPDOWN_AOSuche_Alle,MATCH(ROWS($D$3:D638),DROPDOWN_AOSuche_Helper2,0)),\"\")","v":""},"Kdo Op","LW","LVb Flab 33","M Flab Abt 45","M Flab Bttr 45/2"]
[null,"Inf RS 5-2",0,{"$f":"IF(C639=1,COUNTIF($C$3:C639,1),\"\")","v":""},{"$f":"IFERROR(INDEX(DROPDOWN_AOSuche_Alle,MATCH(ROWS($D$3:D639),DROPDOWN_AOSuche_Helper2,0)),\"\")","v":""},"Kdo Op","LW","LVb Flab 33","L Flab Lwf Abt 1"]
[null,"Inf RS 5-3",0,{"$f":"IF(C640=1,COUNTIF($C$3:C640,1),\"\")","v":""},{"$f":"IFERROR(INDEX(DROPDOWN_AOSuche_Alle,MATCH(ROWS($D$3:D640),DROPDOWN_AOSuche_Helper2,0)),\"\")","v":""},"Kdo Op","LW","LVb Flab 33","L Flab Lwf Abt 1","Stab L Flab Lwf Abt 1"]
[null,"Inf RS ext Bes Kp 2-1/6",0,{"$f":"IF(C641=1,COUNTIF($C$3:C641,1),\"\")","v":""},{"$f":"IFERROR(INDEX(DROPDOWN_AOSuche_Alle,MATCH(ROWS($D$3:D641),DROPDOWN_AOSuche_Helper2,0)),\"\")","v":""},"Kdo Op","LW","LVb Flab 33","L Flab Lwf Abt 1","L Flab Lwf Stabsbttr 1"]
[null,"Inf RS ext Bes Kp 2-2/6",0,{"$f":"IF(C642=1,COUNTIF($C$3:C642,1),\"\")","v":""},{"$f":"IFERROR(INDEX(DROPDOWN_AOSuche_Alle,MATCH(ROWS($D$3:D642),DROPDOWN_AOSuche_Helper2,0)),\"\")","v":""},"Kdo Op","LW","LVb Flab 33","L Flab Lwf Abt 1","L Flab Lwf Bttr 1/1"]
[null,"Inf RS Inf Bes Kp 11-1/4",{"$f":"--ISNUMBER(IFERROR(SEARCH(AO_Search_Value,B643,1),\"\"))","v":0},{"$f":"IF(C643=1,COUNTIF($C$3:C643,1),\"\")","v":""},{"$f":"IFERROR(INDEX(DROPDOWN_AOSuche_Alle,MATCH(ROWS($D$3:D643),DROPDOWN_AOSuche_Helper2,0)),\"\")","v":""},"Kdo Op","LW","LVb Flab 33","L Flab Lwf Abt 1","L Flab Lwf Bttr 1/2"]
[null,"Inf RS Inf Bes Kp 11-2/4",0,{"$f":"IF(C644=1,COUNTIF($C$3:C644,1),\"\")","v":""},{"$f":"IFERROR(INDEX(DROPDOWN_AOSuche_Alle,MATCH(ROWS($D$3:D644),DROPDOWN_AOSuche_Helper2,0)),\"\")","v":""},"Kdo Op","LW","LVb Flab 33","L Flab Lwf Abt 5"]
[null,"Inf RS Inf Bes Kp 2-1/5",0,{"$f":"IF(C645=1,COUNTIF($C$3:C645,1),\"\")","v":""},{"$f":"IFERROR(INDEX(DROPDOWN_AOSuche_Alle,MATCH(ROWS($D$3:D645),DROPDOWN_AOSuche_Helper2,0)),\"\")","v":""},"Kdo Op","LW","LVb Flab 33","L Flab Lwf Abt 5","Stab L Flab Lwf Abt 5"]
[null,"Inf RS Inf Bes Kp 2-2/5",0,{"$f":"IF(C646=1,COUNTIF($C$3:C646,1),\"\")","v":""},{"$f":"IFERROR(INDEX(DROPDOWN_AOSuche_Alle,MATCH(ROWS($D$3:D646),DROPDOWN_AOSuche_Helper2,0)),\"\")","v":""},"Kdo Op","LW","LVb Flab 33","L Flab Lwf Abt 5","L Flab Lwf Stabsbttr 5"]
[null,"Inf RS Inf Kp 11-1/2",0,{"$f":"IF(C647=1,COUNTIF($C$3:C647,1),\"\")","v":""},{"$f":"IFERROR(INDEX(DROPDOWN_AOSuche_Alle,MATCH(ROWS($D$3:D647),DROPDOWN_AOSuche_Helper2,0)),\"\")","v":""},"Kdo Op","LW","LVb Flab 33","L Flab Lwf Abt 5","L Flab Lwf Bttr 5/1"]
[null,"Inf RS Inf Kp 11-1/3",0,{"$f":"IF(C648=1,COUNTIF($C$3:C648,1),\"\")","v":""},{"$f":"IFERROR(INDEX(DROPDOWN_AOSuche_Alle,MATCH(ROWS($D$3:D648),DROPDOWN_AOSuche_Helper2,0)),\"\")","v":""},"Kdo Op","LW","LVb Flab 33","L Flab Lwf Abt 5","L Flab Lwf Bttr 5/2"]
[null,"Inf RS Inf Kp 11-2/2",0,{"$f":"IF(C649=1,COUNTIF($C$3:C649,1),\"\")","v":""},{"$f":"IFERROR(INDEX(DROPDOWN_AOSuche_Alle,MATCH(ROWS($D$3:D649),DROPDOWN_AOSuche_Helper2,0)),\"\")","v":""},"Kdo Op","LW","LVb Flab 33","L Flab Lwf Abt 7"]
[null,"Inf RS Inf Kp 11-2/3",0,{"$f":"IF(C650=1,COUNTIF($C$3:C650,1),\"\")","v":""},{"$f":"IFERROR(INDEX(DROPDOWN_AOSuche_Alle,MATCH(ROWS($D$3:D650),DROPDOWN_AOSuche_Helper2,0)),\"\")","v":""},"Kdo Op","LW","LVb Flab 33","L Flab Lwf Abt 7","Stab L Flab Lwf Abt 7"]
[null,"Inf RS Inf Kp 12-1/1",0,{"$f":"IF(C651=1,COUNTIF($C$3:C651,1),\"\")","v":""},{"$f":"IFERROR(INDEX(DROPDOWN_AOSuche_Alle,MATCH(ROWS($D$3:D651),DROPDOWN_AOSuche_Helper2,0)),\"\")","v":""},"Kdo Op","LW","LVb Flab 33","L Flab Lwf Abt 7","L Flab Lwf Stabsbttr 7"]
[null,"Inf RS Inf Kp 12-1/2",0,{"$f":"IF(C652=1,COUNTIF($C$3:C652,1),\"\")","v":""},{"$f":"IFERROR(INDEX(DROPDOWN_AOSuche_Alle,MATCH(ROWS($D$3:D652),DROPDOWN_AOSuche_Helper2,0)),\"\")","v":""},"Kdo Op","LW","LVb Flab 33","L Flab Lwf Abt 7","L Flab Lwf Bttr 7/1"]
[null,"Inf RS Inf Kp 12-2/1",0,{"$f":"IF(C653=1,COUNTIF($C$3:C653,1),\"\")","v":""},{"$f":"IFERROR(INDEX(DROPDOWN_AOSuche_Alle,MATCH(ROWS($D$3:D653),DROPDOWN_AOSuche_Helper2,0)),\"\")","v":""},"Kdo Op","LW","LVb Flab 33","L Flab Lwf Abt 7","L Flab Lwf Bttr 7/2"]
[null,"Inf RS Inf Kp 12-2/2",0,{"$f":"IF(C654=1,COUNTIF($C$3:C654,1),\"\")","v":""},{"$f":"IFERROR(INDEX(DROPDOWN_AOSuche_Alle,MATCH(ROWS($D$3:D654),DROPDOWN_AOSuche_Helper2,0)),\"\")","v":""},"Kdo Op","LW","LVb Flab 33","Mob Flab Lwf Abt 4"]
[null,"Inf RS Inf Kp 12-2/5",0,{"$f":"IF(C655=1,COUNTIF($C$3:C655,1),\"\")","v":""},{"$f":"IFERROR(INDEX(DROPDOWN_AOSuche_Alle,MATCH(ROWS($D$3:D655),DROPDOWN_AOSuche_Helper2,0)),\"\")","v":""},"Kdo Op","LW","LVb Flab 33","Mob Flab Lwf Abt 4","Stab Mob Flab Lwf Abt 4"]
[null,"Inf RS Inf Kp 14-2/3",0,{"$f":"IF(C656=1,COUNTIF($C$3:C656,1),\"\")","v":""},{"$f":"IFERROR(INDEX(DROPDOWN_AOSuche_Alle,MATCH(ROWS($D$3:D656),DROPDOWN_AOSuche_Helper2,0)),\"\")","v":""},"Kdo Op","LW","LVb Flab 33","Mob Flab Lwf Abt 4","Mob Flab Lwf Stabsbttr 4"]
[null,"Inf RS Inf Kp 2-1/2",0,{"$f":"IF(C657=1,COUNTIF($C$3:C657,1),\"\")","v":""},{"$f":"IFERROR(INDEX(DROPDOWN_AOSuche_Alle,MATCH(ROWS($D$3:D657),DROPDOWN_AOSuche_Helper2,0)),\"\")","v":""},"Kdo Op","LW","LVb Flab 33","Mob Flab Lwf Abt 4","Mob Flab Lwf Bttr 4/1"]
[null,"Inf RS Inf Kp 2-1/3",0,{"$f":"IF(C658=1,COUNTIF($C$3:C658,1),\"\")","v":""},{"$f":"IFERROR(INDEX(DROPDOWN_AOSuche_Alle,MATCH(ROWS($D$3:D658),DROPDOWN_AOSuche_Helper2,0)),\"\")","v":""},"Kdo Op","LW","LVb Flab 33","Mob Flab Lwf Abt 4","Mob Flab Lwf Bttr 4/2"]
[null,"Inf RS Inf Kp 2-2/2",0,{"$f":"IF(C659=1,COUNTIF($C$3:C659,1),\"\")","v":""},{"$f":"IFERROR(INDEX(DROPDOWN_AOSuche_Alle,MATCH(ROWS($D$3:D659),DROPDOWN_AOSuche_Helper2,0)),\"\")","v":""},"Kdo Op","LW","LVb Flab 33","Mob Flab Lwf Abt 11"]
[null,"Inf RS Inf Kp 2-2/3",0,{"$f":"IF(C660=1,COUNTIF($C$3:C660,1),\"\")","v":""},{"$f":"IFERROR(INDEX(DROPDOWN_AOSuche_Alle,MATCH(ROWS($D$3:D660),DROPDOWN_AOSuche_Helper2,0)),\"\")","v":""},"Kdo Op","LW","LVb Flab 33","Mob Flab Lwf Abt 11","Stab Mob Flab Lwf Abt 11"]
[null,"Inf RS Inf Kp 2-2/7",0,{"$f":"IF(C661=1,COUNTIF($C$3:C661,1),\"\")","v":""},{"$f":"IFERROR(INDEX(DROPDOWN_AOSuche_Alle,MATCH(ROWS($D$3:D661),DROPDOWN_AOSuche_Helper2,0)),\"\")","v":""},"Kdo Op","LW","LVb Flab 33","Mob Flab Lwf Abt 11","Mob Flab Lwf Stabsbttr 11"]
[null,"Inf RS Inf Kp 2-2/8",0,{"$f":"IF(C662=1,COUNTIF($C$3:C662,1),\"\")","v":""},{"$f":"IFERROR(INDEX(DROPDOWN_AOSuche_Alle,MATCH(ROWS($D$3:D662),DROPDOWN_AOSuche_Helper2,0)),\"\")","v":""},"Kdo Op","LW","LVb Flab 33","Mob Flab Lwf Abt 11","Mob Flab Lwf Bttr 11/1"]
[null,"Inf RS Inf Stabskp 11-1/1",0,{"$f":"IF(C663=1,COUNTIF($C$3:C663,1),\"\")","v":""},{"$f":"IFERROR(INDEX(DROPDOWN_AOSuche_Alle,MATCH(ROWS($D$3:D663),DROPDOWN_AOSuche_Helper2,0)),\"\")","v":""},"Kdo Op","LW","LVb Flab 33","Mob Flab Lwf Abt 11","Mob Flab Lwf Bttr 11/2"]
[null,"Inf RS Inf Stabskp 11-2/1",0,{"$f":"IF(C664=1,COUNTIF($C$3:C664,1),\"\")","v":""},{"$f":"IFERROR(INDEX(DROPDOWN_AOSuche_Alle,MATCH(ROWS($D$3:D664),DROPDOWN_AOSuche_Helper2,0)),\"\")","v":""},"Kdo Op","LW","LVb Flab 33","Flab S 33"]
[null,"Inf RS Inf Stabskp 2-1/1",0,{"$f":"IF(C665=1,COUNTIF($C$3:C665,1),\"\")","v":""},{"$f":"IFERROR(INDEX(DROPDOWN_AOSuche_Alle,MATCH(ROWS($D$3:D665),DROPDOWN_AOSuche_Helper2,0)),\"\")","v":""},"Kdo Op","LW","LVb Flab 33","Flab S 33","Flab RS 33-1"]
[null,"Inf RS Inf Stabskp 2-2/1",0,{"$f":"IF(C666=1,COUNTIF($C$3:C666,1),\"\")","v":""},{"$f":"IFERROR(INDEX(DROPDOWN_AOSuche_Alle,MATCH(ROWS($D$3:D666),DROPDOWN_AOSuche_Helper2,0)),\"\")","v":""},"Kdo Op","LW","LVb Flab 33","Flab S 33","Flab RS 33-1","Flab RS 33-1 Bttr 1"]
[null,"Inf RS Inf Ustü Kp 12-1/3",0,{"$f":"IF(C667=1,COUNTIF($C$3:C667,1),\"\")","v":""},{"$f":"IFERROR(INDEX(DROPDOWN_AOSuche_Alle,MATCH(ROWS($D$3:D667),DROPDOWN_AOSuche_Helper2,0)),\"\")","v":""},"Kdo Op","LW","LVb Flab 33","Flab S 33","Flab RS 33-1","Flab RS 33-1 Bttr 2"]
[null,"Inf RS Inf Ustü Kp 12-2/3",0,{"$f":"IF(C668=1,COUNTIF($C$3:C668,1),\"\")","v":""},{"$f":"IFERROR(INDEX(DROPDOWN_AOSuche_Alle,MATCH(ROWS($D$3:D668),DROPDOWN_AOSuche_Helper2,0)),\"\")","v":""},"Kdo Op","LW","LVb Flab 33","Flab S 33","Flab RS 33-1","Flab RS 33-1 Bttr 3"]
[null,"Inf RS Inf Ustü Kp 2-1/4",0,{"$f":"IF(C669=1,COUNTIF($C$3:C669,1),\"\")","v":""},{"$f":"IFERROR(INDEX(DROPDOWN_AOSuche_Alle,MATCH(ROWS($D$3:D669),DROPDOWN_AOSuche_Helper2,0)),\"\")","v":""},"Kdo Op","LW","LVb Flab 33","Flab S 33","Flab RS 33-1","Flab RS 33-1 Bttr 4"]
[null,"Inf RS Inf Ustü Kp 2-2/4",0,{"$f":"IF(C670=1,COUNTIF($C$3:C670,1),\"\")","v":""},{"$f":"IFERROR(INDEX(DROPDOWN_AOSuche_Alle,MATCH(ROWS($D$3:D670),DROPDOWN_AOSuche_Helper2,0)),\"\")","v":""},"Kdo Op","LW","LVb Flab 33","Flab S 33","Flab RS 33-1","Flab RS 33-1 Fahr Ausb EMMEN"]
[null,"Inf RS Si Kp 12-1/4",0,{"$f":"IF(C671=1,COUNTIF($C$3:C671,1),\"\")","v":""},{"$f":"IFERROR(INDEX(DROPDOWN_AOSuche_Alle,MATCH(ROWS($D$3:D671),DROPDOWN_AOSuche_Helper2,0)),\"\")","v":""},"Kdo Op","LW","LVb Flab 33","Flab S 33","Flab RS 33-1","Flab RS 33-1 Fahr Ausb PAYERNE"]
[null,"Inf RS Si Kp 12-2/4",0,{"$f":"IF(C672=1,COUNTIF($C$3:C672,1),\"\")","v":""},{"$f":"IFERROR(INDEX(DROPDOWN_AOSuche_Alle,MATCH(ROWS($D$3:D672),DROPDOWN_AOSuche_Helper2,0)),\"\")","v":""},"Kdo Op","LW","LVb Flab 33","Flab S 33","Flab RS 33-2"]
[null,"Inf S 11",0,{"$f":"IF(C673=1,COUNTIF($C$3:C673,1),\"\")","v":""},{"$f":"IFERROR(INDEX(DROPDOWN_AOSuche_Alle,MATCH(ROWS($D$3:D673),DROPDOWN_AOSuche_Helper2,0)),\"\")","v":""},"Kdo Op","LW","LVb Flab 33","Flab S 33","Flab RS 33-2","Flab RS 33-2 Bttr 1"]
[null,"Inf S 12",0,{"$f":"IF(C674=1,COUNTIF($C$3:C674,1),\"\")","v":""},{"$f":"IFERROR(INDEX(DROPDOWN_AOSuche_Alle,MATCH(ROWS($D$3:D674),DROPDOWN_AOSuche_Helper2,0)),\"\")","v":""},"Kdo Op","LW","LVb Flab 33","Flab S 33","Flab RS 33-2","Flab RS 33-2 Bttr 2"]
[null,"Inf S 2",0,{"$f":"IF(C675=1,COUNTIF($C$3:C675,1),\"\")","v":""},{"$f":"IFERROR(INDEX(DROPDOWN_AOSuche_Alle,MATCH(ROWS($D$3:D675),DROPDOWN_AOSuche_Helper2,0)),\"\")","v":""},"Kdo Op","LW","LVb Flab 33","Flab S 33","Flab RS 33-2","Flab RS 33-2 Bttr 3"]
[null,"Inf S alt",0,{"$f":"IF(C676=1,COUNTIF($C$3:C676,1),\"\")","v":""},{"$f":"IFERROR(INDEX(DROPDOWN_AOSuche_Alle,MATCH(ROWS($D$3:D676),DROPDOWN_AOSuche_Helper2,0)),\"\")","v":""},"Kdo Op","LW","LVb Flab 33","Flab S 33","Flab RS 33-2","Flab RS 33-2 Bttr 4"]
[null,"Inf Stabskp 11",0,{"$f":"IF(C677=1,COUNTIF($C$3:C677,1),\"\")","v":""},{"$f":"IFERROR(INDEX(DROPDOWN_AOSuche_Alle,MATCH(ROWS($D$3:D677),DROPDOWN_AOSuche_Helper2,0)),\"\")","v":""},"Kdo Op","LW","LVb Flab 33","Flab S 33","Flab RS 33-2","Flab RS 33-2 Fahr Ausb EMMEN"]
[null,"Inf Stabskp 13",0,{"$f":"IF(C678=1,COUNTIF($C$3:C678,1),\"\")","v":""},{"$f":"IFERROR(INDEX(DROPDOWN_AOSuche_Alle,MATCH(ROWS($D$3:D678),DROPDOWN_AOSuche_Helper2,0)),\"\")","v":""},"Kdo Op","LW","LVb Flab 33","Flab S 33","Flab RS 33-2","Flab RS 33-2 Fahr Ausb PAYERNE"]
[null,"Inf Stabskp 19",0,{"$f":"IF(C679=1,COUNTIF($C$3:C679,1),\"\")","v":""},{"$f":"IFERROR(INDEX(DROPDOWN_AOSuche_Alle,MATCH(ROWS($D$3:D679),DROPDOWN_AOSuche_Helper2,0)),\"\")","v":""},"Kdo Op","LW","LVb Flab 33","Flab S 33","Flab OS 33-1"]
[null,"Inf Stabskp 20",0,{"$f":"IF(C680=1,COUNTIF($C$3:C680,1),\"\")","v":""},{"$f":"IFERROR(INDEX(DROPDOWN_AOSuche_Alle,MATCH(ROWS($D$3:D680),DROPDOWN_AOSuche_Helper2,0)),\"\")","v":""},"Kdo Op","LW","LVb Flab 33","Flab S 33","Flab OS 33-2"]
[null,"Inf Stabskp 56",0,{"$f":"IF(C681=1,COUNTIF($C$3:C681,1),\"\")","v":""},{"$f":"IFERROR(INDEX(DROPDOWN_AOSuche_Alle,MATCH(ROWS($D$3:D681),DROPDOWN_AOSuche_Helper2,0)),\"\")","v":""},"Kdo Op","LW","LVb Flab 33","Flab S 33","Flab UOS 33-1"]
[null,"Inf Stabskp 61",0,{"$f":"IF(C682=1,COUNTIF($C$3:C682,1),\"\")","v":""},{"$f":"IFERROR(INDEX(DROPDOWN_AOSuche_Alle,MATCH(ROWS($D$3:D682),DROPDOWN_AOSuche_Helper2,0)),\"\")","v":""},"Kdo Op","LW","LVb Flab 33","Flab S 33","Flab UOS 33-2"]
[null,"Inf Stabskp 65",0,{"$f":"IF(C683=1,COUNTIF($C$3:C683,1),\"\")","v":""},{"$f":"IFERROR(INDEX(DROPDOWN_AOSuche_Alle,MATCH(ROWS($D$3:D683),DROPDOWN_AOSuche_Helper2,0)),\"\")","v":""},"Kdo Op","Komp Zen SWISSINT"]
[null,"Inf Stabskp 97",0,{"$f":"IF(C684=1,COUNTIF($C$3:C684,1),\"\")","v":""},{"$f":"IFERROR(INDEX(DROPDOWN_AOSuche_Alle,MATCH(ROWS($D$3:D684),DROPDOWN_AOSuche_Helper2,0)),\"\")","v":""},"Kdo Op","Komp Zen SWISSINT","Stab Komp Zen SWISSINT"]
[null,"Inf UOS 11-1",0,{"$f":"IF(C685=1,COUNTIF($C$3:C685,1),\"\")","v":""},{"$f":"IFERROR(INDEX(DROPDOWN_AOSuche_Alle,MATCH(ROWS($D$3:D685),DROPDOWN_AOSuche_Helper2,0)),\"\")","v":""},"Kdo Op","Komp Zen SWISSINT","Betr Det Komp Zen SWISSINT"]
[null,"Inf UOS 11-1/0, Fz",0,{"$f":"IF(C686=1,COUNTIF($C$3:C686,1),\"\")","v":""},{"$f":"IFERROR(INDEX(DROPDOWN_AOSuche_Alle,MATCH(ROWS($D$3:D686),DROPDOWN_AOSuche_Helper2,0)),\"\")","v":""},"Kdo Op","KSK"]
[null,"Inf UOS 11-2",0,{"$f":"IF(C687=1,COUNTIF($C$3:C687,1),\"\")","v":""},{"$f":"IFERROR(INDEX(DROPDOWN_AOSuche_Alle,MATCH(ROWS($D$3:D687),DROPDOWN_AOSuche_Helper2,0)),\"\")","v":""},"Kdo Op","KSK","Stab KSK"]
[null,"Inf UOS 11-2/0, Fz",0,{"$f":"IF(C688=1,COUNTIF($C$3:C688,1),\"\")","v":""},{"$f":"IFERROR(INDEX(DROPDOWN_AOSuche_Alle,MATCH(ROWS($D$3:D688),DROPDOWN_AOSuche_Helper2,0)),\"\")","v":""},"Kdo Op","KSK","KSK Stabsbat"]
[null,"Inf UOS 12-1",0,{"$f":"IF(C689=1,COUNTIF($C$3:C689,1),\"\")","v":""},{"$f":"IFERROR(INDEX(DROPDOWN_AOSuche_Alle,MATCH(ROWS($D$3:D689),DROPDOWN_AOSuche_Helper2,0)),\"\")","v":""},"Kdo Op","KSK","KSK Stabsbat","Stab KSK Stabsbat"]
[null,"Inf UOS 12-1/0, Fz",0,{"$f":"IF(C690=1,COUNTIF($C$3:C690,1),\"\")","v":""},{"$f":"IFERROR(INDEX(DROPDOWN_AOSuche_Alle,MATCH(ROWS($D$3:D690),DROPDOWN_AOSuche_Helper2,0)),\"\")","v":""},"Kdo Op","KSK","KSK Stabsbat","KSK Stabskp"]
[null,"Inf UOS 12-2",0,{"$f":"IF(C691=1,COUNTIF($C$3:C691,1),\"\")","v":""},{"$f":"IFERROR(INDEX(DROPDOWN_AOSuche_Alle,MATCH(ROWS($D$3:D691),DROPDOWN_AOSuche_Helper2,0)),\"\")","v":""},"Kdo Op","KSK","KSK Stabsbat","KSK Si Kp"]
[null,"Inf UOS 12-2/0, Fz",0,{"$f":"IF(C692=1,COUNTIF($C$3:C692,1),\"\")","v":""},{"$f":"IFERROR(INDEX(DROPDOWN_AOSuche_Alle,MATCH(ROWS($D$3:D692),DROPDOWN_AOSuche_Helper2,0)),\"\")","v":""},"Kdo Op","KSK","KSK Stabsbat","KSK Betr Kp"]
[null,"Inf UOS 2-1",0,{"$f":"IF(C693=1,COUNTIF($C$3:C693,1),\"\")","v":""},{"$f":"IFERROR(INDEX(DROPDOWN_AOSuche_Alle,MATCH(ROWS($D$3:D693),DROPDOWN_AOSuche_Helper2,0)),\"\")","v":""},"Kdo Op","KSK","KSK Stabsbat","Gren ad hoc Kp"]
[null,"Inf UOS 2-1/0, Fz",0,{"$f":"IF(C694=1,COUNTIF($C$3:C694,1),\"\")","v":""},{"$f":"IFERROR(INDEX(DROPDOWN_AOSuche_Alle,MATCH(ROWS($D$3:D694),DROPDOWN_AOSuche_Helper2,0)),\"\")","v":""},"Kdo Op","KSK","Gren Bat 20"]
[null,"Inf UOS 2-2",0,{"$f":"IF(C695=1,COUNTIF($C$3:C695,1),\"\")","v":""},{"$f":"IFERROR(INDEX(DROPDOWN_AOSuche_Alle,MATCH(ROWS($D$3:D695),DROPDOWN_AOSuche_Helper2,0)),\"\")","v":""},"Kdo Op","KSK","Gren Bat 20","Stab Gren Bat 20"]
[null,"Inf UOS 2-2/0, Fz",0,{"$f":"IF(C696=1,COUNTIF($C$3:C696,1),\"\")","v":""},{"$f":"IFERROR(INDEX(DROPDOWN_AOSuche_Alle,MATCH(ROWS($D$3:D696),DROPDOWN_AOSuche_Helper2,0)),\"\")","v":""},"Kdo Op","KSK","Gren Bat 20","Gren Stabskp 20"]
[null,"Inf UOS Kl 11-1/1",0,{"$f":"IF(C697=1,COUNTIF($C$3:C697,1),\"\")","v":""},{"$f":"IFERROR(INDEX(DROPDOWN_AOSuche_Alle,MATCH(ROWS($D$3:D697),DROPDOWN_AOSuche_Helper2,0)),\"\")","v":""},"Kdo Op","KSK","Gren Bat 20","Gren Kp 20/1"]
[null,"Inf UOS Kl 11-1/2",0,{"$f":"IF(C698=1,COUNTIF($C$3:C698,1),\"\")","v":""},{"$f":"IFERROR(INDEX(DROPDOWN_AOSuche_Alle,MATCH(ROWS($D$3:D698),DROPDOWN_AOSuche_Helper2,0)),\"\")","v":""},"Kdo Op","KSK","Gren Bat 20","Gren Kp 20/2"]
[null,"Inf UOS Kl 11-1/3",0,{"$f":"IF(C699=1,COUNTIF($C$3:C699,1),\"\")","v":""},{"$f":"IFERROR(INDEX(DROPDOWN_AOSuche_Alle,MATCH(ROWS($D$3:D699),DROPDOWN_AOSuche_Helper2,0)),\"\")","v":""},"Kdo Op","KSK","Gren Bat 20","Gren Kp 20/3"]
[null,"Inf UOS Kl 11-1/4",0,{"$f":"IF(C700=1,COUNTIF($C$3:C700,1),\"\")","v":""},{"$f":"IFERROR(INDEX(DROPDOWN_AOSuche_Alle,MATCH(ROWS($D$3:D700),DROPDOWN_AOSuche_Helper2,0)),\"\")","v":""},"Kdo Op","KSK","Gren Bat 20","Gren Aufkl Kp 20/4"]
[null,"Inf UOS Kl 11-2/1",0,{"$f":"IF(C701=1,COUNTIF($C$3:C701,1),\"\")","v":""},{"$f":"IFERROR(INDEX(DROPDOWN_AOSuche_Alle,MATCH(ROWS($D$3:D701),DROPDOWN_AOSuche_Helper2,0)),\"\")","v":""},"Kdo Op","KSK","Gren Bat 20","Gren Ustü Kp 20/5"]
[null,"Inf UOS Kl 11-2/2",0,{"$f":"IF(C702=1,COUNTIF($C$3:C702,1),\"\")","v":""},{"$f":"IFERROR(INDEX(DROPDOWN_AOSuche_Alle,MATCH(ROWS($D$3:D702),DROPDOWN_AOSuche_Helper2,0)),\"\")","v":""},"Kdo Op","KSK","Gren Bat 30"]
[null,"Inf UOS Kl 11-2/3",0,{"$f":"IF(C703=1,COUNTIF($C$3:C703,1),\"\")","v":""},{"$f":"IFERROR(INDEX(DROPDOWN_AOSuche_Alle,MATCH(ROWS($D$3:D703),DROPDOWN_AOSuche_Helper2,0)),\"\")","v":""},"Kdo Op","KSK","Gren Bat 30","Stab Gren Bat 30"]
[null,"Inf UOS Kl 11-2/4",0,{"$f":"IF(C704=1,COUNTIF($C$3:C704,1),\"\")","v":""},{"$f":"IFERROR(INDEX(DROPDOWN_AOSuche_Alle,MATCH(ROWS($D$3:D704),DROPDOWN_AOSuche_Helper2,0)),\"\")","v":""},"Kdo Op","KSK","Gren Bat 30","Gren Stabskp 30"]
[null,"Inf UOS Kl 12-1/1",0,{"$f":"IF(C705=1,COUNTIF($C$3:C705,1),\"\")","v":""},{"$f":"IFERROR(INDEX(DROPDOWN_AOSuche_Alle,MATCH(ROWS($D$3:D705),DROPDOWN_AOSuche_Helper2,0)),\"\")","v":""},"Kdo Op","KSK","Gren Bat 30","Gren Kp 30/1"]
[null,"Inf UOS Kl 12-1/2",0,{"$f":"IF(C706=1,COUNTIF($C$3:C706,1),\"\")","v":""},{"$f":"IFERROR(INDEX(DROPDOWN_AOSuche_Alle,MATCH(ROWS($D$3:D706),DROPDOWN_AOSuche_Helper2,0)),\"\")","v":""},"Kdo Op","KSK","Gren Bat 30","Gren Kp 30/2"]
[null,"Inf UOS Kl 12-1/3",{"$f":"--ISNUMBER(IFERROR(SEARCH(AO_Search_Value,B707,1),\"\"))","v":0},{"$f":"IF(C707=1,COUNTIF($C$3:C707,1),\"\")","v":""},{"$f":"IFERROR(INDEX(DROPDOWN_AOSuche_Alle,MATCH(ROWS($D$3:D707),DROPDOWN_AOSuche_Helper2,0)),\"\")","v":""},"Kdo Op","KSK","Gren Bat 30","Gren Kp 30/3"]
[null,"Inf UOS Kl 12-1/4",0,{"$f":"IF(C708=1,COUNTIF($C$3:C708,1),\"\")","v":""},{"$f":"IFERROR(INDEX(DROPDOWN_AOSuche_Alle,MATCH(ROWS($D$3:D708),DROPDOWN_AOSuche_Helper2,0)),\"\")","v":""},"Kdo Op","KSK","Gren Bat 30","Gren Aufkl Kp 30/4"]
[null,"Inf UOS Kl 12-2/1",0,{"$f":"IF(C709=1,COUNTIF($C$3:C709,1),\"\")","v":""},{"$f":"IFERROR(INDEX(DROPDOWN_AOSuche_Alle,MATCH(ROWS($D$3:D709),DROPDOWN_AOSuche_Helper2,0)),\"\")","v":""},"Kdo Op","KSK","A Aufkl Det 10"]
[null,"Inf UOS Kl 12-2/2",0,{"$f":"IF(C710=1,COUNTIF($C$3:C710,1),\"\")","v":""},{"$f":"IFERROR(INDEX(DROPDOWN_AOSuche_Alle,MATCH(ROWS($D$3:D710),DROPDOWN_AOSuche_Helper2,0)),\"\")","v":""},"Kdo Op","KSK","Fsch Aufkl Kp 17"]
[null,"Inf UOS Kl 12-2/3",0,{"$f":"IF(C711=1,COUNTIF($C$3:C711,1),\"\")","v":""},{"$f":"IFERROR(INDEX(DROPDOWN_AOSuche_Alle,MATCH(ROWS($D$3:D711),DROPDOWN_AOSuche_Helper2,0)),\"\")","v":""},"Kdo Op","KSK","MP Spez Det"]
[null,"Inf UOS Kl 12-2/4",0,{"$f":"IF(C712=1,COUNTIF($C$3:C712,1),\"\")","v":""},{"$f":"IFERROR(INDEX(DROPDOWN_AOSuche_Alle,MATCH(ROWS($D$3:D712),DROPDOWN_AOSuche_Helper2,0)),\"\")","v":""},"Kdo Op","KSK","Kdo AZ Spez Kräfte"]
[null,"Inf UOS Kl 12-2/5",0,{"$f":"IF(C713=1,COUNTIF($C$3:C713,1),\"\")","v":""},{"$f":"IFERROR(INDEX(DROPDOWN_AOSuche_Alle,MATCH(ROWS($D$3:D713),DROPDOWN_AOSuche_Helper2,0)),\"\")","v":""},"Kdo Op","KSK","Kdo AZ Spez Kräfte","Stab Kdo AZ Spez Kräfte"]
[null,"Inf UOS Kl 2-1/1",0,{"$f":"IF(C714=1,COUNTIF($C$3:C714,1),\"\")","v":""},{"$f":"IFERROR(INDEX(DROPDOWN_AOSuche_Alle,MATCH(ROWS($D$3:D714),DROPDOWN_AOSuche_Helper2,0)),\"\")","v":""},"Kdo Op","KSK","Kdo AZ Spez Kräfte","Betr Det Kdo AZ Spez Kräfte"]
[null,"Inf UOS Kl 2-1/2",0,{"$f":"IF(C715=1,COUNTIF($C$3:C715,1),\"\")","v":""},{"$f":"IFERROR(INDEX(DROPDOWN_AOSuche_Alle,MATCH(ROWS($D$3:D715),DROPDOWN_AOSuche_Helper2,0)),\"\")","v":""},"Kdo Op","KSK","Kdo AZ Spez Kräfte","Spez Kräfte Ber Det 104"]
[null,"Inf UOS Kl 2-1/3",0,{"$f":"IF(C716=1,COUNTIF($C$3:C716,1),\"\")","v":""},{"$f":"IFERROR(INDEX(DROPDOWN_AOSuche_Alle,MATCH(ROWS($D$3:D716),DROPDOWN_AOSuche_Helper2,0)),\"\")","v":""},"Kdo Op","KSK","Kdo AZ Spez Kräfte","Spez Kräfte Ber Det 204"]
[null,"Inf UOS Kl 2-1/4",0,{"$f":"IF(C717=1,COUNTIF($C$3:C717,1),\"\")","v":""},{"$f":"IFERROR(INDEX(DROPDOWN_AOSuche_Alle,MATCH(ROWS($D$3:D717),DROPDOWN_AOSuche_Helper2,0)),\"\")","v":""},"Kdo Op","KSK","Kdo AZ Spez Kräfte","Spez Kräfte S 1"]
[null,"Inf UOS Kl 2-1/5",0,{"$f":"IF(C718=1,COUNTIF($C$3:C718,1),\"\")","v":""},{"$f":"IFERROR(INDEX(DROPDOWN_AOSuche_Alle,MATCH(ROWS($D$3:D718),DROPDOWN_AOSuche_Helper2,0)),\"\")","v":""},"Kdo Op","KSK","Kdo AZ Spez Kräfte","Spez Kräfte S 1","Gren RS 1-1"]
[null,"Inf UOS Kl 2-1/6",0,{"$f":"IF(C719=1,COUNTIF($C$3:C719,1),\"\")","v":""},{"$f":"IFERROR(INDEX(DROPDOWN_AOSuche_Alle,MATCH(ROWS($D$3:D719),DROPDOWN_AOSuche_Helper2,0)),\"\")","v":""},"Kdo Op","KSK","Kdo AZ Spez Kräfte","Spez Kräfte S 1","Gren RS 1-1","Gren RS Kp 1-1/1"]
[null,"Inf UOS Kl 2-1/7",0,{"$f":"IF(C720=1,COUNTIF($C$3:C720,1),\"\")","v":""},{"$f":"IFERROR(INDEX(DROPDOWN_AOSuche_Alle,MATCH(ROWS($D$3:D720),DROPDOWN_AOSuche_Helper2,0)),\"\")","v":""},"Kdo Op","KSK","Kdo AZ Spez Kräfte","Spez Kräfte S 1","Gren RS 1-2"]
[null,"Inf UOS Kl 2-1/8",0,{"$f":"IF(C721=1,COUNTIF($C$3:C721,1),\"\")","v":""},{"$f":"IFERROR(INDEX(DROPDOWN_AOSuche_Alle,MATCH(ROWS($D$3:D721),DROPDOWN_AOSuche_Helper2,0)),\"\")","v":""},"Kdo Op","KSK","Kdo AZ Spez Kräfte","Spez Kräfte S 1","Gren RS 1-2","Gren RS Kp 1-2/1"]
[null,"Inf UOS Kl 2-2/1",0,{"$f":"IF(C722=1,COUNTIF($C$3:C722,1),\"\")","v":""},{"$f":"IFERROR(INDEX(DROPDOWN_AOSuche_Alle,MATCH(ROWS($D$3:D722),DROPDOWN_AOSuche_Helper2,0)),\"\")","v":""},"Kdo Op","KSK","Kdo AZ Spez Kräfte","Spez Kräfte S 1","Gren UOS 1-1"]
[null,"Inf UOS Kl 2-2/2",0,{"$f":"IF(C723=1,COUNTIF($C$3:C723,1),\"\")","v":""},{"$f":"IFERROR(INDEX(DROPDOWN_AOSuche_Alle,MATCH(ROWS($D$3:D723),DROPDOWN_AOSuche_Helper2,0)),\"\")","v":""},"Kdo Op","KSK","Kdo AZ Spez Kräfte","Spez Kräfte S 1","Gren UOS 1-2"]
[null,"Inf UOS Kl 2-2/3",0,{"$f":"IF(C724=1,COUNTIF($C$3:C724,1),\"\")","v":""},{"$f":"IFERROR(INDEX(DROPDOWN_AOSuche_Alle,MATCH(ROWS($D$3:D724),DROPDOWN_AOSuche_Helper2,0)),\"\")","v":""},"Kdo Op","KSK","Kdo AZ Spez Kräfte","Spez Kräfte S 1","Gren OS 1-1"]
[null,"Inf UOS Kl 2-2/4",0,{"$f":"IF(C725=1,COUNTIF($C$3:C725,1),\"\")","v":""},{"$f":"IFERROR(INDEX(DROPDOWN_AOSuche_Alle,MATCH(ROWS($D$3:D725),DROPDOWN_AOSuche_Helper2,0)),\"\")","v":""},"Kdo Op","KSK","Kdo AZ Spez Kräfte","Spez Kräfte S 1","Gren/Fsch Aufkl OS 1-2"]
[null,"Inf UOS Kl 2-2/5",0,{"$f":"IF(C726=1,COUNTIF($C$3:C726,1),\"\")","v":""},{"$f":"IFERROR(INDEX(DROPDOWN_AOSuche_Alle,MATCH(ROWS($D$3:D726),DROPDOWN_AOSuche_Helper2,0)),\"\")","v":""},"Kdo Op","KSK","Kdo AZ Spez Kräfte","Spez Kräfte S 1","Gren RS 1"]
[null,"Inf UOS Kl 2-2/6",0,{"$f":"IF(C727=1,COUNTIF($C$3:C727,1),\"\")","v":""},{"$f":"IFERROR(INDEX(DROPDOWN_AOSuche_Alle,MATCH(ROWS($D$3:D727),DROPDOWN_AOSuche_Helper2,0)),\"\")","v":""},"Kdo Op","KSK","Kdo AZ Spez Kräfte","Spez Kräfte S 1","Gren RS 2"]
[null,"Inf Ustü Kp 11/4",0,{"$f":"IF(C728=1,COUNTIF($C$3:C728,1),\"\")","v":""},{"$f":"IFERROR(INDEX(DROPDOWN_AOSuche_Alle,MATCH(ROWS($D$3:D728),DROPDOWN_AOSuche_Helper2,0)),\"\")","v":""},"Kdo Op","KSK","Kdo AZ Spez Kräfte","Spez Kräfte S 1","Fsch AufklRS 1-1"]
[null,"Inf Ustü Kp 13/4",0,{"$f":"IF(C729=1,COUNTIF($C$3:C729,1),\"\")","v":""},{"$f":"IFERROR(INDEX(DROPDOWN_AOSuche_Alle,MATCH(ROWS($D$3:D729),DROPDOWN_AOSuche_Helper2,0)),\"\")","v":""},"Kdo Op","KSK","Kdo AZ Spez Kräfte","Spez Kräfte S 1","Gren/Fsch Aufkl UOS 1-2"]
[null,"Inf Ustü Kp 19/4",0,{"$f":"IF(C730=1,COUNTIF($C$3:C730,1),\"\")","v":""},{"$f":"IFERROR(INDEX(DROPDOWN_AOSuche_Alle,MATCH(ROWS($D$3:D730),DROPDOWN_AOSuche_Helper2,0)),\"\")","v":""},"Kdo Op","KSK","Prakt D Bat Kdt SK"]
[null,"Inf Ustü Kp 20/4",0,{"$f":"IF(C731=1,COUNTIF($C$3:C731,1),\"\")","v":""},{"$f":"IFERROR(INDEX(DROPDOWN_AOSuche_Alle,MATCH(ROWS($D$3:D731),DROPDOWN_AOSuche_Helper2,0)),\"\")","v":""},"LBA"]
[null,"Inf Ustü Kp 56/4",0,{"$f":"IF(C732=1,COUNTIF($C$3:C732,1),\"\")","v":""},{"$f":"IFERROR(INDEX(DROPDOWN_AOSuche_Alle,MATCH(ROWS($D$3:D732),DROPDOWN_AOSuche_Helper2,0)),\"\")","v":""},"LBA","Stab LBA"]
[null,"Inf Ustü Kp 61/4",0,{"$f":"IF(C733=1,COUNTIF($C$3:C733,1),\"\")","v":""},{"$f":"IFERROR(INDEX(DROPDOWN_AOSuche_Alle,MATCH(ROWS($D$3:D733),DROPDOWN_AOSuche_Helper2,0)),\"\")","v":""},"LBA","Log Br 1"]
[null,"Inf Ustü Kp 65/4",0,{"$f":"IF(C734=1,COUNTIF($C$3:C734,1),\"\")","v":""},{"$f":"IFERROR(INDEX(DROPDOWN_AOSuche_Alle,MATCH(ROWS($D$3:D734),DROPDOWN_AOSuche_Helper2,0)),\"\")","v":""},"LBA","Log Br 1","Stab Log Br 1"]
[null,"Inf Ustü Kp 97/4",0,{"$f":"IF(C735=1,COUNTIF($C$3:C735,1),\"\")","v":""},{"$f":"IFERROR(INDEX(DROPDOWN_AOSuche_Alle,MATCH(ROWS($D$3:D735),DROPDOWN_AOSuche_Helper2,0)),\"\")","v":""},"LBA","Log Br 1","Log Br Stabskp 1"]
[null,"Infra Bat 1",0,{"$f":"IF(C736=1,COUNTIF($C$3:C736,1),\"\")","v":""},{"$f":"IFERROR(INDEX(DROPDOWN_AOSuche_Alle,MATCH(ROWS($D$3:D736),DROPDOWN_AOSuche_Helper2,0)),\"\")","v":""},"LBA","Log Br 1","Log Ber Kp 104"]
[null,"Infra Kp 1/1",0,{"$f":"IF(C737=1,COUNTIF($C$3:C737,1),\"\")","v":""},{"$f":"IFERROR(INDEX(DROPDOWN_AOSuche_Alle,MATCH(ROWS($D$3:D737),DROPDOWN_AOSuche_Helper2,0)),\"\")","v":""},"LBA","Log Br 1","Log Ber Kp 204"]
[null,"Infra Kp 1/2",0,{"$f":"IF(C738=1,COUNTIF($C$3:C738,1),\"\")","v":""},{"$f":"IFERROR(INDEX(DROPDOWN_AOSuche_Alle,MATCH(ROWS($D$3:D738),DROPDOWN_AOSuche_Helper2,0)),\"\")","v":""},"LBA","Log Br 1","Log Bat 21"]
[null,"Infra Kp 1/3",0,{"$f":"IF(C739=1,COUNTIF($C$3:C739,1),\"\")","v":""},{"$f":"IFERROR(INDEX(DROPDOWN_AOSuche_Alle,MATCH(ROWS($D$3:D739),DROPDOWN_AOSuche_Helper2,0)),\"\")","v":""},"LBA","Log Br 1","Log Bat 21","Stab Log Bat 21"]
[null,"Infra/HQ RS 35-1",0,{"$f":"IF(C740=1,COUNTIF($C$3:C740,1),\"\")","v":""},{"$f":"IFERROR(INDEX(DROPDOWN_AOSuche_Alle,MATCH(ROWS($D$3:D740),DROPDOWN_AOSuche_Helper2,0)),\"\")","v":""},"LBA","Log Br 1","Log Bat 21","Log Stabskp 21"]
[null,"Infra/HQ RS 35-2",0,{"$f":"IF(C741=1,COUNTIF($C$3:C741,1),\"\")","v":""},{"$f":"IFERROR(INDEX(DROPDOWN_AOSuche_Alle,MATCH(ROWS($D$3:D741),DROPDOWN_AOSuche_Helper2,0)),\"\")","v":""},"LBA","Log Br 1","Log Bat 21","Log Kp 21/1"]
[null,"Infra/HQ RS 35-3",0,{"$f":"IF(C742=1,COUNTIF($C$3:C742,1),\"\")","v":""},{"$f":"IFERROR(INDEX(DROPDOWN_AOSuche_Alle,MATCH(ROWS($D$3:D742),DROPDOWN_AOSuche_Helper2,0)),\"\")","v":""},"LBA","Log Br 1","Log Bat 21","Log Kp 21/2"]
[null,"Infra/HQ S alt",0,{"$f":"IF(C743=1,COUNTIF($C$3:C743,1),\"\")","v":""},{"$f":"IFERROR(INDEX(DROPDOWN_AOSuche_Alle,MATCH(ROWS($D$3:D743),DROPDOWN_AOSuche_Helper2,0)),\"\")","v":""},"LBA","Log Br 1","Log Bat 21","Log Kp 21/3"]
[null,"Ing Stab 1",0,{"$f":"IF(C744=1,COUNTIF($C$3:C744,1),\"\")","v":""},{"$f":"IFERROR(INDEX(DROPDOWN_AOSuche_Alle,MATCH(ROWS($D$3:D744),DROPDOWN_AOSuche_Helper2,0)),\"\")","v":""},"LBA","Log Br 1","Log Bat 21","Log Kp 21/4"]
[null,"Ing Stab 2",0,{"$f":"IF(C745=1,COUNTIF($C$3:C745,1),\"\")","v":""},{"$f":"IFERROR(INDEX(DROPDOWN_AOSuche_Alle,MATCH(ROWS($D$3:D745),DROPDOWN_AOSuche_Helper2,0)),\"\")","v":""},"LBA","Log Br 1","Log Bat 51"]
[null,"Ing Stab 3",0,{"$f":"IF(C746=1,COUNTIF($C$3:C746,1),\"\")","v":""},{"$f":"IFERROR(INDEX(DROPDOWN_AOSuche_Alle,MATCH(ROWS($D$3:D746),DROPDOWN_AOSuche_Helper2,0)),\"\")","v":""},"LBA","Log Br 1","Log Bat 51","Stab Log Bat 51"]
[null,"Ing Stab 4",0,{"$f":"IF(C747=1,COUNTIF($C$3:C747,1),\"\")","v":""},{"$f":"IFERROR(INDEX(DROPDOWN_AOSuche_Alle,MATCH(ROWS($D$3:D747),DROPDOWN_AOSuche_Helper2,0)),\"\")","v":""},"LBA","Log Br 1","Log Bat 51","Log Stabskp 51"]
[null,"Ing Stab LW",0,{"$f":"IF(C748=1,COUNTIF($C$3:C748,1),\"\")","v":""},{"$f":"IFERROR(INDEX(DROPDOWN_AOSuche_Alle,MATCH(ROWS($D$3:D748),DROPDOWN_AOSuche_Helper2,0)),\"\")","v":""},"LBA","Log Br 1","Log Bat 51","Log Kp 51/1"]
[null,"IT ERB",0,{"$f":"IF(C749=1,COUNTIF($C$3:C749,1),\"\")","v":""},{"$f":"IFERROR(INDEX(DROPDOWN_AOSuche_Alle,MATCH(ROWS($D$3:D749),DROPDOWN_AOSuche_Helper2,0)),\"\")","v":""},"LBA","Log Br 1","Log Bat 51","Log Kp 51/2"]
[null,"KAMIR Ei Det",0,{"$f":"IF(C750=1,COUNTIF($C$3:C750,1),\"\")","v":""},{"$f":"IFERROR(INDEX(DROPDOWN_AOSuche_Alle,MATCH(ROWS($D$3:D750),DROPDOWN_AOSuche_Helper2,0)),\"\")","v":""},"LBA","Log Br 1","Log Bat 51","Log Kp 51/3"]
[null,"Kata Hi Ber Bat 104",0,{"$f":"IF(C751=1,COUNTIF($C$3:C751,1),\"\")","v":""},{"$f":"IFERROR(INDEX(DROPDOWN_AOSuche_Alle,MATCH(ROWS($D$3:D751),DROPDOWN_AOSuche_Helper2,0)),\"\")","v":""},"LBA","Log Br 1","Log Bat 51","Log Kp 51/4"]
[null,"Kata Hi Ber Bat 204",0,{"$f":"IF(C752=1,COUNTIF($C$3:C752,1),\"\")","v":""},{"$f":"IFERROR(INDEX(DROPDOWN_AOSuche_Alle,MATCH(ROWS($D$3:D752),DROPDOWN_AOSuche_Helper2,0)),\"\")","v":""},"LBA","Log Br 1","Log Bat 52"]
[null,"Kata Hi Ber Kp 104/1",0,{"$f":"IF(C753=1,COUNTIF($C$3:C753,1),\"\")","v":""},{"$f":"IFERROR(INDEX(DROPDOWN_AOSuche_Alle,MATCH(ROWS($D$3:D753),DROPDOWN_AOSuche_Helper2,0)),\"\")","v":""},"LBA","Log Br 1","Log Bat 52","Stab Log Bat 52"]
[null,"Kata Hi Ber Kp 104/2",0,{"$f":"IF(C754=1,COUNTIF($C$3:C754,1),\"\")","v":""},{"$f":"IFERROR(INDEX(DROPDOWN_AOSuche_Alle,MATCH(ROWS($D$3:D754),DROPDOWN_AOSuche_Helper2,0)),\"\")","v":""},"LBA","Log Br 1","Log Bat 52","Log Stabskp 52"]
[null,"Kata Hi Ber Kp 204/1",0,{"$f":"IF(C755=1,COUNTIF($C$3:C755,1),\"\")","v":""},{"$f":"IFERROR(INDEX(DROPDOWN_AOSuche_Alle,MATCH(ROWS($D$3:D755),DROPDOWN_AOSuche_Helper2,0)),\"\")","v":""},"LBA","Log Br 1","Log Bat 52","Log Kp 52/1"]
[null,"Kata Hi Ber Kp 204/2",0,{"$f":"IF(C756=1,COUNTIF($C$3:C756,1),\"\")","v":""},{"$f":"IFERROR(INDEX(DROPDOWN_AOSuche_Alle,MATCH(ROWS($D$3:D756),DROPDOWN_AOSuche_Helper2,0)),\"\")","v":""},"LBA","Log Br 1","Log Bat 52","Log Kp 52/2"]
[null,"Kdo Ausb",0,{"$f":"IF(C757=1,COUNTIF($C$3:C757,1),\"\")","v":""},{"$f":"IFERROR(INDEX(DROPDOWN_AOSuche_Alle,MATCH(ROWS($D$3:D757),DROPDOWN_AOSuche_Helper2,0)),\"\")","v":""},"LBA","Log Br 1","Log Bat 52","Log Kp 52/3"]
[null,"Kdo AZ Spez Kräfte",0,{"$f":"IF(C758=1,COUNTIF($C$3:C758,1),\"\")","v":""},{"$f":"IFERROR(INDEX(DROPDOWN_AOSuche_Alle,MATCH(ROWS($D$3:D758),DROPDOWN_AOSuche_Helper2,0)),\"\")","v":""},"LBA","Log Br 1","Log Bat 52","Log Kp 52/4"]
[null,"Kdo AZA",0,{"$f":"IF(C759=1,COUNTIF($C$3:C759,1),\"\")","v":""},{"$f":"IFERROR(INDEX(DROPDOWN_AOSuche_Alle,MATCH(ROWS($D$3:D759),DROPDOWN_AOSuche_Helper2,0)),\"\")","v":""},"LBA","Log Br 1","Log Bat 92"]
[null,"Kdo BODLUV 2020",0,{"$f":"IF(C760=1,COUNTIF($C$3:C760,1),\"\")","v":""},{"$f":"IFERROR(INDEX(DROPDOWN_AOSuche_Alle,MATCH(ROWS($D$3:D760),DROPDOWN_AOSuche_Helper2,0)),\"\")","v":""},"LBA","Log Br 1","Log Bat 92","Stab Log Bat 92"]
[null,"Kdo BUSA",0,{"$f":"IF(C761=1,COUNTIF($C$3:C761,1),\"\")","v":""},{"$f":"IFERROR(INDEX(DROPDOWN_AOSuche_Alle,MATCH(ROWS($D$3:D761),DROPDOWN_AOSuche_Helper2,0)),\"\")","v":""},"LBA","Log Br 1","Log Bat 92","Log Stabskp 92"]
[null,"Kdo G/Rttg L+K 74",0,{"$f":"IF(C762=1,COUNTIF($C$3:C762,1),\"\")","v":""},{"$f":"IFERROR(INDEX(DROPDOWN_AOSuche_Alle,MATCH(ROWS($D$3:D762),DROPDOWN_AOSuche_Helper2,0)),\"\")","v":""},"LBA","Log Br 1","Log Bat 92","Log Kp 92/1"]
[null,"Kdo Gst S",0,{"$f":"IF(C763=1,COUNTIF($C$3:C763,1),\"\")","v":""},{"$f":"IFERROR(INDEX(DROPDOWN_AOSuche_Alle,MATCH(ROWS($D$3:D763),DROPDOWN_AOSuche_Helper2,0)),\"\")","v":""},"LBA","Log Br 1","Log Bat 92","Log Kp 92/2"]
[null,"Kdo MILAK",0,{"$f":"IF(C764=1,COUNTIF($C$3:C764,1),\"\")","v":""},{"$f":"IFERROR(INDEX(DROPDOWN_AOSuche_Alle,MATCH(ROWS($D$3:D764),DROPDOWN_AOSuche_Helper2,0)),\"\")","v":""},"LBA","Log Br 1","Log Bat 92","Log Kp 92/3"]
[null,"Kdo MP",0,{"$f":"IF(C765=1,COUNTIF($C$3:C765,1),\"\")","v":""},{"$f":"IFERROR(INDEX(DROPDOWN_AOSuche_Alle,MATCH(ROWS($D$3:D765),DROPDOWN_AOSuche_Helper2,0)),\"\")","v":""},"LBA","Log Br 1","Log Bat 92","Log Kp 92/4"]
[null,"Kdo Op",0,{"$f":"IF(C766=1,COUNTIF($C$3:C766,1),\"\")","v":""},{"$f":"IFERROR(INDEX(DROPDOWN_AOSuche_Alle,MATCH(ROWS($D$3:D766),DROPDOWN_AOSuche_Helper2,0)),\"\")","v":""},"LBA","Log Br 1","Log Bat 101"]
[null,"Kdo PDG",0,{"$f":"IF(C767=1,COUNTIF($C$3:C767,1),\"\")","v":""},{"$f":"IFERROR(INDEX(DROPDOWN_AOSuche_Alle,MATCH(ROWS($D$3:D767),DROPDOWN_AOSuche_Helper2,0)),\"\")","v":""},"LBA","Log Br 1","Log Bat 101","Stab Log Bat 101"]
[null,"Kdo Rekr",0,{"$f":"IF(C768=1,COUNTIF($C$3:C768,1),\"\")","v":""},{"$f":"IFERROR(INDEX(DROPDOWN_AOSuche_Alle,MATCH(ROWS($D$3:D768),DROPDOWN_AOSuche_Helper2,0)),\"\")","v":""},"LBA","Log Br 1","Log Bat 101","Log Stabskp 101"]
[null,"Kdo SKS",0,{"$f":"IF(C769=1,COUNTIF($C$3:C769,1),\"\")","v":""},{"$f":"IFERROR(INDEX(DROPDOWN_AOSuche_Alle,MATCH(ROWS($D$3:D769),DROPDOWN_AOSuche_Helper2,0)),\"\")","v":""},"LBA","Log Br 1","Log Bat 101","Log Kp 101/1"]
[null,"Kdo Tng BODLUV 33",0,{"$f":"IF(C770=1,COUNTIF($C$3:C770,1),\"\")","v":""},{"$f":"IFERROR(INDEX(DROPDOWN_AOSuche_Alle,MATCH(ROWS($D$3:D770),DROPDOWN_AOSuche_Helper2,0)),\"\")","v":""},"LBA","Log Br 1","Log Bat 101","Log Kp 101/2"]
[null,"Kdo VBA Inf 18",{"$f":"--ISNUMBER(IFERROR(SEARCH(AO_Search_Value,B771,1),\"\"))","v":0},{"$f":"IF(C771=1,COUNTIF($C$3:C771,1),\"\")","v":""},{"$f":"IFERROR(INDEX(DROPDOWN_AOSuche_Alle,MATCH(ROWS($D$3:D771),DROPDOWN_AOSuche_Helper2,0)),\"\")","v":""},"LBA","Log Br 1","Log Bat 101","Log Kp 101/3"]
[null,"Kdo Vsu/VBA 2",0,{"$f":"IF(C772=1,COUNTIF($C$3:C772,1),\"\")","v":""},{"$f":"IFERROR(INDEX(DROPDOWN_AOSuche_Alle,MATCH(ROWS($D$3:D772),DROPDOWN_AOSuche_Helper2,0)),\"\")","v":""},"LBA","Log Br 1","Log Bat 101","Log Kp 101/4"]
[null,"Kdo ZS",0,{"$f":"IF(C773=1,COUNTIF($C$3:C773,1),\"\")","v":""},{"$f":"IFERROR(INDEX(DROPDOWN_AOSuche_Alle,MATCH(ROWS($D$3:D773),DROPDOWN_AOSuche_Helper2,0)),\"\")","v":""},"LBA","Log Br 1","Log Sup Bat 61"]
[null,"Komp Zen ABC/KAMIR",0,{"$f":"IF(C774=1,COUNTIF($C$3:C774,1),\"\")","v":""},{"$f":"IFERROR(INDEX(DROPDOWN_AOSuche_Alle,MATCH(ROWS($D$3:D774),DROPDOWN_AOSuche_Helper2,0)),\"\")","v":""},"LBA","Log Br 1","Log Sup Bat 61","Stab Log Sup Bat 61"]
[null,"Komp Zen FFS",0,{"$f":"IF(C775=1,COUNTIF($C$3:C775,1),\"\")","v":""},{"$f":"IFERROR(INDEX(DROPDOWN_AOSuche_Alle,MATCH(ROWS($D$3:D775),DROPDOWN_AOSuche_Helper2,0)),\"\")","v":""},"LBA","Log Br 1","Log Sup Bat 61","Log Sup Kp 61/1"]
[null,"Komp Zen Geb D A",0,{"$f":"IF(C776=1,COUNTIF($C$3:C776,1),\"\")","v":""},{"$f":"IFERROR(INDEX(DROPDOWN_AOSuche_Alle,MATCH(ROWS($D$3:D776),DROPDOWN_AOSuche_Helper2,0)),\"\")","v":""},"LBA","Log Br 1","Log Sup Bat 61","Log Sup Kp 61/2"]
[null,"Komp Zen Mil Musik",0,{"$f":"IF(C777=1,COUNTIF($C$3:C777,1),\"\")","v":""},{"$f":"IFERROR(INDEX(DROPDOWN_AOSuche_Alle,MATCH(ROWS($D$3:D777),DROPDOWN_AOSuche_Helper2,0)),\"\")","v":""},"LBA","Log Br 1","Log Sup Bat 61","Log Sup Kp 61/3"]
[null,"Komp Zen MP",0,{"$f":"IF(C778=1,COUNTIF($C$3:C778,1),\"\")","v":""},{"$f":"IFERROR(INDEX(DROPDOWN_AOSuche_Alle,MATCH(ROWS($D$3:D778),DROPDOWN_AOSuche_Helper2,0)),\"\")","v":""},"LBA","Log Br 1","Log Sup Bat 61","Log Sup Kp 61/4"]
[null,"Komp Zen Sport A",0,{"$f":"IF(C779=1,COUNTIF($C$3:C779,1),\"\")","v":""},{"$f":"IFERROR(INDEX(DROPDOWN_AOSuche_Alle,MATCH(ROWS($D$3:D779),DROPDOWN_AOSuche_Helper2,0)),\"\")","v":""},"LBA","Log Br 1","Log Sup Bat 61","Log Sup Kp 61/5"]
[null,"Komp Zen SWISSINT",0,{"$f":"IF(C780=1,COUNTIF($C$3:C780,1),\"\")","v":""},{"$f":"IFERROR(INDEX(DROPDOWN_AOSuche_Alle,MATCH(ROWS($D$3:D780),DROPDOWN_AOSuche_Helper2,0)),\"\")","v":""},"LBA","Log Br 1","Log Sup Bat 61","Log Betr Kp 61/6"]
[null,"Komp Zen Vet D u A Tiere",0,{"$f":"IF(C781=1,COUNTIF($C$3:C781,1),\"\")","v":""},{"$f":"IFERROR(INDEX(DROPDOWN_AOSuche_Alle,MATCH(ROWS($D$3:D781),DROPDOWN_AOSuche_Helper2,0)),\"\")","v":""},"LBA","Log Br 1","VT Bat 1"]
[null,"Koord Stelle 1",0,{"$f":"IF(C782=1,COUNTIF($C$3:C782,1),\"\")","v":""},{"$f":"IFERROR(INDEX(DROPDOWN_AOSuche_Alle,MATCH(ROWS($D$3:D782),DROPDOWN_AOSuche_Helper2,0)),\"\")","v":""},"LBA","Log Br 1","VT Bat 1","Stab VT Bat 1"]
[null,"Koord Stelle 2",0,{"$f":"IF(C783=1,COUNTIF($C$3:C783,1),\"\")","v":""},{"$f":"IFERROR(INDEX(DROPDOWN_AOSuche_Alle,MATCH(ROWS($D$3:D783),DROPDOWN_AOSuche_Helper2,0)),\"\")","v":""},"LBA","Log Br 1","VT Bat 1","VT Stabskp 1"]
[null,"Koord Stelle 3",0,{"$f":"IF(C784=1,COUNTIF($C$3:C784,1),\"\")","v":""},{"$f":"IFERROR(INDEX(DROPDOWN_AOSuche_Alle,MATCH(ROWS($D$3:D784),DROPDOWN_AOSuche_Helper2,0)),\"\")","v":""},"LBA","Log Br 1","VT Bat 1","Vrk Kp 1/1"]
[null,"Koord Stelle 4",0,{"$f":"IF(C785=1,COUNTIF($C$3:C785,1),\"\")","v":""},{"$f":"IFERROR(INDEX(DROPDOWN_AOSuche_Alle,MATCH(ROWS($D$3:D785),DROPDOWN_AOSuche_Helper2,0)),\"\")","v":""},"LBA","Log Br 1","VT Bat 1","Vrk Kp 1/2"]
[null,"KSK",0,{"$f":"IF(C786=1,COUNTIF($C$3:C786,1),\"\")","v":""},{"$f":"IFERROR(INDEX(DROPDOWN_AOSuche_Alle,MATCH(ROWS($D$3:D786),DROPDOWN_AOSuche_Helper2,0)),\"\")","v":""},"LBA","Log Br 1","VT Bat 1","Vrk Kp 1/3"]
[null,"KSK Betr Kp",0,{"$f":"IF(C787=1,COUNTIF($C$3:C787,1),\"\")","v":""},{"$f":"IFERROR(INDEX(DROPDOWN_AOSuche_Alle,MATCH(ROWS($D$3:D787),DROPDOWN_AOSuche_Helper2,0)),\"\")","v":""},"LBA","Log Br 1","VT Bat 1","Trsp Kp 1/4"]
[null,"KSK Si Kp",0,{"$f":"IF(C788=1,COUNTIF($C$3:C788,1),\"\")","v":""},{"$f":"IFERROR(INDEX(DROPDOWN_AOSuche_Alle,MATCH(ROWS($D$3:D788),DROPDOWN_AOSuche_Helper2,0)),\"\")","v":""},"LBA","Log Br 1","VT Bat 1","Trsp Kp 1/5"]
[null,"KSK Stabsbat",0,{"$f":"IF(C789=1,COUNTIF($C$3:C789,1),\"\")","v":""},{"$f":"IFERROR(INDEX(DROPDOWN_AOSuche_Alle,MATCH(ROWS($D$3:D789),DROPDOWN_AOSuche_Helper2,0)),\"\")","v":""},"LBA","Log Br 1","VT Bat 1","Trsp Kp 1/6"]
[null,"KSK Stabskp",0,{"$f":"IF(C790=1,COUNTIF($C$3:C790,1),\"\")","v":""},{"$f":"IFERROR(INDEX(DROPDOWN_AOSuche_Alle,MATCH(ROWS($D$3:D790),DROPDOWN_AOSuche_Helper2,0)),\"\")","v":""},"LBA","Log Br 1","Infra Bat 1"]
[null,"Kü C LG 48",0,{"$f":"IF(C791=1,COUNTIF($C$3:C791,1),\"\")","v":""},{"$f":"IFERROR(INDEX(DROPDOWN_AOSuche_Alle,MATCH(ROWS($D$3:D791),DROPDOWN_AOSuche_Helper2,0)),\"\")","v":""},"LBA","Log Br 1","Infra Bat 1","Stab Infra Bat 1"]
[null,"Kü C UOS 48-1",0,{"$f":"IF(C792=1,COUNTIF($C$3:C792,1),\"\")","v":""},{"$f":"IFERROR(INDEX(DROPDOWN_AOSuche_Alle,MATCH(ROWS($D$3:D792),DROPDOWN_AOSuche_Helper2,0)),\"\")","v":""},"LBA","Log Br 1","Infra Bat 1","Infra Kp 1/1"]
[null,"Kü C UOS 48-2",0,{"$f":"IF(C793=1,COUNTIF($C$3:C793,1),\"\")","v":""},{"$f":"IFERROR(INDEX(DROPDOWN_AOSuche_Alle,MATCH(ROWS($D$3:D793),DROPDOWN_AOSuche_Helper2,0)),\"\")","v":""},"LBA","Log Br 1","Infra Bat 1","Infra Kp 1/2"]
[null,"L Flab Lwf Abt 1",0,{"$f":"IF(C794=1,COUNTIF($C$3:C794,1),\"\")","v":""},{"$f":"IFERROR(INDEX(DROPDOWN_AOSuche_Alle,MATCH(ROWS($D$3:D794),DROPDOWN_AOSuche_Helper2,0)),\"\")","v":""},"LBA","Log Br 1","Infra Bat 1","Infra Kp 1/3"]
[null,"L Flab Lwf Abt 5",0,{"$f":"IF(C795=1,COUNTIF($C$3:C795,1),\"\")","v":""},{"$f":"IFERROR(INDEX(DROPDOWN_AOSuche_Alle,MATCH(ROWS($D$3:D795),DROPDOWN_AOSuche_Helper2,0)),\"\")","v":""},"LBA","Log Br 1","Spit Bat 2"]
[null,"L Flab Lwf Abt 7",0,{"$f":"IF(C796=1,COUNTIF($C$3:C796,1),\"\")","v":""},{"$f":"IFERROR(INDEX(DROPDOWN_AOSuche_Alle,MATCH(ROWS($D$3:D796),DROPDOWN_AOSuche_Helper2,0)),\"\")","v":""},"LBA","Log Br 1","Spit Bat 2","Stab Spit Bat 2"]
[null,"L Flab Lwf Bttr 1/1",0,{"$f":"IF(C797=1,COUNTIF($C$3:C797,1),\"\")","v":""},{"$f":"IFERROR(INDEX(DROPDOWN_AOSuche_Alle,MATCH(ROWS($D$3:D797),DROPDOWN_AOSuche_Helper2,0)),\"\")","v":""},"LBA","Log Br 1","Spit Bat 2","Spit Stabskp 2"]
[null,"L Flab Lwf Bttr 1/2",0,{"$f":"IF(C798=1,COUNTIF($C$3:C798,1),\"\")","v":""},{"$f":"IFERROR(INDEX(DROPDOWN_AOSuche_Alle,MATCH(ROWS($D$3:D798),DROPDOWN_AOSuche_Helper2,0)),\"\")","v":""},"LBA","Log Br 1","Spit Bat 2","Spit Kp 2/1"]
[null,"L Flab Lwf Bttr 5/1",0,{"$f":"IF(C799=1,COUNTIF($C$3:C799,1),\"\")","v":""},{"$f":"IFERROR(INDEX(DROPDOWN_AOSuche_Alle,MATCH(ROWS($D$3:D799),DROPDOWN_AOSuche_Helper2,0)),\"\")","v":""},"LBA","Log Br 1","Spit Bat 2","Spit Kp 2/2"]
[null,"L Flab Lwf Bttr 5/2",0,{"$f":"IF(C800=1,COUNTIF($C$3:C800,1),\"\")","v":""},{"$f":"IFERROR(INDEX(DROPDOWN_AOSuche_Alle,MATCH(ROWS($D$3:D800),DROPDOWN_AOSuche_Helper2,0)),\"\")","v":""},"LBA","Log Br 1","Spit Bat 5"]
[null,"L Flab Lwf Bttr 7/1",0,{"$f":"IF(C801=1,COUNTIF($C$3:C801,1),\"\")","v":""},{"$f":"IFERROR(INDEX(DROPDOWN_AOSuche_Alle,MATCH(ROWS($D$3:D801),DROPDOWN_AOSuche_Helper2,0)),\"\")","v":""},"LBA","Log Br 1","Spit Bat 5","Stab Spit Bat 5"]
[null,"L Flab Lwf Bttr 7/2",0,{"$f":"IF(C802=1,COUNTIF($C$3:C802,1),\"\")","v":""},{"$f":"IFERROR(INDEX(DROPDOWN_AOSuche_Alle,MATCH(ROWS($D$3:D802),DROPDOWN_AOSuche_Helper2,0)),\"\")","v":""},"LBA","Log Br 1","Spit Bat 5","Spit Stabskp 5"]
[null,"L Flab Lwf Stabsbttr 1",0,{"$f":"IF(C803=1,COUNTIF($C$3:C803,1),\"\")","v":""},{"$f":"IFERROR(INDEX(DROPDOWN_AOSuche_Alle,MATCH(ROWS($D$3:D803),DROPDOWN_AOSuche_Helper2,0)),\"\")","v":""},"LBA","Log Br 1","Spit Bat 5","Spit Kp 5/1"]
[null,"L Flab Lwf Stabsbttr 5",0,{"$f":"IF(C804=1,COUNTIF($C$3:C804,1),\"\")","v":""},{"$f":"IFERROR(INDEX(DROPDOWN_AOSuche_Alle,MATCH(ROWS($D$3:D804),DROPDOWN_AOSuche_Helper2,0)),\"\")","v":""},"LBA","Log Br 1","Spit Bat 5","Spit Kp 5/2"]
[null,"L Flab Lwf Stabsbttr 7",0,{"$f":"IF(C805=1,COUNTIF($C$3:C805,1),\"\")","v":""},{"$f":"IFERROR(INDEX(DROPDOWN_AOSuche_Alle,MATCH(ROWS($D$3:D805),DROPDOWN_AOSuche_Helper2,0)),\"\")","v":""},"LBA","Log Br 1","Spit Bat 66"]
[null,"LBA",0,{"$f":"IF(C806=1,COUNTIF($C$3:C806,1),\"\")","v":""},{"$f":"IFERROR(INDEX(DROPDOWN_AOSuche_Alle,MATCH(ROWS($D$3:D806),DROPDOWN_AOSuche_Helper2,0)),\"\")","v":""},"LBA","Log Br 1","Spit Bat 66","Stab Spit Bat 66"]
[null,"Log Bat 101",0,{"$f":"IF(C807=1,COUNTIF($C$3:C807,1),\"\")","v":""},{"$f":"IFERROR(INDEX(DROPDOWN_AOSuche_Alle,MATCH(ROWS($D$3:D807),DROPDOWN_AOSuche_Helper2,0)),\"\")","v":""},"LBA","Log Br 1","Spit Bat 66","Spit Stabskp 66"]
[null,"Log Bat 21",0,{"$f":"IF(C808=1,COUNTIF($C$3:C808,1),\"\")","v":""},{"$f":"IFERROR(INDEX(DROPDOWN_AOSuche_Alle,MATCH(ROWS($D$3:D808),DROPDOWN_AOSuche_Helper2,0)),\"\")","v":""},"LBA","Log Br 1","Spit Bat 66","Spit Kp 66/1"]
[null,"Log Bat 51",0,{"$f":"IF(C809=1,COUNTIF($C$3:C809,1),\"\")","v":""},{"$f":"IFERROR(INDEX(DROPDOWN_AOSuche_Alle,MATCH(ROWS($D$3:D809),DROPDOWN_AOSuche_Helper2,0)),\"\")","v":""},"LBA","Log Br 1","Spit Bat 66","Spit Kp 66/2"]
[null,"Log Bat 52",0,{"$f":"IF(C810=1,COUNTIF($C$3:C810,1),\"\")","v":""},{"$f":"IFERROR(INDEX(DROPDOWN_AOSuche_Alle,MATCH(ROWS($D$3:D810),DROPDOWN_AOSuche_Helper2,0)),\"\")","v":""},"LBA","Log Br 1","Spit Bat 75"]
[null,"Log Bat 92",0,{"$f":"IF(C811=1,COUNTIF($C$3:C811,1),\"\")","v":""},{"$f":"IFERROR(INDEX(DROPDOWN_AOSuche_Alle,MATCH(ROWS($D$3:D811),DROPDOWN_AOSuche_Helper2,0)),\"\")","v":""},"LBA","Log Br 1","Spit Bat 75","Stab Spit Bat 75"]
[null,"Log Ber Kp 104",0,{"$f":"IF(C812=1,COUNTIF($C$3:C812,1),\"\")","v":""},{"$f":"IFERROR(INDEX(DROPDOWN_AOSuche_Alle,MATCH(ROWS($D$3:D812),DROPDOWN_AOSuche_Helper2,0)),\"\")","v":""},"LBA","Log Br 1","Spit Bat 75","Spit Stabskp 75"]
[null,"Log Ber Kp 204",0,{"$f":"IF(C813=1,COUNTIF($C$3:C813,1),\"\")","v":""},{"$f":"IFERROR(INDEX(DROPDOWN_AOSuche_Alle,MATCH(ROWS($D$3:D813),DROPDOWN_AOSuche_Helper2,0)),\"\")","v":""},"LBA","Log Br 1","Spit Bat 75","Spit Kp 75/1"]
[null,"Log Betr Kp 61/6",0,{"$f":"IF(C814=1,COUNTIF($C$3:C814,1),\"\")","v":""},{"$f":"IFERROR(INDEX(DROPDOWN_AOSuche_Alle,MATCH(ROWS($D$3:D814),DROPDOWN_AOSuche_Helper2,0)),\"\")","v":""},"LBA","Log Br 1","Spit Bat 75","Spit Kp 75/2"]
[null,"Log Br 1",0,{"$f":"IF(C815=1,COUNTIF($C$3:C815,1),\"\")","v":""},{"$f":"IFERROR(INDEX(DROPDOWN_AOSuche_Alle,MATCH(ROWS($D$3:D815),DROPDOWN_AOSuche_Helper2,0)),\"\")","v":""},"LBA","Log Br 1","San Log Bat 81"]
[null,"Log Br Stabskp 1",0,{"$f":"IF(C816=1,COUNTIF($C$3:C816,1),\"\")","v":""},{"$f":"IFERROR(INDEX(DROPDOWN_AOSuche_Alle,MATCH(ROWS($D$3:D816),DROPDOWN_AOSuche_Helper2,0)),\"\")","v":""},"LBA","Log Br 1","San Log Bat 81","Stab San Log Bat 81"]
[null,"Log Kp 101/1",0,{"$f":"IF(C817=1,COUNTIF($C$3:C817,1),\"\")","v":""},{"$f":"IFERROR(INDEX(DROPDOWN_AOSuche_Alle,MATCH(ROWS($D$3:D817),DROPDOWN_AOSuche_Helper2,0)),\"\")","v":""},"LBA","Log Br 1","San Log Bat 81","San Log Kp 81/1"]
[null,"Log Kp 101/2",0,{"$f":"IF(C818=1,COUNTIF($C$3:C818,1),\"\")","v":""},{"$f":"IFERROR(INDEX(DROPDOWN_AOSuche_Alle,MATCH(ROWS($D$3:D818),DROPDOWN_AOSuche_Helper2,0)),\"\")","v":""},"LBA","Log Br 1","San Log Bat 81","San Log Kp 81/2"]
[null,"Log Kp 101/3",0,{"$f":"IF(C819=1,COUNTIF($C$3:C819,1),\"\")","v":""},{"$f":"IFERROR(INDEX(DROPDOWN_AOSuche_Alle,MATCH(ROWS($D$3:D819),DROPDOWN_AOSuche_Helper2,0)),\"\")","v":""},"LBA","Log Br 1","San Log Bat 81","San Log Kp 81/3"]
[null,"Log Kp 101/4",0,{"$f":"IF(C820=1,COUNTIF($C$3:C820,1),\"\")","v":""},{"$f":"IFERROR(INDEX(DROPDOWN_AOSuche_Alle,MATCH(ROWS($D$3:D820),DROPDOWN_AOSuche_Helper2,0)),\"\")","v":""},"LBA","Log Br 1","San Sup Bat 9"]
[null,"Log Kp 21/1",0,{"$f":"IF(C821=1,COUNTIF($C$3:C821,1),\"\")","v":""},{"$f":"IFERROR(INDEX(DROPDOWN_AOSuche_Alle,MATCH(ROWS($D$3:D821),DROPDOWN_AOSuche_Helper2,0)),\"\")","v":""},"LBA","Log Br 1","San Sup Bat 9","Stab San Sup Bat 9"]
[null,"Log Kp 21/2",0,{"$f":"IF(C822=1,COUNTIF($C$3:C822,1),\"\")","v":""},{"$f":"IFERROR(INDEX(DROPDOWN_AOSuche_Alle,MATCH(ROWS($D$3:D822),DROPDOWN_AOSuche_Helper2,0)),\"\")","v":""},"LBA","Log Br 1","San Sup Bat 9","San Sup Kp 9/1"]
[null,"Log Kp 21/3",0,{"$f":"IF(C823=1,COUNTIF($C$3:C823,1),\"\")","v":""},{"$f":"IFERROR(INDEX(DROPDOWN_AOSuche_Alle,MATCH(ROWS($D$3:D823),DROPDOWN_AOSuche_Helper2,0)),\"\")","v":""},"LBA","Log Br 1","San Sup Bat 9","San Sup Kp 9/2"]
[null,"Log Kp 21/4",0,{"$f":"IF(C824=1,COUNTIF($C$3:C824,1),\"\")","v":""},{"$f":"IFERROR(INDEX(DROPDOWN_AOSuche_Alle,MATCH(ROWS($D$3:D824),DROPDOWN_AOSuche_Helper2,0)),\"\")","v":""},"LBA","Log Br 1","San Sup Bat 9","San Sup Kp 9/3"]
[null,"Log Kp 51/1",0,{"$f":"IF(C825=1,COUNTIF($C$3:C825,1),\"\")","v":""},{"$f":"IFERROR(INDEX(DROPDOWN_AOSuche_Alle,MATCH(ROWS($D$3:D825),DROPDOWN_AOSuche_Helper2,0)),\"\")","v":""},"LBA","Log Br 1","San Sup Bat 9","San Sup Kp 9/4"]
[null,"Log Kp 51/2",0,{"$f":"IF(C826=1,COUNTIF($C$3:C826,1),\"\")","v":""},{"$f":"IFERROR(INDEX(DROPDOWN_AOSuche_Alle,MATCH(ROWS($D$3:D826),DROPDOWN_AOSuche_Helper2,0)),\"\")","v":""},"LBA","Stab San"]
[null,"Log Kp 51/3",0,{"$f":"IF(C827=1,COUNTIF($C$3:C827,1),\"\")","v":""},{"$f":"IFERROR(INDEX(DROPDOWN_AOSuche_Alle,MATCH(ROWS($D$3:D827),DROPDOWN_AOSuche_Helper2,0)),\"\")","v":""},"FUB"]
[null,"Log Kp 51/4",0,{"$f":"IF(C828=1,COUNTIF($C$3:C828,1),\"\")","v":""},{"$f":"IFERROR(INDEX(DROPDOWN_AOSuche_Alle,MATCH(ROWS($D$3:D828),DROPDOWN_AOSuche_Helper2,0)),\"\")","v":""},"FUB","Stab FUB"]
[null,"Log Kp 52/1",0,{"$f":"IF(C829=1,COUNTIF($C$3:C829,1),\"\")","v":""},{"$f":"IFERROR(INDEX(DROPDOWN_AOSuche_Alle,MATCH(ROWS($D$3:D829),DROPDOWN_AOSuche_Helper2,0)),\"\")","v":""},"FUB","Fachstab Tc"]
[null,"Log Kp 52/2",0,{"$f":"IF(C830=1,COUNTIF($C$3:C830,1),\"\")","v":""},{"$f":"IFERROR(INDEX(DROPDOWN_AOSuche_Alle,MATCH(ROWS($D$3:D830),DROPDOWN_AOSuche_Helper2,0)),\"\")","v":""},"FUB","FU Br 41"]
[null,"Log Kp 52/3",0,{"$f":"IF(C831=1,COUNTIF($C$3:C831,1),\"\")","v":""},{"$f":"IFERROR(INDEX(DROPDOWN_AOSuche_Alle,MATCH(ROWS($D$3:D831),DROPDOWN_AOSuche_Helper2,0)),\"\")","v":""},"FUB","FU Br 41","Stab FU Br 41"]
[null,"Log Kp 52/4",0,{"$f":"IF(C832=1,COUNTIF($C$3:C832,1),\"\")","v":""},{"$f":"IFERROR(INDEX(DROPDOWN_AOSuche_Alle,MATCH(ROWS($D$3:D832),DROPDOWN_AOSuche_Helper2,0)),\"\")","v":""},"FUB","FU Br 41","FU Ber Kp 104"]
[null,"Log Kp 92/1",0,{"$f":"IF(C833=1,COUNTIF($C$3:C833,1),\"\")","v":""},{"$f":"IFERROR(INDEX(DROPDOWN_AOSuche_Alle,MATCH(ROWS($D$3:D833),DROPDOWN_AOSuche_Helper2,0)),\"\")","v":""},"FUB","FU Br 41","FU Ber Kp 204"]
[null,"Log Kp 92/2",0,{"$f":"IF(C834=1,COUNTIF($C$3:C834,1),\"\")","v":""},{"$f":"IFERROR(INDEX(DROPDOWN_AOSuche_Alle,MATCH(ROWS($D$3:D834),DROPDOWN_AOSuche_Helper2,0)),\"\")","v":""},"FUB","FU Br 41","Kdo SKS"]
[null,"Log Kp 92/3",{"$f":"--ISNUMBER(IFERROR(SEARCH(AO_Search_Value,B835,1),\"\"))","v":0},{"$f":"IF(C835=1,COUNTIF($C$3:C835,1),\"\")","v":""},{"$f":"IFERROR(INDEX(DROPDOWN_AOSuche_Alle,MATCH(ROWS($D$3:D835),DROPDOWN_AOSuche_Helper2,0)),\"\")","v":""},"FUB","FU Br 41","Kdo SKS","Stab Kdo SKS"]
[null,"Log Kp 92/4",0,{"$f":"IF(C836=1,COUNTIF($C$3:C836,1),\"\")","v":""},{"$f":"IFERROR(INDEX(DROPDOWN_AOSuche_Alle,MATCH(ROWS($D$3:D836),DROPDOWN_AOSuche_Helper2,0)),\"\")","v":""},"FUB","FU Br 41","Kdo SKS","Betr Det Kdo SKS"]
[null,"Log OS 40",0,{"$f":"IF(C837=1,COUNTIF($C$3:C837,1),\"\")","v":""},{"$f":"IFERROR(INDEX(DROPDOWN_AOSuche_Alle,MATCH(ROWS($D$3:D837),DROPDOWN_AOSuche_Helper2,0)),\"\")","v":""},"FUB","FU Br 41","FU Bat 41"]
[null,"Log OS 40-1",0,{"$f":"IF(C838=1,COUNTIF($C$3:C838,1),\"\")","v":""},{"$f":"IFERROR(INDEX(DROPDOWN_AOSuche_Alle,MATCH(ROWS($D$3:D838),DROPDOWN_AOSuche_Helper2,0)),\"\")","v":""},"FUB","FU Br 41","FU Bat 41","Stab FU Bat 41"]
[null,"Log OS 40-2",0,{"$f":"IF(C839=1,COUNTIF($C$3:C839,1),\"\")","v":""},{"$f":"IFERROR(INDEX(DROPDOWN_AOSuche_Alle,MATCH(ROWS($D$3:D839),DROPDOWN_AOSuche_Helper2,0)),\"\")","v":""},"FUB","FU Br 41","FU Bat 41","FU Stabskp 41"]
[null,"Log OS Fach D VT 47-1",0,{"$f":"IF(C840=1,COUNTIF($C$3:C840,1),\"\")","v":""},{"$f":"IFERROR(INDEX(DROPDOWN_AOSuche_Alle,MATCH(ROWS($D$3:D840),DROPDOWN_AOSuche_Helper2,0)),\"\")","v":""},"FUB","FU Br 41","FU Bat 41","Ik Kp 41/1"]
[null,"Log OS Fach D VT 47-3",0,{"$f":"IF(C841=1,COUNTIF($C$3:C841,1),\"\")","v":""},{"$f":"IFERROR(INDEX(DROPDOWN_AOSuche_Alle,MATCH(ROWS($D$3:D841),DROPDOWN_AOSuche_Helper2,0)),\"\")","v":""},"FUB","FU Br 41","FU Bat 41","Ssp Kp 41/2"]
[null,"Log Stabskp 101",0,{"$f":"IF(C842=1,COUNTIF($C$3:C842,1),\"\")","v":""},{"$f":"IFERROR(INDEX(DROPDOWN_AOSuche_Alle,MATCH(ROWS($D$3:D842),DROPDOWN_AOSuche_Helper2,0)),\"\")","v":""},"FUB","FU Br 41","FU Bat 41","FIS KP Kp 41/3"]
[null,"Log Stabskp 21",0,{"$f":"IF(C843=1,COUNTIF($C$3:C843,1),\"\")","v":""},{"$f":"IFERROR(INDEX(DROPDOWN_AOSuche_Alle,MATCH(ROWS($D$3:D843),DROPDOWN_AOSuche_Helper2,0)),\"\")","v":""},"FUB","FU Br 41","FU Bat 41","FIS IKT Kp 41/4"]
[null,"Log Stabskp 51",0,{"$f":"IF(C844=1,COUNTIF($C$3:C844,1),\"\")","v":""},{"$f":"IFERROR(INDEX(DROPDOWN_AOSuche_Alle,MATCH(ROWS($D$3:D844),DROPDOWN_AOSuche_Helper2,0)),\"\")","v":""},"FUB","FU Br 41","HQ Bat 11"]
[null,"Log Stabskp 52",0,{"$f":"IF(C845=1,COUNTIF($C$3:C845,1),\"\")","v":""},{"$f":"IFERROR(INDEX(DROPDOWN_AOSuche_Alle,MATCH(ROWS($D$3:D845),DROPDOWN_AOSuche_Helper2,0)),\"\")","v":""},"FUB","FU Br 41","HQ Bat 11","Stab HQ Bat 11"]
[null,"Log Stabskp 92",0,{"$f":"IF(C846=1,COUNTIF($C$3:C846,1),\"\")","v":""},{"$f":"IFERROR(INDEX(DROPDOWN_AOSuche_Alle,MATCH(ROWS($D$3:D846),DROPDOWN_AOSuche_Helper2,0)),\"\")","v":""},"FUB","FU Br 41","HQ Bat 11","HQ Betr Kp 11/1"]
[null,"Log Sup Bat 61",0,{"$f":"IF(C847=1,COUNTIF($C$3:C847,1),\"\")","v":""},{"$f":"IFERROR(INDEX(DROPDOWN_AOSuche_Alle,MATCH(ROWS($D$3:D847),DROPDOWN_AOSuche_Helper2,0)),\"\")","v":""},"FUB","FU Br 41","HQ Bat 11","HQ Sich Kp 11/2"]
[null,"Log Sup Kp 61/1",0,{"$f":"IF(C848=1,COUNTIF($C$3:C848,1),\"\")","v":""},{"$f":"IFERROR(INDEX(DROPDOWN_AOSuche_Alle,MATCH(ROWS($D$3:D848),DROPDOWN_AOSuche_Helper2,0)),\"\")","v":""},"FUB","FU Br 41","HQ Bat 11","HQ Trsp Kp 11/3"]
[null,"Log Sup Kp 61/2",0,{"$f":"IF(C849=1,COUNTIF($C$3:C849,1),\"\")","v":""},{"$f":"IFERROR(INDEX(DROPDOWN_AOSuche_Alle,MATCH(ROWS($D$3:D849),DROPDOWN_AOSuche_Helper2,0)),\"\")","v":""},"FUB","FU Br 41","HQ Bat 11","HQ IKT Kp 11/4"]
[null,"Log Sup Kp 61/3",0,{"$f":"IF(C850=1,COUNTIF($C$3:C850,1),\"\")","v":""},{"$f":"IFERROR(INDEX(DROPDOWN_AOSuche_Alle,MATCH(ROWS($D$3:D850),DROPDOWN_AOSuche_Helper2,0)),\"\")","v":""},"FUB","FU Br 41","HQ Bat 22"]
[null,"Log Sup Kp 61/4",0,{"$f":"IF(C851=1,COUNTIF($C$3:C851,1),\"\")","v":""},{"$f":"IFERROR(INDEX(DROPDOWN_AOSuche_Alle,MATCH(ROWS($D$3:D851),DROPDOWN_AOSuche_Helper2,0)),\"\")","v":""},"FUB","FU Br 41","HQ Bat 22","Stab HQ Bat 22"]
[null,"Log Sup Kp 61/5",0,{"$f":"IF(C852=1,COUNTIF($C$3:C852,1),\"\")","v":""},{"$f":"IFERROR(INDEX(DROPDOWN_AOSuche_Alle,MATCH(ROWS($D$3:D852),DROPDOWN_AOSuche_Helper2,0)),\"\")","v":""},"FUB","FU Br 41","HQ Bat 22","HQ Betr Kp 22/1"]
[null,"LT Abt 1",0,{"$f":"IF(C853=1,COUNTIF($C$3:C853,1),\"\")","v":""},{"$f":"IFERROR(INDEX(DROPDOWN_AOSuche_Alle,MATCH(ROWS($D$3:D853),DROPDOWN_AOSuche_Helper2,0)),\"\")","v":""},"FUB","FU Br 41","HQ Bat 22","HQ Sich Kp 22/2"]
[null,"LT Abt 2",0,{"$f":"IF(C854=1,COUNTIF($C$3:C854,1),\"\")","v":""},{"$f":"IFERROR(INDEX(DROPDOWN_AOSuche_Alle,MATCH(ROWS($D$3:D854),DROPDOWN_AOSuche_Helper2,0)),\"\")","v":""},"FUB","FU Br 41","HQ Bat 22","HQ Trsp Kp 22/3"]
[null,"LT Abt 3",0,{"$f":"IF(C855=1,COUNTIF($C$3:C855,1),\"\")","v":""},{"$f":"IFERROR(INDEX(DROPDOWN_AOSuche_Alle,MATCH(ROWS($D$3:D855),DROPDOWN_AOSuche_Helper2,0)),\"\")","v":""},"FUB","FU Br 41","HQ Bat 22","HQ IKT Kp 22/4"]
[null,"LT Geschw 1",0,{"$f":"IF(C856=1,COUNTIF($C$3:C856,1),\"\")","v":""},{"$f":"IFERROR(INDEX(DROPDOWN_AOSuche_Alle,MATCH(ROWS($D$3:D856),DROPDOWN_AOSuche_Helper2,0)),\"\")","v":""},"FUB","FU Br 41","HQ Bat 25"]
[null,"LT Geschw 2",0,{"$f":"IF(C857=1,COUNTIF($C$3:C857,1),\"\")","v":""},{"$f":"IFERROR(INDEX(DROPDOWN_AOSuche_Alle,MATCH(ROWS($D$3:D857),DROPDOWN_AOSuche_Helper2,0)),\"\")","v":""},"FUB","FU Br 41","HQ Bat 25","Stab HQ Bat 25"]
[null,"LT Geschw 3",0,{"$f":"IF(C858=1,COUNTIF($C$3:C858,1),\"\")","v":""},{"$f":"IFERROR(INDEX(DROPDOWN_AOSuche_Alle,MATCH(ROWS($D$3:D858),DROPDOWN_AOSuche_Helper2,0)),\"\")","v":""},"FUB","FU Br 41","HQ Bat 25","HQ Betr Kp 25/1"]
[null,"LT Geschw 4",0,{"$f":"IF(C859=1,COUNTIF($C$3:C859,1),\"\")","v":""},{"$f":"IFERROR(INDEX(DROPDOWN_AOSuche_Alle,MATCH(ROWS($D$3:D859),DROPDOWN_AOSuche_Helper2,0)),\"\")","v":""},"FUB","FU Br 41","HQ Bat 25","HQ Betr Kp 25/2"]
[null,"LT Kp 1",0,{"$f":"IF(C860=1,COUNTIF($C$3:C860,1),\"\")","v":""},{"$f":"IFERROR(INDEX(DROPDOWN_AOSuche_Alle,MATCH(ROWS($D$3:D860),DROPDOWN_AOSuche_Helper2,0)),\"\")","v":""},"FUB","FU Br 41","HQ Bat 25","HQ Betr Kp 25/3"]
[null,"LT Kp 2",0,{"$f":"IF(C861=1,COUNTIF($C$3:C861,1),\"\")","v":""},{"$f":"IFERROR(INDEX(DROPDOWN_AOSuche_Alle,MATCH(ROWS($D$3:D861),DROPDOWN_AOSuche_Helper2,0)),\"\")","v":""},"FUB","FU Br 41","HQ Bat 25","HQ Trsp Kp 25/4"]
[null,"LT Kp 3",0,{"$f":"IF(C862=1,COUNTIF($C$3:C862,1),\"\")","v":""},{"$f":"IFERROR(INDEX(DROPDOWN_AOSuche_Alle,MATCH(ROWS($D$3:D862),DROPDOWN_AOSuche_Helper2,0)),\"\")","v":""},"FUB","FU Br 41","HQ Bat 25","HQ IKT Kp 25/5"]
[null,"LT Log Kp 1",0,{"$f":"IF(C863=1,COUNTIF($C$3:C863,1),\"\")","v":""},{"$f":"IFERROR(INDEX(DROPDOWN_AOSuche_Alle,MATCH(ROWS($D$3:D863),DROPDOWN_AOSuche_Helper2,0)),\"\")","v":""},"FUB","FU Br 41","Ristl Bat 4"]
[null,"LT Log Kp 2",0,{"$f":"IF(C864=1,COUNTIF($C$3:C864,1),\"\")","v":""},{"$f":"IFERROR(INDEX(DROPDOWN_AOSuche_Alle,MATCH(ROWS($D$3:D864),DROPDOWN_AOSuche_Helper2,0)),\"\")","v":""},"FUB","FU Br 41","Ristl Bat 4","Stab Ristl Bat 4"]
[null,"LT Log Kp 3",0,{"$f":"IF(C865=1,COUNTIF($C$3:C865,1),\"\")","v":""},{"$f":"IFERROR(INDEX(DROPDOWN_AOSuche_Alle,MATCH(ROWS($D$3:D865),DROPDOWN_AOSuche_Helper2,0)),\"\")","v":""},"FUB","FU Br 41","Ristl Bat 4","Ristl Stabskp 4"]
[null,"LT Si Kp 1",0,{"$f":"IF(C866=1,COUNTIF($C$3:C866,1),\"\")","v":""},{"$f":"IFERROR(INDEX(DROPDOWN_AOSuche_Alle,MATCH(ROWS($D$3:D866),DROPDOWN_AOSuche_Helper2,0)),\"\")","v":""},"FUB","FU Br 41","Ristl Bat 4","Ristl Kp 4/1"]
[null,"LT Si Kp 2",0,{"$f":"IF(C867=1,COUNTIF($C$3:C867,1),\"\")","v":""},{"$f":"IFERROR(INDEX(DROPDOWN_AOSuche_Alle,MATCH(ROWS($D$3:D867),DROPDOWN_AOSuche_Helper2,0)),\"\")","v":""},"FUB","FU Br 41","Ristl Bat 4","Ristl Kp 4/2"]
[null,"LT Si Kp 3",0,{"$f":"IF(C868=1,COUNTIF($C$3:C868,1),\"\")","v":""},{"$f":"IFERROR(INDEX(DROPDOWN_AOSuche_Alle,MATCH(ROWS($D$3:D868),DROPDOWN_AOSuche_Helper2,0)),\"\")","v":""},"FUB","FU Br 41","Ristl Bat 4","Ristl Kp 4/3"]
[null,"LT St 1",0,{"$f":"IF(C869=1,COUNTIF($C$3:C869,1),\"\")","v":""},{"$f":"IFERROR(INDEX(DROPDOWN_AOSuche_Alle,MATCH(ROWS($D$3:D869),DROPDOWN_AOSuche_Helper2,0)),\"\")","v":""},"FUB","FU Br 41","Ristl Bat 4","Ristl Kp 4/4"]
[null,"LT St 2",0,{"$f":"IF(C870=1,COUNTIF($C$3:C870,1),\"\")","v":""},{"$f":"IFERROR(INDEX(DROPDOWN_AOSuche_Alle,MATCH(ROWS($D$3:D870),DROPDOWN_AOSuche_Helper2,0)),\"\")","v":""},"FUB","FU Br 41","Ristl Bat 4","MRS Kp 4/5"]
[null,"LT St 3",0,{"$f":"IF(C871=1,COUNTIF($C$3:C871,1),\"\")","v":""},{"$f":"IFERROR(INDEX(DROPDOWN_AOSuche_Alle,MATCH(ROWS($D$3:D871),DROPDOWN_AOSuche_Helper2,0)),\"\")","v":""},"FUB","FU Br 41","Ristl Bat 4","MRS Kp 4/6"]
[null,"LT St 4",0,{"$f":"IF(C872=1,COUNTIF($C$3:C872,1),\"\")","v":""},{"$f":"IFERROR(INDEX(DROPDOWN_AOSuche_Alle,MATCH(ROWS($D$3:D872),DROPDOWN_AOSuche_Helper2,0)),\"\")","v":""},"FUB","FU Br 41","Ristl Bat 16"]
[null,"LT St 5",0,{"$f":"IF(C873=1,COUNTIF($C$3:C873,1),\"\")","v":""},{"$f":"IFERROR(INDEX(DROPDOWN_AOSuche_Alle,MATCH(ROWS($D$3:D873),DROPDOWN_AOSuche_Helper2,0)),\"\")","v":""},"FUB","FU Br 41","Ristl Bat 16","Stab Ristl Bat 16"]
[null,"LT St 6",0,{"$f":"IF(C874=1,COUNTIF($C$3:C874,1),\"\")","v":""},{"$f":"IFERROR(INDEX(DROPDOWN_AOSuche_Alle,MATCH(ROWS($D$3:D874),DROPDOWN_AOSuche_Helper2,0)),\"\")","v":""},"FUB","FU Br 41","Ristl Bat 16","Ristl Stabskp 16"]
[null,"LT St 7",0,{"$f":"IF(C875=1,COUNTIF($C$3:C875,1),\"\")","v":""},{"$f":"IFERROR(INDEX(DROPDOWN_AOSuche_Alle,MATCH(ROWS($D$3:D875),DROPDOWN_AOSuche_Helper2,0)),\"\")","v":""},"FUB","FU Br 41","Ristl Bat 16","Ristl Kp 16/1"]
[null,"LT St 8",0,{"$f":"IF(C876=1,COUNTIF($C$3:C876,1),\"\")","v":""},{"$f":"IFERROR(INDEX(DROPDOWN_AOSuche_Alle,MATCH(ROWS($D$3:D876),DROPDOWN_AOSuche_Helper2,0)),\"\")","v":""},"FUB","FU Br 41","Ristl Bat 16","Ristl Kp 16/2"]
[null,"LT Sup Kp 1",0,{"$f":"IF(C877=1,COUNTIF($C$3:C877,1),\"\")","v":""},{"$f":"IFERROR(INDEX(DROPDOWN_AOSuche_Alle,MATCH(ROWS($D$3:D877),DROPDOWN_AOSuche_Helper2,0)),\"\")","v":""},"FUB","FU Br 41","Ristl Bat 16","Ristl Kp 16/3"]
[null,"LT Sup Kp 2",0,{"$f":"IF(C878=1,COUNTIF($C$3:C878,1),\"\")","v":""},{"$f":"IFERROR(INDEX(DROPDOWN_AOSuche_Alle,MATCH(ROWS($D$3:D878),DROPDOWN_AOSuche_Helper2,0)),\"\")","v":""},"FUB","FU Br 41","Ristl Bat 16","Ristl Kp 16/4"]
[null,"LT Sup Kp 3",0,{"$f":"IF(C879=1,COUNTIF($C$3:C879,1),\"\")","v":""},{"$f":"IFERROR(INDEX(DROPDOWN_AOSuche_Alle,MATCH(ROWS($D$3:D879),DROPDOWN_AOSuche_Helper2,0)),\"\")","v":""},"FUB","FU Br 41","Ristl Bat 17"]
[null,"LT Ustü Kp 1",0,{"$f":"IF(C880=1,COUNTIF($C$3:C880,1),\"\")","v":""},{"$f":"IFERROR(INDEX(DROPDOWN_AOSuche_Alle,MATCH(ROWS($D$3:D880),DROPDOWN_AOSuche_Helper2,0)),\"\")","v":""},"FUB","FU Br 41","Ristl Bat 17","Stab Ristl Bat 17"]
[null,"LT Ustü Kp 2",0,{"$f":"IF(C881=1,COUNTIF($C$3:C881,1),\"\")","v":""},{"$f":"IFERROR(INDEX(DROPDOWN_AOSuche_Alle,MATCH(ROWS($D$3:D881),DROPDOWN_AOSuche_Helper2,0)),\"\")","v":""},"FUB","FU Br 41","Ristl Bat 17","Ristl Stabskp 17"]
[null,"LT Ustü Kp 3",0,{"$f":"IF(C882=1,COUNTIF($C$3:C882,1),\"\")","v":""},{"$f":"IFERROR(INDEX(DROPDOWN_AOSuche_Alle,MATCH(ROWS($D$3:D882),DROPDOWN_AOSuche_Helper2,0)),\"\")","v":""},"FUB","FU Br 41","Ristl Bat 17","Ristl Kp 17/1"]
[null,"LVb Flab 33",0,{"$f":"IF(C883=1,COUNTIF($C$3:C883,1),\"\")","v":""},{"$f":"IFERROR(INDEX(DROPDOWN_AOSuche_Alle,MATCH(ROWS($D$3:D883),DROPDOWN_AOSuche_Helper2,0)),\"\")","v":""},"FUB","FU Br 41","Ristl Bat 17","Ristl Kp 17/2"]
[null,"LVb Flab/FU",0,{"$f":"IF(C884=1,COUNTIF($C$3:C884,1),\"\")","v":""},{"$f":"IFERROR(INDEX(DROPDOWN_AOSuche_Alle,MATCH(ROWS($D$3:D884),DROPDOWN_AOSuche_Helper2,0)),\"\")","v":""},"FUB","FU Br 41","Ristl Bat 17","Ristl Kp 17/3"]
[null,"LVb G/Rttg/ABC",0,{"$f":"IF(C885=1,COUNTIF($C$3:C885,1),\"\")","v":""},{"$f":"IFERROR(INDEX(DROPDOWN_AOSuche_Alle,MATCH(ROWS($D$3:D885),DROPDOWN_AOSuche_Helper2,0)),\"\")","v":""},"FUB","FU Br 41","Ristl Bat 17","Ristl Kp 17/4"]
[null,"LVb Inf",0,{"$f":"IF(C886=1,COUNTIF($C$3:C886,1),\"\")","v":""},{"$f":"IFERROR(INDEX(DROPDOWN_AOSuche_Alle,MATCH(ROWS($D$3:D886),DROPDOWN_AOSuche_Helper2,0)),\"\")","v":""},"FUB","FU Br 41","Ristl Bat 21"]
[null,"LVb Log",0,{"$f":"IF(C887=1,COUNTIF($C$3:C887,1),\"\")","v":""},{"$f":"IFERROR(INDEX(DROPDOWN_AOSuche_Alle,MATCH(ROWS($D$3:D887),DROPDOWN_AOSuche_Helper2,0)),\"\")","v":""},"FUB","FU Br 41","Ristl Bat 21","Stab Ristl Bat 21"]
[null,"LVb Pz/Art",0,{"$f":"IF(C888=1,COUNTIF($C$3:C888,1),\"\")","v":""},{"$f":"IFERROR(INDEX(DROPDOWN_AOSuche_Alle,MATCH(ROWS($D$3:D888),DROPDOWN_AOSuche_Helper2,0)),\"\")","v":""},"FUB","FU Br 41","Ristl Bat 21","Ristl Stabskp 21"]
[null,"LW",0,{"$f":"IF(C889=1,COUNTIF($C$3:C889,1),\"\")","v":""},{"$f":"IFERROR(INDEX(DROPDOWN_AOSuche_Alle,MATCH(ROWS($D$3:D889),DROPDOWN_AOSuche_Helper2,0)),\"\")","v":""},"FUB","FU Br 41","Ristl Bat 21","Ristl Kp 21/1"]
[null,"LW AT Br",0,{"$f":"IF(C890=1,COUNTIF($C$3:C890,1),\"\")","v":""},{"$f":"IFERROR(INDEX(DROPDOWN_AOSuche_Alle,MATCH(ROWS($D$3:D890),DROPDOWN_AOSuche_Helper2,0)),\"\")","v":""},"FUB","FU Br 41","Ristl Bat 21","Ristl Kp 21/2"]
[null,"LW AT Br Stabskp",0,{"$f":"IF(C891=1,COUNTIF($C$3:C891,1),\"\")","v":""},{"$f":"IFERROR(INDEX(DROPDOWN_AOSuche_Alle,MATCH(ROWS($D$3:D891),DROPDOWN_AOSuche_Helper2,0)),\"\")","v":""},"FUB","FU Br 41","Ristl Bat 21","Ristl Kp 21/3"]
[null,"LW AT Br VDT",0,{"$f":"IF(C892=1,COUNTIF($C$3:C892,1),\"\")","v":""},{"$f":"IFERROR(INDEX(DROPDOWN_AOSuche_Alle,MATCH(ROWS($D$3:D892),DROPDOWN_AOSuche_Helper2,0)),\"\")","v":""},"FUB","FU Br 41","Ristl Bat 21","Ristl Kp 21/4"]
[null,"LW EKF Kp 1/4",0,{"$f":"IF(C893=1,COUNTIF($C$3:C893,1),\"\")","v":""},{"$f":"IFERROR(INDEX(DROPDOWN_AOSuche_Alle,MATCH(ROWS($D$3:D893),DROPDOWN_AOSuche_Helper2,0)),\"\")","v":""},"FUB","FU Br 41","Ristl Bat 32"]
[null,"LW EKF Kp 2/4",0,{"$f":"IF(C894=1,COUNTIF($C$3:C894,1),\"\")","v":""},{"$f":"IFERROR(INDEX(DROPDOWN_AOSuche_Alle,MATCH(ROWS($D$3:D894),DROPDOWN_AOSuche_Helper2,0)),\"\")","v":""},"FUB","FU Br 41","Ristl Bat 32","Stab Ristl Bat 32"]
[null,"LW EZ Betr Kp 1/3",0,{"$f":"IF(C895=1,COUNTIF($C$3:C895,1),\"\")","v":""},{"$f":"IFERROR(INDEX(DROPDOWN_AOSuche_Alle,MATCH(ROWS($D$3:D895),DROPDOWN_AOSuche_Helper2,0)),\"\")","v":""},"FUB","FU Br 41","Ristl Bat 32","Ristl Stabskp 32"]
[null,"LW EZ Betr Kp 2/3",0,{"$f":"IF(C896=1,COUNTIF($C$3:C896,1),\"\")","v":""},{"$f":"IFERROR(INDEX(DROPDOWN_AOSuche_Alle,MATCH(ROWS($D$3:D896),DROPDOWN_AOSuche_Helper2,0)),\"\")","v":""},"FUB","FU Br 41","Ristl Bat 32","Ristl Kp 32/1"]
[null,"LW Na Abt 1",0,{"$f":"IF(C897=1,COUNTIF($C$3:C897,1),\"\")","v":""},{"$f":"IFERROR(INDEX(DROPDOWN_AOSuche_Alle,MATCH(ROWS($D$3:D897),DROPDOWN_AOSuche_Helper2,0)),\"\")","v":""},"FUB","FU Br 41","Ristl Bat 32","Ristl Kp 32/2"]
[null,"LW Na Abt 2",0,{"$f":"IF(C898=1,COUNTIF($C$3:C898,1),\"\")","v":""},{"$f":"IFERROR(INDEX(DROPDOWN_AOSuche_Alle,MATCH(ROWS($D$3:D898),DROPDOWN_AOSuche_Helper2,0)),\"\")","v":""},"FUB","FU Br 41","Ristl Bat 32","Ristl Kp 32/3"]
[null,"LW Na Kp 1/1",{"$f":"--ISNUMBER(IFERROR(SEARCH(AO_Search_Value,B899,1),\"\"))","v":0},{"$f":"IF(C899=1,COUNTIF($C$3:C899,1),\"\")","v":""},{"$f":"IFERROR(INDEX(DROPDOWN_AOSuche_Alle,MATCH(ROWS($D$3:D899),DROPDOWN_AOSuche_Helper2,0)),\"\")","v":""},"FUB","FU Br 41","Ristl Bat 32","Ristl Kp 32/4"]
[null,"LW Na Kp 1/2",0,{"$f":"IF(C900=1,COUNTIF($C$3:C900,1),\"\")","v":""},{"$f":"IFERROR(INDEX(DROPDOWN_AOSuche_Alle,MATCH(ROWS($D$3:D900),DROPDOWN_AOSuche_Helper2,0)),\"\")","v":""},"FUB","FU Br 41","Elo Abt 46"]
[null,"LW Na Kp 2/1",0,{"$f":"IF(C901=1,COUNTIF($C$3:C901,1),\"\")","v":""},{"$f":"IFERROR(INDEX(DROPDOWN_AOSuche_Alle,MATCH(ROWS($D$3:D901),DROPDOWN_AOSuche_Helper2,0)),\"\")","v":""},"FUB","FU Br 41","Elo Abt 46","Stab Elo Abt 46"]
[null,"LW Na Kp 2/2",0,{"$f":"IF(C902=1,COUNTIF($C$3:C902,1),\"\")","v":""},{"$f":"IFERROR(INDEX(DROPDOWN_AOSuche_Alle,MATCH(ROWS($D$3:D902),DROPDOWN_AOSuche_Helper2,0)),\"\")","v":""},"FUB","FU Br 41","Elo Abt 46","Elo Stabskp 46"]
[null,"LW Na RS 82-1",0,{"$f":"IF(C903=1,COUNTIF($C$3:C903,1),\"\")","v":""},{"$f":"IFERROR(INDEX(DROPDOWN_AOSuche_Alle,MATCH(ROWS($D$3:D903),DROPDOWN_AOSuche_Helper2,0)),\"\")","v":""},"FUB","FU Br 41","Elo Abt 46","EKF Kp 46/1"]
[null,"LW Na RS 82-2",0,{"$f":"IF(C904=1,COUNTIF($C$3:C904,1),\"\")","v":""},{"$f":"IFERROR(INDEX(DROPDOWN_AOSuche_Alle,MATCH(ROWS($D$3:D904),DROPDOWN_AOSuche_Helper2,0)),\"\")","v":""},"FUB","FU Br 41","Elo Abt 46","EKF Kp 46/2"]
[null,"LW Na UOS 82-1",0,{"$f":"IF(C905=1,COUNTIF($C$3:C905,1),\"\")","v":""},{"$f":"IFERROR(INDEX(DROPDOWN_AOSuche_Alle,MATCH(ROWS($D$3:D905),DROPDOWN_AOSuche_Helper2,0)),\"\")","v":""},"FUB","FU Br 41","Elo Abt 46","EKF Kp 46/3"]
[null,"LW Na UOS 82-2",0,{"$f":"IF(C906=1,COUNTIF($C$3:C906,1),\"\")","v":""},{"$f":"IFERROR(INDEX(DROPDOWN_AOSuche_Alle,MATCH(ROWS($D$3:D906),DROPDOWN_AOSuche_Helper2,0)),\"\")","v":""},"FUB","FU Br 41","Elo Abt 46","EKF Kp 46/4"]
[null,"LW SiRS Kp 19-2/3",0,{"$f":"IF(C907=1,COUNTIF($C$3:C907,1),\"\")","v":""},{"$f":"IFERROR(INDEX(DROPDOWN_AOSuche_Alle,MATCH(ROWS($D$3:D907),DROPDOWN_AOSuche_Helper2,0)),\"\")","v":""},"FUB","FU Br 41","Elo Abt 46","CNO Kp 46/5"]
[null,"LW Si RS Kp 19-1/3",0,{"$f":"IF(C908=1,COUNTIF($C$3:C908,1),\"\")","v":""},{"$f":"IFERROR(INDEX(DROPDOWN_AOSuche_Alle,MATCH(ROWS($D$3:D908),DROPDOWN_AOSuche_Helper2,0)),\"\")","v":""},"FUB","FU Br 41","Elo Abt 46","EKF Ber Det 104"]
[null,"LW Si UOS Kl 19-1/3",0,{"$f":"IF(C909=1,COUNTIF($C$3:C909,1),\"\")","v":""},{"$f":"IFERROR(INDEX(DROPDOWN_AOSuche_Alle,MATCH(ROWS($D$3:D909),DROPDOWN_AOSuche_Helper2,0)),\"\")","v":""},"FUB","FU Br 41","Elo Abt 46","EKF Ber Det 204"]
[null,"LW Si UOS Kl 19-2/3",0,{"$f":"IF(C910=1,COUNTIF($C$3:C910,1),\"\")","v":""},{"$f":"IFERROR(INDEX(DROPDOWN_AOSuche_Alle,MATCH(ROWS($D$3:D910),DROPDOWN_AOSuche_Helper2,0)),\"\")","v":""},"FUB","FU Br 41","EKF Abt 51"]
[null,"LW Stab",0,{"$f":"IF(C911=1,COUNTIF($C$3:C911,1),\"\")","v":""},{"$f":"IFERROR(INDEX(DROPDOWN_AOSuche_Alle,MATCH(ROWS($D$3:D911),DROPDOWN_AOSuche_Helper2,0)),\"\")","v":""},"FUB","FU Br 41","EKF Abt 51","Stab EKF Abt 51"]
[null,"LW Stabskp",0,{"$f":"IF(C912=1,COUNTIF($C$3:C912,1),\"\")","v":""},{"$f":"IFERROR(INDEX(DROPDOWN_AOSuche_Alle,MATCH(ROWS($D$3:D912),DROPDOWN_AOSuche_Helper2,0)),\"\")","v":""},"FUB","FU Br 41","EKF Abt 51","EKF Stabskp 51"]
[null,"LW Tng Kdo 82",0,{"$f":"IF(C913=1,COUNTIF($C$3:C913,1),\"\")","v":""},{"$f":"IFERROR(INDEX(DROPDOWN_AOSuche_Alle,MATCH(ROWS($D$3:D913),DROPDOWN_AOSuche_Helper2,0)),\"\")","v":""},"FUB","FU Br 41","EKF Abt 51","EKF Kp 51/1"]
[null,"M Flab Abt 32",0,{"$f":"IF(C914=1,COUNTIF($C$3:C914,1),\"\")","v":""},{"$f":"IFERROR(INDEX(DROPDOWN_AOSuche_Alle,MATCH(ROWS($D$3:D914),DROPDOWN_AOSuche_Helper2,0)),\"\")","v":""},"FUB","FU Br 41","EKF Abt 51","EKF Kp 51/2"]
[null,"M Flab Abt 34",0,{"$f":"IF(C915=1,COUNTIF($C$3:C915,1),\"\")","v":""},{"$f":"IFERROR(INDEX(DROPDOWN_AOSuche_Alle,MATCH(ROWS($D$3:D915),DROPDOWN_AOSuche_Helper2,0)),\"\")","v":""},"FUB","FU Br 41","EKF Abt 52"]
[null,"M Flab Abt 45",0,{"$f":"IF(C916=1,COUNTIF($C$3:C916,1),\"\")","v":""},{"$f":"IFERROR(INDEX(DROPDOWN_AOSuche_Alle,MATCH(ROWS($D$3:D916),DROPDOWN_AOSuche_Helper2,0)),\"\")","v":""},"FUB","FU Br 41","EKF Abt 52","Stab EKF Abt 52"]
[null,"M Flab Bttr 32/1",0,{"$f":"IF(C917=1,COUNTIF($C$3:C917,1),\"\")","v":""},{"$f":"IFERROR(INDEX(DROPDOWN_AOSuche_Alle,MATCH(ROWS($D$3:D917),DROPDOWN_AOSuche_Helper2,0)),\"\")","v":""},"FUB","FU Br 41","EKF Abt 52","EKF Stabskp 52"]
[null,"M Flab Bttr 32/2",0,{"$f":"IF(C918=1,COUNTIF($C$3:C918,1),\"\")","v":""},{"$f":"IFERROR(INDEX(DROPDOWN_AOSuche_Alle,MATCH(ROWS($D$3:D918),DROPDOWN_AOSuche_Helper2,0)),\"\")","v":""},"FUB","FU Br 41","EKF Abt 52","EKF Kp 52/1"]
[null,"M Flab Bttr 34/1",0,{"$f":"IF(C919=1,COUNTIF($C$3:C919,1),\"\")","v":""},{"$f":"IFERROR(INDEX(DROPDOWN_AOSuche_Alle,MATCH(ROWS($D$3:D919),DROPDOWN_AOSuche_Helper2,0)),\"\")","v":""},"FUB","FU Br 41","EKF Abt 52","EKF Kp 52/2"]
[null,"M Flab Bttr 34/2",0,{"$f":"IF(C920=1,COUNTIF($C$3:C920,1),\"\")","v":""},{"$f":"IFERROR(INDEX(DROPDOWN_AOSuche_Alle,MATCH(ROWS($D$3:D920),DROPDOWN_AOSuche_Helper2,0)),\"\")","v":""},"Kdo Ausb"]
[null,"M Flab Bttr 45/1",0,{"$f":"IF(C921=1,COUNTIF($C$3:C921,1),\"\")","v":""},{"$f":"IFERROR(INDEX(DROPDOWN_AOSuche_Alle,MATCH(ROWS($D$3:D921),DROPDOWN_AOSuche_Helper2,0)),\"\")","v":""},"Kdo Ausb","Stab Kdo Ausb"]
[null,"M Flab Bttr 45/2",0,{"$f":"IF(C922=1,COUNTIF($C$3:C922,1),\"\")","v":""},{"$f":"IFERROR(INDEX(DROPDOWN_AOSuche_Alle,MATCH(ROWS($D$3:D922),DROPDOWN_AOSuche_Helper2,0)),\"\")","v":""},"Kdo Ausb","Fachstab SAT"]
[null,"M Flab Stabsbttr 32",0,{"$f":"IF(C923=1,COUNTIF($C$3:C923,1),\"\")","v":""},{"$f":"IFERROR(INDEX(DROPDOWN_AOSuche_Alle,MATCH(ROWS($D$3:D923),DROPDOWN_AOSuche_Helper2,0)),\"\")","v":""},"Kdo Ausb","Kdo AZA"]
[null,"M Flab Stabsbttr 34",0,{"$f":"IF(C924=1,COUNTIF($C$3:C924,1),\"\")","v":""},{"$f":"IFERROR(INDEX(DROPDOWN_AOSuche_Alle,MATCH(ROWS($D$3:D924),DROPDOWN_AOSuche_Helper2,0)),\"\")","v":""},"Kdo Ausb","Kdo AZA","Stab Kdo AZA"]
[null,"M Flab Stabsbttr 45",0,{"$f":"IF(C925=1,COUNTIF($C$3:C925,1),\"\")","v":""},{"$f":"IFERROR(INDEX(DROPDOWN_AOSuche_Alle,MATCH(ROWS($D$3:D925),DROPDOWN_AOSuche_Helper2,0)),\"\")","v":""},"Kdo Ausb","Kdo AZA","Betr Det Kdo AZA"]
[null,"MAZ ELSA ELTAM",0,{"$f":"IF(C926=1,COUNTIF($C$3:C926,1),\"\")","v":""},{"$f":"IFERROR(INDEX(DROPDOWN_AOSuche_Alle,MATCH(ROWS($D$3:D926),DROPDOWN_AOSuche_Helper2,0)),\"\")","v":""},"Kdo Ausb","HKA"]
[null,"MAZ ELSA Leo II WE",0,{"$f":"IF(C927=1,COUNTIF($C$3:C927,1),\"\")","v":""},{"$f":"IFERROR(INDEX(DROPDOWN_AOSuche_Alle,MATCH(ROWS($D$3:D927),DROPDOWN_AOSuche_Helper2,0)),\"\")","v":""},"Kdo Ausb","HKA","Stab HKA"]
[null,"MAZ ELSA SKdt",0,{"$f":"IF(C928=1,COUNTIF($C$3:C928,1),\"\")","v":""},{"$f":"IFERROR(INDEX(DROPDOWN_AOSuche_Alle,MATCH(ROWS($D$3:D928),DROPDOWN_AOSuche_Helper2,0)),\"\")","v":""},"Kdo Ausb","HKA","Kdo Gst S"]
[null,"MAZ ELSA Spz 2000",0,{"$f":"IF(C929=1,COUNTIF($C$3:C929,1),\"\")","v":""},{"$f":"IFERROR(INDEX(DROPDOWN_AOSuche_Alle,MATCH(ROWS($D$3:D929),DROPDOWN_AOSuche_Helper2,0)),\"\")","v":""},"Kdo Ausb","HKA","Kdo Gst S","Stab Kdo Gst S"]
[null,"MAZ ELTAM",0,{"$f":"IF(C930=1,COUNTIF($C$3:C930,1),\"\")","v":""},{"$f":"IFERROR(INDEX(DROPDOWN_AOSuche_Alle,MATCH(ROWS($D$3:D930),DROPDOWN_AOSuche_Helper2,0)),\"\")","v":""},"Kdo Ausb","HKA","Kdo Gst S","Betr Det Kdo Gst S"]
[null,"MAZ Infra",0,{"$f":"IF(C931=1,COUNTIF($C$3:C931,1),\"\")","v":""},{"$f":"IFERROR(INDEX(DROPDOWN_AOSuche_Alle,MATCH(ROWS($D$3:D931),DROPDOWN_AOSuche_Helper2,0)),\"\")","v":""},"Kdo Ausb","HKA","Kdo ZS"]
[null,"MAZ Infra Ausb Säle INTAFF",0,{"$f":"IF(C932=1,COUNTIF($C$3:C932,1),\"\")","v":""},{"$f":"IFERROR(INDEX(DROPDOWN_AOSuche_Alle,MATCH(ROWS($D$3:D932),DROPDOWN_AOSuche_Helper2,0)),\"\")","v":""},"Kdo Ausb","HKA","Kdo ZS","Stab Kdo ZS"]
[null,"MAZ Infra Fk Ausb Sääle",0,{"$f":"IF(C933=1,COUNTIF($C$3:C933,1),\"\")","v":""},{"$f":"IFERROR(INDEX(DROPDOWN_AOSuche_Alle,MATCH(ROWS($D$3:D933),DROPDOWN_AOSuche_Helper2,0)),\"\")","v":""},"Kdo Ausb","HKA","Kdo ZS","Betr Det Kdo ZS"]
[null,"MAZ LD Trsp Zen",0,{"$f":"IF(C934=1,COUNTIF($C$3:C934,1),\"\")","v":""},{"$f":"IFERROR(INDEX(DROPDOWN_AOSuche_Alle,MATCH(ROWS($D$3:D934),DROPDOWN_AOSuche_Helper2,0)),\"\")","v":""},"Kdo Ausb","HKA","Kdo ZS","Fachstab MIKA"]
[null,"MAZ LD Werkstatt",0,{"$f":"IF(C935=1,COUNTIF($C$3:C935,1),\"\")","v":""},{"$f":"IFERROR(INDEX(DROPDOWN_AOSuche_Alle,MATCH(ROWS($D$3:D935),DROPDOWN_AOSuche_Helper2,0)),\"\")","v":""},"Kdo Ausb","HKA","Kdo MILAK"]
[null,"MAZ Leiter Dienste",0,{"$f":"IF(C936=1,COUNTIF($C$3:C936,1),\"\")","v":""},{"$f":"IFERROR(INDEX(DROPDOWN_AOSuche_Alle,MATCH(ROWS($D$3:D936),DROPDOWN_AOSuche_Helper2,0)),\"\")","v":""},"Kdo Ausb","HKA","Kdo MILAK","Stab Kdo MILAK"]
[null,"Mech Bat 14",0,{"$f":"IF(C937=1,COUNTIF($C$3:C937,1),\"\")","v":""},{"$f":"IFERROR(INDEX(DROPDOWN_AOSuche_Alle,MATCH(ROWS($D$3:D937),DROPDOWN_AOSuche_Helper2,0)),\"\")","v":""},"Kdo Ausb","HKA","Kdo MILAK","Betr Det Kdo MILAK"]
[null,"Mech Bat 17",0,{"$f":"IF(C938=1,COUNTIF($C$3:C938,1),\"\")","v":""},{"$f":"IFERROR(INDEX(DROPDOWN_AOSuche_Alle,MATCH(ROWS($D$3:D938),DROPDOWN_AOSuche_Helper2,0)),\"\")","v":""},"Kdo Ausb","HKA","Kdo BUSA"]
[null,"Mech Bat 18",0,{"$f":"IF(C939=1,COUNTIF($C$3:C939,1),\"\")","v":""},{"$f":"IFERROR(INDEX(DROPDOWN_AOSuche_Alle,MATCH(ROWS($D$3:D939),DROPDOWN_AOSuche_Helper2,0)),\"\")","v":""},"Kdo Ausb","HKA","Kdo BUSA","Stab Kdo BUSA"]
[null,"Mech Bat 29",0,{"$f":"IF(C940=1,COUNTIF($C$3:C940,1),\"\")","v":""},{"$f":"IFERROR(INDEX(DROPDOWN_AOSuche_Alle,MATCH(ROWS($D$3:D940),DROPDOWN_AOSuche_Helper2,0)),\"\")","v":""},"Kdo Ausb","HKA","Kdo BUSA","Betr Det Kdo BUSA"]
[null,"Mech Br 1",0,{"$f":"IF(C941=1,COUNTIF($C$3:C941,1),\"\")","v":""},{"$f":"IFERROR(INDEX(DROPDOWN_AOSuche_Alle,MATCH(ROWS($D$3:D941),DROPDOWN_AOSuche_Helper2,0)),\"\")","v":""},"Kdo Ausb","HKA","Zen Fhr Ausb: Info Anlässe"]
[null,"Mech Br 11",0,{"$f":"IF(C942=1,COUNTIF($C$3:C942,1),\"\")","v":""},{"$f":"IFERROR(INDEX(DROPDOWN_AOSuche_Alle,MATCH(ROWS($D$3:D942),DROPDOWN_AOSuche_Helper2,0)),\"\")","v":""},"Kdo Ausb","HKA","Zen Fhr Ausb: Ausb K"]
[null,"Mech Br 4",0,{"$f":"IF(C943=1,COUNTIF($C$3:C943,1),\"\")","v":""},{"$f":"IFERROR(INDEX(DROPDOWN_AOSuche_Alle,MATCH(ROWS($D$3:D943),DROPDOWN_AOSuche_Helper2,0)),\"\")","v":""},"Kdo Ausb","HKA","IT ERB"]
[null,"Mech Br Betr Kp 1/1",0,{"$f":"IF(C944=1,COUNTIF($C$3:C944,1),\"\")","v":""},{"$f":"IFERROR(INDEX(DROPDOWN_AOSuche_Alle,MATCH(ROWS($D$3:D944),DROPDOWN_AOSuche_Helper2,0)),\"\")","v":""},"Kdo Ausb","LVb Inf"]
[null,"Mech Br Betr Kp 11/1",0,{"$f":"IF(C945=1,COUNTIF($C$3:C945,1),\"\")","v":""},{"$f":"IFERROR(INDEX(DROPDOWN_AOSuche_Alle,MATCH(ROWS($D$3:D945),DROPDOWN_AOSuche_Helper2,0)),\"\")","v":""},"Kdo Ausb","LVb Inf","Stab LVb Inf"]
[null,"Mech Br Betr Kp 4/1",0,{"$f":"IF(C946=1,COUNTIF($C$3:C946,1),\"\")","v":""},{"$f":"IFERROR(INDEX(DROPDOWN_AOSuche_Alle,MATCH(ROWS($D$3:D946),DROPDOWN_AOSuche_Helper2,0)),\"\")","v":""},"Kdo Ausb","LVb Inf","Betr Det LVb Inf"]
[null,"Mech Br Fhr St Kp 1/3",0,{"$f":"IF(C947=1,COUNTIF($C$3:C947,1),\"\")","v":""},{"$f":"IFERROR(INDEX(DROPDOWN_AOSuche_Alle,MATCH(ROWS($D$3:D947),DROPDOWN_AOSuche_Helper2,0)),\"\")","v":""},"Kdo Ausb","LVb Inf","Inf Ber Bat 104"]
[null,"Mech Br Fhr St Kp 11/3",0,{"$f":"IF(C948=1,COUNTIF($C$3:C948,1),\"\")","v":""},{"$f":"IFERROR(INDEX(DROPDOWN_AOSuche_Alle,MATCH(ROWS($D$3:D948),DROPDOWN_AOSuche_Helper2,0)),\"\")","v":""},"Kdo Ausb","LVb Inf","Inf Ber Bat 104","Stab Inf Ber Bat 104"]
[null,"Mech Br Fhr St Kp 4/3",0,{"$f":"IF(C949=1,COUNTIF($C$3:C949,1),\"\")","v":""},{"$f":"IFERROR(INDEX(DROPDOWN_AOSuche_Alle,MATCH(ROWS($D$3:D949),DROPDOWN_AOSuche_Helper2,0)),\"\")","v":""},"Kdo Ausb","LVb Inf","Inf Ber Bat 104","Inf Ber Kp 104/1"]
[null,"Mech Br Si Kp 1/4",0,{"$f":"IF(C950=1,COUNTIF($C$3:C950,1),\"\")","v":""},{"$f":"IFERROR(INDEX(DROPDOWN_AOSuche_Alle,MATCH(ROWS($D$3:D950),DROPDOWN_AOSuche_Helper2,0)),\"\")","v":""},"Kdo Ausb","LVb Inf","Inf Ber Bat 104","Inf Ber Kp 104/2"]
[null,"Mech Br Si Kp 11/4",0,{"$f":"IF(C951=1,COUNTIF($C$3:C951,1),\"\")","v":""},{"$f":"IFERROR(INDEX(DROPDOWN_AOSuche_Alle,MATCH(ROWS($D$3:D951),DROPDOWN_AOSuche_Helper2,0)),\"\")","v":""},"Kdo Ausb","LVb Inf","Inf Ber Bat 204"]
[null,"Mech Br Si Kp 4/4",0,{"$f":"IF(C952=1,COUNTIF($C$3:C952,1),\"\")","v":""},{"$f":"IFERROR(INDEX(DROPDOWN_AOSuche_Alle,MATCH(ROWS($D$3:D952),DROPDOWN_AOSuche_Helper2,0)),\"\")","v":""},"Kdo Ausb","LVb Inf","Inf Ber Bat 204","Stab Inf Ber Bat 204"]
[null,"Mech Br Stabsbat 1",0,{"$f":"IF(C953=1,COUNTIF($C$3:C953,1),\"\")","v":""},{"$f":"IFERROR(INDEX(DROPDOWN_AOSuche_Alle,MATCH(ROWS($D$3:D953),DROPDOWN_AOSuche_Helper2,0)),\"\")","v":""},"Kdo Ausb","LVb Inf","Inf Ber Bat 204","Inf Ber Kp 204/1"]
[null,"Mech Br Stabsbat 11",0,{"$f":"IF(C954=1,COUNTIF($C$3:C954,1),\"\")","v":""},{"$f":"IFERROR(INDEX(DROPDOWN_AOSuche_Alle,MATCH(ROWS($D$3:D954),DROPDOWN_AOSuche_Helper2,0)),\"\")","v":""},"Kdo Ausb","LVb Inf","Inf Ber Bat 204","Inf Ber Kp 204/2"]
[null,"Mech Br Stabsbat 4",0,{"$f":"IF(C955=1,COUNTIF($C$3:C955,1),\"\")","v":""},{"$f":"IFERROR(INDEX(DROPDOWN_AOSuche_Alle,MATCH(ROWS($D$3:D955),DROPDOWN_AOSuche_Helper2,0)),\"\")","v":""},"Kdo Ausb","LVb Inf","Komp Zen Geb D A"]
[null,"Mech Br Stabskp 1",0,{"$f":"IF(C956=1,COUNTIF($C$3:C956,1),\"\")","v":""},{"$f":"IFERROR(INDEX(DROPDOWN_AOSuche_Alle,MATCH(ROWS($D$3:D956),DROPDOWN_AOSuche_Helper2,0)),\"\")","v":""},"Kdo Ausb","LVb Inf","Komp Zen Geb D A","Stab Komp Zen Geb D A"]
[null,"Mech Br Stabskp 11",0,{"$f":"IF(C957=1,COUNTIF($C$3:C957,1),\"\")","v":""},{"$f":"IFERROR(INDEX(DROPDOWN_AOSuche_Alle,MATCH(ROWS($D$3:D957),DROPDOWN_AOSuche_Helper2,0)),\"\")","v":""},"Kdo Ausb","LVb Inf","Komp Zen Geb D A","Betr Det Komp Zen Geb D A"]
[null,"Mech Br Stabskp 4",0,{"$f":"IF(C958=1,COUNTIF($C$3:C958,1),\"\")","v":""},{"$f":"IFERROR(INDEX(DROPDOWN_AOSuche_Alle,MATCH(ROWS($D$3:D958),DROPDOWN_AOSuche_Helper2,0)),\"\")","v":""},"Kdo Ausb","LVb Inf","Komp Zen Geb D A","Geb Spez Abt 1"]
[null,"Mech Br Uem Kp 1/2",0,{"$f":"IF(C959=1,COUNTIF($C$3:C959,1),\"\")","v":""},{"$f":"IFERROR(INDEX(DROPDOWN_AOSuche_Alle,MATCH(ROWS($D$3:D959),DROPDOWN_AOSuche_Helper2,0)),\"\")","v":""},"Kdo Ausb","LVb Inf","Komp Zen Geb D A","Geb Spez Abt 1","Stab Geb Spez Abt 1"]
[null,"Mech Br Uem Kp 11/2",0,{"$f":"IF(C960=1,COUNTIF($C$3:C960,1),\"\")","v":""},{"$f":"IFERROR(INDEX(DROPDOWN_AOSuche_Alle,MATCH(ROWS($D$3:D960),DROPDOWN_AOSuche_Helper2,0)),\"\")","v":""},"Kdo Ausb","LVb Inf","Komp Zen Geb D A","Geb Spez Abt 1","Geb Spez Kp 1/1"]
[null,"Mech Br Uem Kp 4/2",0,{"$f":"IF(C961=1,COUNTIF($C$3:C961,1),\"\")","v":""},{"$f":"IFERROR(INDEX(DROPDOWN_AOSuche_Alle,MATCH(ROWS($D$3:D961),DROPDOWN_AOSuche_Helper2,0)),\"\")","v":""},"Kdo Ausb","LVb Inf","Komp Zen Geb D A","Geb Spez Abt 1","Geb Spez Kp 1/2"]
[null,"Mech Log Kp 14",0,{"$f":"IF(C962=1,COUNTIF($C$3:C962,1),\"\")","v":""},{"$f":"IFERROR(INDEX(DROPDOWN_AOSuche_Alle,MATCH(ROWS($D$3:D962),DROPDOWN_AOSuche_Helper2,0)),\"\")","v":""},"Kdo Ausb","LVb Inf","Komp Zen Geb D A","Geb Spez Abt 1","Geb Spez Ber Det 104"]
[null,"Mech Log Kp 17",{"$f":"--ISNUMBER(IFERROR(SEARCH(AO_Search_Value,B963,1),\"\"))","v":0},{"$f":"IF(C963=1,COUNTIF($C$3:C963,1),\"\")","v":""},{"$f":"IFERROR(INDEX(DROPDOWN_AOSuche_Alle,MATCH(ROWS($D$3:D963),DROPDOWN_AOSuche_Helper2,0)),\"\")","v":""},"Kdo Ausb","LVb Inf","Komp Zen Geb D A","Geb Spez Abt 1","Geb Spez Ber Det 204"]
[null,"Mech Log Kp 18",0,{"$f":"IF(C964=1,COUNTIF($C$3:C964,1),\"\")","v":""},{"$f":"IFERROR(INDEX(DROPDOWN_AOSuche_Alle,MATCH(ROWS($D$3:D964),DROPDOWN_AOSuche_Helper2,0)),\"\")","v":""},"Kdo Ausb","LVb Inf","Komp Zen Geb D A","Rekr Eignungsprü Geb Spez 15-1"]
[null,"Mech Log Kp 29",0,{"$f":"IF(C965=1,COUNTIF($C$3:C965,1),\"\")","v":""},{"$f":"IFERROR(INDEX(DROPDOWN_AOSuche_Alle,MATCH(ROWS($D$3:D965),DROPDOWN_AOSuche_Helper2,0)),\"\")","v":""},"Kdo Ausb","LVb Inf","Komp Zen Geb D A","Rekr Eignungsprü Geb Spez 15-2"]
[null,"Mech Stabskp 14",0,{"$f":"IF(C966=1,COUNTIF($C$3:C966,1),\"\")","v":""},{"$f":"IFERROR(INDEX(DROPDOWN_AOSuche_Alle,MATCH(ROWS($D$3:D966),DROPDOWN_AOSuche_Helper2,0)),\"\")","v":""},"Kdo Ausb","LVb Inf","Komp Zen Geb D A","Geb Spez RS 15-1"]
[null,"Mech Stabskp 17",0,{"$f":"IF(C967=1,COUNTIF($C$3:C967,1),\"\")","v":""},{"$f":"IFERROR(INDEX(DROPDOWN_AOSuche_Alle,MATCH(ROWS($D$3:D967),DROPDOWN_AOSuche_Helper2,0)),\"\")","v":""},"Kdo Ausb","LVb Inf","Komp Zen Geb D A","Rekr Eignungsprü Geb Spez 15-3"]
[null,"Mech Stabskp 18",0,{"$f":"IF(C968=1,COUNTIF($C$3:C968,1),\"\")","v":""},{"$f":"IFERROR(INDEX(DROPDOWN_AOSuche_Alle,MATCH(ROWS($D$3:D968),DROPDOWN_AOSuche_Helper2,0)),\"\")","v":""},"Kdo Ausb","LVb Inf","Komp Zen Geb D A","Rekr Eignungsprü Geb Spez 15-4"]
[null,"Mech Stabskp 29",0,{"$f":"IF(C969=1,COUNTIF($C$3:C969,1),\"\")","v":""},{"$f":"IFERROR(INDEX(DROPDOWN_AOSuche_Alle,MATCH(ROWS($D$3:D969),DROPDOWN_AOSuche_Helper2,0)),\"\")","v":""},"Kdo Ausb","LVb Inf","Komp Zen Geb D A","Geb Spez RS 15-2"]
[null,"Mil Az OS 41-1",0,{"$f":"IF(C970=1,COUNTIF($C$3:C970,1),\"\")","v":""},{"$f":"IFERROR(INDEX(DROPDOWN_AOSuche_Alle,MATCH(ROWS($D$3:D970),DROPDOWN_AOSuche_Helper2,0)),\"\")","v":""},"Kdo Ausb","LVb Inf","Komp Zen Geb D A","Geb Spez S 15"]
[null,"Mil Az OS 41-2",0,{"$f":"IF(C971=1,COUNTIF($C$3:C971,1),\"\")","v":""},{"$f":"IFERROR(INDEX(DROPDOWN_AOSuche_Alle,MATCH(ROWS($D$3:D971),DROPDOWN_AOSuche_Helper2,0)),\"\")","v":""},"Kdo Ausb","LVb Inf","Komp Zen Geb D A",null,"Geb Spez UOS 15-1"]
[null,"Mil Az UOS 41",0,{"$f":"IF(C972=1,COUNTIF($C$3:C972,1),\"\")","v":""},{"$f":"IFERROR(INDEX(DROPDOWN_AOSuche_Alle,MATCH(ROWS($D$3:D972),DROPDOWN_AOSuche_Helper2,0)),\"\")","v":""},"Kdo Ausb","LVb Inf","Komp Zen Geb D A",null,null,"Geb Spez UOS Kl 15/1"]
[null,"Mil Musik OS 16-1",0,{"$f":"IF(C973=1,COUNTIF($C$3:C973,1),\"\")","v":""},{"$f":"IFERROR(INDEX(DROPDOWN_AOSuche_Alle,MATCH(ROWS($D$3:D973),DROPDOWN_AOSuche_Helper2,0)),\"\")","v":""},"Kdo Ausb","LVb Inf","Komp Zen Geb D A",null,"Geb Spez UOS 15-2"]
[null,"Mil Musik OS 16-2",0,{"$f":"IF(C974=1,COUNTIF($C$3:C974,1),\"\")","v":""},{"$f":"IFERROR(INDEX(DROPDOWN_AOSuche_Alle,MATCH(ROWS($D$3:D974),DROPDOWN_AOSuche_Helper2,0)),\"\")","v":""},"Kdo Ausb","LVb Inf","Komp Zen Geb D A",null,null,"Geb Spez UOS Kl 15/2"]
[null,"Mil Musik RS 16-1",0,{"$f":"IF(C975=1,COUNTIF($C$3:C975,1),\"\")","v":""},{"$f":"IFERROR(INDEX(DROPDOWN_AOSuche_Alle,MATCH(ROWS($D$3:D975),DROPDOWN_AOSuche_Helper2,0)),\"\")","v":""},"Kdo Ausb","LVb Inf","Komp Zen Geb D A",null,"Geb Spez RS 15-1"]
[null,"Mil Musik RS 16-2",0,{"$f":"IF(C976=1,COUNTIF($C$3:C976,1),\"\")","v":""},{"$f":"IFERROR(INDEX(DROPDOWN_AOSuche_Alle,MATCH(ROWS($D$3:D976),DROPDOWN_AOSuche_Helper2,0)),\"\")","v":""},"Kdo Ausb","LVb Inf","Komp Zen Geb D A",null,null,"Geb Spez RS Kp 15/1"]
[null,"Mil Musik RS 16-3",0,{"$f":"IF(C977=1,COUNTIF($C$3:C977,1),\"\")","v":""},{"$f":"IFERROR(INDEX(DROPDOWN_AOSuche_Alle,MATCH(ROWS($D$3:D977),DROPDOWN_AOSuche_Helper2,0)),\"\")","v":""},"Kdo Ausb","LVb Inf","Komp Zen Geb D A",null,"Geb Spez RS 15-2"]
[null,"Mil Musik RS Kp 16-1/1",0,{"$f":"IF(C978=1,COUNTIF($C$3:C978,1),\"\")","v":""},{"$f":"IFERROR(INDEX(DROPDOWN_AOSuche_Alle,MATCH(ROWS($D$3:D978),DROPDOWN_AOSuche_Helper2,0)),\"\")","v":""},"Kdo Ausb","LVb Inf","Komp Zen Geb D A",null,null,"Geb Spez RS Kp 15/2"]
[null,"Mil Musik RS Kp 16-2/1",0,{"$f":"IF(C979=1,COUNTIF($C$3:C979,1),\"\")","v":""},{"$f":"IFERROR(INDEX(DROPDOWN_AOSuche_Alle,MATCH(ROWS($D$3:D979),DROPDOWN_AOSuche_Helper2,0)),\"\")","v":""},"Kdo Ausb","LVb Inf","Komp Zen Mil Musik"]
[null,"Mil Musik S 16",0,{"$f":"IF(C980=1,COUNTIF($C$3:C980,1),\"\")","v":""},{"$f":"IFERROR(INDEX(DROPDOWN_AOSuche_Alle,MATCH(ROWS($D$3:D980),DROPDOWN_AOSuche_Helper2,0)),\"\")","v":""},"Kdo Ausb","LVb Inf","Komp Zen Mil Musik","Stab Komp Zen Mil Musik"]
[null,"Mil Musik UOS 16-1",0,{"$f":"IF(C981=1,COUNTIF($C$3:C981,1),\"\")","v":""},{"$f":"IFERROR(INDEX(DROPDOWN_AOSuche_Alle,MATCH(ROWS($D$3:D981),DROPDOWN_AOSuche_Helper2,0)),\"\")","v":""},"Kdo Ausb","LVb Inf","Komp Zen Mil Musik","Betr Det Komp Zen Mil Musik"]
[null,"Mil Musik UOS 16-2",0,{"$f":"IF(C982=1,COUNTIF($C$3:C982,1),\"\")","v":""},{"$f":"IFERROR(INDEX(DROPDOWN_AOSuche_Alle,MATCH(ROWS($D$3:D982),DROPDOWN_AOSuche_Helper2,0)),\"\")","v":""},"Kdo Ausb","LVb Inf","Komp Zen Mil Musik","Schweizer A Spiel"]
[null,"Mil Musik UOS Kl 16-1/1",0,{"$f":"IF(C983=1,COUNTIF($C$3:C983,1),\"\")","v":""},{"$f":"IFERROR(INDEX(DROPDOWN_AOSuche_Alle,MATCH(ROWS($D$3:D983),DROPDOWN_AOSuche_Helper2,0)),\"\")","v":""},"Kdo Ausb","LVb Inf","Komp Zen Mil Musik","Schweizer A Spiel","Stab Schweizer A Spiel"]
[null,"Mil Musik UOS Kl 16-2/1",0,{"$f":"IF(C984=1,COUNTIF($C$3:C984,1),\"\")","v":""},{"$f":"IFERROR(INDEX(DROPDOWN_AOSuche_Alle,MATCH(ROWS($D$3:D984),DROPDOWN_AOSuche_Helper2,0)),\"\")","v":""},"Kdo Ausb","LVb Inf","Komp Zen Mil Musik","Schweizer A Spiel","Blasorchester"]
[null,"Mil Spiel FU Br 41",0,{"$f":"IF(C985=1,COUNTIF($C$3:C985,1),\"\")","v":""},{"$f":"IFERROR(INDEX(DROPDOWN_AOSuche_Alle,MATCH(ROWS($D$3:D985),DROPDOWN_AOSuche_Helper2,0)),\"\")","v":""},"Kdo Ausb","LVb Inf","Komp Zen Mil Musik","Schweizer A Spiel","Central Band"]
[null,"Mil Spiel HE",0,{"$f":"IF(C986=1,COUNTIF($C$3:C986,1),\"\")","v":""},{"$f":"IFERROR(INDEX(DROPDOWN_AOSuche_Alle,MATCH(ROWS($D$3:D986),DROPDOWN_AOSuche_Helper2,0)),\"\")","v":""},"Kdo Ausb","LVb Inf","Komp Zen Mil Musik","Schweizer A Spiel","Brass Band"]
[null,"Mil Spiel Log Br 1",0,{"$f":"IF(C987=1,COUNTIF($C$3:C987,1),\"\")","v":""},{"$f":"IFERROR(INDEX(DROPDOWN_AOSuche_Alle,MATCH(ROWS($D$3:D987),DROPDOWN_AOSuche_Helper2,0)),\"\")","v":""},"Kdo Ausb","LVb Inf","Komp Zen Mil Musik","Schweizer A Spiel","Big Band"]
[null,"Mil Spiel LW",0,{"$f":"IF(C988=1,COUNTIF($C$3:C988,1),\"\")","v":""},{"$f":"IFERROR(INDEX(DROPDOWN_AOSuche_Alle,MATCH(ROWS($D$3:D988),DROPDOWN_AOSuche_Helper2,0)),\"\")","v":""},"Kdo Ausb","LVb Inf","Komp Zen Mil Musik","Mil Spiel HE"]
[null,"Mil Spiel Mech Br 1",0,{"$f":"IF(C989=1,COUNTIF($C$3:C989,1),\"\")","v":""},{"$f":"IFERROR(INDEX(DROPDOWN_AOSuche_Alle,MATCH(ROWS($D$3:D989),DROPDOWN_AOSuche_Helper2,0)),\"\")","v":""},"Kdo Ausb","LVb Inf","Komp Zen Mil Musik","Mil Spiel Mech Br 1"]
[null,"Mil Spiel Mech Br 11",0,{"$f":"IF(C990=1,COUNTIF($C$3:C990,1),\"\")","v":""},{"$f":"IFERROR(INDEX(DROPDOWN_AOSuche_Alle,MATCH(ROWS($D$3:D990),DROPDOWN_AOSuche_Helper2,0)),\"\")","v":""},"Kdo Ausb","LVb Inf","Komp Zen Mil Musik","Mil Spiel Mech Br 4"]
[null,"Mil Spiel Mech Br 4",0,{"$f":"IF(C991=1,COUNTIF($C$3:C991,1),\"\")","v":""},{"$f":"IFERROR(INDEX(DROPDOWN_AOSuche_Alle,MATCH(ROWS($D$3:D991),DROPDOWN_AOSuche_Helper2,0)),\"\")","v":""},"Kdo Ausb","LVb Inf","Komp Zen Mil Musik","Mil Spiel Mech Br 11"]
[null,"Mil Spiel Ter Div 1",0,{"$f":"IF(C992=1,COUNTIF($C$3:C992,1),\"\")","v":""},{"$f":"IFERROR(INDEX(DROPDOWN_AOSuche_Alle,MATCH(ROWS($D$3:D992),DROPDOWN_AOSuche_Helper2,0)),\"\")","v":""},"Kdo Ausb","LVb Inf","Komp Zen Mil Musik","Mil Spiel Ter Div 1"]
[null,"Mil Spiel Ter Div 2",0,{"$f":"IF(C993=1,COUNTIF($C$3:C993,1),\"\")","v":""},{"$f":"IFERROR(INDEX(DROPDOWN_AOSuche_Alle,MATCH(ROWS($D$3:D993),DROPDOWN_AOSuche_Helper2,0)),\"\")","v":""},"Kdo Ausb","LVb Inf","Komp Zen Mil Musik","Mil Spiel Ter Div 2"]
[null,"Mil Spiel Ter Div 3",0,{"$f":"IF(C994=1,COUNTIF($C$3:C994,1),\"\")","v":""},{"$f":"IFERROR(INDEX(DROPDOWN_AOSuche_Alle,MATCH(ROWS($D$3:D994),DROPDOWN_AOSuche_Helper2,0)),\"\")","v":""},"Kdo Ausb","LVb Inf","Komp Zen Mil Musik","Mil Spiel Ter Div 3"]
[null,"Mil Spiel Ter Div 4",0,{"$f":"IF(C995=1,COUNTIF($C$3:C995,1),\"\")","v":""},{"$f":"IFERROR(INDEX(DROPDOWN_AOSuche_Alle,MATCH(ROWS($D$3:D995),DROPDOWN_AOSuche_Helper2,0)),\"\")","v":""},"Kdo Ausb","LVb Inf","Komp Zen Mil Musik","Mil Spiel Ter Div 4"]
[null,"MND",0,{"$f":"IF(C996=1,COUNTIF($C$3:C996,1),\"\")","v":""},{"$f":"IFERROR(INDEX(DROPDOWN_AOSuche_Alle,MATCH(ROWS($D$3:D996),DROPDOWN_AOSuche_Helper2,0)),\"\")","v":""},"Kdo Ausb","LVb Inf","Komp Zen Mil Musik","Mil Spiel LW"]
[null,"Mob Flab Lwf Abt 11",0,{"$f":"IF(C997=1,COUNTIF($C$3:C997,1),\"\")","v":""},{"$f":"IFERROR(INDEX(DROPDOWN_AOSuche_Alle,MATCH(ROWS($D$3:D997),DROPDOWN_AOSuche_Helper2,0)),\"\")","v":""},"Kdo Ausb","LVb Inf","Komp Zen Mil Musik","Mil Spiel Log Br 1"]
[null,"Mob Flab Lwf Abt 4",0,{"$f":"IF(C998=1,COUNTIF($C$3:C998,1),\"\")","v":""},{"$f":"IFERROR(INDEX(DROPDOWN_AOSuche_Alle,MATCH(ROWS($D$3:D998),DROPDOWN_AOSuche_Helper2,0)),\"\")","v":""},"Kdo Ausb","LVb Inf","Komp Zen Mil Musik","Mil Spiel FU Br 41"]
[null,"Mob Flab Lwf Bttr 11/1",0,{"$f":"IF(C999=1,COUNTIF($C$3:C999,1),\"\")","v":""},{"$f":"IFERROR(INDEX(DROPDOWN_AOSuche_Alle,MATCH(ROWS($D$3:D999),DROPDOWN_AOSuche_Helper2,0)),\"\")","v":""},"Kdo Ausb","LVb Inf","Komp Zen Mil Musik","Mil Musik S 16"]
[null,"Mob Flab Lwf Bttr 11/2",0,{"$f":"IF(C1000=1,COUNTIF($C$3:C1000,1),\"\")","v":""},{"$f":"IFERROR(INDEX(DROPDOWN_AOSuche_Alle,MATCH(ROWS($D$3:D1000),DROPDOWN_AOSuche_Helper2,0)),\"\")","v":""},"Kdo Ausb","LVb Inf","Komp Zen Mil Musik","Mil Musik S 16","Mil Musik RS 16-1"]
[null,"Mob Flab Lwf Bttr 4/1",0,{"$f":"IF(C1001=1,COUNTIF($C$3:C1001,1),\"\")","v":""},{"$f":"IFERROR(INDEX(DROPDOWN_AOSuche_Alle,MATCH(ROWS($D$3:D1001),DROPDOWN_AOSuche_Helper2,0)),\"\")","v":""},"Kdo Ausb","LVb Inf","Komp Zen Mil Musik","Mil Musik S 16","Mil Musik RS 16-1","Mil Musik RS Kp 16-1/1"]
[null,"Mob Flab Lwf Bttr 4/2",0,{"$f":"IF(C1002=1,COUNTIF($C$3:C1002,1),\"\")","v":""},{"$f":"IFERROR(INDEX(DROPDOWN_AOSuche_Alle,MATCH(ROWS($D$3:D1002),DROPDOWN_AOSuche_Helper2,0)),\"\")","v":""},"Kdo Ausb","LVb Inf","Komp Zen Mil Musik","Mil Musik S 16","Mil Musik RS 16-2"]
[null,"Mob Flab Lwf Stabsbttr 11",0,{"$f":"IF(C1003=1,COUNTIF($C$3:C1003,1),\"\")","v":""},{"$f":"IFERROR(INDEX(DROPDOWN_AOSuche_Alle,MATCH(ROWS($D$3:D1003),DROPDOWN_AOSuche_Helper2,0)),\"\")","v":""},"Kdo Ausb","LVb Inf","Komp Zen Mil Musik","Mil Musik S 16","Mil Musik RS 16-2","Mil Musik RS Kp 16-2/1"]
[null,"Mob Flab Lwf Stabsbttr 4",0,{"$f":"IF(C1004=1,COUNTIF($C$3:C1004,1),\"\")","v":""},{"$f":"IFERROR(INDEX(DROPDOWN_AOSuche_Alle,MATCH(ROWS($D$3:D1004),DROPDOWN_AOSuche_Helper2,0)),\"\")","v":""},"Kdo Ausb","LVb Inf","Komp Zen Mil Musik","Mil Musik S 16","Mil Musik UOS 16-1"]
[null,"Mob LW Radarabt 2",0,{"$f":"IF(C1005=1,COUNTIF($C$3:C1005,1),\"\")","v":""},{"$f":"IFERROR(INDEX(DROPDOWN_AOSuche_Alle,MATCH(ROWS($D$3:D1005),DROPDOWN_AOSuche_Helper2,0)),\"\")","v":""},"Kdo Ausb","LVb Inf","Komp Zen Mil Musik","Mil Musik S 16","Mil Musik UOS 16-1","Mil Musik UOS Kl 16-1/1"]
[null,"Mob LW Radarkp 21",0,{"$f":"IF(C1006=1,COUNTIF($C$3:C1006,1),\"\")","v":""},{"$f":"IFERROR(INDEX(DROPDOWN_AOSuche_Alle,MATCH(ROWS($D$3:D1006),DROPDOWN_AOSuche_Helper2,0)),\"\")","v":""},"Kdo Ausb","LVb Inf","Komp Zen Mil Musik","Mil Musik S 16","Mil Musik UOS 16-2"]
[null,"Mob LW Radarkp 22",0,{"$f":"IF(C1007=1,COUNTIF($C$3:C1007,1),\"\")","v":""},{"$f":"IFERROR(INDEX(DROPDOWN_AOSuche_Alle,MATCH(ROWS($D$3:D1007),DROPDOWN_AOSuche_Helper2,0)),\"\")","v":""},"Kdo Ausb","LVb Inf","Komp Zen Mil Musik","Mil Musik S 16","Mil Musik UOS 16-2","Mil Musik UOS Kl 16-2/1"]
[null,"Mob LW Radarkp 23",0,{"$f":"IF(C1008=1,COUNTIF($C$3:C1008,1),\"\")","v":""},{"$f":"IFERROR(INDEX(DROPDOWN_AOSuche_Alle,MATCH(ROWS($D$3:D1008),DROPDOWN_AOSuche_Helper2,0)),\"\")","v":""},"Kdo Ausb","LVb Inf","Komp Zen Mil Musik","Mil Musik S 16","Mil Musik OS 16-1"]
[null,"Mot Bootkp 10",0,{"$f":"IF(C1009=1,COUNTIF($C$3:C1009,1),\"\")","v":""},{"$f":"IFERROR(INDEX(DROPDOWN_AOSuche_Alle,MATCH(ROWS($D$3:D1009),DROPDOWN_AOSuche_Helper2,0)),\"\")","v":""},"Kdo Ausb","LVb Inf","Komp Zen Mil Musik","Mil Musik S 16","Mil Musik OS 16-2"]
[null,"MP Bat 1",0,{"$f":"IF(C1010=1,COUNTIF($C$3:C1010,1),\"\")","v":""},{"$f":"IFERROR(INDEX(DROPDOWN_AOSuche_Alle,MATCH(ROWS($D$3:D1010),DROPDOWN_AOSuche_Helper2,0)),\"\")","v":""},"Kdo Ausb","LVb Inf","Komp Zen Mil Musik","Mil Musik RS 16-1"]
[null,"MP Bat 2",0,{"$f":"IF(C1011=1,COUNTIF($C$3:C1011,1),\"\")","v":""},{"$f":"IFERROR(INDEX(DROPDOWN_AOSuche_Alle,MATCH(ROWS($D$3:D1011),DROPDOWN_AOSuche_Helper2,0)),\"\")","v":""},"Kdo Ausb","LVb Inf","Komp Zen Mil Musik","Mil Musik RS 16-2"]
[null,"MP Bat 3",0,{"$f":"IF(C1012=1,COUNTIF($C$3:C1012,1),\"\")","v":""},{"$f":"IFERROR(INDEX(DROPDOWN_AOSuche_Alle,MATCH(ROWS($D$3:D1012),DROPDOWN_AOSuche_Helper2,0)),\"\")","v":""},"Kdo Ausb","LVb Inf","Komp Zen Mil Musik","Rekr Fachprüfung Mil Musik"]
[null,"MP Bat 4",0,{"$f":"IF(C1013=1,COUNTIF($C$3:C1013,1),\"\")","v":""},{"$f":"IFERROR(INDEX(DROPDOWN_AOSuche_Alle,MATCH(ROWS($D$3:D1013),DROPDOWN_AOSuche_Helper2,0)),\"\")","v":""},"Kdo Ausb","LVb Inf","Komp Zen Mil Musik","Mil Musik RS 16-3"]
[null,"MP Ber Kp 104",0,{"$f":"IF(C1014=1,COUNTIF($C$3:C1014,1),\"\")","v":""},{"$f":"IFERROR(INDEX(DROPDOWN_AOSuche_Alle,MATCH(ROWS($D$3:D1014),DROPDOWN_AOSuche_Helper2,0)),\"\")","v":""},"Kdo Ausb","LVb Inf","Kdo VBA Inf 18"]
[null,"MP Ber Kp 204",0,{"$f":"IF(C1015=1,COUNTIF($C$3:C1015,1),\"\")","v":""},{"$f":"IFERROR(INDEX(DROPDOWN_AOSuche_Alle,MATCH(ROWS($D$3:D1015),DROPDOWN_AOSuche_Helper2,0)),\"\")","v":""},"Kdo Ausb","LVb Inf","Kdo VBA Inf 18","TLG 2 Zfhr Stv Inf"]
[null,"MP Det OST",0,{"$f":"IF(C1016=1,COUNTIF($C$3:C1016,1),\"\")","v":""},{"$f":"IFERROR(INDEX(DROPDOWN_AOSuche_Alle,MATCH(ROWS($D$3:D1016),DROPDOWN_AOSuche_Helper2,0)),\"\")","v":""},"Kdo Ausb","LVb Inf","Kdo VBA Inf 18","TLG 1 Zfhr Stv Inf"]
[null,"MP Det WEST",0,{"$f":"IF(C1017=1,COUNTIF($C$3:C1017,1),\"\")","v":""},{"$f":"IFERROR(INDEX(DROPDOWN_AOSuche_Alle,MATCH(ROWS($D$3:D1017),DROPDOWN_AOSuche_Helper2,0)),\"\")","v":""},"Kdo Ausb","LVb Inf","Inf OS 10"]
[null,"MP Gren Kp 1/1",0,{"$f":"IF(C1018=1,COUNTIF($C$3:C1018,1),\"\")","v":""},{"$f":"IFERROR(INDEX(DROPDOWN_AOSuche_Alle,MATCH(ROWS($D$3:D1018),DROPDOWN_AOSuche_Helper2,0)),\"\")","v":""},"Kdo Ausb","LVb Inf","Inf OS 10","Inf OS 10-1"]
[null,"MP Gren Kp 2/1",0,{"$f":"IF(C1019=1,COUNTIF($C$3:C1019,1),\"\")","v":""},{"$f":"IFERROR(INDEX(DROPDOWN_AOSuche_Alle,MATCH(ROWS($D$3:D1019),DROPDOWN_AOSuche_Helper2,0)),\"\")","v":""},"Kdo Ausb","LVb Inf","Inf OS 10","Inf OS 10-1","Inf OS Kl 10-1/0"]
[null,"MP Gren Kp 3/1",0,{"$f":"IF(C1020=1,COUNTIF($C$3:C1020,1),\"\")","v":""},{"$f":"IFERROR(INDEX(DROPDOWN_AOSuche_Alle,MATCH(ROWS($D$3:D1020),DROPDOWN_AOSuche_Helper2,0)),\"\")","v":""},"Kdo Ausb","LVb Inf","Inf OS 10","Inf OS 10-1","Inf OS Kl 10-1/1"]
[null,"MP Gren Kp 4/1",0,{"$f":"IF(C1021=1,COUNTIF($C$3:C1021,1),\"\")","v":""},{"$f":"IFERROR(INDEX(DROPDOWN_AOSuche_Alle,MATCH(ROWS($D$3:D1021),DROPDOWN_AOSuche_Helper2,0)),\"\")","v":""},"Kdo Ausb","LVb Inf","Inf OS 10","Inf OS 10-1","Inf OS Kl 10-1/2"]
[null,"MP Kp 1/2",0,{"$f":"IF(C1022=1,COUNTIF($C$3:C1022,1),\"\")","v":""},{"$f":"IFERROR(INDEX(DROPDOWN_AOSuche_Alle,MATCH(ROWS($D$3:D1022),DROPDOWN_AOSuche_Helper2,0)),\"\")","v":""},"Kdo Ausb","LVb Inf","Inf OS 10","Inf OS 10-1","Inf OS Kl 10-1/3"]
[null,"MP Kp 1/3",0,{"$f":"IF(C1023=1,COUNTIF($C$3:C1023,1),\"\")","v":""},{"$f":"IFERROR(INDEX(DROPDOWN_AOSuche_Alle,MATCH(ROWS($D$3:D1023),DROPDOWN_AOSuche_Helper2,0)),\"\")","v":""},"Kdo Ausb","LVb Inf","Inf OS 10","Inf OS 10-1","Inf OS Kl 10-1/4"]
[null,"MP Kp 2/2",0,{"$f":"IF(C1024=1,COUNTIF($C$3:C1024,1),\"\")","v":""},{"$f":"IFERROR(INDEX(DROPDOWN_AOSuche_Alle,MATCH(ROWS($D$3:D1024),DROPDOWN_AOSuche_Helper2,0)),\"\")","v":""},"Kdo Ausb","LVb Inf","Inf OS 10","Inf OS 10-1","Inf OS Kl 10-1/5"]
[null,"MP Kp 2/3",0,{"$f":"IF(C1025=1,COUNTIF($C$3:C1025,1),\"\")","v":""},{"$f":"IFERROR(INDEX(DROPDOWN_AOSuche_Alle,MATCH(ROWS($D$3:D1025),DROPDOWN_AOSuche_Helper2,0)),\"\")","v":""},"Kdo Ausb","LVb Inf","Inf OS 10","Inf OS 10-2"]
[null,"MP Kp 3/2",0,{"$f":"IF(C1026=1,COUNTIF($C$3:C1026,1),\"\")","v":""},{"$f":"IFERROR(INDEX(DROPDOWN_AOSuche_Alle,MATCH(ROWS($D$3:D1026),DROPDOWN_AOSuche_Helper2,0)),\"\")","v":""},"Kdo Ausb","LVb Inf","Inf OS 10","Inf OS 10-2","Inf OS Kl 10-2/0"]
[null,"MP Kp 3/3",{"$f":"--ISNUMBER(IFERROR(SEARCH(AO_Search_Value,B1027,1),\"\"))","v":0},{"$f":"IF(C1027=1,COUNTIF($C$3:C1027,1),\"\")","v":""},{"$f":"IFERROR(INDEX(DROPDOWN_AOSuche_Alle,MATCH(ROWS($D$3:D1027),DROPDOWN_AOSuche_Helper2,0)),\"\")","v":""},"Kdo Ausb","LVb Inf","Inf OS 10","Inf OS 10-2","Inf OS Kl 10-2/1"]
[null,"MP Kp 4/2",0,{"$f":"IF(C1028=1,COUNTIF($C$3:C1028,1),\"\")","v":""},{"$f":"IFERROR(INDEX(DROPDOWN_AOSuche_Alle,MATCH(ROWS($D$3:D1028),DROPDOWN_AOSuche_Helper2,0)),\"\")","v":""},"Kdo Ausb","LVb Inf","Inf OS 10","Inf OS 10-2","Inf OS Kl 10-2/2"]
[null,"MP Kp 4/3",0,{"$f":"IF(C1029=1,COUNTIF($C$3:C1029,1),\"\")","v":""},{"$f":"IFERROR(INDEX(DROPDOWN_AOSuche_Alle,MATCH(ROWS($D$3:D1029),DROPDOWN_AOSuche_Helper2,0)),\"\")","v":""},"Kdo Ausb","LVb Inf","Inf OS 10","Inf OS 10-2","Inf OS Kl 10-2/3"]
[null,"MP Kripo Det",0,{"$f":"IF(C1030=1,COUNTIF($C$3:C1030,1),\"\")","v":""},{"$f":"IFERROR(INDEX(DROPDOWN_AOSuche_Alle,MATCH(ROWS($D$3:D1030),DROPDOWN_AOSuche_Helper2,0)),\"\")","v":""},"Kdo Ausb","LVb Inf","Inf OS 10","Inf OS 10-2","Inf OS Kl 10-2/4"]
[null,"MP RS 19-1",0,{"$f":"IF(C1031=1,COUNTIF($C$3:C1031,1),\"\")","v":""},{"$f":"IFERROR(INDEX(DROPDOWN_AOSuche_Alle,MATCH(ROWS($D$3:D1031),DROPDOWN_AOSuche_Helper2,0)),\"\")","v":""},"Kdo Ausb","LVb Inf","Inf OS 10","Inf OS 10-2","Inf OS Kl 10-2/5"]
[null,"MP RS 19-2",0,{"$f":"IF(C1032=1,COUNTIF($C$3:C1032,1),\"\")","v":""},{"$f":"IFERROR(INDEX(DROPDOWN_AOSuche_Alle,MATCH(ROWS($D$3:D1032),DROPDOWN_AOSuche_Helper2,0)),\"\")","v":""},"Kdo Ausb","LVb Inf","Inf S 2"]
[null,"MP RS Kp 19-1/0, Fz",0,{"$f":"IF(C1033=1,COUNTIF($C$3:C1033,1),\"\")","v":""},{"$f":"IFERROR(INDEX(DROPDOWN_AOSuche_Alle,MATCH(ROWS($D$3:D1033),DROPDOWN_AOSuche_Helper2,0)),\"\")","v":""},"Kdo Ausb","LVb Inf","Inf S 2","Inf RS 2-1"]
[null,"MP RS Kp 19-1/1",0,{"$f":"IF(C1034=1,COUNTIF($C$3:C1034,1),\"\")","v":""},{"$f":"IFERROR(INDEX(DROPDOWN_AOSuche_Alle,MATCH(ROWS($D$3:D1034),DROPDOWN_AOSuche_Helper2,0)),\"\")","v":""},"Kdo Ausb","LVb Inf","Inf S 2","Inf RS 2-2"]
[null,"MP RS Kp 19-1/2",0,{"$f":"IF(C1035=1,COUNTIF($C$3:C1035,1),\"\")","v":""},{"$f":"IFERROR(INDEX(DROPDOWN_AOSuche_Alle,MATCH(ROWS($D$3:D1035),DROPDOWN_AOSuche_Helper2,0)),\"\")","v":""},"Kdo Ausb","LVb Inf","Inf S 2","Inf RS 2-3"]
[null,"MP RS Kp 19-2/0, Fz",0,{"$f":"IF(C1036=1,COUNTIF($C$3:C1036,1),\"\")","v":""},{"$f":"IFERROR(INDEX(DROPDOWN_AOSuche_Alle,MATCH(ROWS($D$3:D1036),DROPDOWN_AOSuche_Helper2,0)),\"\")","v":""},"Kdo Ausb","LVb Inf","Inf S 2","Inf RS 2-1"]
[null,"MP RS Kp 19-2/1",0,{"$f":"IF(C1037=1,COUNTIF($C$3:C1037,1),\"\")","v":""},{"$f":"IFERROR(INDEX(DROPDOWN_AOSuche_Alle,MATCH(ROWS($D$3:D1037),DROPDOWN_AOSuche_Helper2,0)),\"\")","v":""},"Kdo Ausb","LVb Inf","Inf S 2","Inf RS 2-1","Inf RS Inf Stabskp 2-1/1"]
[null,"MP RS Kp 19-2/2",0,{"$f":"IF(C1038=1,COUNTIF($C$3:C1038,1),\"\")","v":""},{"$f":"IFERROR(INDEX(DROPDOWN_AOSuche_Alle,MATCH(ROWS($D$3:D1038),DROPDOWN_AOSuche_Helper2,0)),\"\")","v":""},"Kdo Ausb","LVb Inf","Inf S 2","Inf RS 2-1","Inf RS Inf Kp 2-1/2"]
[null,"MP S 19",0,{"$f":"IF(C1039=1,COUNTIF($C$3:C1039,1),\"\")","v":""},{"$f":"IFERROR(INDEX(DROPDOWN_AOSuche_Alle,MATCH(ROWS($D$3:D1039),DROPDOWN_AOSuche_Helper2,0)),\"\")","v":""},"Kdo Ausb","LVb Inf","Inf S 2","Inf RS 2-1","Inf RS Inf Kp 2-1/3"]
[null,"MP Schutzdet",0,{"$f":"IF(C1040=1,COUNTIF($C$3:C1040,1),\"\")","v":""},{"$f":"IFERROR(INDEX(DROPDOWN_AOSuche_Alle,MATCH(ROWS($D$3:D1040),DROPDOWN_AOSuche_Helper2,0)),\"\")","v":""},"Kdo Ausb","LVb Inf","Inf S 2","Inf RS 2-1","Inf RS Inf Ustü Kp 2-1/4"]
[null,"MP Sich D Det OST",0,{"$f":"IF(C1041=1,COUNTIF($C$3:C1041,1),\"\")","v":""},{"$f":"IFERROR(INDEX(DROPDOWN_AOSuche_Alle,MATCH(ROWS($D$3:D1041),DROPDOWN_AOSuche_Helper2,0)),\"\")","v":""},"Kdo Ausb","LVb Inf","Inf S 2","Inf RS 2-1","Inf RS Inf Bes Kp 2-1/5"]
[null,"MP Sich D Det WEST",0,{"$f":"IF(C1042=1,COUNTIF($C$3:C1042,1),\"\")","v":""},{"$f":"IFERROR(INDEX(DROPDOWN_AOSuche_Alle,MATCH(ROWS($D$3:D1042),DROPDOWN_AOSuche_Helper2,0)),\"\")","v":""},"Kdo Ausb","LVb Inf","Inf S 2","Inf RS 2-1","Inf RS ext Bes Kp 2-1/6"]
[null,"MP Spez Det",0,{"$f":"IF(C1043=1,COUNTIF($C$3:C1043,1),\"\")","v":""},{"$f":"IFERROR(INDEX(DROPDOWN_AOSuche_Alle,MATCH(ROWS($D$3:D1043),DROPDOWN_AOSuche_Helper2,0)),\"\")","v":""},"Kdo Ausb","LVb Inf","Inf S 2","Inf RS 2-2"]
[null,"MP Stabskp 1",0,{"$f":"IF(C1044=1,COUNTIF($C$3:C1044,1),\"\")","v":""},{"$f":"IFERROR(INDEX(DROPDOWN_AOSuche_Alle,MATCH(ROWS($D$3:D1044),DROPDOWN_AOSuche_Helper2,0)),\"\")","v":""},"Kdo Ausb","LVb Inf","Inf S 2","Inf RS 2-2","Inf RS Inf Stabskp 2-2/1"]
[null,"MP Stabskp 2",0,{"$f":"IF(C1045=1,COUNTIF($C$3:C1045,1),\"\")","v":""},{"$f":"IFERROR(INDEX(DROPDOWN_AOSuche_Alle,MATCH(ROWS($D$3:D1045),DROPDOWN_AOSuche_Helper2,0)),\"\")","v":""},"Kdo Ausb","LVb Inf","Inf S 2","Inf RS 2-2","Inf RS Inf Kp 2-2/2"]
[null,"MP Stabskp 3",0,{"$f":"IF(C1046=1,COUNTIF($C$3:C1046,1),\"\")","v":""},{"$f":"IFERROR(INDEX(DROPDOWN_AOSuche_Alle,MATCH(ROWS($D$3:D1046),DROPDOWN_AOSuche_Helper2,0)),\"\")","v":""},"Kdo Ausb","LVb Inf","Inf S 2","Inf RS 2-2","Inf RS Inf Kp 2-2/3"]
[null,"MP Stabskp 4",0,{"$f":"IF(C1047=1,COUNTIF($C$3:C1047,1),\"\")","v":""},{"$f":"IFERROR(INDEX(DROPDOWN_AOSuche_Alle,MATCH(ROWS($D$3:D1047),DROPDOWN_AOSuche_Helper2,0)),\"\")","v":""},"Kdo Ausb","LVb Inf","Inf S 2","Inf RS 2-2","Inf RS Inf Ustü Kp 2-2/4"]
[null,"MP UOS 19-1",0,{"$f":"IF(C1048=1,COUNTIF($C$3:C1048,1),\"\")","v":""},{"$f":"IFERROR(INDEX(DROPDOWN_AOSuche_Alle,MATCH(ROWS($D$3:D1048),DROPDOWN_AOSuche_Helper2,0)),\"\")","v":""},"Kdo Ausb","LVb Inf","Inf S 2","Inf RS 2-2","Inf RS Inf Bes Kp 2-2/5"]
[null,"MP UOS 19-2",0,{"$f":"IF(C1049=1,COUNTIF($C$3:C1049,1),\"\")","v":""},{"$f":"IFERROR(INDEX(DROPDOWN_AOSuche_Alle,MATCH(ROWS($D$3:D1049),DROPDOWN_AOSuche_Helper2,0)),\"\")","v":""},"Kdo Ausb","LVb Inf","Inf S 2","Inf RS 2-2","Inf RS ext Bes Kp 2-2/6"]
[null,"MP UOS Kl 19-1/0, Fz",0,{"$f":"IF(C1050=1,COUNTIF($C$3:C1050,1),\"\")","v":""},{"$f":"IFERROR(INDEX(DROPDOWN_AOSuche_Alle,MATCH(ROWS($D$3:D1050),DROPDOWN_AOSuche_Helper2,0)),\"\")","v":""},"Kdo Ausb","LVb Inf","Inf S 2","Inf RS 2-2","Inf RS Inf Kp 2-2/7"]
[null,"MP UOS Kl 19-1/1",0,{"$f":"IF(C1051=1,COUNTIF($C$3:C1051,1),\"\")","v":""},{"$f":"IFERROR(INDEX(DROPDOWN_AOSuche_Alle,MATCH(ROWS($D$3:D1051),DROPDOWN_AOSuche_Helper2,0)),\"\")","v":""},"Kdo Ausb","LVb Inf","Inf S 2","Inf RS 2-2","Inf RS Inf Kp 2-2/8"]
[null,"MP UOS Kl 19-1/2",0,{"$f":"IF(C1052=1,COUNTIF($C$3:C1052,1),\"\")","v":""},{"$f":"IFERROR(INDEX(DROPDOWN_AOSuche_Alle,MATCH(ROWS($D$3:D1052),DROPDOWN_AOSuche_Helper2,0)),\"\")","v":""},"Kdo Ausb","LVb Inf","Inf S 2","Inf UOS 2-1"]
[null,"MP UOS Kl 19-2/0, Fz",0,{"$f":"IF(C1053=1,COUNTIF($C$3:C1053,1),\"\")","v":""},{"$f":"IFERROR(INDEX(DROPDOWN_AOSuche_Alle,MATCH(ROWS($D$3:D1053),DROPDOWN_AOSuche_Helper2,0)),\"\")","v":""},"Kdo Ausb","LVb Inf","Inf S 2","Inf UOS 2-1","Inf UOS 2-1/0, Fz"]
[null,"MP UOS Kl 19-2/1",0,{"$f":"IF(C1054=1,COUNTIF($C$3:C1054,1),\"\")","v":""},{"$f":"IFERROR(INDEX(DROPDOWN_AOSuche_Alle,MATCH(ROWS($D$3:D1054),DROPDOWN_AOSuche_Helper2,0)),\"\")","v":""},"Kdo Ausb","LVb Inf","Inf S 2","Inf UOS 2-1","Inf UOS Kl 2-1/1"]
[null,"MP UOS Kl 19-2/2",0,{"$f":"IF(C1055=1,COUNTIF($C$3:C1055,1),\"\")","v":""},{"$f":"IFERROR(INDEX(DROPDOWN_AOSuche_Alle,MATCH(ROWS($D$3:D1055),DROPDOWN_AOSuche_Helper2,0)),\"\")","v":""},"Kdo Ausb","LVb Inf","Inf S 2","Inf UOS 2-1","Inf UOS Kl 2-1/2"]
[null,"MRS Kp 4/5",0,{"$f":"IF(C1056=1,COUNTIF($C$3:C1056,1),\"\")","v":""},{"$f":"IFERROR(INDEX(DROPDOWN_AOSuche_Alle,MATCH(ROWS($D$3:D1056),DROPDOWN_AOSuche_Helper2,0)),\"\")","v":""},"Kdo Ausb","LVb Inf","Inf S 2","Inf UOS 2-1","Inf UOS Kl 2-1/3"]
[null,"MRS Kp 4/6",0,{"$f":"IF(C1057=1,COUNTIF($C$3:C1057,1),\"\")","v":""},{"$f":"IFERROR(INDEX(DROPDOWN_AOSuche_Alle,MATCH(ROWS($D$3:D1057),DROPDOWN_AOSuche_Helper2,0)),\"\")","v":""},"Kdo Ausb","LVb Inf","Inf S 2","Inf UOS 2-1","Inf UOS Kl 2-1/4"]
[null,"Ns RS 45-1",0,{"$f":"IF(C1058=1,COUNTIF($C$3:C1058,1),\"\")","v":""},{"$f":"IFERROR(INDEX(DROPDOWN_AOSuche_Alle,MATCH(ROWS($D$3:D1058),DROPDOWN_AOSuche_Helper2,0)),\"\")","v":""},"Kdo Ausb","LVb Inf","Inf S 2","Inf UOS 2-1","Inf UOS Kl 2-1/5"]
[null,"Ns RS 45-2",0,{"$f":"IF(C1059=1,COUNTIF($C$3:C1059,1),\"\")","v":""},{"$f":"IFERROR(INDEX(DROPDOWN_AOSuche_Alle,MATCH(ROWS($D$3:D1059),DROPDOWN_AOSuche_Helper2,0)),\"\")","v":""},"Kdo Ausb","LVb Inf","Inf S 2","Inf UOS 2-1","Inf UOS Kl 2-1/6"]
[null,"Ns RS Kp 45-1/1",0,{"$f":"IF(C1060=1,COUNTIF($C$3:C1060,1),\"\")","v":""},{"$f":"IFERROR(INDEX(DROPDOWN_AOSuche_Alle,MATCH(ROWS($D$3:D1060),DROPDOWN_AOSuche_Helper2,0)),\"\")","v":""},"Kdo Ausb","LVb Inf","Inf S 2","Inf UOS 2-1","Inf UOS Kl 2-1/7"]
[null,"Ns RS Kp 45-1/2",0,{"$f":"IF(C1061=1,COUNTIF($C$3:C1061,1),\"\")","v":""},{"$f":"IFERROR(INDEX(DROPDOWN_AOSuche_Alle,MATCH(ROWS($D$3:D1061),DROPDOWN_AOSuche_Helper2,0)),\"\")","v":""},"Kdo Ausb","LVb Inf","Inf S 2","Inf UOS 2-1","Inf UOS Kl 2-1/8"]
[null,"Ns RS Kp 45-1/3",0,{"$f":"IF(C1062=1,COUNTIF($C$3:C1062,1),\"\")","v":""},{"$f":"IFERROR(INDEX(DROPDOWN_AOSuche_Alle,MATCH(ROWS($D$3:D1062),DROPDOWN_AOSuche_Helper2,0)),\"\")","v":""},"Kdo Ausb","LVb Inf","Inf S 2","Inf UOS 2-2"]
[null,"Ns RS Kp 45-1/4",0,{"$f":"IF(C1063=1,COUNTIF($C$3:C1063,1),\"\")","v":""},{"$f":"IFERROR(INDEX(DROPDOWN_AOSuche_Alle,MATCH(ROWS($D$3:D1063),DROPDOWN_AOSuche_Helper2,0)),\"\")","v":""},"Kdo Ausb","LVb Inf","Inf S 2","Inf UOS 2-2","Inf UOS 2-2/0, Fz"]
[null,"Ns RS Kp 45-1/5",0,{"$f":"IF(C1064=1,COUNTIF($C$3:C1064,1),\"\")","v":""},{"$f":"IFERROR(INDEX(DROPDOWN_AOSuche_Alle,MATCH(ROWS($D$3:D1064),DROPDOWN_AOSuche_Helper2,0)),\"\")","v":""},"Kdo Ausb","LVb Inf","Inf S 2","Inf UOS 2-2","Inf UOS Kl 2-2/1"]
[null,"Ns RS Kp 45-2/1",0,{"$f":"IF(C1065=1,COUNTIF($C$3:C1065,1),\"\")","v":""},{"$f":"IFERROR(INDEX(DROPDOWN_AOSuche_Alle,MATCH(ROWS($D$3:D1065),DROPDOWN_AOSuche_Helper2,0)),\"\")","v":""},"Kdo Ausb","LVb Inf","Inf S 2","Inf UOS 2-2","Inf UOS Kl 2-2/2"]
[null,"Ns RS Kp 45-2/2",0,{"$f":"IF(C1066=1,COUNTIF($C$3:C1066,1),\"\")","v":""},{"$f":"IFERROR(INDEX(DROPDOWN_AOSuche_Alle,MATCH(ROWS($D$3:D1066),DROPDOWN_AOSuche_Helper2,0)),\"\")","v":""},"Kdo Ausb","LVb Inf","Inf S 2","Inf UOS 2-2","Inf UOS Kl 2-2/3"]
[null,"Ns RS Kp 45-2/3",0,{"$f":"IF(C1067=1,COUNTIF($C$3:C1067,1),\"\")","v":""},{"$f":"IFERROR(INDEX(DROPDOWN_AOSuche_Alle,MATCH(ROWS($D$3:D1067),DROPDOWN_AOSuche_Helper2,0)),\"\")","v":""},"Kdo Ausb","LVb Inf","Inf S 2","Inf UOS 2-2","Inf UOS Kl 2-2/4"]
[null,"Ns RS Kp 45-2/4",0,{"$f":"IF(C1068=1,COUNTIF($C$3:C1068,1),\"\")","v":""},{"$f":"IFERROR(INDEX(DROPDOWN_AOSuche_Alle,MATCH(ROWS($D$3:D1068),DROPDOWN_AOSuche_Helper2,0)),\"\")","v":""},"Kdo Ausb","LVb Inf","Inf S 2","Inf UOS 2-2","Inf UOS Kl 2-2/5"]
[null,"Ns RS Kp 45-2/5",0,{"$f":"IF(C1069=1,COUNTIF($C$3:C1069,1),\"\")","v":""},{"$f":"IFERROR(INDEX(DROPDOWN_AOSuche_Alle,MATCH(ROWS($D$3:D1069),DROPDOWN_AOSuche_Helper2,0)),\"\")","v":""},"Kdo Ausb","LVb Inf","Inf S 2","Inf UOS 2-2","Inf UOS Kl 2-2/6"]
[null,"Ns Rs RS 45-1",0,{"$f":"IF(C1070=1,COUNTIF($C$3:C1070,1),\"\")","v":""},{"$f":"IFERROR(INDEX(DROPDOWN_AOSuche_Alle,MATCH(ROWS($D$3:D1070),DROPDOWN_AOSuche_Helper2,0)),\"\")","v":""},"Kdo Ausb","LVb Inf","Inf S 2","Inf RS 5-3"]
[null,"Ns Rs RS 45-2",0,{"$f":"IF(C1071=1,COUNTIF($C$3:C1071,1),\"\")","v":""},{"$f":"IFERROR(INDEX(DROPDOWN_AOSuche_Alle,MATCH(ROWS($D$3:D1071),DROPDOWN_AOSuche_Helper2,0)),\"\")","v":""},"Kdo Ausb","LVb Inf","Inf S 2","Inf RS 5-1"]
[null,"Ns Rs RS 45-3",0,{"$f":"IF(C1072=1,COUNTIF($C$3:C1072,1),\"\")","v":""},{"$f":"IFERROR(INDEX(DROPDOWN_AOSuche_Alle,MATCH(ROWS($D$3:D1072),DROPDOWN_AOSuche_Helper2,0)),\"\")","v":""},"Kdo Ausb","LVb Inf","Inf S 2","Inf RS 5-2"]
[null,"Ns S 45",0,{"$f":"IF(C1073=1,COUNTIF($C$3:C1073,1),\"\")","v":""},{"$f":"IFERROR(INDEX(DROPDOWN_AOSuche_Alle,MATCH(ROWS($D$3:D1073),DROPDOWN_AOSuche_Helper2,0)),\"\")","v":""},"Kdo Ausb","LVb Inf","Inf S 11"]
[null,"Ns UOS 45-1",0,{"$f":"IF(C1074=1,COUNTIF($C$3:C1074,1),\"\")","v":""},{"$f":"IFERROR(INDEX(DROPDOWN_AOSuche_Alle,MATCH(ROWS($D$3:D1074),DROPDOWN_AOSuche_Helper2,0)),\"\")","v":""},"Kdo Ausb","LVb Inf","Inf S 11","Inf RS 11-1"]
[null,"Ns UOS 45-2",0,{"$f":"IF(C1075=1,COUNTIF($C$3:C1075,1),\"\")","v":""},{"$f":"IFERROR(INDEX(DROPDOWN_AOSuche_Alle,MATCH(ROWS($D$3:D1075),DROPDOWN_AOSuche_Helper2,0)),\"\")","v":""},"Kdo Ausb","LVb Inf","Inf S 11","Inf RS 11-1","Inf RS 11-1/0, Fz"]
[null,"Op Zen LW",0,{"$f":"IF(C1076=1,COUNTIF($C$3:C1076,1),\"\")","v":""},{"$f":"IFERROR(INDEX(DROPDOWN_AOSuche_Alle,MATCH(ROWS($D$3:D1076),DROPDOWN_AOSuche_Helper2,0)),\"\")","v":""},"Kdo Ausb","LVb Inf","Inf S 11","Inf RS 11-1","Inf RS Inf Stabskp 11-1/1"]
[null,"Pers A",0,{"$f":"IF(C1077=1,COUNTIF($C$3:C1077,1),\"\")","v":""},{"$f":"IFERROR(INDEX(DROPDOWN_AOSuche_Alle,MATCH(ROWS($D$3:D1077),DROPDOWN_AOSuche_Helper2,0)),\"\")","v":""},"Kdo Ausb","LVb Inf","Inf S 11","Inf RS 11-1","Inf RS Inf Kp 11-1/2"]
[null,"Pil S LW 85",1,{"$f":"IF(C1078=1,COUNTIF($C$3:C1078,1),\"\")","v":1},{"$f":"IFERROR(INDEX(DROPDOWN_AOSuche_Alle,MATCH(ROWS($D$3:D1078),DROPDOWN_AOSuche_Helper2,0)),\"\")","v":""},"Kdo Ausb","LVb Inf","Inf S 11","Inf RS 11-1","Inf RS Inf Kp 11-1/3"]
[null,"Pont Bat 26",0,{"$f":"IF(C1079=1,COUNTIF($C$3:C1079,1),\"\")","v":""},{"$f":"IFERROR(INDEX(DROPDOWN_AOSuche_Alle,MATCH(ROWS($D$3:D1079),DROPDOWN_AOSuche_Helper2,0)),\"\")","v":""},"Kdo Ausb","LVb Inf","Inf S 11","Inf RS 11-1","Inf RS Inf Bes Kp 11-1/4"]
[null,"Pont Kp 2/3",0,{"$f":"IF(C1080=1,COUNTIF($C$3:C1080,1),\"\")","v":""},{"$f":"IFERROR(INDEX(DROPDOWN_AOSuche_Alle,MATCH(ROWS($D$3:D1080),DROPDOWN_AOSuche_Helper2,0)),\"\")","v":""},"Kdo Ausb","LVb Inf","Inf S 11","Inf RS 11-2"]
[null,"Pont Kp 26/2",0,{"$f":"IF(C1081=1,COUNTIF($C$3:C1081,1),\"\")","v":""},{"$f":"IFERROR(INDEX(DROPDOWN_AOSuche_Alle,MATCH(ROWS($D$3:D1081),DROPDOWN_AOSuche_Helper2,0)),\"\")","v":""},"Kdo Ausb","LVb Inf","Inf S 11","Inf RS 11-2","Inf RS Inf Stabskp 11-2/1"]
[null,"Pont Kp 26/3",0,{"$f":"IF(C1082=1,COUNTIF($C$3:C1082,1),\"\")","v":""},{"$f":"IFERROR(INDEX(DROPDOWN_AOSuche_Alle,MATCH(ROWS($D$3:D1082),DROPDOWN_AOSuche_Helper2,0)),\"\")","v":""},"Kdo Ausb","LVb Inf","Inf S 11","Inf RS 11-2","Inf RS Inf Kp 11-2/2"]
[null,"Pont Kp 6/3",0,{"$f":"IF(C1083=1,COUNTIF($C$3:C1083,1),\"\")","v":""},{"$f":"IFERROR(INDEX(DROPDOWN_AOSuche_Alle,MATCH(ROWS($D$3:D1083),DROPDOWN_AOSuche_Helper2,0)),\"\")","v":""},"Kdo Ausb","LVb Inf","Inf S 11","Inf RS 11-2","Inf RS Inf Kp 11-2/3"]
[null,"Pont Stabskp 26",0,{"$f":"IF(C1084=1,COUNTIF($C$3:C1084,1),\"\")","v":""},{"$f":"IFERROR(INDEX(DROPDOWN_AOSuche_Alle,MATCH(ROWS($D$3:D1084),DROPDOWN_AOSuche_Helper2,0)),\"\")","v":""},"Kdo Ausb","LVb Inf","Inf S 11","Inf RS 11-2","Inf RS Inf Bes Kp 11-2/4"]
[null,"Prakt D Bat Kdt SK",0,{"$f":"IF(C1085=1,COUNTIF($C$3:C1085,1),\"\")","v":""},{"$f":"IFERROR(INDEX(DROPDOWN_AOSuche_Alle,MATCH(ROWS($D$3:D1085),DROPDOWN_AOSuche_Helper2,0)),\"\")","v":""},"Kdo Ausb","LVb Inf","Inf S 11","Inf RS 11-1"]
[null,"Pz Bat 12",0,{"$f":"IF(C1086=1,COUNTIF($C$3:C1086,1),\"\")","v":""},{"$f":"IFERROR(INDEX(DROPDOWN_AOSuche_Alle,MATCH(ROWS($D$3:D1086),DROPDOWN_AOSuche_Helper2,0)),\"\")","v":""},"Kdo Ausb","LVb Inf","Inf S 11","Inf RS 11-2"]
[null,"Pz Bat 13",0,{"$f":"IF(C1087=1,COUNTIF($C$3:C1087,1),\"\")","v":""},{"$f":"IFERROR(INDEX(DROPDOWN_AOSuche_Alle,MATCH(ROWS($D$3:D1087),DROPDOWN_AOSuche_Helper2,0)),\"\")","v":""},"Kdo Ausb","LVb Inf","Inf S 11","Inf RS 11-3"]
[null,"Pz Gren Kp 12/3",0,{"$f":"IF(C1088=1,COUNTIF($C$3:C1088,1),\"\")","v":""},{"$f":"IFERROR(INDEX(DROPDOWN_AOSuche_Alle,MATCH(ROWS($D$3:D1088),DROPDOWN_AOSuche_Helper2,0)),\"\")","v":""},"Kdo Ausb","LVb Inf","Inf S 11","Inf UOS 11-1"]
[null,"Pz Gren Kp 12/4",0,{"$f":"IF(C1089=1,COUNTIF($C$3:C1089,1),\"\")","v":""},{"$f":"IFERROR(INDEX(DROPDOWN_AOSuche_Alle,MATCH(ROWS($D$3:D1089),DROPDOWN_AOSuche_Helper2,0)),\"\")","v":""},"Kdo Ausb","LVb Inf","Inf S 11","Inf UOS 11-1","Inf UOS 11-1/0, Fz"]
[null,"Pz Gren Kp 13/3",0,{"$f":"IF(C1090=1,COUNTIF($C$3:C1090,1),\"\")","v":""},{"$f":"IFERROR(INDEX(DROPDOWN_AOSuche_Alle,MATCH(ROWS($D$3:D1090),DROPDOWN_AOSuche_Helper2,0)),\"\")","v":""},"Kdo Ausb","LVb Inf","Inf S 11","Inf UOS 11-1","Inf UOS Kl 11-1/1"]
[null,"Pz Gren Kp 13/4",{"$f":"--ISNUMBER(IFERROR(SEARCH(AO_Search_Value,B1091,1),\"\"))","v":0},{"$f":"IF(C1091=1,COUNTIF($C$3:C1091,1),\"\")","v":""},{"$f":"IFERROR(INDEX(DROPDOWN_AOSuche_Alle,MATCH(ROWS($D$3:D1091),DROPDOWN_AOSuche_Helper2,0)),\"\")","v":""},"Kdo Ausb","LVb Inf","Inf S 11","Inf UOS 11-1","Inf UOS Kl 11-1/2"]
[null,"Pz Gren Kp 14/3",0,{"$f":"IF(C1092=1,COUNTIF($C$3:C1092,1),\"\")","v":""},{"$f":"IFERROR(INDEX(DROPDOWN_AOSuche_Alle,MATCH(ROWS($D$3:D1092),DROPDOWN_AOSuche_Helper2,0)),\"\")","v":""},"Kdo Ausb","LVb Inf","Inf S 11","Inf UOS 11-1","Inf UOS Kl 11-1/3"]
[null,"Pz Gren Kp 14/4",0,{"$f":"IF(C1093=1,COUNTIF($C$3:C1093,1),\"\")","v":""},{"$f":"IFERROR(INDEX(DROPDOWN_AOSuche_Alle,MATCH(ROWS($D$3:D1093),DROPDOWN_AOSuche_Helper2,0)),\"\")","v":""},"Kdo Ausb","LVb Inf","Inf S 11","Inf UOS 11-1","Inf UOS Kl 11-1/4"]
[null,"Pz Gren Kp 17/3",0,{"$f":"IF(C1094=1,COUNTIF($C$3:C1094,1),\"\")","v":""},{"$f":"IFERROR(INDEX(DROPDOWN_AOSuche_Alle,MATCH(ROWS($D$3:D1094),DROPDOWN_AOSuche_Helper2,0)),\"\")","v":""},"Kdo Ausb","LVb Inf","Inf S 11","Inf UOS 11-2"]
[null,"Pz Gren Kp 17/4",0,{"$f":"IF(C1095=1,COUNTIF($C$3:C1095,1),\"\")","v":""},{"$f":"IFERROR(INDEX(DROPDOWN_AOSuche_Alle,MATCH(ROWS($D$3:D1095),DROPDOWN_AOSuche_Helper2,0)),\"\")","v":""},"Kdo Ausb","LVb Inf","Inf S 11","Inf UOS 11-2","Inf UOS 11-2/0, Fz"]
[null,"Pz Gren Kp 18/3",0,{"$f":"IF(C1096=1,COUNTIF($C$3:C1096,1),\"\")","v":""},{"$f":"IFERROR(INDEX(DROPDOWN_AOSuche_Alle,MATCH(ROWS($D$3:D1096),DROPDOWN_AOSuche_Helper2,0)),\"\")","v":""},"Kdo Ausb","LVb Inf","Inf S 11","Inf UOS 11-2","Inf UOS Kl 11-2/1"]
[null,"Pz Gren Kp 18/4",0,{"$f":"IF(C1097=1,COUNTIF($C$3:C1097,1),\"\")","v":""},{"$f":"IFERROR(INDEX(DROPDOWN_AOSuche_Alle,MATCH(ROWS($D$3:D1097),DROPDOWN_AOSuche_Helper2,0)),\"\")","v":""},"Kdo Ausb","LVb Inf","Inf S 11","Inf UOS 11-2","Inf UOS Kl 11-2/2"]
[null,"Pz Gren Kp 29/3",0,{"$f":"IF(C1098=1,COUNTIF($C$3:C1098,1),\"\")","v":""},{"$f":"IFERROR(INDEX(DROPDOWN_AOSuche_Alle,MATCH(ROWS($D$3:D1098),DROPDOWN_AOSuche_Helper2,0)),\"\")","v":""},"Kdo Ausb","LVb Inf","Inf S 11","Inf UOS 11-2","Inf UOS Kl 11-2/3"]
[null,"Pz Gren Kp 29/4",0,{"$f":"IF(C1099=1,COUNTIF($C$3:C1099,1),\"\")","v":""},{"$f":"IFERROR(INDEX(DROPDOWN_AOSuche_Alle,MATCH(ROWS($D$3:D1099),DROPDOWN_AOSuche_Helper2,0)),\"\")","v":""},"Kdo Ausb","LVb Inf","Inf S 11","Inf UOS 11-2","Inf UOS Kl 11-2/4"]
[null,"Pz Kp 12/1",0,{"$f":"IF(C1100=1,COUNTIF($C$3:C1100,1),\"\")","v":""},{"$f":"IFERROR(INDEX(DROPDOWN_AOSuche_Alle,MATCH(ROWS($D$3:D1100),DROPDOWN_AOSuche_Helper2,0)),\"\")","v":""},"Kdo Ausb","LVb Inf","Inf S 12"]
[null,"Pz Kp 12/2",0,{"$f":"IF(C1101=1,COUNTIF($C$3:C1101,1),\"\")","v":""},{"$f":"IFERROR(INDEX(DROPDOWN_AOSuche_Alle,MATCH(ROWS($D$3:D1101),DROPDOWN_AOSuche_Helper2,0)),\"\")","v":""},"Kdo Ausb","LVb Inf","Inf S 12","Inf RS 12-1"]
[null,"Pz Kp 13/1",0,{"$f":"IF(C1102=1,COUNTIF($C$3:C1102,1),\"\")","v":""},{"$f":"IFERROR(INDEX(DROPDOWN_AOSuche_Alle,MATCH(ROWS($D$3:D1102),DROPDOWN_AOSuche_Helper2,0)),\"\")","v":""},"Kdo Ausb","LVb Inf","Inf S 12","Inf RS 12-1","Inf RS Inf Kp 12-1/1"]
[null,"Pz Kp 13/2",0,{"$f":"IF(C1103=1,COUNTIF($C$3:C1103,1),\"\")","v":""},{"$f":"IFERROR(INDEX(DROPDOWN_AOSuche_Alle,MATCH(ROWS($D$3:D1103),DROPDOWN_AOSuche_Helper2,0)),\"\")","v":""},"Kdo Ausb","LVb Inf","Inf S 12","Inf RS 12-1","Inf RS Inf Kp 12-1/2"]
[null,"Pz Kp 14/1",0,{"$f":"IF(C1104=1,COUNTIF($C$3:C1104,1),\"\")","v":""},{"$f":"IFERROR(INDEX(DROPDOWN_AOSuche_Alle,MATCH(ROWS($D$3:D1104),DROPDOWN_AOSuche_Helper2,0)),\"\")","v":""},"Kdo Ausb","LVb Inf","Inf S 12","Inf RS 12-1","Inf RS Inf Ustü Kp 12-1/3"]
[null,"Pz Kp 14/2",0,{"$f":"IF(C1105=1,COUNTIF($C$3:C1105,1),\"\")","v":""},{"$f":"IFERROR(INDEX(DROPDOWN_AOSuche_Alle,MATCH(ROWS($D$3:D1105),DROPDOWN_AOSuche_Helper2,0)),\"\")","v":""},"Kdo Ausb","LVb Inf","Inf S 12","Inf RS 12-1","Inf RS Si Kp 12-1/4"]
[null,"Pz Kp 17/1",0,{"$f":"IF(C1106=1,COUNTIF($C$3:C1106,1),\"\")","v":""},{"$f":"IFERROR(INDEX(DROPDOWN_AOSuche_Alle,MATCH(ROWS($D$3:D1106),DROPDOWN_AOSuche_Helper2,0)),\"\")","v":""},"Kdo Ausb","LVb Inf","Inf S 12","Inf RS 12-2"]
[null,"Pz Kp 17/2",0,{"$f":"IF(C1107=1,COUNTIF($C$3:C1107,1),\"\")","v":""},{"$f":"IFERROR(INDEX(DROPDOWN_AOSuche_Alle,MATCH(ROWS($D$3:D1107),DROPDOWN_AOSuche_Helper2,0)),\"\")","v":""},"Kdo Ausb","LVb Inf","Inf S 12","Inf RS 12-2","Inf RS Inf Kp 12-2/1"]
[null,"Pz Kp 18/1",0,{"$f":"IF(C1108=1,COUNTIF($C$3:C1108,1),\"\")","v":""},{"$f":"IFERROR(INDEX(DROPDOWN_AOSuche_Alle,MATCH(ROWS($D$3:D1108),DROPDOWN_AOSuche_Helper2,0)),\"\")","v":""},"Kdo Ausb","LVb Inf","Inf S 12","Inf RS 12-2","Inf RS Inf Kp 12-2/2"]
[null,"Pz Kp 18/2",0,{"$f":"IF(C1109=1,COUNTIF($C$3:C1109,1),\"\")","v":""},{"$f":"IFERROR(INDEX(DROPDOWN_AOSuche_Alle,MATCH(ROWS($D$3:D1109),DROPDOWN_AOSuche_Helper2,0)),\"\")","v":""},"Kdo Ausb","LVb Inf","Inf S 12","Inf RS 12-2","Inf RS Inf Ustü Kp 12-2/3"]
[null,"Pz Kp 29/1",0,{"$f":"IF(C1110=1,COUNTIF($C$3:C1110,1),\"\")","v":""},{"$f":"IFERROR(INDEX(DROPDOWN_AOSuche_Alle,MATCH(ROWS($D$3:D1110),DROPDOWN_AOSuche_Helper2,0)),\"\")","v":""},"Kdo Ausb","LVb Inf","Inf S 12","Inf RS 12-2","Inf RS Si Kp 12-2/4"]
[null,"Pz Kp 29/2",0,{"$f":"IF(C1111=1,COUNTIF($C$3:C1111,1),\"\")","v":""},{"$f":"IFERROR(INDEX(DROPDOWN_AOSuche_Alle,MATCH(ROWS($D$3:D1111),DROPDOWN_AOSuche_Helper2,0)),\"\")","v":""},"Kdo Ausb","LVb Inf","Inf S 12","Inf RS 12-2","Inf RS Inf Kp 12-2/5"]
[null,"Pz Log Kp 12",0,{"$f":"IF(C1112=1,COUNTIF($C$3:C1112,1),\"\")","v":""},{"$f":"IFERROR(INDEX(DROPDOWN_AOSuche_Alle,MATCH(ROWS($D$3:D1112),DROPDOWN_AOSuche_Helper2,0)),\"\")","v":""},"Kdo Ausb","LVb Inf","Inf S 12","Inf RS 12-1"]
[null,"Pz Log Kp 13",0,{"$f":"IF(C1113=1,COUNTIF($C$3:C1113,1),\"\")","v":""},{"$f":"IFERROR(INDEX(DROPDOWN_AOSuche_Alle,MATCH(ROWS($D$3:D1113),DROPDOWN_AOSuche_Helper2,0)),\"\")","v":""},"Kdo Ausb","LVb Inf","Inf S 12","Inf RS 12-2"]
[null,"Pz RS 21-1",0,{"$f":"IF(C1114=1,COUNTIF($C$3:C1114,1),\"\")","v":""},{"$f":"IFERROR(INDEX(DROPDOWN_AOSuche_Alle,MATCH(ROWS($D$3:D1114),DROPDOWN_AOSuche_Helper2,0)),\"\")","v":""},"Kdo Ausb","LVb Inf","Inf S 12","Inf RS 12-3"]
[null,"Pz RS 21-2",0,{"$f":"IF(C1115=1,COUNTIF($C$3:C1115,1),\"\")","v":""},{"$f":"IFERROR(INDEX(DROPDOWN_AOSuche_Alle,MATCH(ROWS($D$3:D1115),DROPDOWN_AOSuche_Helper2,0)),\"\")","v":""},"Kdo Ausb","LVb Inf","Inf S 12","Inf UOS 12-1"]
[null,"Pz RS 21-3",0,{"$f":"IF(C1116=1,COUNTIF($C$3:C1116,1),\"\")","v":""},{"$f":"IFERROR(INDEX(DROPDOWN_AOSuche_Alle,MATCH(ROWS($D$3:D1116),DROPDOWN_AOSuche_Helper2,0)),\"\")","v":""},"Kdo Ausb","LVb Inf","Inf S 12","Inf UOS 12-1","Inf UOS 12-1/0, Fz"]
[null,"Pz RS 22-1",0,{"$f":"IF(C1117=1,COUNTIF($C$3:C1117,1),\"\")","v":""},{"$f":"IFERROR(INDEX(DROPDOWN_AOSuche_Alle,MATCH(ROWS($D$3:D1117),DROPDOWN_AOSuche_Helper2,0)),\"\")","v":""},"Kdo Ausb","LVb Inf","Inf S 12","Inf UOS 12-1","Inf UOS Kl 12-1/1"]
[null,"Pz RS 22-2",0,{"$f":"IF(C1118=1,COUNTIF($C$3:C1118,1),\"\")","v":""},{"$f":"IFERROR(INDEX(DROPDOWN_AOSuche_Alle,MATCH(ROWS($D$3:D1118),DROPDOWN_AOSuche_Helper2,0)),\"\")","v":""},"Kdo Ausb","LVb Inf","Inf S 12","Inf UOS 12-1","Inf UOS Kl 12-1/2"]
[null,"Pz RS 22-3",0,{"$f":"IF(C1119=1,COUNTIF($C$3:C1119,1),\"\")","v":""},{"$f":"IFERROR(INDEX(DROPDOWN_AOSuche_Alle,MATCH(ROWS($D$3:D1119),DROPDOWN_AOSuche_Helper2,0)),\"\")","v":""},"Kdo Ausb","LVb Inf","Inf S 12","Inf UOS 12-1","Inf UOS Kl 12-1/3"]
[null,"Pz RS Kp 21-1/1",0,{"$f":"IF(C1120=1,COUNTIF($C$3:C1120,1),\"\")","v":""},{"$f":"IFERROR(INDEX(DROPDOWN_AOSuche_Alle,MATCH(ROWS($D$3:D1120),DROPDOWN_AOSuche_Helper2,0)),\"\")","v":""},"Kdo Ausb","LVb Inf","Inf S 12","Inf UOS 12-1","Inf UOS Kl 12-1/4"]
[null,"Pz RS Kp 21-1/2",0,{"$f":"IF(C1121=1,COUNTIF($C$3:C1121,1),\"\")","v":""},{"$f":"IFERROR(INDEX(DROPDOWN_AOSuche_Alle,MATCH(ROWS($D$3:D1121),DROPDOWN_AOSuche_Helper2,0)),\"\")","v":""},"Kdo Ausb","LVb Inf","Inf S 12","Inf UOS 12-2"]
[null,"Pz RS Kp 21-1/3",0,{"$f":"IF(C1122=1,COUNTIF($C$3:C1122,1),\"\")","v":""},{"$f":"IFERROR(INDEX(DROPDOWN_AOSuche_Alle,MATCH(ROWS($D$3:D1122),DROPDOWN_AOSuche_Helper2,0)),\"\")","v":""},"Kdo Ausb","LVb Inf","Inf S 12","Inf UOS 12-2","Inf UOS 12-2/0, Fz"]
[null,"Pz RS Kp 21-1/4",0,{"$f":"IF(C1123=1,COUNTIF($C$3:C1123,1),\"\")","v":""},{"$f":"IFERROR(INDEX(DROPDOWN_AOSuche_Alle,MATCH(ROWS($D$3:D1123),DROPDOWN_AOSuche_Helper2,0)),\"\")","v":""},"Kdo Ausb","LVb Inf","Inf S 12","Inf UOS 12-2","Inf UOS Kl 12-2/1"]
[null,"Pz RS Kp 21-1/5",0,{"$f":"IF(C1124=1,COUNTIF($C$3:C1124,1),\"\")","v":""},{"$f":"IFERROR(INDEX(DROPDOWN_AOSuche_Alle,MATCH(ROWS($D$3:D1124),DROPDOWN_AOSuche_Helper2,0)),\"\")","v":""},"Kdo Ausb","LVb Inf","Inf S 12","Inf UOS 12-2","Inf UOS Kl 12-2/2"]
[null,"Pz RS Kp 21-2/1",0,{"$f":"IF(C1125=1,COUNTIF($C$3:C1125,1),\"\")","v":""},{"$f":"IFERROR(INDEX(DROPDOWN_AOSuche_Alle,MATCH(ROWS($D$3:D1125),DROPDOWN_AOSuche_Helper2,0)),\"\")","v":""},"Kdo Ausb","LVb Inf","Inf S 12","Inf UOS 12-2","Inf UOS Kl 12-2/3"]
[null,"Pz RS Kp 21-2/2",0,{"$f":"IF(C1126=1,COUNTIF($C$3:C1126,1),\"\")","v":""},{"$f":"IFERROR(INDEX(DROPDOWN_AOSuche_Alle,MATCH(ROWS($D$3:D1126),DROPDOWN_AOSuche_Helper2,0)),\"\")","v":""},"Kdo Ausb","LVb Inf","Inf S 12","Inf UOS 12-2","Inf UOS Kl 12-2/4"]
[null,"Pz RS Kp 21-2/3",0,{"$f":"IF(C1127=1,COUNTIF($C$3:C1127,1),\"\")","v":""},{"$f":"IFERROR(INDEX(DROPDOWN_AOSuche_Alle,MATCH(ROWS($D$3:D1127),DROPDOWN_AOSuche_Helper2,0)),\"\")","v":""},"Kdo Ausb","LVb Inf","Inf S 12","Inf UOS 12-2","Inf UOS Kl 12-2/5"]
[null,"Pz RS Kp 21-2/4",0,{"$f":"IF(C1128=1,COUNTIF($C$3:C1128,1),\"\")","v":""},{"$f":"IFERROR(INDEX(DROPDOWN_AOSuche_Alle,MATCH(ROWS($D$3:D1128),DROPDOWN_AOSuche_Helper2,0)),\"\")","v":""},"Kdo Ausb","LVb Inf","Inf DD S 14"]
[null,"Pz RS Kp 21-2/5",0,{"$f":"IF(C1129=1,COUNTIF($C$3:C1129,1),\"\")","v":""},{"$f":"IFERROR(INDEX(DROPDOWN_AOSuche_Alle,MATCH(ROWS($D$3:D1129),DROPDOWN_AOSuche_Helper2,0)),\"\")","v":""},"Kdo Ausb","LVb Inf","Inf DD S 14","Inf DD RS 14-1"]
[null,"Pz S 21",0,{"$f":"IF(C1130=1,COUNTIF($C$3:C1130,1),\"\")","v":""},{"$f":"IFERROR(INDEX(DROPDOWN_AOSuche_Alle,MATCH(ROWS($D$3:D1130),DROPDOWN_AOSuche_Helper2,0)),\"\")","v":""},"Kdo Ausb","LVb Inf","Inf DD S 14","Inf DD RS 14-2"]
[null,"Pz Sap Bat 1",0,{"$f":"IF(C1131=1,COUNTIF($C$3:C1131,1),\"\")","v":""},{"$f":"IFERROR(INDEX(DROPDOWN_AOSuche_Alle,MATCH(ROWS($D$3:D1131),DROPDOWN_AOSuche_Helper2,0)),\"\")","v":""},"Kdo Ausb","LVb Inf","Inf DD S 14","Inf DD RS 14-1"]
[null,"Pz Sap Bat 11",0,{"$f":"IF(C1132=1,COUNTIF($C$3:C1132,1),\"\")","v":""},{"$f":"IFERROR(INDEX(DROPDOWN_AOSuche_Alle,MATCH(ROWS($D$3:D1132),DROPDOWN_AOSuche_Helper2,0)),\"\")","v":""},"Kdo Ausb","LVb Inf","Inf DD S 14","Inf DD RS 14-1","Inf DD RS Kp 14-1/1"]
[null,"Pz Sap Kp 1/1",0,{"$f":"IF(C1133=1,COUNTIF($C$3:C1133,1),\"\")","v":""},{"$f":"IFERROR(INDEX(DROPDOWN_AOSuche_Alle,MATCH(ROWS($D$3:D1133),DROPDOWN_AOSuche_Helper2,0)),\"\")","v":""},"Kdo Ausb","LVb Inf","Inf DD S 14","Inf DD RS 14-1","Inf DD RS Kp 14-1/2"]
[null,"Pz Sap Kp 1/2",0,{"$f":"IF(C1134=1,COUNTIF($C$3:C1134,1),\"\")","v":""},{"$f":"IFERROR(INDEX(DROPDOWN_AOSuche_Alle,MATCH(ROWS($D$3:D1134),DROPDOWN_AOSuche_Helper2,0)),\"\")","v":""},"Kdo Ausb","LVb Inf","Inf DD S 14","Inf DD RS 14-3"]
[null,"Pz Sap Kp 1/3",0,{"$f":"IF(C1135=1,COUNTIF($C$3:C1135,1),\"\")","v":""},{"$f":"IFERROR(INDEX(DROPDOWN_AOSuche_Alle,MATCH(ROWS($D$3:D1135),DROPDOWN_AOSuche_Helper2,0)),\"\")","v":""},"Kdo Ausb","LVb Inf","Inf DD S 14","Inf DD RS 14-2"]
[null,"Pz Sap Kp 11/1",0,{"$f":"IF(C1136=1,COUNTIF($C$3:C1136,1),\"\")","v":""},{"$f":"IFERROR(INDEX(DROPDOWN_AOSuche_Alle,MATCH(ROWS($D$3:D1136),DROPDOWN_AOSuche_Helper2,0)),\"\")","v":""},"Kdo Ausb","LVb Inf","Inf DD S 14","Inf DD RS 14-2","Inf DD RS Kp 14-2/1"]
[null,"Pz Sap Kp 11/2",0,{"$f":"IF(C1137=1,COUNTIF($C$3:C1137,1),\"\")","v":""},{"$f":"IFERROR(INDEX(DROPDOWN_AOSuche_Alle,MATCH(ROWS($D$3:D1137),DROPDOWN_AOSuche_Helper2,0)),\"\")","v":""},"Kdo Ausb","LVb Inf","Inf DD S 14","Inf DD RS 14-2","Inf DD RS Kp 14-2/2"]
[null,"Pz Sap Kp 11/3",0,{"$f":"IF(C1138=1,COUNTIF($C$3:C1138,1),\"\")","v":""},{"$f":"IFERROR(INDEX(DROPDOWN_AOSuche_Alle,MATCH(ROWS($D$3:D1138),DROPDOWN_AOSuche_Helper2,0)),\"\")","v":""},"Kdo Ausb","LVb Inf","Inf DD S 14","Inf DD RS 14-2","Inf RS Inf Kp 14-2/3"]
[null,"Pz Sap Log Kp 1",0,{"$f":"IF(C1139=1,COUNTIF($C$3:C1139,1),\"\")","v":""},{"$f":"IFERROR(INDEX(DROPDOWN_AOSuche_Alle,MATCH(ROWS($D$3:D1139),DROPDOWN_AOSuche_Helper2,0)),\"\")","v":""},"Kdo Ausb","LVb Inf","Inf DD S 14","Inf DD UOS 14-1"]
[null,"Pz Sap Log Kp 11",0,{"$f":"IF(C1140=1,COUNTIF($C$3:C1140,1),\"\")","v":""},{"$f":"IFERROR(INDEX(DROPDOWN_AOSuche_Alle,MATCH(ROWS($D$3:D1140),DROPDOWN_AOSuche_Helper2,0)),\"\")","v":""},"Kdo Ausb","LVb Inf","Inf DD S 14","Inf DD UOS 14-1","Inf DD UOS Kl 14-1/1"]
[null,"Pz Sap Stabskp 1",0,{"$f":"IF(C1141=1,COUNTIF($C$3:C1141,1),\"\")","v":""},{"$f":"IFERROR(INDEX(DROPDOWN_AOSuche_Alle,MATCH(ROWS($D$3:D1141),DROPDOWN_AOSuche_Helper2,0)),\"\")","v":""},"Kdo Ausb","LVb Inf","Inf DD S 14","Inf DD UOS 14-1","Inf DD UOS Kl 14-1/2"]
[null,"Pz Sap Stabskp 11",0,{"$f":"IF(C1142=1,COUNTIF($C$3:C1142,1),\"\")","v":""},{"$f":"IFERROR(INDEX(DROPDOWN_AOSuche_Alle,MATCH(ROWS($D$3:D1142),DROPDOWN_AOSuche_Helper2,0)),\"\")","v":""},"Kdo Ausb","LVb Inf","Inf DD S 14","Inf DD UOS 14-2"]
[null,"Pz Stabskp 12",0,{"$f":"IF(C1143=1,COUNTIF($C$3:C1143,1),\"\")","v":""},{"$f":"IFERROR(INDEX(DROPDOWN_AOSuche_Alle,MATCH(ROWS($D$3:D1143),DROPDOWN_AOSuche_Helper2,0)),\"\")","v":""},"Kdo Ausb","LVb Inf","Inf DD S 14","Inf DD UOS 14-2","Inf DD UOS Kl 14-2/1"]
[null,"Pz Stabskp 13",0,{"$f":"IF(C1144=1,COUNTIF($C$3:C1144,1),\"\")","v":""},{"$f":"IFERROR(INDEX(DROPDOWN_AOSuche_Alle,MATCH(ROWS($D$3:D1144),DROPDOWN_AOSuche_Helper2,0)),\"\")","v":""},"Kdo Ausb","LVb Inf","Inf DD S 14","Inf DD UOS 14-2","Inf DD UOS Kl 14-2/2"]
[null,"Pz UOS 21-1",0,{"$f":"IF(C1145=1,COUNTIF($C$3:C1145,1),\"\")","v":""},{"$f":"IFERROR(INDEX(DROPDOWN_AOSuche_Alle,MATCH(ROWS($D$3:D1145),DROPDOWN_AOSuche_Helper2,0)),\"\")","v":""},"Kdo Ausb","LVb Inf","Inf DD S 14","Inf DD UOS 14-2","Inf DD UOS Kl 14-2/3"]
[null,"Pz UOS 21-2",0,{"$f":"IF(C1146=1,COUNTIF($C$3:C1146,1),\"\")","v":""},{"$f":"IFERROR(INDEX(DROPDOWN_AOSuche_Alle,MATCH(ROWS($D$3:D1146),DROPDOWN_AOSuche_Helper2,0)),\"\")","v":""},"Kdo Ausb","LVb Inf","MP S 19"]
[null,"Pz UOS Kl 21-1/1",0,{"$f":"IF(C1147=1,COUNTIF($C$3:C1147,1),\"\")","v":""},{"$f":"IFERROR(INDEX(DROPDOWN_AOSuche_Alle,MATCH(ROWS($D$3:D1147),DROPDOWN_AOSuche_Helper2,0)),\"\")","v":""},"Kdo Ausb","LVb Inf","MP S 19","MP RS 19-1"]
[null,"Pz UOS Kl 21-1/2",0,{"$f":"IF(C1148=1,COUNTIF($C$3:C1148,1),\"\")","v":""},{"$f":"IFERROR(INDEX(DROPDOWN_AOSuche_Alle,MATCH(ROWS($D$3:D1148),DROPDOWN_AOSuche_Helper2,0)),\"\")","v":""},"Kdo Ausb","LVb Inf","MP S 19","MP RS 19-1","MP RS Kp 19-1/0, Fz"]
[null,"Pz UOS Kl 21-1/3",0,{"$f":"IF(C1149=1,COUNTIF($C$3:C1149,1),\"\")","v":""},{"$f":"IFERROR(INDEX(DROPDOWN_AOSuche_Alle,MATCH(ROWS($D$3:D1149),DROPDOWN_AOSuche_Helper2,0)),\"\")","v":""},"Kdo Ausb","LVb Inf","MP S 19","MP RS 19-1","MP RS Kp 19-1/1"]
[null,"Pz UOS Kl 21-1/4",0,{"$f":"IF(C1150=1,COUNTIF($C$3:C1150,1),\"\")","v":""},{"$f":"IFERROR(INDEX(DROPDOWN_AOSuche_Alle,MATCH(ROWS($D$3:D1150),DROPDOWN_AOSuche_Helper2,0)),\"\")","v":""},"Kdo Ausb","LVb Inf","MP S 19","MP RS 19-1","MP RS Kp 19-1/2"]
[null,"Pz UOS Kl 21-1/5",0,{"$f":"IF(C1151=1,COUNTIF($C$3:C1151,1),\"\")","v":""},{"$f":"IFERROR(INDEX(DROPDOWN_AOSuche_Alle,MATCH(ROWS($D$3:D1151),DROPDOWN_AOSuche_Helper2,0)),\"\")","v":""},"Kdo Ausb","LVb Inf","MP S 19","MP RS 19-1","LW Si RS Kp 19-1/3"]
[null,"Pz UOS Kl 21-2/1",0,{"$f":"IF(C1152=1,COUNTIF($C$3:C1152,1),\"\")","v":""},{"$f":"IFERROR(INDEX(DROPDOWN_AOSuche_Alle,MATCH(ROWS($D$3:D1152),DROPDOWN_AOSuche_Helper2,0)),\"\")","v":""},"Kdo Ausb","LVb Inf","MP S 19","MP RS 19-2"]
[null,"Pz UOS Kl 21-2/2",0,{"$f":"IF(C1153=1,COUNTIF($C$3:C1153,1),\"\")","v":""},{"$f":"IFERROR(INDEX(DROPDOWN_AOSuche_Alle,MATCH(ROWS($D$3:D1153),DROPDOWN_AOSuche_Helper2,0)),\"\")","v":""},"Kdo Ausb","LVb Inf","MP S 19","MP RS 19-2","MP RS Kp 19-2/0, Fz"]
[null,"Pz UOS Kl 21-2/3",0,{"$f":"IF(C1154=1,COUNTIF($C$3:C1154,1),\"\")","v":""},{"$f":"IFERROR(INDEX(DROPDOWN_AOSuche_Alle,MATCH(ROWS($D$3:D1154),DROPDOWN_AOSuche_Helper2,0)),\"\")","v":""},"Kdo Ausb","LVb Inf","MP S 19","MP RS 19-2","MP RS Kp 19-2/1"]
[null,"Pz UOS Kl 21-2/4",{"$f":"--ISNUMBER(IFERROR(SEARCH(AO_Search_Value,B1155,1),\"\"))","v":0},{"$f":"IF(C1155=1,COUNTIF($C$3:C1155,1),\"\")","v":""},{"$f":"IFERROR(INDEX(DROPDOWN_AOSuche_Alle,MATCH(ROWS($D$3:D1155),DROPDOWN_AOSuche_Helper2,0)),\"\")","v":""},"Kdo Ausb","LVb Inf","MP S 19","MP RS 19-2","MP RS Kp 19-2/2"]
[null,"Pz UOS Kl 21-2/5",0,{"$f":"IF(C1156=1,COUNTIF($C$3:C1156,1),\"\")","v":""},{"$f":"IFERROR(INDEX(DROPDOWN_AOSuche_Alle,MATCH(ROWS($D$3:D1156),DROPDOWN_AOSuche_Helper2,0)),\"\")","v":""},"Kdo Ausb","LVb Inf","MP S 19","MP RS 19-2","LW SiRS Kp 19-2/3"]
[null,"Pz/Art OS 22",0,{"$f":"IF(C1157=1,COUNTIF($C$3:C1157,1),\"\")","v":""},{"$f":"IFERROR(INDEX(DROPDOWN_AOSuche_Alle,MATCH(ROWS($D$3:D1157),DROPDOWN_AOSuche_Helper2,0)),\"\")","v":""},"Kdo Ausb","LVb Inf","MP S 19","MP UOS 19-1"]
[null,"Pz/Art OS 22/1 Kdo DHU",0,{"$f":"IF(C1158=1,COUNTIF($C$3:C1158,1),\"\")","v":""},{"$f":"IFERROR(INDEX(DROPDOWN_AOSuche_Alle,MATCH(ROWS($D$3:D1158),DROPDOWN_AOSuche_Helper2,0)),\"\")","v":""},"Kdo Ausb","LVb Inf","MP S 19","MP UOS 19-1","MP UOS Kl 19-1/0, Fz"]
[null,"Pz/Art OS 22/1 Kdo-Kp",0,{"$f":"IF(C1159=1,COUNTIF($C$3:C1159,1),\"\")","v":""},{"$f":"IFERROR(INDEX(DROPDOWN_AOSuche_Alle,MATCH(ROWS($D$3:D1159),DROPDOWN_AOSuche_Helper2,0)),\"\")","v":""},"Kdo Ausb","LVb Inf","MP S 19","MP UOS 19-1","MP UOS Kl 19-1/1"]
[null,"Pz/Art OS 22/2 Kdo DHU",0,{"$f":"IF(C1160=1,COUNTIF($C$3:C1160,1),\"\")","v":""},{"$f":"IFERROR(INDEX(DROPDOWN_AOSuche_Alle,MATCH(ROWS($D$3:D1160),DROPDOWN_AOSuche_Helper2,0)),\"\")","v":""},"Kdo Ausb","LVb Inf","MP S 19","MP UOS 19-1","MP UOS Kl 19-1/2"]
[null,"Pz/Art OS 22/2 Kdo-Kp",0,{"$f":"IF(C1161=1,COUNTIF($C$3:C1161,1),\"\")","v":""},{"$f":"IFERROR(INDEX(DROPDOWN_AOSuche_Alle,MATCH(ROWS($D$3:D1161),DROPDOWN_AOSuche_Helper2,0)),\"\")","v":""},"Kdo Ausb","LVb Inf","MP S 19","MP UOS 19-1","LW Si UOS Kl 19-1/3"]
[null,"Pz/Art OS 22-1",0,{"$f":"IF(C1162=1,COUNTIF($C$3:C1162,1),\"\")","v":""},{"$f":"IFERROR(INDEX(DROPDOWN_AOSuche_Alle,MATCH(ROWS($D$3:D1162),DROPDOWN_AOSuche_Helper2,0)),\"\")","v":""},"Kdo Ausb","LVb Inf","MP S 19","MP UOS 19-2"]
[null,"Pz/Art OS 22-1 S Verl Mech Kl",0,{"$f":"IF(C1163=1,COUNTIF($C$3:C1163,1),\"\")","v":""},{"$f":"IFERROR(INDEX(DROPDOWN_AOSuche_Alle,MATCH(ROWS($D$3:D1163),DROPDOWN_AOSuche_Helper2,0)),\"\")","v":""},"Kdo Ausb","LVb Inf","MP S 19","MP UOS 19-2","MP UOS Kl 19-2/0, Fz"]
[null,"Pz/Art OS 22-2",0,{"$f":"IF(C1164=1,COUNTIF($C$3:C1164,1),\"\")","v":""},{"$f":"IFERROR(INDEX(DROPDOWN_AOSuche_Alle,MATCH(ROWS($D$3:D1164),DROPDOWN_AOSuche_Helper2,0)),\"\")","v":""},"Kdo Ausb","LVb Inf","MP S 19","MP UOS 19-2","MP UOS Kl 19-2/1"]
[null,"Pz/Art OS 22-2 S Verl Mech Kl",0,{"$f":"IF(C1165=1,COUNTIF($C$3:C1165,1),\"\")","v":""},{"$f":"IFERROR(INDEX(DROPDOWN_AOSuche_Alle,MATCH(ROWS($D$3:D1165),DROPDOWN_AOSuche_Helper2,0)),\"\")","v":""},"Kdo Ausb","LVb Inf","MP S 19","MP UOS 19-2","MP UOS Kl 19-2/2"]
[null,"Pz/Art OS Kl 22-1/1",0,{"$f":"IF(C1166=1,COUNTIF($C$3:C1166,1),\"\")","v":""},{"$f":"IFERROR(INDEX(DROPDOWN_AOSuche_Alle,MATCH(ROWS($D$3:D1166),DROPDOWN_AOSuche_Helper2,0)),\"\")","v":""},"Kdo Ausb","LVb Inf","MP S 19","MP UOS 19-2","LW Si UOS Kl 19-2/3"]
[null,"Pz/Art OS Kl 22-1/2",0,{"$f":"IF(C1167=1,COUNTIF($C$3:C1167,1),\"\")","v":""},{"$f":"IFERROR(INDEX(DROPDOWN_AOSuche_Alle,MATCH(ROWS($D$3:D1167),DROPDOWN_AOSuche_Helper2,0)),\"\")","v":""},"Kdo Ausb","LVb Inf","Inf S alt"]
[null,"Pz/Art OS Kl 22-1/3",0,{"$f":"IF(C1168=1,COUNTIF($C$3:C1168,1),\"\")","v":""},{"$f":"IFERROR(INDEX(DROPDOWN_AOSuche_Alle,MATCH(ROWS($D$3:D1168),DROPDOWN_AOSuche_Helper2,0)),\"\")","v":""},"Kdo Ausb","LVb Inf","Inf S alt","Inf RS 3-1"]
[null,"Pz/Art OS Kl 22-2/1",0,{"$f":"IF(C1169=1,COUNTIF($C$3:C1169,1),\"\")","v":""},{"$f":"IFERROR(INDEX(DROPDOWN_AOSuche_Alle,MATCH(ROWS($D$3:D1169),DROPDOWN_AOSuche_Helper2,0)),\"\")","v":""},"Kdo Ausb","LVb Inf","Inf S alt","Inf RS 3-2"]
[null,"Pz/Art OS Kl 22-2/2",0,{"$f":"IF(C1170=1,COUNTIF($C$3:C1170,1),\"\")","v":""},{"$f":"IFERROR(INDEX(DROPDOWN_AOSuche_Alle,MATCH(ROWS($D$3:D1170),DROPDOWN_AOSuche_Helper2,0)),\"\")","v":""},"Kdo Ausb","LVb Inf","Inf S alt","Inf RS 3-3"]
[null,"Pz/Art OS Kl 22-2/3",0,{"$f":"IF(C1171=1,COUNTIF($C$3:C1171,1),\"\")","v":""},{"$f":"IFERROR(INDEX(DROPDOWN_AOSuche_Alle,MATCH(ROWS($D$3:D1171),DROPDOWN_AOSuche_Helper2,0)),\"\")","v":""},"Kdo Ausb","LVb Inf","Inf S alt","Inf RS 13-1"]
[null,"Rekr Eignungsprü Geb Spez 15-1",0,{"$f":"IF(C1172=1,COUNTIF($C$3:C1172,1),\"\")","v":""},{"$f":"IFERROR(INDEX(DROPDOWN_AOSuche_Alle,MATCH(ROWS($D$3:D1172),DROPDOWN_AOSuche_Helper2,0)),\"\")","v":""},"Kdo Ausb","LVb Inf","Inf S alt","Inf RS 13-2"]
[null,"Rekr Eignungsprü Geb Spez 15-2",0,{"$f":"IF(C1173=1,COUNTIF($C$3:C1173,1),\"\")","v":""},{"$f":"IFERROR(INDEX(DROPDOWN_AOSuche_Alle,MATCH(ROWS($D$3:D1173),DROPDOWN_AOSuche_Helper2,0)),\"\")","v":""},"Kdo Ausb","LVb Inf","Inf S alt","Inf RS 13-3"]
[null,"Rekr Eignungsprü Geb Spez 15-3",0,{"$f":"IF(C1174=1,COUNTIF($C$3:C1174,1),\"\")","v":""},{"$f":"IFERROR(INDEX(DROPDOWN_AOSuche_Alle,MATCH(ROWS($D$3:D1174),DROPDOWN_AOSuche_Helper2,0)),\"\")","v":""},"Kdo Ausb","LVb Pz/Art"]
[null,"Rekr Eignungsprü Geb Spez 15-4",0,{"$f":"IF(C1175=1,COUNTIF($C$3:C1175,1),\"\")","v":""},{"$f":"IFERROR(INDEX(DROPDOWN_AOSuche_Alle,MATCH(ROWS($D$3:D1175),DROPDOWN_AOSuche_Helper2,0)),\"\")","v":""},"Kdo Ausb","LVb Pz/Art","Stab LVb Pz/Art"]
[null,"Rekr Fachprüfung Mil Musik",0,{"$f":"IF(C1176=1,COUNTIF($C$3:C1176,1),\"\")","v":""},{"$f":"IFERROR(INDEX(DROPDOWN_AOSuche_Alle,MATCH(ROWS($D$3:D1176),DROPDOWN_AOSuche_Helper2,0)),\"\")","v":""},"Kdo Ausb","LVb Pz/Art","Betr Det LVb Pz/Art"]
[null,"Rekr Hundefhr 46-1",0,{"$f":"IF(C1177=1,COUNTIF($C$3:C1177,1),\"\")","v":""},{"$f":"IFERROR(INDEX(DROPDOWN_AOSuche_Alle,MATCH(ROWS($D$3:D1177),DROPDOWN_AOSuche_Helper2,0)),\"\")","v":""},"Kdo Ausb","LVb Pz/Art","Kdo Vsu/VBA 2"]
[null,"Rekr Hundefhr 46-2",0,{"$f":"IF(C1178=1,COUNTIF($C$3:C1178,1),\"\")","v":""},{"$f":"IFERROR(INDEX(DROPDOWN_AOSuche_Alle,MATCH(ROWS($D$3:D1178),DROPDOWN_AOSuche_Helper2,0)),\"\")","v":""},"Kdo Ausb","LVb Pz/Art","Pz S 21"]
[null,"Ristl Bat 16",0,{"$f":"IF(C1179=1,COUNTIF($C$3:C1179,1),\"\")","v":""},{"$f":"IFERROR(INDEX(DROPDOWN_AOSuche_Alle,MATCH(ROWS($D$3:D1179),DROPDOWN_AOSuche_Helper2,0)),\"\")","v":""},"Kdo Ausb","LVb Pz/Art","Pz S 21","Pz RS 21-1"]
[null,"Ristl Bat 17",0,{"$f":"IF(C1180=1,COUNTIF($C$3:C1180,1),\"\")","v":""},{"$f":"IFERROR(INDEX(DROPDOWN_AOSuche_Alle,MATCH(ROWS($D$3:D1180),DROPDOWN_AOSuche_Helper2,0)),\"\")","v":""},"Kdo Ausb","LVb Pz/Art","Pz S 21","Pz RS 21-1","Pz RS Kp 21-1/1"]
[null,"Ristl Bat 21",0,{"$f":"IF(C1181=1,COUNTIF($C$3:C1181,1),\"\")","v":""},{"$f":"IFERROR(INDEX(DROPDOWN_AOSuche_Alle,MATCH(ROWS($D$3:D1181),DROPDOWN_AOSuche_Helper2,0)),\"\")","v":""},"Kdo Ausb","LVb Pz/Art","Pz S 21","Pz RS 21-1","Pz RS Kp 21-1/2"]
[null,"Ristl Bat 32",0,{"$f":"IF(C1182=1,COUNTIF($C$3:C1182,1),\"\")","v":""},{"$f":"IFERROR(INDEX(DROPDOWN_AOSuche_Alle,MATCH(ROWS($D$3:D1182),DROPDOWN_AOSuche_Helper2,0)),\"\")","v":""},"Kdo Ausb","LVb Pz/Art","Pz S 21","Pz RS 21-1","Pz RS Kp 21-1/3"]
[null,"Ristl Bat 4",0,{"$f":"IF(C1183=1,COUNTIF($C$3:C1183,1),\"\")","v":""},{"$f":"IFERROR(INDEX(DROPDOWN_AOSuche_Alle,MATCH(ROWS($D$3:D1183),DROPDOWN_AOSuche_Helper2,0)),\"\")","v":""},"Kdo Ausb","LVb Pz/Art","Pz S 21","Pz RS 21-1","Pz RS Kp 21-1/4"]
[null,"Ristl DD RS Kp 62-1/5",0,{"$f":"IF(C1184=1,COUNTIF($C$3:C1184,1),\"\")","v":""},{"$f":"IFERROR(INDEX(DROPDOWN_AOSuche_Alle,MATCH(ROWS($D$3:D1184),DROPDOWN_AOSuche_Helper2,0)),\"\")","v":""},"Kdo Ausb","LVb Pz/Art","Pz S 21","Pz RS 21-1","Pz RS Kp 21-1/5"]
[null,"Ristl DD RS Kp 62-2/5",0,{"$f":"IF(C1185=1,COUNTIF($C$3:C1185,1),\"\")","v":""},{"$f":"IFERROR(INDEX(DROPDOWN_AOSuche_Alle,MATCH(ROWS($D$3:D1185),DROPDOWN_AOSuche_Helper2,0)),\"\")","v":""},"Kdo Ausb","LVb Pz/Art","Pz S 21","Pz RS 21-2"]
[null,"Ristl Kp 16/1",0,{"$f":"IF(C1186=1,COUNTIF($C$3:C1186,1),\"\")","v":""},{"$f":"IFERROR(INDEX(DROPDOWN_AOSuche_Alle,MATCH(ROWS($D$3:D1186),DROPDOWN_AOSuche_Helper2,0)),\"\")","v":""},"Kdo Ausb","LVb Pz/Art","Pz S 21","Pz RS 21-2","Pz RS Kp 21-2/1"]
[null,"Ristl Kp 16/2",0,{"$f":"IF(C1187=1,COUNTIF($C$3:C1187,1),\"\")","v":""},{"$f":"IFERROR(INDEX(DROPDOWN_AOSuche_Alle,MATCH(ROWS($D$3:D1187),DROPDOWN_AOSuche_Helper2,0)),\"\")","v":""},"Kdo Ausb","LVb Pz/Art","Pz S 21","Pz RS 21-2","Pz RS Kp 21-2/2"]
[null,"Ristl Kp 16/3",0,{"$f":"IF(C1188=1,COUNTIF($C$3:C1188,1),\"\")","v":""},{"$f":"IFERROR(INDEX(DROPDOWN_AOSuche_Alle,MATCH(ROWS($D$3:D1188),DROPDOWN_AOSuche_Helper2,0)),\"\")","v":""},"Kdo Ausb","LVb Pz/Art","Pz S 21","Pz RS 21-2","Pz RS Kp 21-2/3"]
[null,"Ristl Kp 16/4",0,{"$f":"IF(C1189=1,COUNTIF($C$3:C1189,1),\"\")","v":""},{"$f":"IFERROR(INDEX(DROPDOWN_AOSuche_Alle,MATCH(ROWS($D$3:D1189),DROPDOWN_AOSuche_Helper2,0)),\"\")","v":""},"Kdo Ausb","LVb Pz/Art","Pz S 21","Pz RS 21-2","Pz RS Kp 21-2/4"]
[null,"Ristl Kp 17/1",0,{"$f":"IF(C1190=1,COUNTIF($C$3:C1190,1),\"\")","v":""},{"$f":"IFERROR(INDEX(DROPDOWN_AOSuche_Alle,MATCH(ROWS($D$3:D1190),DROPDOWN_AOSuche_Helper2,0)),\"\")","v":""},"Kdo Ausb","LVb Pz/Art","Pz S 21","Pz RS 21-2","Pz RS Kp 21-2/5"]
[null,"Ristl Kp 17/2",0,{"$f":"IF(C1191=1,COUNTIF($C$3:C1191,1),\"\")","v":""},{"$f":"IFERROR(INDEX(DROPDOWN_AOSuche_Alle,MATCH(ROWS($D$3:D1191),DROPDOWN_AOSuche_Helper2,0)),\"\")","v":""},"Kdo Ausb","LVb Pz/Art","Pz S 21","Pz UOS 21-1"]
[null,"Ristl Kp 17/3",0,{"$f":"IF(C1192=1,COUNTIF($C$3:C1192,1),\"\")","v":""},{"$f":"IFERROR(INDEX(DROPDOWN_AOSuche_Alle,MATCH(ROWS($D$3:D1192),DROPDOWN_AOSuche_Helper2,0)),\"\")","v":""},"Kdo Ausb","LVb Pz/Art","Pz S 21","Pz UOS 21-1","Pz UOS Kl 21-1/1"]
[null,"Ristl Kp 17/4",0,{"$f":"IF(C1193=1,COUNTIF($C$3:C1193,1),\"\")","v":""},{"$f":"IFERROR(INDEX(DROPDOWN_AOSuche_Alle,MATCH(ROWS($D$3:D1193),DROPDOWN_AOSuche_Helper2,0)),\"\")","v":""},"Kdo Ausb","LVb Pz/Art","Pz S 21","Pz UOS 21-1","Pz UOS Kl 21-1/2"]
[null,"Ristl Kp 21/1",0,{"$f":"IF(C1194=1,COUNTIF($C$3:C1194,1),\"\")","v":""},{"$f":"IFERROR(INDEX(DROPDOWN_AOSuche_Alle,MATCH(ROWS($D$3:D1194),DROPDOWN_AOSuche_Helper2,0)),\"\")","v":""},"Kdo Ausb","LVb Pz/Art","Pz S 21","Pz UOS 21-1","Pz UOS Kl 21-1/3"]
[null,"Ristl Kp 21/2",0,{"$f":"IF(C1195=1,COUNTIF($C$3:C1195,1),\"\")","v":""},{"$f":"IFERROR(INDEX(DROPDOWN_AOSuche_Alle,MATCH(ROWS($D$3:D1195),DROPDOWN_AOSuche_Helper2,0)),\"\")","v":""},"Kdo Ausb","LVb Pz/Art","Pz S 21","Pz UOS 21-1","Pz UOS Kl 21-1/4"]
[null,"Ristl Kp 21/3",0,{"$f":"IF(C1196=1,COUNTIF($C$3:C1196,1),\"\")","v":""},{"$f":"IFERROR(INDEX(DROPDOWN_AOSuche_Alle,MATCH(ROWS($D$3:D1196),DROPDOWN_AOSuche_Helper2,0)),\"\")","v":""},"Kdo Ausb","LVb Pz/Art","Pz S 21","Pz UOS 21-1","Pz UOS Kl 21-1/5"]
[null,"Ristl Kp 21/4",0,{"$f":"IF(C1197=1,COUNTIF($C$3:C1197,1),\"\")","v":""},{"$f":"IFERROR(INDEX(DROPDOWN_AOSuche_Alle,MATCH(ROWS($D$3:D1197),DROPDOWN_AOSuche_Helper2,0)),\"\")","v":""},"Kdo Ausb","LVb Pz/Art","Pz S 21","Pz UOS 21-2"]
[null,"Ristl Kp 32/1",0,{"$f":"IF(C1198=1,COUNTIF($C$3:C1198,1),\"\")","v":""},{"$f":"IFERROR(INDEX(DROPDOWN_AOSuche_Alle,MATCH(ROWS($D$3:D1198),DROPDOWN_AOSuche_Helper2,0)),\"\")","v":""},"Kdo Ausb","LVb Pz/Art","Pz S 21","Pz UOS 21-2","Pz UOS Kl 21-2/1"]
[null,"Ristl Kp 32/2",0,{"$f":"IF(C1199=1,COUNTIF($C$3:C1199,1),\"\")","v":""},{"$f":"IFERROR(INDEX(DROPDOWN_AOSuche_Alle,MATCH(ROWS($D$3:D1199),DROPDOWN_AOSuche_Helper2,0)),\"\")","v":""},"Kdo Ausb","LVb Pz/Art","Pz S 21","Pz UOS 21-2","Pz UOS Kl 21-2/2"]
[null,"Ristl Kp 32/3",0,{"$f":"IF(C1200=1,COUNTIF($C$3:C1200,1),\"\")","v":""},{"$f":"IFERROR(INDEX(DROPDOWN_AOSuche_Alle,MATCH(ROWS($D$3:D1200),DROPDOWN_AOSuche_Helper2,0)),\"\")","v":""},"Kdo Ausb","LVb Pz/Art","Pz S 21","Pz UOS 21-2","Pz UOS Kl 21-2/3"]
[null,"Ristl Kp 32/4",0,{"$f":"IF(C1201=1,COUNTIF($C$3:C1201,1),\"\")","v":""},{"$f":"IFERROR(INDEX(DROPDOWN_AOSuche_Alle,MATCH(ROWS($D$3:D1201),DROPDOWN_AOSuche_Helper2,0)),\"\")","v":""},"Kdo Ausb","LVb Pz/Art","Pz S 21","Pz UOS 21-2","Pz UOS Kl 21-2/4"]
[null,"Ristl Kp 4/1",0,{"$f":"IF(C1202=1,COUNTIF($C$3:C1202,1),\"\")","v":""},{"$f":"IFERROR(INDEX(DROPDOWN_AOSuche_Alle,MATCH(ROWS($D$3:D1202),DROPDOWN_AOSuche_Helper2,0)),\"\")","v":""},"Kdo Ausb","LVb Pz/Art","Pz S 21","Pz UOS 21-2","Pz UOS Kl 21-2/5"]
[null,"Ristl Kp 4/2",0,{"$f":"IF(C1203=1,COUNTIF($C$3:C1203,1),\"\")","v":""},{"$f":"IFERROR(INDEX(DROPDOWN_AOSuche_Alle,MATCH(ROWS($D$3:D1203),DROPDOWN_AOSuche_Helper2,0)),\"\")","v":""},"Kdo Ausb","LVb Pz/Art","Pz S 21","Pz RS 21-1"]
[null,"Ristl Kp 4/3",0,{"$f":"IF(C1204=1,COUNTIF($C$3:C1204,1),\"\")","v":""},{"$f":"IFERROR(INDEX(DROPDOWN_AOSuche_Alle,MATCH(ROWS($D$3:D1204),DROPDOWN_AOSuche_Helper2,0)),\"\")","v":""},"Kdo Ausb","LVb Pz/Art","Pz S 21","Pz RS 21-2"]
[null,"Ristl Kp 4/4",0,{"$f":"IF(C1205=1,COUNTIF($C$3:C1205,1),\"\")","v":""},{"$f":"IFERROR(INDEX(DROPDOWN_AOSuche_Alle,MATCH(ROWS($D$3:D1205),DROPDOWN_AOSuche_Helper2,0)),\"\")","v":""},"Kdo Ausb","LVb Pz/Art","Pz S 21","Pz RS 21-3"]
[null,"Ristl RS 62-1",0,{"$f":"IF(C1206=1,COUNTIF($C$3:C1206,1),\"\")","v":""},{"$f":"IFERROR(INDEX(DROPDOWN_AOSuche_Alle,MATCH(ROWS($D$3:D1206),DROPDOWN_AOSuche_Helper2,0)),\"\")","v":""},"Kdo Ausb","LVb Pz/Art","Pz S 21","Pz RS 22-1"]
[null,"Ristl RS 62-2",0,{"$f":"IF(C1207=1,COUNTIF($C$3:C1207,1),\"\")","v":""},{"$f":"IFERROR(INDEX(DROPDOWN_AOSuche_Alle,MATCH(ROWS($D$3:D1207),DROPDOWN_AOSuche_Helper2,0)),\"\")","v":""},"Kdo Ausb","LVb Pz/Art","Pz S 21","Pz RS 22-2"]
[null,"Ristl RS 62-3",0,{"$f":"IF(C1208=1,COUNTIF($C$3:C1208,1),\"\")","v":""},{"$f":"IFERROR(INDEX(DROPDOWN_AOSuche_Alle,MATCH(ROWS($D$3:D1208),DROPDOWN_AOSuche_Helper2,0)),\"\")","v":""},"Kdo Ausb","LVb Pz/Art","Pz S 21","Pz RS 22-3"]
[null,"Ristl RS Kp 62-1/1",0,{"$f":"IF(C1209=1,COUNTIF($C$3:C1209,1),\"\")","v":""},{"$f":"IFERROR(INDEX(DROPDOWN_AOSuche_Alle,MATCH(ROWS($D$3:D1209),DROPDOWN_AOSuche_Helper2,0)),\"\")","v":""},"Kdo Ausb","LVb Pz/Art","Pz/Art OS 22"]
[null,"Ristl RS Kp 62-1/2",0,{"$f":"IF(C1210=1,COUNTIF($C$3:C1210,1),\"\")","v":""},{"$f":"IFERROR(INDEX(DROPDOWN_AOSuche_Alle,MATCH(ROWS($D$3:D1210),DROPDOWN_AOSuche_Helper2,0)),\"\")","v":""},"Kdo Ausb","LVb Pz/Art","Pz/Art OS 22","Pz/Art OS 22-1"]
[null,"Ristl RS Kp 62-1/3",0,{"$f":"IF(C1211=1,COUNTIF($C$3:C1211,1),\"\")","v":""},{"$f":"IFERROR(INDEX(DROPDOWN_AOSuche_Alle,MATCH(ROWS($D$3:D1211),DROPDOWN_AOSuche_Helper2,0)),\"\")","v":""},"Kdo Ausb","LVb Pz/Art","Pz/Art OS 22","Pz/Art OS 22-1","Pz/Art OS 22/1 Kdo-Kp"]
[null,"Ristl RS Kp 62-1/4",0,{"$f":"IF(C1212=1,COUNTIF($C$3:C1212,1),\"\")","v":""},{"$f":"IFERROR(INDEX(DROPDOWN_AOSuche_Alle,MATCH(ROWS($D$3:D1212),DROPDOWN_AOSuche_Helper2,0)),\"\")","v":""},"Kdo Ausb","LVb Pz/Art","Pz/Art OS 22","Pz/Art OS 22-1","Pz/Art OS 22/1 Kdo DHU"]
[null,"Ristl RS Kp 62-2/1",0,{"$f":"IF(C1213=1,COUNTIF($C$3:C1213,1),\"\")","v":""},{"$f":"IFERROR(INDEX(DROPDOWN_AOSuche_Alle,MATCH(ROWS($D$3:D1213),DROPDOWN_AOSuche_Helper2,0)),\"\")","v":""},"Kdo Ausb","LVb Pz/Art","Pz/Art OS 22","Pz/Art OS 22-1","Pz/Art OS 22-1 S Verl Mech Kl"]
[null,"Ristl RS Kp 62-2/2",0,{"$f":"IF(C1214=1,COUNTIF($C$3:C1214,1),\"\")","v":""},{"$f":"IFERROR(INDEX(DROPDOWN_AOSuche_Alle,MATCH(ROWS($D$3:D1214),DROPDOWN_AOSuche_Helper2,0)),\"\")","v":""},"Kdo Ausb","LVb Pz/Art","Pz/Art OS 22","Pz/Art OS 22-1","Pz/Art OS Kl 22-1/1"]
[null,"Ristl RS Kp 62-2/3",0,{"$f":"IF(C1215=1,COUNTIF($C$3:C1215,1),\"\")","v":""},{"$f":"IFERROR(INDEX(DROPDOWN_AOSuche_Alle,MATCH(ROWS($D$3:D1215),DROPDOWN_AOSuche_Helper2,0)),\"\")","v":""},"Kdo Ausb","LVb Pz/Art","Pz/Art OS 22","Pz/Art OS 22-1","Pz/Art OS Kl 22-1/2"]
[null,"Ristl RS Kp 62-2/4",0,{"$f":"IF(C1216=1,COUNTIF($C$3:C1216,1),\"\")","v":""},{"$f":"IFERROR(INDEX(DROPDOWN_AOSuche_Alle,MATCH(ROWS($D$3:D1216),DROPDOWN_AOSuche_Helper2,0)),\"\")","v":""},"Kdo Ausb","LVb Pz/Art","Pz/Art OS 22","Pz/Art OS 22-1","Pz/Art OS Kl 22-1/3"]
[null,"Ristl RS VT Ausb 62-1",0,{"$f":"IF(C1217=1,COUNTIF($C$3:C1217,1),\"\")","v":""},{"$f":"IFERROR(INDEX(DROPDOWN_AOSuche_Alle,MATCH(ROWS($D$3:D1217),DROPDOWN_AOSuche_Helper2,0)),\"\")","v":""},"Kdo Ausb","LVb Pz/Art","Pz/Art OS 22","Pz/Art OS 22-2"]
[null,"Ristl RS VT Ausb 62-2",0,{"$f":"IF(C1218=1,COUNTIF($C$3:C1218,1),\"\")","v":""},{"$f":"IFERROR(INDEX(DROPDOWN_AOSuche_Alle,MATCH(ROWS($D$3:D1218),DROPDOWN_AOSuche_Helper2,0)),\"\")","v":""},"Kdo Ausb","LVb Pz/Art","Pz/Art OS 22","Pz/Art OS 22-2","Pz/Art OS 22/2 Kdo-Kp"]
[null,"Ristl S 62",{"$f":"--ISNUMBER(IFERROR(SEARCH(AO_Search_Value,B1219,1),\"\"))","v":0},{"$f":"IF(C1219=1,COUNTIF($C$3:C1219,1),\"\")","v":""},{"$f":"IFERROR(INDEX(DROPDOWN_AOSuche_Alle,MATCH(ROWS($D$3:D1219),DROPDOWN_AOSuche_Helper2,0)),\"\")","v":""},"Kdo Ausb","LVb Pz/Art","Pz/Art OS 22","Pz/Art OS 22-2","Pz/Art OS 22/2 Kdo DHU"]
[null,"Ristl Stabskp 16",0,{"$f":"IF(C1220=1,COUNTIF($C$3:C1220,1),\"\")","v":""},{"$f":"IFERROR(INDEX(DROPDOWN_AOSuche_Alle,MATCH(ROWS($D$3:D1220),DROPDOWN_AOSuche_Helper2,0)),\"\")","v":""},"Kdo Ausb","LVb Pz/Art","Pz/Art OS 22","Pz/Art OS 22-2","Pz/Art OS 22-2 S Verl Mech Kl"]
[null,"Ristl Stabskp 17",0,{"$f":"IF(C1221=1,COUNTIF($C$3:C1221,1),\"\")","v":""},{"$f":"IFERROR(INDEX(DROPDOWN_AOSuche_Alle,MATCH(ROWS($D$3:D1221),DROPDOWN_AOSuche_Helper2,0)),\"\")","v":""},"Kdo Ausb","LVb Pz/Art","Pz/Art OS 22","Pz/Art OS 22-2","Pz/Art OS Kl 22-2/1"]
[null,"Ristl Stabskp 21",0,{"$f":"IF(C1222=1,COUNTIF($C$3:C1222,1),\"\")","v":""},{"$f":"IFERROR(INDEX(DROPDOWN_AOSuche_Alle,MATCH(ROWS($D$3:D1222),DROPDOWN_AOSuche_Helper2,0)),\"\")","v":""},"Kdo Ausb","LVb Pz/Art","Pz/Art OS 22","Pz/Art OS 22-2","Pz/Art OS Kl 22-2/2"]
[null,"Ristl Stabskp 32",0,{"$f":"IF(C1223=1,COUNTIF($C$3:C1223,1),\"\")","v":""},{"$f":"IFERROR(INDEX(DROPDOWN_AOSuche_Alle,MATCH(ROWS($D$3:D1223),DROPDOWN_AOSuche_Helper2,0)),\"\")","v":""},"Kdo Ausb","LVb Pz/Art","Pz/Art OS 22","Pz/Art OS 22-2","Pz/Art OS Kl 22-2/3"]
[null,"Ristl Stabskp 4",0,{"$f":"IF(C1224=1,COUNTIF($C$3:C1224,1),\"\")","v":""},{"$f":"IFERROR(INDEX(DROPDOWN_AOSuche_Alle,MATCH(ROWS($D$3:D1224),DROPDOWN_AOSuche_Helper2,0)),\"\")","v":""},"Kdo Ausb","LVb Pz/Art","Wpl Thun/MAZ"]
[null,"Ristl UOS 62-1",0,{"$f":"IF(C1225=1,COUNTIF($C$3:C1225,1),\"\")","v":""},{"$f":"IFERROR(INDEX(DROPDOWN_AOSuche_Alle,MATCH(ROWS($D$3:D1225),DROPDOWN_AOSuche_Helper2,0)),\"\")","v":""},"Kdo Ausb","LVb Pz/Art","Wpl Thun/MAZ","MAZ Infra"]
[null,"Ristl UOS 62-2",0,{"$f":"IF(C1226=1,COUNTIF($C$3:C1226,1),\"\")","v":""},{"$f":"IFERROR(INDEX(DROPDOWN_AOSuche_Alle,MATCH(ROWS($D$3:D1226),DROPDOWN_AOSuche_Helper2,0)),\"\")","v":""},"Kdo Ausb","LVb Pz/Art","Wpl Thun/MAZ","MAZ Infra","MAZ Infra"]
[null,"Ristl UOS Kl 62-1/1",0,{"$f":"IF(C1227=1,COUNTIF($C$3:C1227,1),\"\")","v":""},{"$f":"IFERROR(INDEX(DROPDOWN_AOSuche_Alle,MATCH(ROWS($D$3:D1227),DROPDOWN_AOSuche_Helper2,0)),\"\")","v":""},"Kdo Ausb","LVb Pz/Art","Wpl Thun/MAZ","MAZ Infra","MAZ Infra Ausb Säle INTAFF"]
[null,"Ristl UOS Kl 62-1/2",0,{"$f":"IF(C1228=1,COUNTIF($C$3:C1228,1),\"\")","v":""},{"$f":"IFERROR(INDEX(DROPDOWN_AOSuche_Alle,MATCH(ROWS($D$3:D1228),DROPDOWN_AOSuche_Helper2,0)),\"\")","v":""},"Kdo Ausb","LVb Pz/Art","Wpl Thun/MAZ","MAZ Infra","MAZ Infra Fk Ausb Sääle"]
[null,"Ristl UOS Kl 62-1/3",0,{"$f":"IF(C1229=1,COUNTIF($C$3:C1229,1),\"\")","v":""},{"$f":"IFERROR(INDEX(DROPDOWN_AOSuche_Alle,MATCH(ROWS($D$3:D1229),DROPDOWN_AOSuche_Helper2,0)),\"\")","v":""},"Kdo Ausb","LVb Pz/Art","Wpl Thun/MAZ","MAZ ELSA ELTAM"]
[null,"Ristl UOS Kl 62-1/4",0,{"$f":"IF(C1230=1,COUNTIF($C$3:C1230,1),\"\")","v":""},{"$f":"IFERROR(INDEX(DROPDOWN_AOSuche_Alle,MATCH(ROWS($D$3:D1230),DROPDOWN_AOSuche_Helper2,0)),\"\")","v":""},"Kdo Ausb","LVb Pz/Art","Wpl Thun/MAZ","MAZ ELSA ELTAM","MAZ ELSA Leo II WE"]
[null,"Ristl UOS Kl 62-2/1",0,{"$f":"IF(C1231=1,COUNTIF($C$3:C1231,1),\"\")","v":""},{"$f":"IFERROR(INDEX(DROPDOWN_AOSuche_Alle,MATCH(ROWS($D$3:D1231),DROPDOWN_AOSuche_Helper2,0)),\"\")","v":""},"Kdo Ausb","LVb Pz/Art","Wpl Thun/MAZ","MAZ ELSA ELTAM","MAZ ELSA SKdt"]
[null,"Ristl UOS Kl 62-2/2",0,{"$f":"IF(C1232=1,COUNTIF($C$3:C1232,1),\"\")","v":""},{"$f":"IFERROR(INDEX(DROPDOWN_AOSuche_Alle,MATCH(ROWS($D$3:D1232),DROPDOWN_AOSuche_Helper2,0)),\"\")","v":""},"Kdo Ausb","LVb Pz/Art","Wpl Thun/MAZ","MAZ ELSA ELTAM","MAZ ELSA Spz 2000"]
[null,"Ristl UOS Kl 62-2/3",0,{"$f":"IF(C1233=1,COUNTIF($C$3:C1233,1),\"\")","v":""},{"$f":"IFERROR(INDEX(DROPDOWN_AOSuche_Alle,MATCH(ROWS($D$3:D1233),DROPDOWN_AOSuche_Helper2,0)),\"\")","v":""},"Kdo Ausb","LVb Pz/Art","Wpl Thun/MAZ","MAZ ELSA ELTAM","MAZ ELTAM"]
[null,"Ristl UOS Kl 62-2/4",0,{"$f":"IF(C1234=1,COUNTIF($C$3:C1234,1),\"\")","v":""},{"$f":"IFERROR(INDEX(DROPDOWN_AOSuche_Alle,MATCH(ROWS($D$3:D1234),DROPDOWN_AOSuche_Helper2,0)),\"\")","v":""},"Kdo Ausb","LVb Pz/Art","Wpl Thun/MAZ","MAZ Leiter Dienste"]
[null,"RKD Mil Az OS 41",0,{"$f":"IF(C1235=1,COUNTIF($C$3:C1235,1),\"\")","v":""},{"$f":"IFERROR(INDEX(DROPDOWN_AOSuche_Alle,MATCH(ROWS($D$3:D1235),DROPDOWN_AOSuche_Helper2,0)),\"\")","v":""},"Kdo Ausb","LVb Pz/Art","Wpl Thun/MAZ","MAZ Leiter Dienste","MAZ Leiter Dienste"]
[null,"RKD Mil Az UOS 41",0,{"$f":"IF(C1236=1,COUNTIF($C$3:C1236,1),\"\")","v":""},{"$f":"IFERROR(INDEX(DROPDOWN_AOSuche_Alle,MATCH(ROWS($D$3:D1236),DROPDOWN_AOSuche_Helper2,0)),\"\")","v":""},"Kdo Ausb","LVb Pz/Art","Wpl Thun/MAZ","MAZ Leiter Dienste","MAZ LD Werkstatt"]
[null,"RKD OS 41",0,{"$f":"IF(C1237=1,COUNTIF($C$3:C1237,1),\"\")","v":""},{"$f":"IFERROR(INDEX(DROPDOWN_AOSuche_Alle,MATCH(ROWS($D$3:D1237),DROPDOWN_AOSuche_Helper2,0)),\"\")","v":""},"Kdo Ausb","LVb Pz/Art","Wpl Thun/MAZ","MAZ Leiter Dienste","MAZ LD Trsp Zen"]
[null,"RKD RS 41-1",0,{"$f":"IF(C1238=1,COUNTIF($C$3:C1238,1),\"\")","v":""},{"$f":"IFERROR(INDEX(DROPDOWN_AOSuche_Alle,MATCH(ROWS($D$3:D1238),DROPDOWN_AOSuche_Helper2,0)),\"\")","v":""},"Kdo Ausb","LVb Pz/Art","Wpl Thun/MAZ","Wpl Thun/MAZ Fw Mag"]
[null,"RKD RS 41-2",0,{"$f":"IF(C1239=1,COUNTIF($C$3:C1239,1),\"\")","v":""},{"$f":"IFERROR(INDEX(DROPDOWN_AOSuche_Alle,MATCH(ROWS($D$3:D1239),DROPDOWN_AOSuche_Helper2,0)),\"\")","v":""},"Kdo Ausb","LVb Pz/Art","AAZ 30"]
[null,"RKD UOS 41-1",0,{"$f":"IF(C1240=1,COUNTIF($C$3:C1240,1),\"\")","v":""},{"$f":"IFERROR(INDEX(DROPDOWN_AOSuche_Alle,MATCH(ROWS($D$3:D1240),DROPDOWN_AOSuche_Helper2,0)),\"\")","v":""},"Kdo Ausb","LVb Pz/Art","Art S 31"]
[null,"RKD UOS 41-2",0,{"$f":"IF(C1241=1,COUNTIF($C$3:C1241,1),\"\")","v":""},{"$f":"IFERROR(INDEX(DROPDOWN_AOSuche_Alle,MATCH(ROWS($D$3:D1241),DROPDOWN_AOSuche_Helper2,0)),\"\")","v":""},"Kdo Ausb","LVb Pz/Art","Art S 31","Art RS 31-1"]
[null,"Rttg Bat 1",0,{"$f":"IF(C1242=1,COUNTIF($C$3:C1242,1),\"\")","v":""},{"$f":"IFERROR(INDEX(DROPDOWN_AOSuche_Alle,MATCH(ROWS($D$3:D1242),DROPDOWN_AOSuche_Helper2,0)),\"\")","v":""},"Kdo Ausb","LVb Pz/Art","Art S 31","Art RS 31-1","Art RS Bttr 31-1/1"]
[null,"Rttg Bat 2",0,{"$f":"IF(C1243=1,COUNTIF($C$3:C1243,1),\"\")","v":""},{"$f":"IFERROR(INDEX(DROPDOWN_AOSuche_Alle,MATCH(ROWS($D$3:D1243),DROPDOWN_AOSuche_Helper2,0)),\"\")","v":""},"Kdo Ausb","LVb Pz/Art","Art S 31","Art RS 31-1","Art RS Bttr 31-1/2"]
[null,"Rttg Bat 3",0,{"$f":"IF(C1244=1,COUNTIF($C$3:C1244,1),\"\")","v":""},{"$f":"IFERROR(INDEX(DROPDOWN_AOSuche_Alle,MATCH(ROWS($D$3:D1244),DROPDOWN_AOSuche_Helper2,0)),\"\")","v":""},"Kdo Ausb","LVb Pz/Art","Art S 31","Art RS 31-1","Art RS Bttr 31-1/3"]
[null,"Rttg Bat 4",0,{"$f":"IF(C1245=1,COUNTIF($C$3:C1245,1),\"\")","v":""},{"$f":"IFERROR(INDEX(DROPDOWN_AOSuche_Alle,MATCH(ROWS($D$3:D1245),DROPDOWN_AOSuche_Helper2,0)),\"\")","v":""},"Kdo Ausb","LVb Pz/Art","Art S 31","Art RS 31-1","Art RS Bttr 31-1/4"]
[null,"Rttg Kp 1/1",0,{"$f":"IF(C1246=1,COUNTIF($C$3:C1246,1),\"\")","v":""},{"$f":"IFERROR(INDEX(DROPDOWN_AOSuche_Alle,MATCH(ROWS($D$3:D1246),DROPDOWN_AOSuche_Helper2,0)),\"\")","v":""},"Kdo Ausb","LVb Pz/Art","Art S 31","Art RS 31-1","Art RS Bttr 31-1/5"]
[null,"Rttg Kp 1/2",0,{"$f":"IF(C1247=1,COUNTIF($C$3:C1247,1),\"\")","v":""},{"$f":"IFERROR(INDEX(DROPDOWN_AOSuche_Alle,MATCH(ROWS($D$3:D1247),DROPDOWN_AOSuche_Helper2,0)),\"\")","v":""},"Kdo Ausb","LVb Pz/Art","Art S 31","Art RS 31-2"]
[null,"Rttg Kp 1/3",0,{"$f":"IF(C1248=1,COUNTIF($C$3:C1248,1),\"\")","v":""},{"$f":"IFERROR(INDEX(DROPDOWN_AOSuche_Alle,MATCH(ROWS($D$3:D1248),DROPDOWN_AOSuche_Helper2,0)),\"\")","v":""},"Kdo Ausb","LVb Pz/Art","Art S 31","Art RS 31-2","Art RS Bttr 31-2/1"]
[null,"Rttg Kp 2/1",0,{"$f":"IF(C1249=1,COUNTIF($C$3:C1249,1),\"\")","v":""},{"$f":"IFERROR(INDEX(DROPDOWN_AOSuche_Alle,MATCH(ROWS($D$3:D1249),DROPDOWN_AOSuche_Helper2,0)),\"\")","v":""},"Kdo Ausb","LVb Pz/Art","Art S 31","Art RS 31-2","Art RS Bttr 31-2/2"]
[null,"Rttg Kp 2/2",0,{"$f":"IF(C1250=1,COUNTIF($C$3:C1250,1),\"\")","v":""},{"$f":"IFERROR(INDEX(DROPDOWN_AOSuche_Alle,MATCH(ROWS($D$3:D1250),DROPDOWN_AOSuche_Helper2,0)),\"\")","v":""},"Kdo Ausb","LVb Pz/Art","Art S 31","Art RS 31-2","Art RS Bttr 31-2/3"]
[null,"Rttg Kp 2/3",0,{"$f":"IF(C1251=1,COUNTIF($C$3:C1251,1),\"\")","v":""},{"$f":"IFERROR(INDEX(DROPDOWN_AOSuche_Alle,MATCH(ROWS($D$3:D1251),DROPDOWN_AOSuche_Helper2,0)),\"\")","v":""},"Kdo Ausb","LVb Pz/Art","Art S 31","Art RS 31-2","Art RS Bttr 31-2/4"]
[null,"Rttg Kp 3/1",0,{"$f":"IF(C1252=1,COUNTIF($C$3:C1252,1),\"\")","v":""},{"$f":"IFERROR(INDEX(DROPDOWN_AOSuche_Alle,MATCH(ROWS($D$3:D1252),DROPDOWN_AOSuche_Helper2,0)),\"\")","v":""},"Kdo Ausb","LVb Pz/Art","Art S 31","Art RS 31-2","Art RS Bttr 31-2/5"]
[null,"Rttg Kp 3/2",0,{"$f":"IF(C1253=1,COUNTIF($C$3:C1253,1),\"\")","v":""},{"$f":"IFERROR(INDEX(DROPDOWN_AOSuche_Alle,MATCH(ROWS($D$3:D1253),DROPDOWN_AOSuche_Helper2,0)),\"\")","v":""},"Kdo Ausb","LVb Pz/Art","Art S 31","Art RS 31-1"]
[null,"Rttg Kp 3/3",0,{"$f":"IF(C1254=1,COUNTIF($C$3:C1254,1),\"\")","v":""},{"$f":"IFERROR(INDEX(DROPDOWN_AOSuche_Alle,MATCH(ROWS($D$3:D1254),DROPDOWN_AOSuche_Helper2,0)),\"\")","v":""},"Kdo Ausb","LVb Pz/Art","Art S 31","Art RS 31-2"]
[null,"Rttg Kp 4/1",0,{"$f":"IF(C1255=1,COUNTIF($C$3:C1255,1),\"\")","v":""},{"$f":"IFERROR(INDEX(DROPDOWN_AOSuche_Alle,MATCH(ROWS($D$3:D1255),DROPDOWN_AOSuche_Helper2,0)),\"\")","v":""},"Kdo Ausb","LVb Pz/Art","Art S 31","Art RS 31-3"]
[null,"Rttg Kp 4/2",0,{"$f":"IF(C1256=1,COUNTIF($C$3:C1256,1),\"\")","v":""},{"$f":"IFERROR(INDEX(DROPDOWN_AOSuche_Alle,MATCH(ROWS($D$3:D1256),DROPDOWN_AOSuche_Helper2,0)),\"\")","v":""},"Kdo Ausb","LVb Pz/Art","Art S 31","Art UOS 31-1"]
[null,"Rttg Kp 4/3",0,{"$f":"IF(C1257=1,COUNTIF($C$3:C1257,1),\"\")","v":""},{"$f":"IFERROR(INDEX(DROPDOWN_AOSuche_Alle,MATCH(ROWS($D$3:D1257),DROPDOWN_AOSuche_Helper2,0)),\"\")","v":""},"Kdo Ausb","LVb Pz/Art","Art S 31","Art UOS 31-1","Art UOS Kl 31-1/Kdo-Kp"]
[null,"Rttg RS 75-1",0,{"$f":"IF(C1258=1,COUNTIF($C$3:C1258,1),\"\")","v":""},{"$f":"IFERROR(INDEX(DROPDOWN_AOSuche_Alle,MATCH(ROWS($D$3:D1258),DROPDOWN_AOSuche_Helper2,0)),\"\")","v":""},"Kdo Ausb","LVb Pz/Art","Art S 31","Art UOS 31-1","Art UOS Kl 31-1/1"]
[null,"Rttg RS 75-2",0,{"$f":"IF(C1259=1,COUNTIF($C$3:C1259,1),\"\")","v":""},{"$f":"IFERROR(INDEX(DROPDOWN_AOSuche_Alle,MATCH(ROWS($D$3:D1259),DROPDOWN_AOSuche_Helper2,0)),\"\")","v":""},"Kdo Ausb","LVb Pz/Art","Art S 31","Art UOS 31-1","Art UOS Kl 31-1/2"]
[null,"Rttg RS 75-3",0,{"$f":"IF(C1260=1,COUNTIF($C$3:C1260,1),\"\")","v":""},{"$f":"IFERROR(INDEX(DROPDOWN_AOSuche_Alle,MATCH(ROWS($D$3:D1260),DROPDOWN_AOSuche_Helper2,0)),\"\")","v":""},"Kdo Ausb","LVb Pz/Art","Art S 31","Art UOS 31-1","Art UOS Kl 31-1/3"]
[null,"Rttg RS Kp 75-1/1 (Stabskp)",0,{"$f":"IF(C1261=1,COUNTIF($C$3:C1261,1),\"\")","v":""},{"$f":"IFERROR(INDEX(DROPDOWN_AOSuche_Alle,MATCH(ROWS($D$3:D1261),DROPDOWN_AOSuche_Helper2,0)),\"\")","v":""},"Kdo Ausb","LVb Pz/Art","Art S 31","Art UOS 31-1","Art UOS Kl 31-1/4"]
[null,"Rttg RS Kp 75-1/2",0,{"$f":"IF(C1262=1,COUNTIF($C$3:C1262,1),\"\")","v":""},{"$f":"IFERROR(INDEX(DROPDOWN_AOSuche_Alle,MATCH(ROWS($D$3:D1262),DROPDOWN_AOSuche_Helper2,0)),\"\")","v":""},"Kdo Ausb","LVb Pz/Art","Art S 31","Art UOS 31-1","Art UOS Kl 31-1/5"]
[null,"Rttg RS Kp 75-1/3",0,{"$f":"IF(C1263=1,COUNTIF($C$3:C1263,1),\"\")","v":""},{"$f":"IFERROR(INDEX(DROPDOWN_AOSuche_Alle,MATCH(ROWS($D$3:D1263),DROPDOWN_AOSuche_Helper2,0)),\"\")","v":""},"Kdo Ausb","LVb Pz/Art","Art S 31","Art UOS 31-2"]
[null,"Rttg RS Kp 75-2/1 (Stabskp)",0,{"$f":"IF(C1264=1,COUNTIF($C$3:C1264,1),\"\")","v":""},{"$f":"IFERROR(INDEX(DROPDOWN_AOSuche_Alle,MATCH(ROWS($D$3:D1264),DROPDOWN_AOSuche_Helper2,0)),\"\")","v":""},"Kdo Ausb","LVb Pz/Art","Art S 31","Art UOS 31-2","Art UOS Kl 31-2/ Kdo-Kp"]
[null,"Rttg RS Kp 75-2/2",0,{"$f":"IF(C1265=1,COUNTIF($C$3:C1265,1),\"\")","v":""},{"$f":"IFERROR(INDEX(DROPDOWN_AOSuche_Alle,MATCH(ROWS($D$3:D1265),DROPDOWN_AOSuche_Helper2,0)),\"\")","v":""},"Kdo Ausb","LVb Pz/Art","Art S 31","Art UOS 31-2","Art UOS Kl 31-2/1"]
[null,"Rttg RS Kp 75-2/3",0,{"$f":"IF(C1266=1,COUNTIF($C$3:C1266,1),\"\")","v":""},{"$f":"IFERROR(INDEX(DROPDOWN_AOSuche_Alle,MATCH(ROWS($D$3:D1266),DROPDOWN_AOSuche_Helper2,0)),\"\")","v":""},"Kdo Ausb","LVb Pz/Art","Art S 31","Art UOS 31-2","Art UOS Kl 31-2/2"]
[null,"Rttg RS Kp 75-2/4",0,{"$f":"IF(C1267=1,COUNTIF($C$3:C1267,1),\"\")","v":""},{"$f":"IFERROR(INDEX(DROPDOWN_AOSuche_Alle,MATCH(ROWS($D$3:D1267),DROPDOWN_AOSuche_Helper2,0)),\"\")","v":""},"Kdo Ausb","LVb Pz/Art","Art S 31","Art UOS 31-2","Art UOS Kl 31-2/3"]
[null,"Rttg S 75",0,{"$f":"IF(C1268=1,COUNTIF($C$3:C1268,1),\"\")","v":""},{"$f":"IFERROR(INDEX(DROPDOWN_AOSuche_Alle,MATCH(ROWS($D$3:D1268),DROPDOWN_AOSuche_Helper2,0)),\"\")","v":""},"Kdo Ausb","LVb Pz/Art","Art S 31","Art UOS 31-2","Art UOS Kl 31-2/4"]
[null,"Rttg Stabskp 1",0,{"$f":"IF(C1269=1,COUNTIF($C$3:C1269,1),\"\")","v":""},{"$f":"IFERROR(INDEX(DROPDOWN_AOSuche_Alle,MATCH(ROWS($D$3:D1269),DROPDOWN_AOSuche_Helper2,0)),\"\")","v":""},"Kdo Ausb","LVb Pz/Art","Art S 31","Art UOS 31-2","Art UOS Kl 31-2/5"]
[null,"Rttg Stabskp 2",0,{"$f":"IF(C1270=1,COUNTIF($C$3:C1270,1),\"\")","v":""},{"$f":"IFERROR(INDEX(DROPDOWN_AOSuche_Alle,MATCH(ROWS($D$3:D1270),DROPDOWN_AOSuche_Helper2,0)),\"\")","v":""},"Kdo Ausb","LVb Pz/Art","Art S 31","TLG Fw Flst 31-1"]
[null,"Rttg Stabskp 3",0,{"$f":"IF(C1271=1,COUNTIF($C$3:C1271,1),\"\")","v":""},{"$f":"IFERROR(INDEX(DROPDOWN_AOSuche_Alle,MATCH(ROWS($D$3:D1271),DROPDOWN_AOSuche_Helper2,0)),\"\")","v":""},"Kdo Ausb","LVb Pz/Art","Art S 31","TLG Fw Flst 31-2"]
[null,"Rttg Stabskp 4",0,{"$f":"IF(C1272=1,COUNTIF($C$3:C1272,1),\"\")","v":""},{"$f":"IFERROR(INDEX(DROPDOWN_AOSuche_Alle,MATCH(ROWS($D$3:D1272),DROPDOWN_AOSuche_Helper2,0)),\"\")","v":""},"Kdo Ausb","LVb Pz/Art","Infra/HQ S alt"]
[null,"Rttg UOS 75-1",0,{"$f":"IF(C1273=1,COUNTIF($C$3:C1273,1),\"\")","v":""},{"$f":"IFERROR(INDEX(DROPDOWN_AOSuche_Alle,MATCH(ROWS($D$3:D1273),DROPDOWN_AOSuche_Helper2,0)),\"\")","v":""},"Kdo Ausb","LVb Pz/Art","Infra/HQ S alt","Infra/HQ RS 35-1"]
[null,"Rttg UOS 75-2",0,{"$f":"IF(C1274=1,COUNTIF($C$3:C1274,1),\"\")","v":""},{"$f":"IFERROR(INDEX(DROPDOWN_AOSuche_Alle,MATCH(ROWS($D$3:D1274),DROPDOWN_AOSuche_Helper2,0)),\"\")","v":""},"Kdo Ausb","LVb Pz/Art","Infra/HQ S alt","Infra/HQ RS 35-2"]
[null,"S Bat 1",0,{"$f":"IF(C1275=1,COUNTIF($C$3:C1275,1),\"\")","v":""},{"$f":"IFERROR(INDEX(DROPDOWN_AOSuche_Alle,MATCH(ROWS($D$3:D1275),DROPDOWN_AOSuche_Helper2,0)),\"\")","v":""},"Kdo Ausb","LVb Pz/Art","Infra/HQ S alt","Infra/HQ RS 35-3"]
[null,"S Bat 14",0,{"$f":"IF(C1276=1,COUNTIF($C$3:C1276,1),\"\")","v":""},{"$f":"IFERROR(INDEX(DROPDOWN_AOSuche_Alle,MATCH(ROWS($D$3:D1276),DROPDOWN_AOSuche_Helper2,0)),\"\")","v":""},"Kdo Ausb","LVb G/Rttg/ABC"]
[null,"S Kp 1/1",0,{"$f":"IF(C1277=1,COUNTIF($C$3:C1277,1),\"\")","v":""},{"$f":"IFERROR(INDEX(DROPDOWN_AOSuche_Alle,MATCH(ROWS($D$3:D1277),DROPDOWN_AOSuche_Helper2,0)),\"\")","v":""},"Kdo Ausb","LVb G/Rttg/ABC","Stab LVb G/Rttg/ABC"]
[null,"S Kp 1/2",0,{"$f":"IF(C1278=1,COUNTIF($C$3:C1278,1),\"\")","v":""},{"$f":"IFERROR(INDEX(DROPDOWN_AOSuche_Alle,MATCH(ROWS($D$3:D1278),DROPDOWN_AOSuche_Helper2,0)),\"\")","v":""},"Kdo Ausb","LVb G/Rttg/ABC","Betr Det LVb G/Rttg/ABC"]
[null,"S Kp 1/3",0,{"$f":"IF(C1279=1,COUNTIF($C$3:C1279,1),\"\")","v":""},{"$f":"IFERROR(INDEX(DROPDOWN_AOSuche_Alle,MATCH(ROWS($D$3:D1279),DROPDOWN_AOSuche_Helper2,0)),\"\")","v":""},"Kdo Ausb","LVb G/Rttg/ABC","Mot Bootkp 10"]
[null,"S Kp 14/1",0,{"$f":"IF(C1280=1,COUNTIF($C$3:C1280,1),\"\")","v":""},{"$f":"IFERROR(INDEX(DROPDOWN_AOSuche_Alle,MATCH(ROWS($D$3:D1280),DROPDOWN_AOSuche_Helper2,0)),\"\")","v":""},"Kdo Ausb","LVb G/Rttg/ABC","Kata Hi Ber Bat 104"]
[null,"S Kp 14/2",0,{"$f":"IF(C1281=1,COUNTIF($C$3:C1281,1),\"\")","v":""},{"$f":"IFERROR(INDEX(DROPDOWN_AOSuche_Alle,MATCH(ROWS($D$3:D1281),DROPDOWN_AOSuche_Helper2,0)),\"\")","v":""},"Kdo Ausb","LVb G/Rttg/ABC","Kata Hi Ber Bat 104","Stab Kata Hi Ber Bat 104"]
[null,"S Kp 14/3",0,{"$f":"IF(C1282=1,COUNTIF($C$3:C1282,1),\"\")","v":""},{"$f":"IFERROR(INDEX(DROPDOWN_AOSuche_Alle,MATCH(ROWS($D$3:D1282),DROPDOWN_AOSuche_Helper2,0)),\"\")","v":""},"Kdo Ausb","LVb G/Rttg/ABC","Kata Hi Ber Bat 104","Kata Hi Ber Kp 104/1"]
[null,"S Stabskp 1",{"$f":"--ISNUMBER(IFERROR(SEARCH(AO_Search_Value,B1283,1),\"\"))","v":0},{"$f":"IF(C1283=1,COUNTIF($C$3:C1283,1),\"\")","v":""},{"$f":"IFERROR(INDEX(DROPDOWN_AOSuche_Alle,MATCH(ROWS($D$3:D1283),DROPDOWN_AOSuche_Helper2,0)),\"\")","v":""},"Kdo Ausb","LVb G/Rttg/ABC","Kata Hi Ber Bat 104","Kata Hi Ber Kp 104/2"]
[null,"S Stabskp 14",0,{"$f":"IF(C1284=1,COUNTIF($C$3:C1284,1),\"\")","v":""},{"$f":"IFERROR(INDEX(DROPDOWN_AOSuche_Alle,MATCH(ROWS($D$3:D1284),DROPDOWN_AOSuche_Helper2,0)),\"\")","v":""},"Kdo Ausb","LVb G/Rttg/ABC","Kata Hi Ber Bat 204"]
[null,"S Ustü Kp 1/4",0,{"$f":"IF(C1285=1,COUNTIF($C$3:C1285,1),\"\")","v":""},{"$f":"IFERROR(INDEX(DROPDOWN_AOSuche_Alle,MATCH(ROWS($D$3:D1285),DROPDOWN_AOSuche_Helper2,0)),\"\")","v":""},"Kdo Ausb","LVb G/Rttg/ABC","Kata Hi Ber Bat 204","Stab Kata Hi Ber Bat 204"]
[null,"S Ustü Kp 14/4",0,{"$f":"IF(C1286=1,COUNTIF($C$3:C1286,1),\"\")","v":""},{"$f":"IFERROR(INDEX(DROPDOWN_AOSuche_Alle,MATCH(ROWS($D$3:D1286),DROPDOWN_AOSuche_Helper2,0)),\"\")","v":""},"Kdo Ausb","LVb G/Rttg/ABC","Kata Hi Ber Bat 204","Kata Hi Ber Kp 204/1"]
[null,"San Kp 1",0,{"$f":"IF(C1287=1,COUNTIF($C$3:C1287,1),\"\")","v":""},{"$f":"IFERROR(INDEX(DROPDOWN_AOSuche_Alle,MATCH(ROWS($D$3:D1287),DROPDOWN_AOSuche_Helper2,0)),\"\")","v":""},"Kdo Ausb","LVb G/Rttg/ABC","Kata Hi Ber Bat 204","Kata Hi Ber Kp 204/2"]
[null,"San Kp 2",0,{"$f":"IF(C1288=1,COUNTIF($C$3:C1288,1),\"\")","v":""},{"$f":"IFERROR(INDEX(DROPDOWN_AOSuche_Alle,MATCH(ROWS($D$3:D1288),DROPDOWN_AOSuche_Helper2,0)),\"\")","v":""},"Kdo Ausb","LVb G/Rttg/ABC","Komp Zen ABC/KAMIR"]
[null,"San Kp 3",0,{"$f":"IF(C1289=1,COUNTIF($C$3:C1289,1),\"\")","v":""},{"$f":"IFERROR(INDEX(DROPDOWN_AOSuche_Alle,MATCH(ROWS($D$3:D1289),DROPDOWN_AOSuche_Helper2,0)),\"\")","v":""},"Kdo Ausb","LVb G/Rttg/ABC","Komp Zen ABC/KAMIR","Stab Komp Zen ABC/KAMIR"]
[null,"San Kp 4",0,{"$f":"IF(C1290=1,COUNTIF($C$3:C1290,1),\"\")","v":""},{"$f":"IFERROR(INDEX(DROPDOWN_AOSuche_Alle,MATCH(ROWS($D$3:D1290),DROPDOWN_AOSuche_Helper2,0)),\"\")","v":""},"Kdo Ausb","LVb G/Rttg/ABC","Komp Zen ABC/KAMIR","Betr Det Komp Zen ABC/KAMIR"]
[null,"San Kp 5",0,{"$f":"IF(C1291=1,COUNTIF($C$3:C1291,1),\"\")","v":""},{"$f":"IFERROR(INDEX(DROPDOWN_AOSuche_Alle,MATCH(ROWS($D$3:D1291),DROPDOWN_AOSuche_Helper2,0)),\"\")","v":""},"Kdo Ausb","LVb G/Rttg/ABC","Komp Zen ABC/KAMIR","KAMIR Ei Det"]
[null,"San Kp 6",0,{"$f":"IF(C1292=1,COUNTIF($C$3:C1292,1),\"\")","v":""},{"$f":"IFERROR(INDEX(DROPDOWN_AOSuche_Alle,MATCH(ROWS($D$3:D1292),DROPDOWN_AOSuche_Helper2,0)),\"\")","v":""},"Kdo Ausb","LVb G/Rttg/ABC","Komp Zen ABC/KAMIR","ABC Abw Lab 1"]
[null,"San Kp 7",0,{"$f":"IF(C1293=1,COUNTIF($C$3:C1293,1),\"\")","v":""},{"$f":"IFERROR(INDEX(DROPDOWN_AOSuche_Alle,MATCH(ROWS($D$3:D1293),DROPDOWN_AOSuche_Helper2,0)),\"\")","v":""},"Kdo Ausb","LVb G/Rttg/ABC","Komp Zen ABC/KAMIR","ABC Abw Lab 1","Stab ABC Abw Lab 1"]
[null,"San Kp 8",0,{"$f":"IF(C1294=1,COUNTIF($C$3:C1294,1),\"\")","v":""},{"$f":"IFERROR(INDEX(DROPDOWN_AOSuche_Alle,MATCH(ROWS($D$3:D1294),DROPDOWN_AOSuche_Helper2,0)),\"\")","v":""},"Kdo Ausb","LVb G/Rttg/ABC","Komp Zen ABC/KAMIR","ABC Abw Lab 1","ABC Abw Lab Kp 1/1"]
[null,"San Log Bat 81",0,{"$f":"IF(C1295=1,COUNTIF($C$3:C1295,1),\"\")","v":""},{"$f":"IFERROR(INDEX(DROPDOWN_AOSuche_Alle,MATCH(ROWS($D$3:D1295),DROPDOWN_AOSuche_Helper2,0)),\"\")","v":""},"Kdo Ausb","LVb G/Rttg/ABC","Komp Zen ABC/KAMIR","ABC Abw Lab 1","ABC Abw Lab Kp 1/2"]
[null,"San Log Kp 81/1",0,{"$f":"IF(C1296=1,COUNTIF($C$3:C1296,1),\"\")","v":""},{"$f":"IFERROR(INDEX(DROPDOWN_AOSuche_Alle,MATCH(ROWS($D$3:D1296),DROPDOWN_AOSuche_Helper2,0)),\"\")","v":""},"Kdo Ausb","LVb G/Rttg/ABC","Komp Zen ABC/KAMIR","ABC Abw Lab 1","ABC Abw Lab Kp 1/3"]
[null,"San Log Kp 81/2",0,{"$f":"IF(C1297=1,COUNTIF($C$3:C1297,1),\"\")","v":""},{"$f":"IFERROR(INDEX(DROPDOWN_AOSuche_Alle,MATCH(ROWS($D$3:D1297),DROPDOWN_AOSuche_Helper2,0)),\"\")","v":""},"Kdo Ausb","LVb G/Rttg/ABC","Komp Zen ABC/KAMIR","ABC Abw Bat 10"]
[null,"San Log Kp 81/3",0,{"$f":"IF(C1298=1,COUNTIF($C$3:C1298,1),\"\")","v":""},{"$f":"IFERROR(INDEX(DROPDOWN_AOSuche_Alle,MATCH(ROWS($D$3:D1298),DROPDOWN_AOSuche_Helper2,0)),\"\")","v":""},"Kdo Ausb","LVb G/Rttg/ABC","Komp Zen ABC/KAMIR","ABC Abw Bat 10","Stab ABC Abw Bat 10"]
[null,"San RS 42-1",0,{"$f":"IF(C1299=1,COUNTIF($C$3:C1299,1),\"\")","v":""},{"$f":"IFERROR(INDEX(DROPDOWN_AOSuche_Alle,MATCH(ROWS($D$3:D1299),DROPDOWN_AOSuche_Helper2,0)),\"\")","v":""},"Kdo Ausb","LVb G/Rttg/ABC","Komp Zen ABC/KAMIR","ABC Abw Bat 10","ABC Abw Kp 10/1"]
[null,"San RS 42-2",0,{"$f":"IF(C1300=1,COUNTIF($C$3:C1300,1),\"\")","v":""},{"$f":"IFERROR(INDEX(DROPDOWN_AOSuche_Alle,MATCH(ROWS($D$3:D1300),DROPDOWN_AOSuche_Helper2,0)),\"\")","v":""},"Kdo Ausb","LVb G/Rttg/ABC","Komp Zen ABC/KAMIR","ABC Abw Bat 10","ABC Abw Kp 10/2"]
[null,"San RS 42-3",0,{"$f":"IF(C1301=1,COUNTIF($C$3:C1301,1),\"\")","v":""},{"$f":"IFERROR(INDEX(DROPDOWN_AOSuche_Alle,MATCH(ROWS($D$3:D1301),DROPDOWN_AOSuche_Helper2,0)),\"\")","v":""},"Kdo Ausb","LVb G/Rttg/ABC","Komp Zen ABC/KAMIR","ABC Abw Bat 10","ABC Abw Kp 10/3"]
[null,"San RS Kp 42-1/1",0,{"$f":"IF(C1302=1,COUNTIF($C$3:C1302,1),\"\")","v":""},{"$f":"IFERROR(INDEX(DROPDOWN_AOSuche_Alle,MATCH(ROWS($D$3:D1302),DROPDOWN_AOSuche_Helper2,0)),\"\")","v":""},"Kdo Ausb","LVb G/Rttg/ABC","Komp Zen ABC/KAMIR","ABC Abw Bat 10","ABC Abw Kp 10/4"]
[null,"San RS Kp 42-1/2",0,{"$f":"IF(C1303=1,COUNTIF($C$3:C1303,1),\"\")","v":""},{"$f":"IFERROR(INDEX(DROPDOWN_AOSuche_Alle,MATCH(ROWS($D$3:D1303),DROPDOWN_AOSuche_Helper2,0)),\"\")","v":""},"Kdo Ausb","LVb G/Rttg/ABC","Komp Zen ABC/KAMIR","ABC Abw Ei Kp"]
[null,"San RS Kp 42-1/3",0,{"$f":"IF(C1304=1,COUNTIF($C$3:C1304,1),\"\")","v":""},{"$f":"IFERROR(INDEX(DROPDOWN_AOSuche_Alle,MATCH(ROWS($D$3:D1304),DROPDOWN_AOSuche_Helper2,0)),\"\")","v":""},"Kdo Ausb","LVb G/Rttg/ABC","Komp Zen ABC/KAMIR","ABC Abw RS 58-1"]
[null,"San RS Kp 42-2/1",0,{"$f":"IF(C1305=1,COUNTIF($C$3:C1305,1),\"\")","v":""},{"$f":"IFERROR(INDEX(DROPDOWN_AOSuche_Alle,MATCH(ROWS($D$3:D1305),DROPDOWN_AOSuche_Helper2,0)),\"\")","v":""},"Kdo Ausb","LVb G/Rttg/ABC","Komp Zen ABC/KAMIR","ABC Abw S 77"]
[null,"San RS Kp 42-2/2",0,{"$f":"IF(C1306=1,COUNTIF($C$3:C1306,1),\"\")","v":""},{"$f":"IFERROR(INDEX(DROPDOWN_AOSuche_Alle,MATCH(ROWS($D$3:D1306),DROPDOWN_AOSuche_Helper2,0)),\"\")","v":""},"Kdo Ausb","LVb G/Rttg/ABC","Komp Zen ABC/KAMIR","ABC Abw S 77","ABC Abw RS 77-1"]
[null,"San RS Kp 42-2/3",0,{"$f":"IF(C1307=1,COUNTIF($C$3:C1307,1),\"\")","v":""},{"$f":"IFERROR(INDEX(DROPDOWN_AOSuche_Alle,MATCH(ROWS($D$3:D1307),DROPDOWN_AOSuche_Helper2,0)),\"\")","v":""},"Kdo Ausb","LVb G/Rttg/ABC","Komp Zen ABC/KAMIR","ABC Abw S 77","ABC Abw RS 77-1","ABC Abw RS Kp 77-1/1"]
[null,"San S 42",0,{"$f":"IF(C1308=1,COUNTIF($C$3:C1308,1),\"\")","v":""},{"$f":"IFERROR(INDEX(DROPDOWN_AOSuche_Alle,MATCH(ROWS($D$3:D1308),DROPDOWN_AOSuche_Helper2,0)),\"\")","v":""},"Kdo Ausb","LVb G/Rttg/ABC","Komp Zen ABC/KAMIR","ABC Abw S 77","ABC Abw RS 77-1","ABC Abw RS Kp 77-1/2"]
[null,"San Sup Bat 9",0,{"$f":"IF(C1309=1,COUNTIF($C$3:C1309,1),\"\")","v":""},{"$f":"IFERROR(INDEX(DROPDOWN_AOSuche_Alle,MATCH(ROWS($D$3:D1309),DROPDOWN_AOSuche_Helper2,0)),\"\")","v":""},"Kdo Ausb","LVb G/Rttg/ABC","Komp Zen ABC/KAMIR","ABC Abw S 77","ABC Abw RS 77-2"]
[null,"San Sup Kp 9/1",0,{"$f":"IF(C1310=1,COUNTIF($C$3:C1310,1),\"\")","v":""},{"$f":"IFERROR(INDEX(DROPDOWN_AOSuche_Alle,MATCH(ROWS($D$3:D1310),DROPDOWN_AOSuche_Helper2,0)),\"\")","v":""},"Kdo Ausb","LVb G/Rttg/ABC","Komp Zen ABC/KAMIR","ABC Abw S 77","ABC Abw RS 77-2","ABC Abw RS Kp 77-2/1"]
[null,"San Sup Kp 9/2",0,{"$f":"IF(C1311=1,COUNTIF($C$3:C1311,1),\"\")","v":""},{"$f":"IFERROR(INDEX(DROPDOWN_AOSuche_Alle,MATCH(ROWS($D$3:D1311),DROPDOWN_AOSuche_Helper2,0)),\"\")","v":""},"Kdo Ausb","LVb G/Rttg/ABC","Komp Zen ABC/KAMIR","ABC Abw S 77","ABC Abw RS 77-2","ABC Abw RS Kp 77-2/2"]
[null,"San Sup Kp 9/3",0,{"$f":"IF(C1312=1,COUNTIF($C$3:C1312,1),\"\")","v":""},{"$f":"IFERROR(INDEX(DROPDOWN_AOSuche_Alle,MATCH(ROWS($D$3:D1312),DROPDOWN_AOSuche_Helper2,0)),\"\")","v":""},"Kdo Ausb","LVb G/Rttg/ABC","Komp Zen ABC/KAMIR","ABC Abw S 77","ABC Abw UOS 77-1"]
[null,"San Sup Kp 9/4",0,{"$f":"IF(C1313=1,COUNTIF($C$3:C1313,1),\"\")","v":""},{"$f":"IFERROR(INDEX(DROPDOWN_AOSuche_Alle,MATCH(ROWS($D$3:D1313),DROPDOWN_AOSuche_Helper2,0)),\"\")","v":""},"Kdo Ausb","LVb G/Rttg/ABC","Komp Zen ABC/KAMIR","ABC Abw S 77","ABC Abw UOS 77-2"]
[null,"San UOS 42-1",0,{"$f":"IF(C1314=1,COUNTIF($C$3:C1314,1),\"\")","v":""},{"$f":"IFERROR(INDEX(DROPDOWN_AOSuche_Alle,MATCH(ROWS($D$3:D1314),DROPDOWN_AOSuche_Helper2,0)),\"\")","v":""},"Kdo Ausb","LVb G/Rttg/ABC","Komp Zen ABC/KAMIR","TLG A ABC Of"]
[null,"San UOS 42-2",0,{"$f":"IF(C1315=1,COUNTIF($C$3:C1315,1),\"\")","v":""},{"$f":"IFERROR(INDEX(DROPDOWN_AOSuche_Alle,MATCH(ROWS($D$3:D1315),DROPDOWN_AOSuche_Helper2,0)),\"\")","v":""},"Kdo Ausb","LVb G/Rttg/ABC","Komp Zen ABC/KAMIR","TLG B ABC Of"]
[null,"Sap Kp 2/1",0,{"$f":"IF(C1316=1,COUNTIF($C$3:C1316,1),\"\")","v":""},{"$f":"IFERROR(INDEX(DROPDOWN_AOSuche_Alle,MATCH(ROWS($D$3:D1316),DROPDOWN_AOSuche_Helper2,0)),\"\")","v":""},"Kdo Ausb","LVb G/Rttg/ABC","Komp Zen ABC/KAMIR","ABC Abw RS 58-2"]
[null,"Sap Kp 2/2",0,{"$f":"IF(C1317=1,COUNTIF($C$3:C1317,1),\"\")","v":""},{"$f":"IFERROR(INDEX(DROPDOWN_AOSuche_Alle,MATCH(ROWS($D$3:D1317),DROPDOWN_AOSuche_Helper2,0)),\"\")","v":""},"Kdo Ausb","LVb G/Rttg/ABC","Komp Zen ABC/KAMIR","ABC Abw RS 58-3"]
[null,"Sap Kp 23/1",0,{"$f":"IF(C1318=1,COUNTIF($C$3:C1318,1),\"\")","v":""},{"$f":"IFERROR(INDEX(DROPDOWN_AOSuche_Alle,MATCH(ROWS($D$3:D1318),DROPDOWN_AOSuche_Helper2,0)),\"\")","v":""},"Kdo Ausb","LVb G/Rttg/ABC","Komp Zen ABC/KAMIR","FK Swiss Basic"]
[null,"Sap Kp 23/2",0,{"$f":"IF(C1319=1,COUNTIF($C$3:C1319,1),\"\")","v":""},{"$f":"IFERROR(INDEX(DROPDOWN_AOSuche_Alle,MATCH(ROWS($D$3:D1319),DROPDOWN_AOSuche_Helper2,0)),\"\")","v":""},"Kdo Ausb","LVb G/Rttg/ABC","Komp Zen ABC/KAMIR","FK Swiss Lab"]
[null,"Sap Kp 23/3",0,{"$f":"IF(C1320=1,COUNTIF($C$3:C1320,1),\"\")","v":""},{"$f":"IFERROR(INDEX(DROPDOWN_AOSuche_Alle,MATCH(ROWS($D$3:D1320),DROPDOWN_AOSuche_Helper2,0)),\"\")","v":""},"Kdo Ausb","LVb G/Rttg/ABC","Komp Zen ABC/KAMIR","FK Swiss Exercise"]
[null,"Sap Kp 26/1",0,{"$f":"IF(C1321=1,COUNTIF($C$3:C1321,1),\"\")","v":""},{"$f":"IFERROR(INDEX(DROPDOWN_AOSuche_Alle,MATCH(ROWS($D$3:D1321),DROPDOWN_AOSuche_Helper2,0)),\"\")","v":""},"Kdo Ausb","LVb G/Rttg/ABC","Komp Zen ABC/KAMIR","FK Swiss advanced"]
[null,"Sap Kp 6/1",0,{"$f":"IF(C1322=1,COUNTIF($C$3:C1322,1),\"\")","v":""},{"$f":"IFERROR(INDEX(DROPDOWN_AOSuche_Alle,MATCH(ROWS($D$3:D1322),DROPDOWN_AOSuche_Helper2,0)),\"\")","v":""},"Kdo Ausb","LVb G/Rttg/ABC","Komp Zen ABC/KAMIR","FK 1 ABC Spürer"]
[null,"Sap Kp 6/2",0,{"$f":"IF(C1323=1,COUNTIF($C$3:C1323,1),\"\")","v":""},{"$f":"IFERROR(INDEX(DROPDOWN_AOSuche_Alle,MATCH(ROWS($D$3:D1323),DROPDOWN_AOSuche_Helper2,0)),\"\")","v":""},"Kdo Ausb","LVb G/Rttg/ABC","Komp Zen ABC/KAMIR","FK 2 ABC Spürer"]
[null,"Sap Kp 9/1",0,{"$f":"IF(C1324=1,COUNTIF($C$3:C1324,1),\"\")","v":""},{"$f":"IFERROR(INDEX(DROPDOWN_AOSuche_Alle,MATCH(ROWS($D$3:D1324),DROPDOWN_AOSuche_Helper2,0)),\"\")","v":""},"Kdo Ausb","LVb G/Rttg/ABC","Komp Zen ABC/KAMIR","FK 3 ABC Spürer"]
[null,"Sap Kp 9/2",0,{"$f":"IF(C1325=1,COUNTIF($C$3:C1325,1),\"\")","v":""},{"$f":"IFERROR(INDEX(DROPDOWN_AOSuche_Alle,MATCH(ROWS($D$3:D1325),DROPDOWN_AOSuche_Helper2,0)),\"\")","v":""},"Kdo Ausb","LVb G/Rttg/ABC","Komp Zen ABC/KAMIR","FK 4 ABC Spürer"]
[null,"Sap Kp 9/3",0,{"$f":"IF(C1326=1,COUNTIF($C$3:C1326,1),\"\")","v":""},{"$f":"IFERROR(INDEX(DROPDOWN_AOSuche_Alle,MATCH(ROWS($D$3:D1326),DROPDOWN_AOSuche_Helper2,0)),\"\")","v":""},"Kdo Ausb","LVb G/Rttg/ABC","Komp Zen ABC/KAMIR","FK 5 ABC Spürer"]
[null,"Schweizer A Spiel",0,{"$f":"IF(C1327=1,COUNTIF($C$3:C1327,1),\"\")","v":""},{"$f":"IFERROR(INDEX(DROPDOWN_AOSuche_Alle,MATCH(ROWS($D$3:D1327),DROPDOWN_AOSuche_Helper2,0)),\"\")","v":""},"Kdo Ausb","LVb G/Rttg/ABC","Komp Zen ABC/KAMIR","FK 6 ABC Spürer"]
[null,"Spez Kräfte Ber Det 104",0,{"$f":"IF(C1328=1,COUNTIF($C$3:C1328,1),\"\")","v":""},{"$f":"IFERROR(INDEX(DROPDOWN_AOSuche_Alle,MATCH(ROWS($D$3:D1328),DROPDOWN_AOSuche_Helper2,0)),\"\")","v":""},"Kdo Ausb","LVb G/Rttg/ABC","Komp Zen ABC/KAMIR","FK 7 ABC Spürer"]
[null,"Spez Kräfte Ber Det 204",0,{"$f":"IF(C1329=1,COUNTIF($C$3:C1329,1),\"\")","v":""},{"$f":"IFERROR(INDEX(DROPDOWN_AOSuche_Alle,MATCH(ROWS($D$3:D1329),DROPDOWN_AOSuche_Helper2,0)),\"\")","v":""},"Kdo Ausb","LVb G/Rttg/ABC","Komp Zen ABC/KAMIR","FK 8 ABC Spürer"]
[null,"Spez Kräfte S 1",0,{"$f":"IF(C1330=1,COUNTIF($C$3:C1330,1),\"\")","v":""},{"$f":"IFERROR(INDEX(DROPDOWN_AOSuche_Alle,MATCH(ROWS($D$3:D1330),DROPDOWN_AOSuche_Helper2,0)),\"\")","v":""},"Kdo Ausb","LVb G/Rttg/ABC","Komp Zen ABC/KAMIR","FK 9 ABC Spürer"]
[null,"Spit Bat 2",0,{"$f":"IF(C1331=1,COUNTIF($C$3:C1331,1),\"\")","v":""},{"$f":"IFERROR(INDEX(DROPDOWN_AOSuche_Alle,MATCH(ROWS($D$3:D1331),DROPDOWN_AOSuche_Helper2,0)),\"\")","v":""},"Kdo Ausb","LVb G/Rttg/ABC","Komp Zen ABC/KAMIR","FK 1 ABC Uof Anw"]
[null,"Spit Bat 5",0,{"$f":"IF(C1332=1,COUNTIF($C$3:C1332,1),\"\")","v":""},{"$f":"IFERROR(INDEX(DROPDOWN_AOSuche_Alle,MATCH(ROWS($D$3:D1332),DROPDOWN_AOSuche_Helper2,0)),\"\")","v":""},"Kdo Ausb","LVb G/Rttg/ABC","Komp Zen ABC/KAMIR","FK 2 ABC Uof Anw"]
[null,"Spit Bat 66",0,{"$f":"IF(C1333=1,COUNTIF($C$3:C1333,1),\"\")","v":""},{"$f":"IFERROR(INDEX(DROPDOWN_AOSuche_Alle,MATCH(ROWS($D$3:D1333),DROPDOWN_AOSuche_Helper2,0)),\"\")","v":""},"Kdo Ausb","LVb G/Rttg/ABC","Komp Zen Sport A"]
[null,"Spit Bat 75",0,{"$f":"IF(C1334=1,COUNTIF($C$3:C1334,1),\"\")","v":""},{"$f":"IFERROR(INDEX(DROPDOWN_AOSuche_Alle,MATCH(ROWS($D$3:D1334),DROPDOWN_AOSuche_Helper2,0)),\"\")","v":""},"Kdo Ausb","LVb G/Rttg/ABC","Komp Zen Sport A","Stab Komp Zen Sport A"]
[null,"Spit Kp 2/1",0,{"$f":"IF(C1335=1,COUNTIF($C$3:C1335,1),\"\")","v":""},{"$f":"IFERROR(INDEX(DROPDOWN_AOSuche_Alle,MATCH(ROWS($D$3:D1335),DROPDOWN_AOSuche_Helper2,0)),\"\")","v":""},"Kdo Ausb","LVb G/Rttg/ABC","Komp Zen Sport A","Fachstab Sport"]
[null,"Spit Kp 2/2",0,{"$f":"IF(C1336=1,COUNTIF($C$3:C1336,1),\"\")","v":""},{"$f":"IFERROR(INDEX(DROPDOWN_AOSuche_Alle,MATCH(ROWS($D$3:D1336),DROPDOWN_AOSuche_Helper2,0)),\"\")","v":""},"Kdo Ausb","LVb G/Rttg/ABC","Komp Zen Sport A","Spitzensport-RS 3"]
[null,"Spit Kp 5/1",0,{"$f":"IF(C1337=1,COUNTIF($C$3:C1337,1),\"\")","v":""},{"$f":"IFERROR(INDEX(DROPDOWN_AOSuche_Alle,MATCH(ROWS($D$3:D1337),DROPDOWN_AOSuche_Helper2,0)),\"\")","v":""},"Kdo Ausb","LVb G/Rttg/ABC","G S 73"]
[null,"Spit Kp 5/2",0,{"$f":"IF(C1338=1,COUNTIF($C$3:C1338,1),\"\")","v":""},{"$f":"IFERROR(INDEX(DROPDOWN_AOSuche_Alle,MATCH(ROWS($D$3:D1338),DROPDOWN_AOSuche_Helper2,0)),\"\")","v":""},"Kdo Ausb","LVb G/Rttg/ABC","G S 73","G RS 73-1"]
[null,"Spit Kp 66/1",0,{"$f":"IF(C1339=1,COUNTIF($C$3:C1339,1),\"\")","v":""},{"$f":"IFERROR(INDEX(DROPDOWN_AOSuche_Alle,MATCH(ROWS($D$3:D1339),DROPDOWN_AOSuche_Helper2,0)),\"\")","v":""},"Kdo Ausb","LVb G/Rttg/ABC","G S 73","G RS 73-2"]
[null,"Spit Kp 66/2",0,{"$f":"IF(C1340=1,COUNTIF($C$3:C1340,1),\"\")","v":""},{"$f":"IFERROR(INDEX(DROPDOWN_AOSuche_Alle,MATCH(ROWS($D$3:D1340),DROPDOWN_AOSuche_Helper2,0)),\"\")","v":""},"Kdo Ausb","LVb G/Rttg/ABC","G S 73","G RS 73-3"]
[null,"Spit Kp 75/1",0,{"$f":"IF(C1341=1,COUNTIF($C$3:C1341,1),\"\")","v":""},{"$f":"IFERROR(INDEX(DROPDOWN_AOSuche_Alle,MATCH(ROWS($D$3:D1341),DROPDOWN_AOSuche_Helper2,0)),\"\")","v":""},"Kdo Ausb","LVb G/Rttg/ABC","G S 73","G RS 73-1"]
[null,"Spit Kp 75/2",0,{"$f":"IF(C1342=1,COUNTIF($C$3:C1342,1),\"\")","v":""},{"$f":"IFERROR(INDEX(DROPDOWN_AOSuche_Alle,MATCH(ROWS($D$3:D1342),DROPDOWN_AOSuche_Helper2,0)),\"\")","v":""},"Kdo Ausb","LVb G/Rttg/ABC","G S 73","G RS 73-1","G RS Kp 73-1/1"]
[null,"Spit RS 41-1",0,{"$f":"IF(C1343=1,COUNTIF($C$3:C1343,1),\"\")","v":""},{"$f":"IFERROR(INDEX(DROPDOWN_AOSuche_Alle,MATCH(ROWS($D$3:D1343),DROPDOWN_AOSuche_Helper2,0)),\"\")","v":""},"Kdo Ausb","LVb G/Rttg/ABC","G S 73","G RS 73-1","G RS Kp 73-1/2"]
[null,"Spit RS 41-2",0,{"$f":"IF(C1344=1,COUNTIF($C$3:C1344,1),\"\")","v":""},{"$f":"IFERROR(INDEX(DROPDOWN_AOSuche_Alle,MATCH(ROWS($D$3:D1344),DROPDOWN_AOSuche_Helper2,0)),\"\")","v":""},"Kdo Ausb","LVb G/Rttg/ABC","G S 73","G RS 73-1","G RS Kp 73-1/3"]
[null,"Spit RS 41-3",0,{"$f":"IF(C1345=1,COUNTIF($C$3:C1345,1),\"\")","v":""},{"$f":"IFERROR(INDEX(DROPDOWN_AOSuche_Alle,MATCH(ROWS($D$3:D1345),DROPDOWN_AOSuche_Helper2,0)),\"\")","v":""},"Kdo Ausb","LVb G/Rttg/ABC","G S 73","G RS 73-1","G RS 73-1 Gru Ausr Fz"]
[null,"Spit RS Kp 41-1/1",0,{"$f":"IF(C1346=1,COUNTIF($C$3:C1346,1),\"\")","v":""},{"$f":"IFERROR(INDEX(DROPDOWN_AOSuche_Alle,MATCH(ROWS($D$3:D1346),DROPDOWN_AOSuche_Helper2,0)),\"\")","v":""},"Kdo Ausb","LVb G/Rttg/ABC","G S 73","G RS 73-2"]
[null,"Spit RS Kp 41-1/2",{"$f":"--ISNUMBER(IFERROR(SEARCH(AO_Search_Value,B1347,1),\"\"))","v":0},{"$f":"IF(C1347=1,COUNTIF($C$3:C1347,1),\"\")","v":""},{"$f":"IFERROR(INDEX(DROPDOWN_AOSuche_Alle,MATCH(ROWS($D$3:D1347),DROPDOWN_AOSuche_Helper2,0)),\"\")","v":""},"Kdo Ausb","LVb G/Rttg/ABC","G S 73","G RS 73-2","G RS Kp 73-2/1"]
[null,"Spit RS Kp 41-2/1",0,{"$f":"IF(C1348=1,COUNTIF($C$3:C1348,1),\"\")","v":""},{"$f":"IFERROR(INDEX(DROPDOWN_AOSuche_Alle,MATCH(ROWS($D$3:D1348),DROPDOWN_AOSuche_Helper2,0)),\"\")","v":""},"Kdo Ausb","LVb G/Rttg/ABC","G S 73","G RS 73-2","G RS Kp 73-2/2"]
[null,"Spit RS Kp 41-2/2",0,{"$f":"IF(C1349=1,COUNTIF($C$3:C1349,1),\"\")","v":""},{"$f":"IFERROR(INDEX(DROPDOWN_AOSuche_Alle,MATCH(ROWS($D$3:D1349),DROPDOWN_AOSuche_Helper2,0)),\"\")","v":""},"Kdo Ausb","LVb G/Rttg/ABC","G S 73","G RS 73-2","G RS Kp 73-2/3"]
[null,"Spit S 41",0,{"$f":"IF(C1350=1,COUNTIF($C$3:C1350,1),\"\")","v":""},{"$f":"IFERROR(INDEX(DROPDOWN_AOSuche_Alle,MATCH(ROWS($D$3:D1350),DROPDOWN_AOSuche_Helper2,0)),\"\")","v":""},"Kdo Ausb","LVb G/Rttg/ABC","G S 73","G RS 73-2","G RS Kp 73-2/4"]
[null,"Spit Stabskp 2",0,{"$f":"IF(C1351=1,COUNTIF($C$3:C1351,1),\"\")","v":""},{"$f":"IFERROR(INDEX(DROPDOWN_AOSuche_Alle,MATCH(ROWS($D$3:D1351),DROPDOWN_AOSuche_Helper2,0)),\"\")","v":""},"Kdo Ausb","LVb G/Rttg/ABC","G S 73","G RS 73-2","G RS 73-2 Gru Ausr Fz"]
[null,"Spit Stabskp 5",0,{"$f":"IF(C1352=1,COUNTIF($C$3:C1352,1),\"\")","v":""},{"$f":"IFERROR(INDEX(DROPDOWN_AOSuche_Alle,MATCH(ROWS($D$3:D1352),DROPDOWN_AOSuche_Helper2,0)),\"\")","v":""},"Kdo Ausb","LVb G/Rttg/ABC","G S 73","G UOS 73-1"]
[null,"Spit Stabskp 66",0,{"$f":"IF(C1353=1,COUNTIF($C$3:C1353,1),\"\")","v":""},{"$f":"IFERROR(INDEX(DROPDOWN_AOSuche_Alle,MATCH(ROWS($D$3:D1353),DROPDOWN_AOSuche_Helper2,0)),\"\")","v":""},"Kdo Ausb","LVb G/Rttg/ABC","G S 73","G UOS 73-2"]
[null,"Spit Stabskp 75",0,{"$f":"IF(C1354=1,COUNTIF($C$3:C1354,1),\"\")","v":""},{"$f":"IFERROR(INDEX(DROPDOWN_AOSuche_Alle,MATCH(ROWS($D$3:D1354),DROPDOWN_AOSuche_Helper2,0)),\"\")","v":""},"Kdo Ausb","LVb G/Rttg/ABC","Rttg S 75"]
[null,"Spit UOS 41-1",0,{"$f":"IF(C1355=1,COUNTIF($C$3:C1355,1),\"\")","v":""},{"$f":"IFERROR(INDEX(DROPDOWN_AOSuche_Alle,MATCH(ROWS($D$3:D1355),DROPDOWN_AOSuche_Helper2,0)),\"\")","v":""},"Kdo Ausb","LVb G/Rttg/ABC","Rttg S 75","Rttg RS 75-1"]
[null,"Spit UOS 41-2",0,{"$f":"IF(C1356=1,COUNTIF($C$3:C1356,1),\"\")","v":""},{"$f":"IFERROR(INDEX(DROPDOWN_AOSuche_Alle,MATCH(ROWS($D$3:D1356),DROPDOWN_AOSuche_Helper2,0)),\"\")","v":""},"Kdo Ausb","LVb G/Rttg/ABC","Rttg S 75","Rttg RS 75-2"]
[null,"Spitzensport RS 79-1",0,{"$f":"IF(C1357=1,COUNTIF($C$3:C1357,1),\"\")","v":""},{"$f":"IFERROR(INDEX(DROPDOWN_AOSuche_Alle,MATCH(ROWS($D$3:D1357),DROPDOWN_AOSuche_Helper2,0)),\"\")","v":""},"Kdo Ausb","LVb G/Rttg/ABC","Rttg S 75","Rttg RS 75-3"]
[null,"Spitzensport RS 79-2",0,{"$f":"IF(C1358=1,COUNTIF($C$3:C1358,1),\"\")","v":""},{"$f":"IFERROR(INDEX(DROPDOWN_AOSuche_Alle,MATCH(ROWS($D$3:D1358),DROPDOWN_AOSuche_Helper2,0)),\"\")","v":""},"Kdo Ausb","LVb G/Rttg/ABC","Rttg S 75","Rttg RS 75-1"]
[null,"Spitzensport-RS 3",0,{"$f":"IF(C1359=1,COUNTIF($C$3:C1359,1),\"\")","v":""},{"$f":"IFERROR(INDEX(DROPDOWN_AOSuche_Alle,MATCH(ROWS($D$3:D1359),DROPDOWN_AOSuche_Helper2,0)),\"\")","v":""},"Kdo Ausb","LVb G/Rttg/ABC","Rttg S 75","Rttg RS 75-1","Rttg RS Kp 75-1/1 (Stabskp)"]
[null,"Ssp Kp 41/2",0,{"$f":"IF(C1360=1,COUNTIF($C$3:C1360,1),\"\")","v":""},{"$f":"IFERROR(INDEX(DROPDOWN_AOSuche_Alle,MATCH(ROWS($D$3:D1360),DROPDOWN_AOSuche_Helper2,0)),\"\")","v":""},"Kdo Ausb","LVb G/Rttg/ABC","Rttg S 75","Rttg RS 75-1","Rttg RS Kp 75-1/2"]
[null,"Stab A Stab",0,{"$f":"IF(C1361=1,COUNTIF($C$3:C1361,1),\"\")","v":""},{"$f":"IFERROR(INDEX(DROPDOWN_AOSuche_Alle,MATCH(ROWS($D$3:D1361),DROPDOWN_AOSuche_Helper2,0)),\"\")","v":""},"Kdo Ausb","LVb G/Rttg/ABC","Rttg S 75","Rttg RS 75-1","Rttg RS Kp 75-1/3"]
[null,"Stab ABC Abw Bat 10",0,{"$f":"IF(C1362=1,COUNTIF($C$3:C1362,1),\"\")","v":""},{"$f":"IFERROR(INDEX(DROPDOWN_AOSuche_Alle,MATCH(ROWS($D$3:D1362),DROPDOWN_AOSuche_Helper2,0)),\"\")","v":""},"Kdo Ausb","LVb G/Rttg/ABC","Rttg S 75","Rttg RS 75-2"]
[null,"Stab ABC Abw Lab 1",0,{"$f":"IF(C1363=1,COUNTIF($C$3:C1363,1),\"\")","v":""},{"$f":"IFERROR(INDEX(DROPDOWN_AOSuche_Alle,MATCH(ROWS($D$3:D1363),DROPDOWN_AOSuche_Helper2,0)),\"\")","v":""},"Kdo Ausb","LVb G/Rttg/ABC","Rttg S 75","Rttg RS 75-2","Rttg RS Kp 75-2/1 (Stabskp)"]
[null,"Stab Art Abt 1",0,{"$f":"IF(C1364=1,COUNTIF($C$3:C1364,1),\"\")","v":""},{"$f":"IFERROR(INDEX(DROPDOWN_AOSuche_Alle,MATCH(ROWS($D$3:D1364),DROPDOWN_AOSuche_Helper2,0)),\"\")","v":""},"Kdo Ausb","LVb G/Rttg/ABC","Rttg S 75","Rttg RS 75-2","Rttg RS Kp 75-2/2"]
[null,"Stab Art Abt 10",0,{"$f":"IF(C1365=1,COUNTIF($C$3:C1365,1),\"\")","v":""},{"$f":"IFERROR(INDEX(DROPDOWN_AOSuche_Alle,MATCH(ROWS($D$3:D1365),DROPDOWN_AOSuche_Helper2,0)),\"\")","v":""},"Kdo Ausb","LVb G/Rttg/ABC","Rttg S 75","Rttg RS 75-2","Rttg RS Kp 75-2/3"]
[null,"Stab Art Abt 16",0,{"$f":"IF(C1366=1,COUNTIF($C$3:C1366,1),\"\")","v":""},{"$f":"IFERROR(INDEX(DROPDOWN_AOSuche_Alle,MATCH(ROWS($D$3:D1366),DROPDOWN_AOSuche_Helper2,0)),\"\")","v":""},"Kdo Ausb","LVb G/Rttg/ABC","Rttg S 75","Rttg RS 75-2","Rttg RS Kp 75-2/4"]
[null,"Stab Art Abt 49",0,{"$f":"IF(C1367=1,COUNTIF($C$3:C1367,1),\"\")","v":""},{"$f":"IFERROR(INDEX(DROPDOWN_AOSuche_Alle,MATCH(ROWS($D$3:D1367),DROPDOWN_AOSuche_Helper2,0)),\"\")","v":""},"Kdo Ausb","LVb G/Rttg/ABC","Rttg S 75","Rttg UOS 75-1"]
[null,"Stab Aufkl Bat 1",0,{"$f":"IF(C1368=1,COUNTIF($C$3:C1368,1),\"\")","v":""},{"$f":"IFERROR(INDEX(DROPDOWN_AOSuche_Alle,MATCH(ROWS($D$3:D1368),DROPDOWN_AOSuche_Helper2,0)),\"\")","v":""},"Kdo Ausb","LVb G/Rttg/ABC","Rttg S 75","Rttg UOS 75-2"]
[null,"Stab Aufkl Bat 11",0,{"$f":"IF(C1369=1,COUNTIF($C$3:C1369,1),\"\")","v":""},{"$f":"IFERROR(INDEX(DROPDOWN_AOSuche_Alle,MATCH(ROWS($D$3:D1369),DROPDOWN_AOSuche_Helper2,0)),\"\")","v":""},"Kdo Ausb","LVb G/Rttg/ABC","Kdo G/Rttg L+K 74"]
[null,"Stab Aufkl Bat 4",0,{"$f":"IF(C1370=1,COUNTIF($C$3:C1370,1),\"\")","v":""},{"$f":"IFERROR(INDEX(DROPDOWN_AOSuche_Alle,MATCH(ROWS($D$3:D1370),DROPDOWN_AOSuche_Helper2,0)),\"\")","v":""},"Kdo Ausb","LVb G/Rttg/ABC","Kdo G/Rttg L+K 74","G/Rttg/ABC OS 74-1"]
[null,"Stab Aufkl Bat 5",0,{"$f":"IF(C1371=1,COUNTIF($C$3:C1371,1),\"\")","v":""},{"$f":"IFERROR(INDEX(DROPDOWN_AOSuche_Alle,MATCH(ROWS($D$3:D1371),DROPDOWN_AOSuche_Helper2,0)),\"\")","v":""},"Kdo Ausb","LVb G/Rttg/ABC","Kdo G/Rttg L+K 74","G/Rttg/ABC OS 74-2"]
[null,"Stab Dro Kdo 84",0,{"$f":"IF(C1372=1,COUNTIF($C$3:C1372,1),\"\")","v":""},{"$f":"IFERROR(INDEX(DROPDOWN_AOSuche_Alle,MATCH(ROWS($D$3:D1372),DROPDOWN_AOSuche_Helper2,0)),\"\")","v":""},"Kdo Ausb","LVb G/Rttg/ABC","Spitzensport RS 79-1"]
[null,"Stab Ei Kdo MP",0,{"$f":"IF(C1373=1,COUNTIF($C$3:C1373,1),\"\")","v":""},{"$f":"IFERROR(INDEX(DROPDOWN_AOSuche_Alle,MATCH(ROWS($D$3:D1373),DROPDOWN_AOSuche_Helper2,0)),\"\")","v":""},"Kdo Ausb","LVb G/Rttg/ABC","Spitzensport RS 79-2"]
[null,"Stab Ei Kdo MP FS",0,{"$f":"IF(C1374=1,COUNTIF($C$3:C1374,1),\"\")","v":""},{"$f":"IFERROR(INDEX(DROPDOWN_AOSuche_Alle,MATCH(ROWS($D$3:D1374),DROPDOWN_AOSuche_Helper2,0)),\"\")","v":""},"Kdo Ausb","LVb G/Rttg/ABC","AZ Rttg Epeisses 76"]
[null,"Stab Ei Kdo MP Sich D",0,{"$f":"IF(C1375=1,COUNTIF($C$3:C1375,1),\"\")","v":""},{"$f":"IFERROR(INDEX(DROPDOWN_AOSuche_Alle,MATCH(ROWS($D$3:D1375),DROPDOWN_AOSuche_Helper2,0)),\"\")","v":""},"Kdo Ausb","LVb FU"]
[null,"Stab EKF Abt 51",0,{"$f":"IF(C1376=1,COUNTIF($C$3:C1376,1),\"\")","v":""},{"$f":"IFERROR(INDEX(DROPDOWN_AOSuche_Alle,MATCH(ROWS($D$3:D1376),DROPDOWN_AOSuche_Helper2,0)),\"\")","v":""},"Kdo Ausb","LVb FU","Stab LVb FU"]
[null,"Stab EKF Abt 52",0,{"$f":"IF(C1377=1,COUNTIF($C$3:C1377,1),\"\")","v":""},{"$f":"IFERROR(INDEX(DROPDOWN_AOSuche_Alle,MATCH(ROWS($D$3:D1377),DROPDOWN_AOSuche_Helper2,0)),\"\")","v":""},"Kdo Ausb","LVb FU","Betr Det LVb FU"]
[null,"Stab Elo Abt 46",0,{"$f":"IF(C1378=1,COUNTIF($C$3:C1378,1),\"\")","v":""},{"$f":"IFERROR(INDEX(DROPDOWN_AOSuche_Alle,MATCH(ROWS($D$3:D1378),DROPDOWN_AOSuche_Helper2,0)),\"\")","v":""},"Kdo Ausb","LVb FU","FU OS 30"]
[null,"Stab Fl Geschw 11",0,{"$f":"IF(C1379=1,COUNTIF($C$3:C1379,1),\"\")","v":""},{"$f":"IFERROR(INDEX(DROPDOWN_AOSuche_Alle,MATCH(ROWS($D$3:D1379),DROPDOWN_AOSuche_Helper2,0)),\"\")","v":""},"Kdo Ausb","LVb FU","FU OS 30","FU OS 30-1"]
[null,"Stab Fl Geschw 13",0,{"$f":"IF(C1380=1,COUNTIF($C$3:C1380,1),\"\")","v":""},{"$f":"IFERROR(INDEX(DROPDOWN_AOSuche_Alle,MATCH(ROWS($D$3:D1380),DROPDOWN_AOSuche_Helper2,0)),\"\")","v":""},"Kdo Ausb","LVb FU","FU OS 30","FU OS 30-2"]
[null,"Stab Fl Geschw 14",0,{"$f":"IF(C1381=1,COUNTIF($C$3:C1381,1),\"\")","v":""},{"$f":"IFERROR(INDEX(DROPDOWN_AOSuche_Alle,MATCH(ROWS($D$3:D1381),DROPDOWN_AOSuche_Helper2,0)),\"\")","v":""},"Kdo Ausb","LVb FU","Ik S 61"]
[null,"Stab Flpl Abt 11",0,{"$f":"IF(C1382=1,COUNTIF($C$3:C1382,1),\"\")","v":""},{"$f":"IFERROR(INDEX(DROPDOWN_AOSuche_Alle,MATCH(ROWS($D$3:D1382),DROPDOWN_AOSuche_Helper2,0)),\"\")","v":""},"Kdo Ausb","LVb FU","Ik S 61","Ik RS 61-1"]
[null,"Stab Flpl Abt 13",0,{"$f":"IF(C1383=1,COUNTIF($C$3:C1383,1),\"\")","v":""},{"$f":"IFERROR(INDEX(DROPDOWN_AOSuche_Alle,MATCH(ROWS($D$3:D1383),DROPDOWN_AOSuche_Helper2,0)),\"\")","v":""},"Kdo Ausb","LVb FU","Ik S 61","Ik RS 61-1","Ik RS Kp 61-1/1"]
[null,"Stab Flpl Abt 14",0,{"$f":"IF(C1384=1,COUNTIF($C$3:C1384,1),\"\")","v":""},{"$f":"IFERROR(INDEX(DROPDOWN_AOSuche_Alle,MATCH(ROWS($D$3:D1384),DROPDOWN_AOSuche_Helper2,0)),\"\")","v":""},"Kdo Ausb","LVb FU","Ik S 61","Ik RS 61-1","Ik RS Kp 61-1/2"]
[null,"Stab Flpl Kdo 11",0,{"$f":"IF(C1385=1,COUNTIF($C$3:C1385,1),\"\")","v":""},{"$f":"IFERROR(INDEX(DROPDOWN_AOSuche_Alle,MATCH(ROWS($D$3:D1385),DROPDOWN_AOSuche_Helper2,0)),\"\")","v":""},"Kdo Ausb","LVb FU","Ik S 61","Ik RS 61-1","Ik RS Kp 61-1/3"]
[null,"Stab Flpl Kdo 13",0,{"$f":"IF(C1386=1,COUNTIF($C$3:C1386,1),\"\")","v":""},{"$f":"IFERROR(INDEX(DROPDOWN_AOSuche_Alle,MATCH(ROWS($D$3:D1386),DROPDOWN_AOSuche_Helper2,0)),\"\")","v":""},"Kdo Ausb","LVb FU","Ik S 61","Ik RS 61-1","Ik RS Kp 61-1/4"]
[null,"Stab Flpl Kdo 2",0,{"$f":"IF(C1387=1,COUNTIF($C$3:C1387,1),\"\")","v":""},{"$f":"IFERROR(INDEX(DROPDOWN_AOSuche_Alle,MATCH(ROWS($D$3:D1387),DROPDOWN_AOSuche_Helper2,0)),\"\")","v":""},"Kdo Ausb","LVb FU","Ik S 61","Ik RS 61-1","Ik RS VT Ausb 61-1"]
[null,"Stab Flpl Kdo 4",0,{"$f":"IF(C1388=1,COUNTIF($C$3:C1388,1),\"\")","v":""},{"$f":"IFERROR(INDEX(DROPDOWN_AOSuche_Alle,MATCH(ROWS($D$3:D1388),DROPDOWN_AOSuche_Helper2,0)),\"\")","v":""},"Kdo Ausb","LVb FU","Ik S 61","Ik RS 61-2"]
[null,"Stab Flpl Kdo 7",0,{"$f":"IF(C1389=1,COUNTIF($C$3:C1389,1),\"\")","v":""},{"$f":"IFERROR(INDEX(DROPDOWN_AOSuche_Alle,MATCH(ROWS($D$3:D1389),DROPDOWN_AOSuche_Helper2,0)),\"\")","v":""},"Kdo Ausb","LVb FU","Ik S 61","Ik RS 61-2","Ik RS Kp 61-2/1"]
[null,"Stab FU Bat 41",0,{"$f":"IF(C1390=1,COUNTIF($C$3:C1390,1),\"\")","v":""},{"$f":"IFERROR(INDEX(DROPDOWN_AOSuche_Alle,MATCH(ROWS($D$3:D1390),DROPDOWN_AOSuche_Helper2,0)),\"\")","v":""},"Kdo Ausb","LVb FU","Ik S 61","Ik RS 61-2","Ik RS Kp 61-2/2"]
[null,"Stab FU Br 41",0,{"$f":"IF(C1391=1,COUNTIF($C$3:C1391,1),\"\")","v":""},{"$f":"IFERROR(INDEX(DROPDOWN_AOSuche_Alle,MATCH(ROWS($D$3:D1391),DROPDOWN_AOSuche_Helper2,0)),\"\")","v":""},"Kdo Ausb","LVb FU","Ik S 61","Ik RS 61-2","Ik RS Kp 61-2/3"]
[null,"Stab FUB",0,{"$f":"IF(C1392=1,COUNTIF($C$3:C1392,1),\"\")","v":""},{"$f":"IFERROR(INDEX(DROPDOWN_AOSuche_Alle,MATCH(ROWS($D$3:D1392),DROPDOWN_AOSuche_Helper2,0)),\"\")","v":""},"Kdo Ausb","LVb FU","Ik S 61","Ik RS 61-2","Ik RS Kp 61-2/4"]
[null,"Stab G Bat 2",0,{"$f":"IF(C1393=1,COUNTIF($C$3:C1393,1),\"\")","v":""},{"$f":"IFERROR(INDEX(DROPDOWN_AOSuche_Alle,MATCH(ROWS($D$3:D1393),DROPDOWN_AOSuche_Helper2,0)),\"\")","v":""},"Kdo Ausb","LVb FU","Ik S 61","Ik RS 61-2","Ik RS VT Ausb 61-2"]
[null,"Stab G Bat 23",0,{"$f":"IF(C1394=1,COUNTIF($C$3:C1394,1),\"\")","v":""},{"$f":"IFERROR(INDEX(DROPDOWN_AOSuche_Alle,MATCH(ROWS($D$3:D1394),DROPDOWN_AOSuche_Helper2,0)),\"\")","v":""},"Kdo Ausb","LVb FU","Ik S 61","Ik UOS 61-1"]
[null,"Stab G Bat 6",0,{"$f":"IF(C1395=1,COUNTIF($C$3:C1395,1),\"\")","v":""},{"$f":"IFERROR(INDEX(DROPDOWN_AOSuche_Alle,MATCH(ROWS($D$3:D1395),DROPDOWN_AOSuche_Helper2,0)),\"\")","v":""},"Kdo Ausb","LVb FU","Ik S 61","Ik UOS 61-1","Ik UOS Kl 61-1/1"]
[null,"Stab G Bat 9",0,{"$f":"IF(C1396=1,COUNTIF($C$3:C1396,1),\"\")","v":""},{"$f":"IFERROR(INDEX(DROPDOWN_AOSuche_Alle,MATCH(ROWS($D$3:D1396),DROPDOWN_AOSuche_Helper2,0)),\"\")","v":""},"Kdo Ausb","LVb FU","Ik S 61","Ik UOS 61-1","Ik UOS Kl 61-1/2"]
[null,"Stab Geb Inf Bat 29",0,{"$f":"IF(C1397=1,COUNTIF($C$3:C1397,1),\"\")","v":""},{"$f":"IFERROR(INDEX(DROPDOWN_AOSuche_Alle,MATCH(ROWS($D$3:D1397),DROPDOWN_AOSuche_Helper2,0)),\"\")","v":""},"Kdo Ausb","LVb FU","Ik S 61","Ik UOS 61-1","Ik UOS Kl 61-1/3"]
[null,"Stab Geb Inf Bat 30",0,{"$f":"IF(C1398=1,COUNTIF($C$3:C1398,1),\"\")","v":""},{"$f":"IFERROR(INDEX(DROPDOWN_AOSuche_Alle,MATCH(ROWS($D$3:D1398),DROPDOWN_AOSuche_Helper2,0)),\"\")","v":""},"Kdo Ausb","LVb FU","Ik S 61","Ik UOS 61-1","Ik UOS Kl 61-1/4"]
[null,"Stab Geb Inf Bat 48",0,{"$f":"IF(C1399=1,COUNTIF($C$3:C1399,1),\"\")","v":""},{"$f":"IFERROR(INDEX(DROPDOWN_AOSuche_Alle,MATCH(ROWS($D$3:D1399),DROPDOWN_AOSuche_Helper2,0)),\"\")","v":""},"Kdo Ausb","LVb FU","Ik S 61","Ik UOS 61-2"]
[null,"Stab Geb Inf Bat 7",0,{"$f":"IF(C1400=1,COUNTIF($C$3:C1400,1),\"\")","v":""},{"$f":"IFERROR(INDEX(DROPDOWN_AOSuche_Alle,MATCH(ROWS($D$3:D1400),DROPDOWN_AOSuche_Helper2,0)),\"\")","v":""},"Kdo Ausb","LVb FU","Ik S 61","Ik UOS 61-2","Ik UOS Kl 61-2/1"]
[null,"Stab Geb Inf Bat 85",0,{"$f":"IF(C1401=1,COUNTIF($C$3:C1401,1),\"\")","v":""},{"$f":"IFERROR(INDEX(DROPDOWN_AOSuche_Alle,MATCH(ROWS($D$3:D1401),DROPDOWN_AOSuche_Helper2,0)),\"\")","v":""},"Kdo Ausb","LVb FU","Ik S 61","Ik UOS 61-2","Ik UOS Kl 61-2/2"]
[null,"Stab Geb Inf Bat 91",0,{"$f":"IF(C1402=1,COUNTIF($C$3:C1402,1),\"\")","v":""},{"$f":"IFERROR(INDEX(DROPDOWN_AOSuche_Alle,MATCH(ROWS($D$3:D1402),DROPDOWN_AOSuche_Helper2,0)),\"\")","v":""},"Kdo Ausb","LVb FU","Ik S 61","Ik UOS 61-2","Ik UOS Kl 61-2/3"]
[null,"Stab Geb S Bat 6",0,{"$f":"IF(C1403=1,COUNTIF($C$3:C1403,1),\"\")","v":""},{"$f":"IFERROR(INDEX(DROPDOWN_AOSuche_Alle,MATCH(ROWS($D$3:D1403),DROPDOWN_AOSuche_Helper2,0)),\"\")","v":""},"Kdo Ausb","LVb FU","Ik S 61","Ik UOS 61-2","Ik UOS Kl 61-2/4"]
[null,"Stab Geb Spez Abt 1",0,{"$f":"IF(C1404=1,COUNTIF($C$3:C1404,1),\"\")","v":""},{"$f":"IFERROR(INDEX(DROPDOWN_AOSuche_Alle,MATCH(ROWS($D$3:D1404),DROPDOWN_AOSuche_Helper2,0)),\"\")","v":""},"Kdo Ausb","LVb FU","Ik S 61","Uem/FU RS 61-1"]
[null,"Stab Gren Bat 20",0,{"$f":"IF(C1405=1,COUNTIF($C$3:C1405,1),\"\")","v":""},{"$f":"IFERROR(INDEX(DROPDOWN_AOSuche_Alle,MATCH(ROWS($D$3:D1405),DROPDOWN_AOSuche_Helper2,0)),\"\")","v":""},"Kdo Ausb","LVb FU","Ik S 61","Uem/FU RS 61-2"]
[null,"Stab Gren Bat 30",0,{"$f":"IF(C1406=1,COUNTIF($C$3:C1406,1),\"\")","v":""},{"$f":"IFERROR(INDEX(DROPDOWN_AOSuche_Alle,MATCH(ROWS($D$3:D1406),DROPDOWN_AOSuche_Helper2,0)),\"\")","v":""},"Kdo Ausb","LVb FU","Ik S 61","Uem/FU RS 61-3"]
[null,"Stab HE Stabsbat 20",0,{"$f":"IF(C1407=1,COUNTIF($C$3:C1407,1),\"\")","v":""},{"$f":"IFERROR(INDEX(DROPDOWN_AOSuche_Alle,MATCH(ROWS($D$3:D1407),DROPDOWN_AOSuche_Helper2,0)),\"\")","v":""},"Kdo Ausb","LVb FU","Ristl S 62"]
[null,"Stab HKA",0,{"$f":"IF(C1408=1,COUNTIF($C$3:C1408,1),\"\")","v":""},{"$f":"IFERROR(INDEX(DROPDOWN_AOSuche_Alle,MATCH(ROWS($D$3:D1408),DROPDOWN_AOSuche_Helper2,0)),\"\")","v":""},"Kdo Ausb","LVb FU","Ristl S 62","Ristl RS 62-1"]
[null,"Stab HQ Bat 11",0,{"$f":"IF(C1409=1,COUNTIF($C$3:C1409,1),\"\")","v":""},{"$f":"IFERROR(INDEX(DROPDOWN_AOSuche_Alle,MATCH(ROWS($D$3:D1409),DROPDOWN_AOSuche_Helper2,0)),\"\")","v":""},"Kdo Ausb","LVb FU","Ristl S 62","Ristl RS 62-1","Ristl RS Kp 62-1/1"]
[null,"Stab HQ Bat 22",0,{"$f":"IF(C1410=1,COUNTIF($C$3:C1410,1),\"\")","v":""},{"$f":"IFERROR(INDEX(DROPDOWN_AOSuche_Alle,MATCH(ROWS($D$3:D1410),DROPDOWN_AOSuche_Helper2,0)),\"\")","v":""},"Kdo Ausb","LVb FU","Ristl S 62","Ristl RS 62-1","Ristl RS Kp 62-1/2"]
[null,"Stab HQ Bat 25",{"$f":"--ISNUMBER(IFERROR(SEARCH(AO_Search_Value,B1411,1),\"\"))","v":0},{"$f":"IF(C1411=1,COUNTIF($C$3:C1411,1),\"\")","v":""},{"$f":"IFERROR(INDEX(DROPDOWN_AOSuche_Alle,MATCH(ROWS($D$3:D1411),DROPDOWN_AOSuche_Helper2,0)),\"\")","v":""},"Kdo Ausb","LVb FU","Ristl S 62","Ristl RS 62-1","Ristl RS Kp 62-1/3"]
[null,"Stab Inf Bat 11",0,{"$f":"IF(C1412=1,COUNTIF($C$3:C1412,1),\"\")","v":""},{"$f":"IFERROR(INDEX(DROPDOWN_AOSuche_Alle,MATCH(ROWS($D$3:D1412),DROPDOWN_AOSuche_Helper2,0)),\"\")","v":""},"Kdo Ausb","LVb FU","Ristl S 62","Ristl RS 62-1","Ristl RS Kp 62-1/4"]
[null,"Stab Inf Bat 13",0,{"$f":"IF(C1413=1,COUNTIF($C$3:C1413,1),\"\")","v":""},{"$f":"IFERROR(INDEX(DROPDOWN_AOSuche_Alle,MATCH(ROWS($D$3:D1413),DROPDOWN_AOSuche_Helper2,0)),\"\")","v":""},"Kdo Ausb","LVb FU","Ristl S 62","Ristl RS 62-1","Ristl DD RS Kp 62-1/5"]
[null,"Stab Inf Bat 19",0,{"$f":"IF(C1414=1,COUNTIF($C$3:C1414,1),\"\")","v":""},{"$f":"IFERROR(INDEX(DROPDOWN_AOSuche_Alle,MATCH(ROWS($D$3:D1414),DROPDOWN_AOSuche_Helper2,0)),\"\")","v":""},"Kdo Ausb","LVb FU","Ristl S 62","Ristl RS 62-1","Ristl RS VT Ausb 62-1"]
[null,"Stab Inf Bat 20",0,{"$f":"IF(C1415=1,COUNTIF($C$3:C1415,1),\"\")","v":""},{"$f":"IFERROR(INDEX(DROPDOWN_AOSuche_Alle,MATCH(ROWS($D$3:D1415),DROPDOWN_AOSuche_Helper2,0)),\"\")","v":""},"Kdo Ausb","LVb FU","Ristl S 62","Ristl RS 62-2"]
[null,"Stab Inf Bat 56",0,{"$f":"IF(C1416=1,COUNTIF($C$3:C1416,1),\"\")","v":""},{"$f":"IFERROR(INDEX(DROPDOWN_AOSuche_Alle,MATCH(ROWS($D$3:D1416),DROPDOWN_AOSuche_Helper2,0)),\"\")","v":""},"Kdo Ausb","LVb FU","Ristl S 62","Ristl RS 62-2","Ristl RS Kp 62-2/1"]
[null,"Stab Inf Bat 61",0,{"$f":"IF(C1417=1,COUNTIF($C$3:C1417,1),\"\")","v":""},{"$f":"IFERROR(INDEX(DROPDOWN_AOSuche_Alle,MATCH(ROWS($D$3:D1417),DROPDOWN_AOSuche_Helper2,0)),\"\")","v":""},"Kdo Ausb","LVb FU","Ristl S 62","Ristl RS 62-2","Ristl RS Kp 62-2/2"]
[null,"Stab Inf Bat 65",0,{"$f":"IF(C1418=1,COUNTIF($C$3:C1418,1),\"\")","v":""},{"$f":"IFERROR(INDEX(DROPDOWN_AOSuche_Alle,MATCH(ROWS($D$3:D1418),DROPDOWN_AOSuche_Helper2,0)),\"\")","v":""},"Kdo Ausb","LVb FU","Ristl S 62","Ristl RS 62-2","Ristl RS Kp 62-2/3"]
[null,"Stab Inf Bat 97",0,{"$f":"IF(C1419=1,COUNTIF($C$3:C1419,1),\"\")","v":""},{"$f":"IFERROR(INDEX(DROPDOWN_AOSuche_Alle,MATCH(ROWS($D$3:D1419),DROPDOWN_AOSuche_Helper2,0)),\"\")","v":""},"Kdo Ausb","LVb FU","Ristl S 62","Ristl RS 62-2","Ristl RS Kp 62-2/4"]
[null,"Stab Inf Ber Bat 104",0,{"$f":"IF(C1420=1,COUNTIF($C$3:C1420,1),\"\")","v":""},{"$f":"IFERROR(INDEX(DROPDOWN_AOSuche_Alle,MATCH(ROWS($D$3:D1420),DROPDOWN_AOSuche_Helper2,0)),\"\")","v":""},"Kdo Ausb","LVb FU","Ristl S 62","Ristl RS 62-2","Ristl DD RS Kp 62-2/5"]
[null,"Stab Inf Ber Bat 204",0,{"$f":"IF(C1421=1,COUNTIF($C$3:C1421,1),\"\")","v":""},{"$f":"IFERROR(INDEX(DROPDOWN_AOSuche_Alle,MATCH(ROWS($D$3:D1421),DROPDOWN_AOSuche_Helper2,0)),\"\")","v":""},"Kdo Ausb","LVb FU","Ristl S 62","Ristl RS 62-2","Ristl RS VT Ausb 62-2"]
[null,"Stab Infra Bat 1",0,{"$f":"IF(C1422=1,COUNTIF($C$3:C1422,1),\"\")","v":""},{"$f":"IFERROR(INDEX(DROPDOWN_AOSuche_Alle,MATCH(ROWS($D$3:D1422),DROPDOWN_AOSuche_Helper2,0)),\"\")","v":""},"Kdo Ausb","LVb FU","Ristl S 62","Ristl UOS 62-1"]
[null,"Stab Kata Hi Ber Bat 104",0,{"$f":"IF(C1423=1,COUNTIF($C$3:C1423,1),\"\")","v":""},{"$f":"IFERROR(INDEX(DROPDOWN_AOSuche_Alle,MATCH(ROWS($D$3:D1423),DROPDOWN_AOSuche_Helper2,0)),\"\")","v":""},"Kdo Ausb","LVb FU","Ristl S 62","Ristl UOS 62-1","Ristl UOS Kl 62-1/1"]
[null,"Stab Kata Hi Ber Bat 204",0,{"$f":"IF(C1424=1,COUNTIF($C$3:C1424,1),\"\")","v":""},{"$f":"IFERROR(INDEX(DROPDOWN_AOSuche_Alle,MATCH(ROWS($D$3:D1424),DROPDOWN_AOSuche_Helper2,0)),\"\")","v":""},"Kdo Ausb","LVb FU","Ristl S 62","Ristl UOS 62-1","Ristl UOS Kl 62-1/2"]
[null,"Stab Kdo Ausb",0,{"$f":"IF(C1425=1,COUNTIF($C$3:C1425,1),\"\")","v":""},{"$f":"IFERROR(INDEX(DROPDOWN_AOSuche_Alle,MATCH(ROWS($D$3:D1425),DROPDOWN_AOSuche_Helper2,0)),\"\")","v":""},"Kdo Ausb","LVb FU","Ristl S 62","Ristl UOS 62-1","Ristl UOS Kl 62-1/3"]
[null,"Stab Kdo AZ Spez Kräfte",0,{"$f":"IF(C1426=1,COUNTIF($C$3:C1426,1),\"\")","v":""},{"$f":"IFERROR(INDEX(DROPDOWN_AOSuche_Alle,MATCH(ROWS($D$3:D1426),DROPDOWN_AOSuche_Helper2,0)),\"\")","v":""},"Kdo Ausb","LVb FU","Ristl S 62","Ristl UOS 62-1","Ristl UOS Kl 62-1/4"]
[null,"Stab Kdo AZA",0,{"$f":"IF(C1427=1,COUNTIF($C$3:C1427,1),\"\")","v":""},{"$f":"IFERROR(INDEX(DROPDOWN_AOSuche_Alle,MATCH(ROWS($D$3:D1427),DROPDOWN_AOSuche_Helper2,0)),\"\")","v":""},"Kdo Ausb","LVb FU","Ristl S 62","Ristl UOS 62-2"]
[null,"Stab Kdo BUSA",0,{"$f":"IF(C1428=1,COUNTIF($C$3:C1428,1),\"\")","v":""},{"$f":"IFERROR(INDEX(DROPDOWN_AOSuche_Alle,MATCH(ROWS($D$3:D1428),DROPDOWN_AOSuche_Helper2,0)),\"\")","v":""},"Kdo Ausb","LVb FU","Ristl S 62","Ristl UOS 62-2","Ristl UOS Kl 62-2/1"]
[null,"Stab Kdo Gst S",0,{"$f":"IF(C1429=1,COUNTIF($C$3:C1429,1),\"\")","v":""},{"$f":"IFERROR(INDEX(DROPDOWN_AOSuche_Alle,MATCH(ROWS($D$3:D1429),DROPDOWN_AOSuche_Helper2,0)),\"\")","v":""},"Kdo Ausb","LVb FU","Ristl S 62","Ristl UOS 62-2","Ristl UOS Kl 62-2/2"]
[null,"Stab Kdo MILAK",0,{"$f":"IF(C1430=1,COUNTIF($C$3:C1430,1),\"\")","v":""},{"$f":"IFERROR(INDEX(DROPDOWN_AOSuche_Alle,MATCH(ROWS($D$3:D1430),DROPDOWN_AOSuche_Helper2,0)),\"\")","v":""},"Kdo Ausb","LVb FU","Ristl S 62","Ristl UOS 62-2","Ristl UOS Kl 62-2/3"]
[null,"Stab Kdo MP",0,{"$f":"IF(C1431=1,COUNTIF($C$3:C1431,1),\"\")","v":""},{"$f":"IFERROR(INDEX(DROPDOWN_AOSuche_Alle,MATCH(ROWS($D$3:D1431),DROPDOWN_AOSuche_Helper2,0)),\"\")","v":""},"Kdo Ausb","LVb FU","Ristl S 62","Ristl UOS 62-2","Ristl UOS Kl 62-2/4"]
[null,"Stab Kdo Op",0,{"$f":"IF(C1432=1,COUNTIF($C$3:C1432,1),\"\")","v":""},{"$f":"IFERROR(INDEX(DROPDOWN_AOSuche_Alle,MATCH(ROWS($D$3:D1432),DROPDOWN_AOSuche_Helper2,0)),\"\")","v":""},"Kdo Ausb","LVb FU","Ristl S 62","Ristl RS 62-1"]
[null,"Stab Kdo PDG",0,{"$f":"IF(C1433=1,COUNTIF($C$3:C1433,1),\"\")","v":""},{"$f":"IFERROR(INDEX(DROPDOWN_AOSuche_Alle,MATCH(ROWS($D$3:D1433),DROPDOWN_AOSuche_Helper2,0)),\"\")","v":""},"Kdo Ausb","LVb FU","Ristl S 62","Ristl RS 62-2"]
[null,"Stab Kdo Rekr",0,{"$f":"IF(C1434=1,COUNTIF($C$3:C1434,1),\"\")","v":""},{"$f":"IFERROR(INDEX(DROPDOWN_AOSuche_Alle,MATCH(ROWS($D$3:D1434),DROPDOWN_AOSuche_Helper2,0)),\"\")","v":""},"Kdo Ausb","LVb FU","Ristl S 62","Ristl RS 62-3"]
[null,"Stab Kdo SKS",0,{"$f":"IF(C1435=1,COUNTIF($C$3:C1435,1),\"\")","v":""},{"$f":"IFERROR(INDEX(DROPDOWN_AOSuche_Alle,MATCH(ROWS($D$3:D1435),DROPDOWN_AOSuche_Helper2,0)),\"\")","v":""},"Kdo Ausb","LVb FU","FU S 63"]
[null,"Stab Kdo ZS",0,{"$f":"IF(C1436=1,COUNTIF($C$3:C1436,1),\"\")","v":""},{"$f":"IFERROR(INDEX(DROPDOWN_AOSuche_Alle,MATCH(ROWS($D$3:D1436),DROPDOWN_AOSuche_Helper2,0)),\"\")","v":""},"Kdo Ausb","LVb FU","FU S 63","FU RS 63-1"]
[null,"Stab Komp Zen ABC/KAMIR",0,{"$f":"IF(C1437=1,COUNTIF($C$3:C1437,1),\"\")","v":""},{"$f":"IFERROR(INDEX(DROPDOWN_AOSuche_Alle,MATCH(ROWS($D$3:D1437),DROPDOWN_AOSuche_Helper2,0)),\"\")","v":""},"Kdo Ausb","LVb FU","FU S 63","FU RS 63-1","FU RS Kp 63-1/1"]
[null,"Stab Komp Zen FFS",0,{"$f":"IF(C1438=1,COUNTIF($C$3:C1438,1),\"\")","v":""},{"$f":"IFERROR(INDEX(DROPDOWN_AOSuche_Alle,MATCH(ROWS($D$3:D1438),DROPDOWN_AOSuche_Helper2,0)),\"\")","v":""},"Kdo Ausb","LVb FU","FU S 63","FU RS 63-1","FU RS Kp 63-1/2"]
[null,"Stab Komp Zen Geb D A",0,{"$f":"IF(C1439=1,COUNTIF($C$3:C1439,1),\"\")","v":""},{"$f":"IFERROR(INDEX(DROPDOWN_AOSuche_Alle,MATCH(ROWS($D$3:D1439),DROPDOWN_AOSuche_Helper2,0)),\"\")","v":""},"Kdo Ausb","LVb FU","FU S 63","FU RS 63-1","FU RS Kp 63-1/3"]
[null,"Stab Komp Zen Mil Musik",0,{"$f":"IF(C1440=1,COUNTIF($C$3:C1440,1),\"\")","v":""},{"$f":"IFERROR(INDEX(DROPDOWN_AOSuche_Alle,MATCH(ROWS($D$3:D1440),DROPDOWN_AOSuche_Helper2,0)),\"\")","v":""},"Kdo Ausb","LVb FU","FU S 63","FU RS 63-2"]
[null,"Stab Komp Zen MP",0,{"$f":"IF(C1441=1,COUNTIF($C$3:C1441,1),\"\")","v":""},{"$f":"IFERROR(INDEX(DROPDOWN_AOSuche_Alle,MATCH(ROWS($D$3:D1441),DROPDOWN_AOSuche_Helper2,0)),\"\")","v":""},"Kdo Ausb","LVb FU","FU S 63","FU RS 63-2","FU RS Kp 63-2/1"]
[null,"Stab Komp Zen Sport A",0,{"$f":"IF(C1442=1,COUNTIF($C$3:C1442,1),\"\")","v":""},{"$f":"IFERROR(INDEX(DROPDOWN_AOSuche_Alle,MATCH(ROWS($D$3:D1442),DROPDOWN_AOSuche_Helper2,0)),\"\")","v":""},"Kdo Ausb","LVb FU","FU S 63","FU RS 63-2","FU RS Kp 63-2/2"]
[null,"Stab Komp Zen SWISSINT",0,{"$f":"IF(C1443=1,COUNTIF($C$3:C1443,1),\"\")","v":""},{"$f":"IFERROR(INDEX(DROPDOWN_AOSuche_Alle,MATCH(ROWS($D$3:D1443),DROPDOWN_AOSuche_Helper2,0)),\"\")","v":""},"Kdo Ausb","LVb FU","FU S 63","FU RS 63-2","FU RS Kp 63-2/3"]
[null,"Stab Komp Zen Vet D u A Tiere",0,{"$f":"IF(C1444=1,COUNTIF($C$3:C1444,1),\"\")","v":""},{"$f":"IFERROR(INDEX(DROPDOWN_AOSuche_Alle,MATCH(ROWS($D$3:D1444),DROPDOWN_AOSuche_Helper2,0)),\"\")","v":""},"Kdo Ausb","LVb FU","FU S 63","FU UOS 63-1"]
[null,"Stab Koord Stelle 1",0,{"$f":"IF(C1445=1,COUNTIF($C$3:C1445,1),\"\")","v":""},{"$f":"IFERROR(INDEX(DROPDOWN_AOSuche_Alle,MATCH(ROWS($D$3:D1445),DROPDOWN_AOSuche_Helper2,0)),\"\")","v":""},"Kdo Ausb","LVb FU","FU S 63","FU UOS 63-2"]
[null,"Stab Koord Stelle 2",0,{"$f":"IF(C1446=1,COUNTIF($C$3:C1446,1),\"\")","v":""},{"$f":"IFERROR(INDEX(DROPDOWN_AOSuche_Alle,MATCH(ROWS($D$3:D1446),DROPDOWN_AOSuche_Helper2,0)),\"\")","v":""},"Kdo Ausb","LVb FU","EKF S 64"]
[null,"Stab Koord Stelle 3",0,{"$f":"IF(C1447=1,COUNTIF($C$3:C1447,1),\"\")","v":""},{"$f":"IFERROR(INDEX(DROPDOWN_AOSuche_Alle,MATCH(ROWS($D$3:D1447),DROPDOWN_AOSuche_Helper2,0)),\"\")","v":""},"Kdo Ausb","LVb FU","EKF S 64","EKF RS 64-1"]
[null,"Stab Koord Stelle 4",0,{"$f":"IF(C1448=1,COUNTIF($C$3:C1448,1),\"\")","v":""},{"$f":"IFERROR(INDEX(DROPDOWN_AOSuche_Alle,MATCH(ROWS($D$3:D1448),DROPDOWN_AOSuche_Helper2,0)),\"\")","v":""},"Kdo Ausb","LVb FU","EKF S 64","EKF RS 64-1","EKF RS Kp 64-1/1"]
[null,"Stab KSK",0,{"$f":"IF(C1449=1,COUNTIF($C$3:C1449,1),\"\")","v":""},{"$f":"IFERROR(INDEX(DROPDOWN_AOSuche_Alle,MATCH(ROWS($D$3:D1449),DROPDOWN_AOSuche_Helper2,0)),\"\")","v":""},"Kdo Ausb","LVb FU","EKF S 64","EKF RS 64-1","EKF RS Kp 64-1/2"]
[null,"Stab KSK Stabsbat",0,{"$f":"IF(C1450=1,COUNTIF($C$3:C1450,1),\"\")","v":""},{"$f":"IFERROR(INDEX(DROPDOWN_AOSuche_Alle,MATCH(ROWS($D$3:D1450),DROPDOWN_AOSuche_Helper2,0)),\"\")","v":""},"Kdo Ausb","LVb FU","EKF S 64","EKF RS 64-2"]
[null,"Stab L Flab Lwf Abt 1",0,{"$f":"IF(C1451=1,COUNTIF($C$3:C1451,1),\"\")","v":""},{"$f":"IFERROR(INDEX(DROPDOWN_AOSuche_Alle,MATCH(ROWS($D$3:D1451),DROPDOWN_AOSuche_Helper2,0)),\"\")","v":""},"Kdo Ausb","LVb FU","EKF S 64","EKF RS 64-2","EKF RS Kp 64-2/1"]
[null,"Stab L Flab Lwf Abt 5",0,{"$f":"IF(C1452=1,COUNTIF($C$3:C1452,1),\"\")","v":""},{"$f":"IFERROR(INDEX(DROPDOWN_AOSuche_Alle,MATCH(ROWS($D$3:D1452),DROPDOWN_AOSuche_Helper2,0)),\"\")","v":""},"Kdo Ausb","LVb FU","EKF S 64","EKF RS 64-2","EKF RS Kp 64-2/2"]
[null,"Stab L Flab Lwf Abt 7",0,{"$f":"IF(C1453=1,COUNTIF($C$3:C1453,1),\"\")","v":""},{"$f":"IFERROR(INDEX(DROPDOWN_AOSuche_Alle,MATCH(ROWS($D$3:D1453),DROPDOWN_AOSuche_Helper2,0)),\"\")","v":""},"Kdo Ausb","LVb FU","EKF S 64","EKF UOS 64-1"]
[null,"Stab LBA",0,{"$f":"IF(C1454=1,COUNTIF($C$3:C1454,1),\"\")","v":""},{"$f":"IFERROR(INDEX(DROPDOWN_AOSuche_Alle,MATCH(ROWS($D$3:D1454),DROPDOWN_AOSuche_Helper2,0)),\"\")","v":""},"Kdo Ausb","LVb FU","EKF S 64","EKF UOS 64-2"]
[null,"Stab Log Bat 101",0,{"$f":"IF(C1455=1,COUNTIF($C$3:C1455,1),\"\")","v":""},{"$f":"IFERROR(INDEX(DROPDOWN_AOSuche_Alle,MATCH(ROWS($D$3:D1455),DROPDOWN_AOSuche_Helper2,0)),\"\")","v":""},"Kdo Ausb","LVb FU","EKF S 64","EKF RS 64-1"]
[null,"Stab Log Bat 21",0,{"$f":"IF(C1456=1,COUNTIF($C$3:C1456,1),\"\")","v":""},{"$f":"IFERROR(INDEX(DROPDOWN_AOSuche_Alle,MATCH(ROWS($D$3:D1456),DROPDOWN_AOSuche_Helper2,0)),\"\")","v":""},"Kdo Ausb","LVb FU","EKF S 64","EKF RS 64-2"]
[null,"Stab Log Bat 51",0,{"$f":"IF(C1457=1,COUNTIF($C$3:C1457,1),\"\")","v":""},{"$f":"IFERROR(INDEX(DROPDOWN_AOSuche_Alle,MATCH(ROWS($D$3:D1457),DROPDOWN_AOSuche_Helper2,0)),\"\")","v":""},"Kdo Ausb","LVb FU","EKF S 64","EKF RS 64-3"]
[null,"Stab Log Bat 52",0,{"$f":"IF(C1458=1,COUNTIF($C$3:C1458,1),\"\")","v":""},{"$f":"IFERROR(INDEX(DROPDOWN_AOSuche_Alle,MATCH(ROWS($D$3:D1458),DROPDOWN_AOSuche_Helper2,0)),\"\")","v":""},"Kdo Ausb","LVb FU","FULW RS 95-1"]
[null,"Stab Log Bat 92",0,{"$f":"IF(C1459=1,COUNTIF($C$3:C1459,1),\"\")","v":""},{"$f":"IFERROR(INDEX(DROPDOWN_AOSuche_Alle,MATCH(ROWS($D$3:D1459),DROPDOWN_AOSuche_Helper2,0)),\"\")","v":""},"Kdo Ausb","LVb FU","FULW RS 95-2"]
[null,"Stab Log Br 1",0,{"$f":"IF(C1460=1,COUNTIF($C$3:C1460,1),\"\")","v":""},{"$f":"IFERROR(INDEX(DROPDOWN_AOSuche_Alle,MATCH(ROWS($D$3:D1460),DROPDOWN_AOSuche_Helper2,0)),\"\")","v":""},"Kdo Ausb","LVb FU","FULW RS 95-3"]
[null,"Stab Log Sup Bat 61",0,{"$f":"IF(C1461=1,COUNTIF($C$3:C1461,1),\"\")","v":""},{"$f":"IFERROR(INDEX(DROPDOWN_AOSuche_Alle,MATCH(ROWS($D$3:D1461),DROPDOWN_AOSuche_Helper2,0)),\"\")","v":""},"Kdo Ausb","LVb Log"]
[null,"Stab LT Abt 1",0,{"$f":"IF(C1462=1,COUNTIF($C$3:C1462,1),\"\")","v":""},{"$f":"IFERROR(INDEX(DROPDOWN_AOSuche_Alle,MATCH(ROWS($D$3:D1462),DROPDOWN_AOSuche_Helper2,0)),\"\")","v":""},"Kdo Ausb","LVb Log","Stab LVb Log"]
[null,"Stab LT Abt 2",0,{"$f":"IF(C1463=1,COUNTIF($C$3:C1463,1),\"\")","v":""},{"$f":"IFERROR(INDEX(DROPDOWN_AOSuche_Alle,MATCH(ROWS($D$3:D1463),DROPDOWN_AOSuche_Helper2,0)),\"\")","v":""},"Kdo Ausb","LVb Log","Betr Det LVb Log"]
[null,"Stab LT Abt 3",0,{"$f":"IF(C1464=1,COUNTIF($C$3:C1464,1),\"\")","v":""},{"$f":"IFERROR(INDEX(DROPDOWN_AOSuche_Alle,MATCH(ROWS($D$3:D1464),DROPDOWN_AOSuche_Helper2,0)),\"\")","v":""},"Kdo Ausb","LVb Log","San Kp 1"]
[null,"Stab LT Geschw 1",0,{"$f":"IF(C1465=1,COUNTIF($C$3:C1465,1),\"\")","v":""},{"$f":"IFERROR(INDEX(DROPDOWN_AOSuche_Alle,MATCH(ROWS($D$3:D1465),DROPDOWN_AOSuche_Helper2,0)),\"\")","v":""},"Kdo Ausb","LVb Log","San Kp 2"]
[null,"Stab LT Geschw 2",0,{"$f":"IF(C1466=1,COUNTIF($C$3:C1466,1),\"\")","v":""},{"$f":"IFERROR(INDEX(DROPDOWN_AOSuche_Alle,MATCH(ROWS($D$3:D1466),DROPDOWN_AOSuche_Helper2,0)),\"\")","v":""},"Kdo Ausb","LVb Log","San Kp 3"]
[null,"Stab LT Geschw 3",0,{"$f":"IF(C1467=1,COUNTIF($C$3:C1467,1),\"\")","v":""},{"$f":"IFERROR(INDEX(DROPDOWN_AOSuche_Alle,MATCH(ROWS($D$3:D1467),DROPDOWN_AOSuche_Helper2,0)),\"\")","v":""},"Kdo Ausb","LVb Log","San Kp 4"]
[null,"Stab LT Geschw 4",0,{"$f":"IF(C1468=1,COUNTIF($C$3:C1468,1),\"\")","v":""},{"$f":"IFERROR(INDEX(DROPDOWN_AOSuche_Alle,MATCH(ROWS($D$3:D1468),DROPDOWN_AOSuche_Helper2,0)),\"\")","v":""},"Kdo Ausb","LVb Log","San Kp 5"]
[null,"Stab LVb Flab 33",0,{"$f":"IF(C1469=1,COUNTIF($C$3:C1469,1),\"\")","v":""},{"$f":"IFERROR(INDEX(DROPDOWN_AOSuche_Alle,MATCH(ROWS($D$3:D1469),DROPDOWN_AOSuche_Helper2,0)),\"\")","v":""},"Kdo Ausb","LVb Log","San Kp 6"]
[null,"Stab LVb Flab/FU",0,{"$f":"IF(C1470=1,COUNTIF($C$3:C1470,1),\"\")","v":""},{"$f":"IFERROR(INDEX(DROPDOWN_AOSuche_Alle,MATCH(ROWS($D$3:D1470),DROPDOWN_AOSuche_Helper2,0)),\"\")","v":""},"Kdo Ausb","LVb Log","San Kp 7"]
[null,"Stab LVb G/Rttg/ABC",0,{"$f":"IF(C1471=1,COUNTIF($C$3:C1471,1),\"\")","v":""},{"$f":"IFERROR(INDEX(DROPDOWN_AOSuche_Alle,MATCH(ROWS($D$3:D1471),DROPDOWN_AOSuche_Helper2,0)),\"\")","v":""},"Kdo Ausb","LVb Log","San Kp 8"]
[null,"Stab LVb Inf",0,{"$f":"IF(C1472=1,COUNTIF($C$3:C1472,1),\"\")","v":""},{"$f":"IFERROR(INDEX(DROPDOWN_AOSuche_Alle,MATCH(ROWS($D$3:D1472),DROPDOWN_AOSuche_Helper2,0)),\"\")","v":""},"Kdo Ausb","LVb Log","Komp Zen Vet D u A Tiere"]
[null,"Stab LVb Log",0,{"$f":"IF(C1473=1,COUNTIF($C$3:C1473,1),\"\")","v":""},{"$f":"IFERROR(INDEX(DROPDOWN_AOSuche_Alle,MATCH(ROWS($D$3:D1473),DROPDOWN_AOSuche_Helper2,0)),\"\")","v":""},"Kdo Ausb","LVb Log","Komp Zen Vet D u A Tiere","Stab Komp Zen Vet D u A Tiere"]
[null,"Stab LVb Pz/Art",0,{"$f":"IF(C1474=1,COUNTIF($C$3:C1474,1),\"\")","v":""},{"$f":"IFERROR(INDEX(DROPDOWN_AOSuche_Alle,MATCH(ROWS($D$3:D1474),DROPDOWN_AOSuche_Helper2,0)),\"\")","v":""},"Kdo Ausb","LVb Log","Komp Zen Vet D u A Tiere","Betr Det Komp Zen Vet D u A T"]
[null,"Stab LW AT Br",{"$f":"--ISNUMBER(IFERROR(SEARCH(AO_Search_Value,B1475,1),\"\"))","v":0},{"$f":"IF(C1475=1,COUNTIF($C$3:C1475,1),\"\")","v":""},{"$f":"IFERROR(INDEX(DROPDOWN_AOSuche_Alle,MATCH(ROWS($D$3:D1475),DROPDOWN_AOSuche_Helper2,0)),\"\")","v":""},"Kdo Ausb","LVb Log","Komp Zen Vet D u A Tiere","Vet u A Tiere Abt 13"]
[null,"Stab LW Na Abt 1",0,{"$f":"IF(C1476=1,COUNTIF($C$3:C1476,1),\"\")","v":""},{"$f":"IFERROR(INDEX(DROPDOWN_AOSuche_Alle,MATCH(ROWS($D$3:D1476),DROPDOWN_AOSuche_Helper2,0)),\"\")","v":""},"Kdo Ausb","LVb Log","Komp Zen Vet D u A Tiere","Vet u A Tiere Abt 13","Stab Vet u A Tiere Abt 13"]
[null,"Stab LW Na Abt 2",0,{"$f":"IF(C1477=1,COUNTIF($C$3:C1477,1),\"\")","v":""},{"$f":"IFERROR(INDEX(DROPDOWN_AOSuche_Alle,MATCH(ROWS($D$3:D1477),DROPDOWN_AOSuche_Helper2,0)),\"\")","v":""},"Kdo Ausb","LVb Log","Komp Zen Vet D u A Tiere","Vet u A Tiere Abt 13","Tr Kol 13/1"]
[null,"Stab M Flab Abt 32",0,{"$f":"IF(C1478=1,COUNTIF($C$3:C1478,1),\"\")","v":""},{"$f":"IFERROR(INDEX(DROPDOWN_AOSuche_Alle,MATCH(ROWS($D$3:D1478),DROPDOWN_AOSuche_Helper2,0)),\"\")","v":""},"Kdo Ausb","LVb Log","Komp Zen Vet D u A Tiere","Vet u A Tiere Abt 13","Tr Kol 13/2"]
[null,"Stab M Flab Abt 34",0,{"$f":"IF(C1479=1,COUNTIF($C$3:C1479,1),\"\")","v":""},{"$f":"IFERROR(INDEX(DROPDOWN_AOSuche_Alle,MATCH(ROWS($D$3:D1479),DROPDOWN_AOSuche_Helper2,0)),\"\")","v":""},"Kdo Ausb","LVb Log","Komp Zen Vet D u A Tiere","Vet u A Tiere Abt 13","Tr Kol 13/3"]
[null,"Stab M Flab Abt 45",0,{"$f":"IF(C1480=1,COUNTIF($C$3:C1480,1),\"\")","v":""},{"$f":"IFERROR(INDEX(DROPDOWN_AOSuche_Alle,MATCH(ROWS($D$3:D1480),DROPDOWN_AOSuche_Helper2,0)),\"\")","v":""},"Kdo Ausb","LVb Log","Komp Zen Vet D u A Tiere","Vet u A Tiere Abt 13","Vet Kp 13/4"]
[null,"Stab Mech Bat 14",0,{"$f":"IF(C1481=1,COUNTIF($C$3:C1481,1),\"\")","v":""},{"$f":"IFERROR(INDEX(DROPDOWN_AOSuche_Alle,MATCH(ROWS($D$3:D1481),DROPDOWN_AOSuche_Helper2,0)),\"\")","v":""},"Kdo Ausb","LVb Log","Komp Zen Vet D u A Tiere","Vet u A Tiere Abt 13","Hundefhr Kp 13/5"]
[null,"Stab Mech Bat 17",0,{"$f":"IF(C1482=1,COUNTIF($C$3:C1482,1),\"\")","v":""},{"$f":"IFERROR(INDEX(DROPDOWN_AOSuche_Alle,MATCH(ROWS($D$3:D1482),DROPDOWN_AOSuche_Helper2,0)),\"\")","v":""},"Kdo Ausb","LVb Log","Komp Zen Vet D u A Tiere","Vet D u A Tiere S 46"]
[null,"Stab Mech Bat 18",0,{"$f":"IF(C1483=1,COUNTIF($C$3:C1483,1),\"\")","v":""},{"$f":"IFERROR(INDEX(DROPDOWN_AOSuche_Alle,MATCH(ROWS($D$3:D1483),DROPDOWN_AOSuche_Helper2,0)),\"\")","v":""},"Kdo Ausb","LVb Log","Komp Zen Vet D u A Tiere","Vet D u A Tiere S 46","Vet D u A Tiere RS 46-1"]
[null,"Stab Mech Bat 29",0,{"$f":"IF(C1484=1,COUNTIF($C$3:C1484,1),\"\")","v":""},{"$f":"IFERROR(INDEX(DROPDOWN_AOSuche_Alle,MATCH(ROWS($D$3:D1484),DROPDOWN_AOSuche_Helper2,0)),\"\")","v":""},"Kdo Ausb","LVb Log","Komp Zen Vet D u A Tiere","Vet D u A Tiere S 46","Vet D u A Tiere RS 46-2"]
[null,"Stab Mech Br 1",0,{"$f":"IF(C1485=1,COUNTIF($C$3:C1485,1),\"\")","v":""},{"$f":"IFERROR(INDEX(DROPDOWN_AOSuche_Alle,MATCH(ROWS($D$3:D1485),DROPDOWN_AOSuche_Helper2,0)),\"\")","v":""},"Kdo Ausb","LVb Log","Komp Zen Vet D u A Tiere","Vet D u A Tiere S 46","Vet D u A Tiere UOS 46-1"]
[null,"Stab Mech Br 11",0,{"$f":"IF(C1486=1,COUNTIF($C$3:C1486,1),\"\")","v":""},{"$f":"IFERROR(INDEX(DROPDOWN_AOSuche_Alle,MATCH(ROWS($D$3:D1486),DROPDOWN_AOSuche_Helper2,0)),\"\")","v":""},"Kdo Ausb","LVb Log","Komp Zen Vet D u A Tiere","Vet D u A Tiere S 46","Vet D u A Tiere UOS 46-2"]
[null,"Stab Mech Br 4",0,{"$f":"IF(C1487=1,COUNTIF($C$3:C1487,1),\"\")","v":""},{"$f":"IFERROR(INDEX(DROPDOWN_AOSuche_Alle,MATCH(ROWS($D$3:D1487),DROPDOWN_AOSuche_Helper2,0)),\"\")","v":""},"Kdo Ausb","LVb Log","Komp Zen Vet D u A Tiere","Vet D u A Tiere S 46","Vet Az OS 46"]
[null,"Stab Mech Br Stabsbat 1",0,{"$f":"IF(C1488=1,COUNTIF($C$3:C1488,1),\"\")","v":""},{"$f":"IFERROR(INDEX(DROPDOWN_AOSuche_Alle,MATCH(ROWS($D$3:D1488),DROPDOWN_AOSuche_Helper2,0)),\"\")","v":""},"Kdo Ausb","LVb Log","Komp Zen Vet D u A Tiere","Vet D u A Tiere S 46","Vet Az UOS 46"]
[null,"Stab Mech Br Stabsbat 11",0,{"$f":"IF(C1489=1,COUNTIF($C$3:C1489,1),\"\")","v":""},{"$f":"IFERROR(INDEX(DROPDOWN_AOSuche_Alle,MATCH(ROWS($D$3:D1489),DROPDOWN_AOSuche_Helper2,0)),\"\")","v":""},"Kdo Ausb","LVb Log","Komp Zen Vet D u A Tiere","Vet D u A Tiere RS 57-1"]
[null,"Stab Mech Br Stabsbat 4",0,{"$f":"IF(C1490=1,COUNTIF($C$3:C1490,1),\"\")","v":""},{"$f":"IFERROR(INDEX(DROPDOWN_AOSuche_Alle,MATCH(ROWS($D$3:D1490),DROPDOWN_AOSuche_Helper2,0)),\"\")","v":""},"Kdo Ausb","LVb Log","Komp Zen Vet D u A Tiere","Rekr Hundefhr 46-1"]
[null,"Stab MND",0,{"$f":"IF(C1491=1,COUNTIF($C$3:C1491,1),\"\")","v":""},{"$f":"IFERROR(INDEX(DROPDOWN_AOSuche_Alle,MATCH(ROWS($D$3:D1491),DROPDOWN_AOSuche_Helper2,0)),\"\")","v":""},"Kdo Ausb","LVb Log","Komp Zen Vet D u A Tiere","Vet D u A Tiere RS 57-2"]
[null,"Stab Mob Flab Lwf Abt 11",0,{"$f":"IF(C1492=1,COUNTIF($C$3:C1492,1),\"\")","v":""},{"$f":"IFERROR(INDEX(DROPDOWN_AOSuche_Alle,MATCH(ROWS($D$3:D1492),DROPDOWN_AOSuche_Helper2,0)),\"\")","v":""},"Kdo Ausb","LVb Log","Komp Zen Vet D u A Tiere","Rekr Hundefhr 46-2"]
[null,"Stab Mob Flab Lwf Abt 4",0,{"$f":"IF(C1493=1,COUNTIF($C$3:C1493,1),\"\")","v":""},{"$f":"IFERROR(INDEX(DROPDOWN_AOSuche_Alle,MATCH(ROWS($D$3:D1493),DROPDOWN_AOSuche_Helper2,0)),\"\")","v":""},"Kdo Ausb","LVb Log","Log OS 40"]
[null,"Stab Mob LW Radarabt 2",0,{"$f":"IF(C1494=1,COUNTIF($C$3:C1494,1),\"\")","v":""},{"$f":"IFERROR(INDEX(DROPDOWN_AOSuche_Alle,MATCH(ROWS($D$3:D1494),DROPDOWN_AOSuche_Helper2,0)),\"\")","v":""},"Kdo Ausb","LVb Log","Log OS 40","Log OS 40-1"]
[null,"Stab MP Bat 1",0,{"$f":"IF(C1495=1,COUNTIF($C$3:C1495,1),\"\")","v":""},{"$f":"IFERROR(INDEX(DROPDOWN_AOSuche_Alle,MATCH(ROWS($D$3:D1495),DROPDOWN_AOSuche_Helper2,0)),\"\")","v":""},"Kdo Ausb","LVb Log","Log OS 40","Log OS 40-2"]
[null,"Stab MP Bat 2",0,{"$f":"IF(C1496=1,COUNTIF($C$3:C1496,1),\"\")","v":""},{"$f":"IFERROR(INDEX(DROPDOWN_AOSuche_Alle,MATCH(ROWS($D$3:D1496),DROPDOWN_AOSuche_Helper2,0)),\"\")","v":""},"Kdo Ausb","LVb Log","Ns S 45"]
[null,"Stab MP Bat 3",0,{"$f":"IF(C1497=1,COUNTIF($C$3:C1497,1),\"\")","v":""},{"$f":"IFERROR(INDEX(DROPDOWN_AOSuche_Alle,MATCH(ROWS($D$3:D1497),DROPDOWN_AOSuche_Helper2,0)),\"\")","v":""},"Kdo Ausb","LVb Log","Ns S 45","Ns RS 45-1"]
[null,"Stab MP Bat 4",0,{"$f":"IF(C1498=1,COUNTIF($C$3:C1498,1),\"\")","v":""},{"$f":"IFERROR(INDEX(DROPDOWN_AOSuche_Alle,MATCH(ROWS($D$3:D1498),DROPDOWN_AOSuche_Helper2,0)),\"\")","v":""},"Kdo Ausb","LVb Log","Ns S 45","Ns RS 45-1","Ns RS Kp 45-1/1"]
[null,"Stab Op Zen LW",0,{"$f":"IF(C1499=1,COUNTIF($C$3:C1499,1),\"\")","v":""},{"$f":"IFERROR(INDEX(DROPDOWN_AOSuche_Alle,MATCH(ROWS($D$3:D1499),DROPDOWN_AOSuche_Helper2,0)),\"\")","v":""},"Kdo Ausb","LVb Log","Ns S 45","Ns RS 45-1","Ns RS Kp 45-1/2"]
[null,"Stab Pers A",0,{"$f":"IF(C1500=1,COUNTIF($C$3:C1500,1),\"\")","v":""},{"$f":"IFERROR(INDEX(DROPDOWN_AOSuche_Alle,MATCH(ROWS($D$3:D1500),DROPDOWN_AOSuche_Helper2,0)),\"\")","v":""},"Kdo Ausb","LVb Log","Ns S 45","Ns RS 45-1","Ns RS Kp 45-1/3"]
[null,"Stab Pont Bat 26",0,{"$f":"IF(C1501=1,COUNTIF($C$3:C1501,1),\"\")","v":""},{"$f":"IFERROR(INDEX(DROPDOWN_AOSuche_Alle,MATCH(ROWS($D$3:D1501),DROPDOWN_AOSuche_Helper2,0)),\"\")","v":""},"Kdo Ausb","LVb Log","Ns S 45","Ns RS 45-1","Ns RS Kp 45-1/4"]
[null,"Stab Pz Bat 12",0,{"$f":"IF(C1502=1,COUNTIF($C$3:C1502,1),\"\")","v":""},{"$f":"IFERROR(INDEX(DROPDOWN_AOSuche_Alle,MATCH(ROWS($D$3:D1502),DROPDOWN_AOSuche_Helper2,0)),\"\")","v":""},"Kdo Ausb","LVb Log","Ns S 45","Ns RS 45-1","Ns RS Kp 45-1/5"]
[null,"Stab Pz Bat 13",0,{"$f":"IF(C1503=1,COUNTIF($C$3:C1503,1),\"\")","v":""},{"$f":"IFERROR(INDEX(DROPDOWN_AOSuche_Alle,MATCH(ROWS($D$3:D1503),DROPDOWN_AOSuche_Helper2,0)),\"\")","v":""},"Kdo Ausb","LVb Log","Ns S 45","Ns RS 45-2"]
[null,"Stab Pz Sap Bat 1",0,{"$f":"IF(C1504=1,COUNTIF($C$3:C1504,1),\"\")","v":""},{"$f":"IFERROR(INDEX(DROPDOWN_AOSuche_Alle,MATCH(ROWS($D$3:D1504),DROPDOWN_AOSuche_Helper2,0)),\"\")","v":""},"Kdo Ausb","LVb Log","Ns S 45","Ns RS 45-2","Ns RS Kp 45-2/1"]
[null,"Stab Pz Sap Bat 11",0,{"$f":"IF(C1505=1,COUNTIF($C$3:C1505,1),\"\")","v":""},{"$f":"IFERROR(INDEX(DROPDOWN_AOSuche_Alle,MATCH(ROWS($D$3:D1505),DROPDOWN_AOSuche_Helper2,0)),\"\")","v":""},"Kdo Ausb","LVb Log","Ns S 45","Ns RS 45-2","Ns RS Kp 45-2/2"]
[null,"Stab Ristl Bat 16",0,{"$f":"IF(C1506=1,COUNTIF($C$3:C1506,1),\"\")","v":""},{"$f":"IFERROR(INDEX(DROPDOWN_AOSuche_Alle,MATCH(ROWS($D$3:D1506),DROPDOWN_AOSuche_Helper2,0)),\"\")","v":""},"Kdo Ausb","LVb Log","Ns S 45","Ns RS 45-2","Ns RS Kp 45-2/3"]
[null,"Stab Ristl Bat 17",0,{"$f":"IF(C1507=1,COUNTIF($C$3:C1507,1),\"\")","v":""},{"$f":"IFERROR(INDEX(DROPDOWN_AOSuche_Alle,MATCH(ROWS($D$3:D1507),DROPDOWN_AOSuche_Helper2,0)),\"\")","v":""},"Kdo Ausb","LVb Log","Ns S 45","Ns RS 45-2","Ns RS Kp 45-2/4"]
[null,"Stab Ristl Bat 21",0,{"$f":"IF(C1508=1,COUNTIF($C$3:C1508,1),\"\")","v":""},{"$f":"IFERROR(INDEX(DROPDOWN_AOSuche_Alle,MATCH(ROWS($D$3:D1508),DROPDOWN_AOSuche_Helper2,0)),\"\")","v":""},"Kdo Ausb","LVb Log","Ns S 45","Ns RS 45-2","Ns RS Kp 45-2/5"]
[null,"Stab Ristl Bat 32",0,{"$f":"IF(C1509=1,COUNTIF($C$3:C1509,1),\"\")","v":""},{"$f":"IFERROR(INDEX(DROPDOWN_AOSuche_Alle,MATCH(ROWS($D$3:D1509),DROPDOWN_AOSuche_Helper2,0)),\"\")","v":""},"Kdo Ausb","LVb Log","Ns S 45","Ns UOS 45-1"]
[null,"Stab Ristl Bat 4",0,{"$f":"IF(C1510=1,COUNTIF($C$3:C1510,1),\"\")","v":""},{"$f":"IFERROR(INDEX(DROPDOWN_AOSuche_Alle,MATCH(ROWS($D$3:D1510),DROPDOWN_AOSuche_Helper2,0)),\"\")","v":""},"Kdo Ausb","LVb Log","Ns S 45","Ns UOS 45-2"]
[null,"Stab Rttg Bat 1",0,{"$f":"IF(C1511=1,COUNTIF($C$3:C1511,1),\"\")","v":""},{"$f":"IFERROR(INDEX(DROPDOWN_AOSuche_Alle,MATCH(ROWS($D$3:D1511),DROPDOWN_AOSuche_Helper2,0)),\"\")","v":""},"Kdo Ausb","LVb Log","Ns S 45","Ns Rs RS 45-1"]
[null,"Stab Rttg Bat 2",0,{"$f":"IF(C1512=1,COUNTIF($C$3:C1512,1),\"\")","v":""},{"$f":"IFERROR(INDEX(DROPDOWN_AOSuche_Alle,MATCH(ROWS($D$3:D1512),DROPDOWN_AOSuche_Helper2,0)),\"\")","v":""},"Kdo Ausb","LVb Log","Ns S 45","Ns Rs RS 45-2"]
[null,"Stab Rttg Bat 3",0,{"$f":"IF(C1513=1,COUNTIF($C$3:C1513,1),\"\")","v":""},{"$f":"IFERROR(INDEX(DROPDOWN_AOSuche_Alle,MATCH(ROWS($D$3:D1513),DROPDOWN_AOSuche_Helper2,0)),\"\")","v":""},"Kdo Ausb","LVb Log","Ns S 45","Ns Rs RS 45-3"]
[null,"Stab Rttg Bat 4",0,{"$f":"IF(C1514=1,COUNTIF($C$3:C1514,1),\"\")","v":""},{"$f":"IFERROR(INDEX(DROPDOWN_AOSuche_Alle,MATCH(ROWS($D$3:D1514),DROPDOWN_AOSuche_Helper2,0)),\"\")","v":""},"Kdo Ausb","LVb Log","Ns S 45","FK 1 Umschlag Gt Fahr 45"]
[null,"Stab S Bat 1",0,{"$f":"IF(C1515=1,COUNTIF($C$3:C1515,1),\"\")","v":""},{"$f":"IFERROR(INDEX(DROPDOWN_AOSuche_Alle,MATCH(ROWS($D$3:D1515),DROPDOWN_AOSuche_Helper2,0)),\"\")","v":""},"Kdo Ausb","LVb Log","Ns S 45","FK 2 Umschlag Gt Fahr 45"]
[null,"Stab S Bat 14",0,{"$f":"IF(C1516=1,COUNTIF($C$3:C1516,1),\"\")","v":""},{"$f":"IFERROR(INDEX(DROPDOWN_AOSuche_Alle,MATCH(ROWS($D$3:D1516),DROPDOWN_AOSuche_Helper2,0)),\"\")","v":""},"Kdo Ausb","LVb Log","Ns S 45","FK 3 Umschlag Gt Fahr 45"]
[null,"Stab San",0,{"$f":"IF(C1517=1,COUNTIF($C$3:C1517,1),\"\")","v":""},{"$f":"IFERROR(INDEX(DROPDOWN_AOSuche_Alle,MATCH(ROWS($D$3:D1517),DROPDOWN_AOSuche_Helper2,0)),\"\")","v":""},"Kdo Ausb","LVb Log","Ns S 45","FK 4 Umschlag Gt Fahr 45"]
[null,"Stab San Log Bat 81",0,{"$f":"IF(C1518=1,COUNTIF($C$3:C1518,1),\"\")","v":""},{"$f":"IFERROR(INDEX(DROPDOWN_AOSuche_Alle,MATCH(ROWS($D$3:D1518),DROPDOWN_AOSuche_Helper2,0)),\"\")","v":""},"Kdo Ausb","LVb Log","Ns S 45","FK 5 Umschlag Gt Fahr 45"]
[null,"Stab San Sup Bat 9",0,{"$f":"IF(C1519=1,COUNTIF($C$3:C1519,1),\"\")","v":""},{"$f":"IFERROR(INDEX(DROPDOWN_AOSuche_Alle,MATCH(ROWS($D$3:D1519),DROPDOWN_AOSuche_Helper2,0)),\"\")","v":""},"Kdo Ausb","LVb Log","Ns S 45","FK 6 Umschlag Gt Fahr 45"]
[null,"Stab Schweizer A Spiel",0,{"$f":"IF(C1520=1,COUNTIF($C$3:C1520,1),\"\")","v":""},{"$f":"IFERROR(INDEX(DROPDOWN_AOSuche_Alle,MATCH(ROWS($D$3:D1520),DROPDOWN_AOSuche_Helper2,0)),\"\")","v":""},"Kdo Ausb","LVb Log","Ns S 45","FK 7 Umschlag Gt Fahr 45"]
[null,"Stab Spit Bat 2",0,{"$f":"IF(C1521=1,COUNTIF($C$3:C1521,1),\"\")","v":""},{"$f":"IFERROR(INDEX(DROPDOWN_AOSuche_Alle,MATCH(ROWS($D$3:D1521),DROPDOWN_AOSuche_Helper2,0)),\"\")","v":""},"Kdo Ausb","LVb Log","Ns S 45","FK 8 Umschlag Gt Fahr 45"]
[null,"Stab Spit Bat 5",0,{"$f":"IF(C1522=1,COUNTIF($C$3:C1522,1),\"\")","v":""},{"$f":"IFERROR(INDEX(DROPDOWN_AOSuche_Alle,MATCH(ROWS($D$3:D1522),DROPDOWN_AOSuche_Helper2,0)),\"\")","v":""},"Kdo Ausb","LVb Log","Ns S 45","FK 9 Umschlag Gt Fahr 45"]
[null,"Stab Spit Bat 66",0,{"$f":"IF(C1523=1,COUNTIF($C$3:C1523,1),\"\")","v":""},{"$f":"IFERROR(INDEX(DROPDOWN_AOSuche_Alle,MATCH(ROWS($D$3:D1523),DROPDOWN_AOSuche_Helper2,0)),\"\")","v":""},"Kdo Ausb","LVb Log","Ns S 45","FK 10 Umschlag Gt Fahr 45"]
[null,"Stab Spit Bat 75",0,{"$f":"IF(C1524=1,COUNTIF($C$3:C1524,1),\"\")","v":""},{"$f":"IFERROR(INDEX(DROPDOWN_AOSuche_Alle,MATCH(ROWS($D$3:D1524),DROPDOWN_AOSuche_Helper2,0)),\"\")","v":""},"Kdo Ausb","LVb Log","Ns S 45","FK 11 Umschlag Gt Fahr 45"]
[null,"Stab Ter Div 1",0,{"$f":"IF(C1525=1,COUNTIF($C$3:C1525,1),\"\")","v":""},{"$f":"IFERROR(INDEX(DROPDOWN_AOSuche_Alle,MATCH(ROWS($D$3:D1525),DROPDOWN_AOSuche_Helper2,0)),\"\")","v":""},"Kdo Ausb","LVb Log","Ns S 45","FK 12 Umschlag Gt Fahr 45"]
[null,"Stab Ter Div 2",0,{"$f":"IF(C1526=1,COUNTIF($C$3:C1526,1),\"\")","v":""},{"$f":"IFERROR(INDEX(DROPDOWN_AOSuche_Alle,MATCH(ROWS($D$3:D1526),DROPDOWN_AOSuche_Helper2,0)),\"\")","v":""},"Kdo Ausb","LVb Log","Ns S 45","FK 13 Umschlag Gt Fahr 45"]
[null,"Stab Ter Div 3",0,{"$f":"IF(C1527=1,COUNTIF($C$3:C1527,1),\"\")","v":""},{"$f":"IFERROR(INDEX(DROPDOWN_AOSuche_Alle,MATCH(ROWS($D$3:D1527),DROPDOWN_AOSuche_Helper2,0)),\"\")","v":""},"Kdo Ausb","LVb Log","Ns S 45","FK 14 Umschlag Gt Fahr 45"]
[null,"Stab Ter Div 4",0,{"$f":"IF(C1528=1,COUNTIF($C$3:C1528,1),\"\")","v":""},{"$f":"IFERROR(INDEX(DROPDOWN_AOSuche_Alle,MATCH(ROWS($D$3:D1528),DROPDOWN_AOSuche_Helper2,0)),\"\")","v":""},"Kdo Ausb","LVb Log","Ns S 45","FK 15 Umschlag Gt Fahr 45"]
[null,"Stab Ter Div Stabsbat 1",0,{"$f":"IF(C1529=1,COUNTIF($C$3:C1529,1),\"\")","v":""},{"$f":"IFERROR(INDEX(DROPDOWN_AOSuche_Alle,MATCH(ROWS($D$3:D1529),DROPDOWN_AOSuche_Helper2,0)),\"\")","v":""},"Kdo Ausb","LVb Log","Ns S 45","FK 16 Umschlag Gt Fahr 45"]
[null,"Stab Ter Div Stabsbat 2",0,{"$f":"IF(C1530=1,COUNTIF($C$3:C1530,1),\"\")","v":""},{"$f":"IFERROR(INDEX(DROPDOWN_AOSuche_Alle,MATCH(ROWS($D$3:D1530),DROPDOWN_AOSuche_Helper2,0)),\"\")","v":""},"Kdo Ausb","LVb Log","Ih S 43"]
[null,"Stab Ter Div Stabsbat 3",0,{"$f":"IF(C1531=1,COUNTIF($C$3:C1531,1),\"\")","v":""},{"$f":"IFERROR(INDEX(DROPDOWN_AOSuche_Alle,MATCH(ROWS($D$3:D1531),DROPDOWN_AOSuche_Helper2,0)),\"\")","v":""},"Kdo Ausb","LVb Log","Ih S 43","Ih RS 43-1"]
[null,"Stab Ter Div Stabsbat 4",0,{"$f":"IF(C1532=1,COUNTIF($C$3:C1532,1),\"\")","v":""},{"$f":"IFERROR(INDEX(DROPDOWN_AOSuche_Alle,MATCH(ROWS($D$3:D1532),DROPDOWN_AOSuche_Helper2,0)),\"\")","v":""},"Kdo Ausb","LVb Log","Ih S 43","Ih RS 43-1","Ih RS Kp 43-1/1"]
[null,"Stab Vet u A Tiere Abt 13",0,{"$f":"IF(C1533=1,COUNTIF($C$3:C1533,1),\"\")","v":""},{"$f":"IFERROR(INDEX(DROPDOWN_AOSuche_Alle,MATCH(ROWS($D$3:D1533),DROPDOWN_AOSuche_Helper2,0)),\"\")","v":""},"Kdo Ausb","LVb Log","Ih S 43","Ih RS 43-1","Ih RS Kp 43-1/2"]
[null,"Stab VT Bat 1",0,{"$f":"IF(C1534=1,COUNTIF($C$3:C1534,1),\"\")","v":""},{"$f":"IFERROR(INDEX(DROPDOWN_AOSuche_Alle,MATCH(ROWS($D$3:D1534),DROPDOWN_AOSuche_Helper2,0)),\"\")","v":""},"Kdo Ausb","LVb Log","Ih S 43","Ih RS 43-1","Ih RS Kp 43-1/3"]
[null,"Tech Mat Kurse San S 42",0,{"$f":"IF(C1535=1,COUNTIF($C$3:C1535,1),\"\")","v":""},{"$f":"IFERROR(INDEX(DROPDOWN_AOSuche_Alle,MATCH(ROWS($D$3:D1535),DROPDOWN_AOSuche_Helper2,0)),\"\")","v":""},"Kdo Ausb","LVb Log","Ih S 43","Ih RS 43-1","Ih RS Kp 43-1/4"]
[null,"Ter Div 1",0,{"$f":"IF(C1536=1,COUNTIF($C$3:C1536,1),\"\")","v":""},{"$f":"IFERROR(INDEX(DROPDOWN_AOSuche_Alle,MATCH(ROWS($D$3:D1536),DROPDOWN_AOSuche_Helper2,0)),\"\")","v":""},"Kdo Ausb","LVb Log","Ih S 43","Ih RS 43-2"]
[null,"Ter Div 2",0,{"$f":"IF(C1537=1,COUNTIF($C$3:C1537,1),\"\")","v":""},{"$f":"IFERROR(INDEX(DROPDOWN_AOSuche_Alle,MATCH(ROWS($D$3:D1537),DROPDOWN_AOSuche_Helper2,0)),\"\")","v":""},"Kdo Ausb","LVb Log","Ih S 43","Ih RS 43-2","Ih RS Kp 43-2/1"]
[null,"Ter Div 3",0,{"$f":"IF(C1538=1,COUNTIF($C$3:C1538,1),\"\")","v":""},{"$f":"IFERROR(INDEX(DROPDOWN_AOSuche_Alle,MATCH(ROWS($D$3:D1538),DROPDOWN_AOSuche_Helper2,0)),\"\")","v":""},"Kdo Ausb","LVb Log","Ih S 43","Ih RS 43-2","Ih RS Kp 43-2/2"]
[null,"Ter Div 4",{"$f":"--ISNUMBER(IFERROR(SEARCH(AO_Search_Value,B1539,1),\"\"))","v":0},{"$f":"IF(C1539=1,COUNTIF($C$3:C1539,1),\"\")","v":""},{"$f":"IFERROR(INDEX(DROPDOWN_AOSuche_Alle,MATCH(ROWS($D$3:D1539),DROPDOWN_AOSuche_Helper2,0)),\"\")","v":""},"Kdo Ausb","LVb Log","Ih S 43","Ih RS 43-2","Ih RS Kp 43-2/3"]
[null,"Ter Div Aufkl Kp 1/4",0,{"$f":"IF(C1540=1,COUNTIF($C$3:C1540,1),\"\")","v":""},{"$f":"IFERROR(INDEX(DROPDOWN_AOSuche_Alle,MATCH(ROWS($D$3:D1540),DROPDOWN_AOSuche_Helper2,0)),\"\")","v":""},"Kdo Ausb","LVb Log","Ih S 43","Ih RS 43-2","Ih RS Kp 43-2/4"]
[null,"Ter Div Aufkl Kp 2/4",0,{"$f":"IF(C1541=1,COUNTIF($C$3:C1541,1),\"\")","v":""},{"$f":"IFERROR(INDEX(DROPDOWN_AOSuche_Alle,MATCH(ROWS($D$3:D1541),DROPDOWN_AOSuche_Helper2,0)),\"\")","v":""},"Kdo Ausb","LVb Log","Ih S 43","Ih UOS 43-1"]
[null,"Ter Div Aufkl Kp 3/4",0,{"$f":"IF(C1542=1,COUNTIF($C$3:C1542,1),\"\")","v":""},{"$f":"IFERROR(INDEX(DROPDOWN_AOSuche_Alle,MATCH(ROWS($D$3:D1542),DROPDOWN_AOSuche_Helper2,0)),\"\")","v":""},"Kdo Ausb","LVb Log","Ih S 43","Ih UOS 43-2"]
[null,"Ter Div Aufkl Kp 4/4",0,{"$f":"IF(C1543=1,COUNTIF($C$3:C1543,1),\"\")","v":""},{"$f":"IFERROR(INDEX(DROPDOWN_AOSuche_Alle,MATCH(ROWS($D$3:D1543),DROPDOWN_AOSuche_Helper2,0)),\"\")","v":""},"Kdo Ausb","LVb Log","Ih S 43","Ih RS 50-1"]
[null,"Ter Div Betr Kp 1/1",0,{"$f":"IF(C1544=1,COUNTIF($C$3:C1544,1),\"\")","v":""},{"$f":"IFERROR(INDEX(DROPDOWN_AOSuche_Alle,MATCH(ROWS($D$3:D1544),DROPDOWN_AOSuche_Helper2,0)),\"\")","v":""},"Kdo Ausb","LVb Log","Ih S 43","Ih RS 50-2"]
[null,"Ter Div Betr Kp 2/1",0,{"$f":"IF(C1545=1,COUNTIF($C$3:C1545,1),\"\")","v":""},{"$f":"IFERROR(INDEX(DROPDOWN_AOSuche_Alle,MATCH(ROWS($D$3:D1545),DROPDOWN_AOSuche_Helper2,0)),\"\")","v":""},"Kdo Ausb","LVb Log","Ih S 43","Ih RS 50-3"]
[null,"Ter Div Betr Kp 3/1",0,{"$f":"IF(C1546=1,COUNTIF($C$3:C1546,1),\"\")","v":""},{"$f":"IFERROR(INDEX(DROPDOWN_AOSuche_Alle,MATCH(ROWS($D$3:D1546),DROPDOWN_AOSuche_Helper2,0)),\"\")","v":""},"Kdo Ausb","LVb Log","VT S 47"]
[null,"Ter Div Betr Kp 4/1",0,{"$f":"IF(C1547=1,COUNTIF($C$3:C1547,1),\"\")","v":""},{"$f":"IFERROR(INDEX(DROPDOWN_AOSuche_Alle,MATCH(ROWS($D$3:D1547),DROPDOWN_AOSuche_Helper2,0)),\"\")","v":""},"Kdo Ausb","LVb Log","VT S 47","VT RS 47-1"]
[null,"Ter Div Si Kp 1/3",0,{"$f":"IF(C1548=1,COUNTIF($C$3:C1548,1),\"\")","v":""},{"$f":"IFERROR(INDEX(DROPDOWN_AOSuche_Alle,MATCH(ROWS($D$3:D1548),DROPDOWN_AOSuche_Helper2,0)),\"\")","v":""},"Kdo Ausb","LVb Log","VT S 47","VT RS 47-1","VT RS Kp 47-1/1"]
[null,"Ter Div Si Kp 2/3",0,{"$f":"IF(C1549=1,COUNTIF($C$3:C1549,1),\"\")","v":""},{"$f":"IFERROR(INDEX(DROPDOWN_AOSuche_Alle,MATCH(ROWS($D$3:D1549),DROPDOWN_AOSuche_Helper2,0)),\"\")","v":""},"Kdo Ausb","LVb Log","VT S 47","VT RS 47-1","VT RS Kp 47-1/2"]
[null,"Ter Div Si Kp 3/3",0,{"$f":"IF(C1550=1,COUNTIF($C$3:C1550,1),\"\")","v":""},{"$f":"IFERROR(INDEX(DROPDOWN_AOSuche_Alle,MATCH(ROWS($D$3:D1550),DROPDOWN_AOSuche_Helper2,0)),\"\")","v":""},"Kdo Ausb","LVb Log","VT S 47","VT RS 47-1","VT RS Kp 47-1/3"]
[null,"Ter Div Si Kp 4/3",0,{"$f":"IF(C1551=1,COUNTIF($C$3:C1551,1),\"\")","v":""},{"$f":"IFERROR(INDEX(DROPDOWN_AOSuche_Alle,MATCH(ROWS($D$3:D1551),DROPDOWN_AOSuche_Helper2,0)),\"\")","v":""},"Kdo Ausb","LVb Log","VT S 47","VT RS 47-1","VT RS Kp 47-1/4"]
[null,"Ter Div Stabsbat 1",0,{"$f":"IF(C1552=1,COUNTIF($C$3:C1552,1),\"\")","v":""},{"$f":"IFERROR(INDEX(DROPDOWN_AOSuche_Alle,MATCH(ROWS($D$3:D1552),DROPDOWN_AOSuche_Helper2,0)),\"\")","v":""},"Kdo Ausb","LVb Log","VT S 47","VT RS 47-1","VT RS Kp 47-1/5"]
[null,"Ter Div Stabsbat 2",0,{"$f":"IF(C1553=1,COUNTIF($C$3:C1553,1),\"\")","v":""},{"$f":"IFERROR(INDEX(DROPDOWN_AOSuche_Alle,MATCH(ROWS($D$3:D1553),DROPDOWN_AOSuche_Helper2,0)),\"\")","v":""},"Kdo Ausb","LVb Log","VT S 47","VT RS 47-1","VT RS Kp 47-1/6"]
[null,"Ter Div Stabsbat 3",0,{"$f":"IF(C1554=1,COUNTIF($C$3:C1554,1),\"\")","v":""},{"$f":"IFERROR(INDEX(DROPDOWN_AOSuche_Alle,MATCH(ROWS($D$3:D1554),DROPDOWN_AOSuche_Helper2,0)),\"\")","v":""},"Kdo Ausb","LVb Log","VT S 47","VT RS 47-1","VT RS 47-1 VBA 1"]
[null,"Ter Div Stabsbat 4",0,{"$f":"IF(C1555=1,COUNTIF($C$3:C1555,1),\"\")","v":""},{"$f":"IFERROR(INDEX(DROPDOWN_AOSuche_Alle,MATCH(ROWS($D$3:D1555),DROPDOWN_AOSuche_Helper2,0)),\"\")","v":""},"Kdo Ausb","LVb Log","VT S 47","VT RS 47-1","Log OS Fach D VT 47-1"]
[null,"Ter Div Stabskp 1",0,{"$f":"IF(C1556=1,COUNTIF($C$3:C1556,1),\"\")","v":""},{"$f":"IFERROR(INDEX(DROPDOWN_AOSuche_Alle,MATCH(ROWS($D$3:D1556),DROPDOWN_AOSuche_Helper2,0)),\"\")","v":""},"Kdo Ausb","LVb Log","VT S 47","VT RS 47-2"]
[null,"Ter Div Stabskp 2",0,{"$f":"IF(C1557=1,COUNTIF($C$3:C1557,1),\"\")","v":""},{"$f":"IFERROR(INDEX(DROPDOWN_AOSuche_Alle,MATCH(ROWS($D$3:D1557),DROPDOWN_AOSuche_Helper2,0)),\"\")","v":""},"Kdo Ausb","LVb Log","VT S 47","VT RS 47-2","VT RS Kp 47-2/1"]
[null,"Ter Div Stabskp 3",0,{"$f":"IF(C1558=1,COUNTIF($C$3:C1558,1),\"\")","v":""},{"$f":"IFERROR(INDEX(DROPDOWN_AOSuche_Alle,MATCH(ROWS($D$3:D1558),DROPDOWN_AOSuche_Helper2,0)),\"\")","v":""},"Kdo Ausb","LVb Log","VT S 47","VT RS 47-2","VT RS Kp 47-2/3"]
[null,"Ter Div Stabskp 4",0,{"$f":"IF(C1559=1,COUNTIF($C$3:C1559,1),\"\")","v":""},{"$f":"IFERROR(INDEX(DROPDOWN_AOSuche_Alle,MATCH(ROWS($D$3:D1559),DROPDOWN_AOSuche_Helper2,0)),\"\")","v":""},"Kdo Ausb","LVb Log","VT S 47","VT RS 47-3"]
[null,"Ter Div Uem Kp 1/2",0,{"$f":"IF(C1560=1,COUNTIF($C$3:C1560,1),\"\")","v":""},{"$f":"IFERROR(INDEX(DROPDOWN_AOSuche_Alle,MATCH(ROWS($D$3:D1560),DROPDOWN_AOSuche_Helper2,0)),\"\")","v":""},"Kdo Ausb","LVb Log","VT S 47","VT RS 47-3","VT RS Kp 47-3/1"]
[null,"Ter Div Uem Kp 2/2",0,{"$f":"IF(C1561=1,COUNTIF($C$3:C1561,1),\"\")","v":""},{"$f":"IFERROR(INDEX(DROPDOWN_AOSuche_Alle,MATCH(ROWS($D$3:D1561),DROPDOWN_AOSuche_Helper2,0)),\"\")","v":""},"Kdo Ausb","LVb Log","VT S 47","VT RS 47-3","VT RS Kp 47-3/2"]
[null,"Ter Div Uem Kp 3/2",0,{"$f":"IF(C1562=1,COUNTIF($C$3:C1562,1),\"\")","v":""},{"$f":"IFERROR(INDEX(DROPDOWN_AOSuche_Alle,MATCH(ROWS($D$3:D1562),DROPDOWN_AOSuche_Helper2,0)),\"\")","v":""},"Kdo Ausb","LVb Log","VT S 47","VT RS 47-3","VT RS Kp 47-3/3"]
[null,"Ter Div Uem Kp 4/2",0,{"$f":"IF(C1563=1,COUNTIF($C$3:C1563,1),\"\")","v":""},{"$f":"IFERROR(INDEX(DROPDOWN_AOSuche_Alle,MATCH(ROWS($D$3:D1563),DROPDOWN_AOSuche_Helper2,0)),\"\")","v":""},"Kdo Ausb","LVb Log","VT S 47","VT RS 47-3","VT RS Kp 47-3/4"]
[null,"TK 1 Flab",0,{"$f":"IF(C1564=1,COUNTIF($C$3:C1564,1),\"\")","v":""},{"$f":"IFERROR(INDEX(DROPDOWN_AOSuche_Alle,MATCH(ROWS($D$3:D1564),DROPDOWN_AOSuche_Helper2,0)),\"\")","v":""},"Kdo Ausb","LVb Log","VT S 47","VT RS 47-3","VT RS Kp 47-3/5"]
[null,"TK 2 Flab",0,{"$f":"IF(C1565=1,COUNTIF($C$3:C1565,1),\"\")","v":""},{"$f":"IFERROR(INDEX(DROPDOWN_AOSuche_Alle,MATCH(ROWS($D$3:D1565),DROPDOWN_AOSuche_Helper2,0)),\"\")","v":""},"Kdo Ausb","LVb Log","VT S 47","VT RS 47-3","VT RS Kp 47-3/6"]
[null,"TK 3 Flab",0,{"$f":"IF(C1566=1,COUNTIF($C$3:C1566,1),\"\")","v":""},{"$f":"IFERROR(INDEX(DROPDOWN_AOSuche_Alle,MATCH(ROWS($D$3:D1566),DROPDOWN_AOSuche_Helper2,0)),\"\")","v":""},"Kdo Ausb","LVb Log","VT S 47","VT RS 47-3","VT RS 47-3 VBA 1"]
[null,"TK 4 Flab",0,{"$f":"IF(C1567=1,COUNTIF($C$3:C1567,1),\"\")","v":""},{"$f":"IFERROR(INDEX(DROPDOWN_AOSuche_Alle,MATCH(ROWS($D$3:D1567),DROPDOWN_AOSuche_Helper2,0)),\"\")","v":""},"Kdo Ausb","LVb Log","VT S 47","VT RS 47-3","Log OS Fach D VT 47-3"]
[null,"TK 5 Flab",0,{"$f":"IF(C1568=1,COUNTIF($C$3:C1568,1),\"\")","v":""},{"$f":"IFERROR(INDEX(DROPDOWN_AOSuche_Alle,MATCH(ROWS($D$3:D1568),DROPDOWN_AOSuche_Helper2,0)),\"\")","v":""},"Kdo Ausb","LVb Log","VT S 47","VT RS 47-4"]
[null,"TK 6 Flab",0,{"$f":"IF(C1569=1,COUNTIF($C$3:C1569,1),\"\")","v":""},{"$f":"IFERROR(INDEX(DROPDOWN_AOSuche_Alle,MATCH(ROWS($D$3:D1569),DROPDOWN_AOSuche_Helper2,0)),\"\")","v":""},"Kdo Ausb","LVb Log","VT S 47","VT RS 47-4","VT RS Kp 47-4/2"]
[null,"TLG 1 Zfhr Stv Inf",0,{"$f":"IF(C1570=1,COUNTIF($C$3:C1570,1),\"\")","v":""},{"$f":"IFERROR(INDEX(DROPDOWN_AOSuche_Alle,MATCH(ROWS($D$3:D1570),DROPDOWN_AOSuche_Helper2,0)),\"\")","v":""},"Kdo Ausb","LVb Log","VT S 47","VT RS 47-4","VT RS Kp 47-4/5"]
[null,"TLG 2 Zfhr Stv Inf",0,{"$f":"IF(C1571=1,COUNTIF($C$3:C1571,1),\"\")","v":""},{"$f":"IFERROR(INDEX(DROPDOWN_AOSuche_Alle,MATCH(ROWS($D$3:D1571),DROPDOWN_AOSuche_Helper2,0)),\"\")","v":""},"Kdo Ausb","LVb Log","VT S 47","VT UOS 47-1"]
[null,"TLG A ABC Of",0,{"$f":"IF(C1572=1,COUNTIF($C$3:C1572,1),\"\")","v":""},{"$f":"IFERROR(INDEX(DROPDOWN_AOSuche_Alle,MATCH(ROWS($D$3:D1572),DROPDOWN_AOSuche_Helper2,0)),\"\")","v":""},"Kdo Ausb","LVb Log","VT S 47","VT UOS 47-2"]
[null,"TLG A Asg/PPD A",0,{"$f":"IF(C1573=1,COUNTIF($C$3:C1573,1),\"\")","v":""},{"$f":"IFERROR(INDEX(DROPDOWN_AOSuche_Alle,MATCH(ROWS($D$3:D1573),DROPDOWN_AOSuche_Helper2,0)),\"\")","v":""},"Kdo Ausb","LVb Log","VT S 47","VT UOS 47-3"]
[null,"TLG A MP",0,{"$f":"IF(C1574=1,COUNTIF($C$3:C1574,1),\"\")","v":""},{"$f":"IFERROR(INDEX(DROPDOWN_AOSuche_Alle,MATCH(ROWS($D$3:D1574),DROPDOWN_AOSuche_Helper2,0)),\"\")","v":""},"Kdo Ausb","LVb Log","VT S 47","VT UOS 47-4"]
[null,"TLG B ABC Of",0,{"$f":"IF(C1575=1,COUNTIF($C$3:C1575,1),\"\")","v":""},{"$f":"IFERROR(INDEX(DROPDOWN_AOSuche_Alle,MATCH(ROWS($D$3:D1575),DROPDOWN_AOSuche_Helper2,0)),\"\")","v":""},"Kdo Ausb","LVb Log","VT S 47","VT RS 47-2"]
[null,"TLG B DC Asg",0,{"$f":"IF(C1576=1,COUNTIF($C$3:C1576,1),\"\")","v":""},{"$f":"IFERROR(INDEX(DROPDOWN_AOSuche_Alle,MATCH(ROWS($D$3:D1576),DROPDOWN_AOSuche_Helper2,0)),\"\")","v":""},"Kdo Ausb","LVb Log","VT S 47","VT RS 47-2","VT RS Kp 47-2/1"]
[null,"TLG Fw Flst 31-1",0,{"$f":"IF(C1577=1,COUNTIF($C$3:C1577,1),\"\")","v":""},{"$f":"IFERROR(INDEX(DROPDOWN_AOSuche_Alle,MATCH(ROWS($D$3:D1577),DROPDOWN_AOSuche_Helper2,0)),\"\")","v":""},"Kdo Ausb","LVb Log","VT S 47","VT RS 47-2","VT RS Kp 47-2/2"]
[null,"TLG Fw Flst 31-2",0,{"$f":"IF(C1578=1,COUNTIF($C$3:C1578,1),\"\")","v":""},{"$f":"IFERROR(INDEX(DROPDOWN_AOSuche_Alle,MATCH(ROWS($D$3:D1578),DROPDOWN_AOSuche_Helper2,0)),\"\")","v":""},"Kdo Ausb","LVb Log","VT S 47","VT RS 47-2","VT RS Kp 47-2/3"]
[null,"TLG Zfhr Stv LW AT Br",0,{"$f":"IF(C1579=1,COUNTIF($C$3:C1579,1),\"\")","v":""},{"$f":"IFERROR(INDEX(DROPDOWN_AOSuche_Alle,MATCH(ROWS($D$3:D1579),DROPDOWN_AOSuche_Helper2,0)),\"\")","v":""},"Kdo Ausb","LVb Log","VT S 47","VT RS 47-2","VT RS Kp 47-2/4"]
[null,"Tr Kol 13/1",0,{"$f":"IF(C1580=1,COUNTIF($C$3:C1580,1),\"\")","v":""},{"$f":"IFERROR(INDEX(DROPDOWN_AOSuche_Alle,MATCH(ROWS($D$3:D1580),DROPDOWN_AOSuche_Helper2,0)),\"\")","v":""},"Kdo Ausb","LVb Log","VT S 47","VT RS 47-2","VT RS Kp 47-2/5"]
[null,"Tr Kol 13/2",0,{"$f":"IF(C1581=1,COUNTIF($C$3:C1581,1),\"\")","v":""},{"$f":"IFERROR(INDEX(DROPDOWN_AOSuche_Alle,MATCH(ROWS($D$3:D1581),DROPDOWN_AOSuche_Helper2,0)),\"\")","v":""},"Kdo Ausb","LVb Log","VT S 47","VT RS 47-2","VT RS Kp 47-2/6"]
[null,"Tr Kol 13/3",0,{"$f":"IF(C1582=1,COUNTIF($C$3:C1582,1),\"\")","v":""},{"$f":"IFERROR(INDEX(DROPDOWN_AOSuche_Alle,MATCH(ROWS($D$3:D1582),DROPDOWN_AOSuche_Helper2,0)),\"\")","v":""},"Kdo Ausb","LVb Log","VT S 47","VT RS 47-1"]
[null,"Trsp Kp 1/4",0,{"$f":"IF(C1583=1,COUNTIF($C$3:C1583,1),\"\")","v":""},{"$f":"IFERROR(INDEX(DROPDOWN_AOSuche_Alle,MATCH(ROWS($D$3:D1583),DROPDOWN_AOSuche_Helper2,0)),\"\")","v":""},"Kdo Ausb","LVb Log","VT S 47","VT RS 47-1","VT RS Kp 47-1/1"]
[null,"Trsp Kp 1/5",0,{"$f":"IF(C1584=1,COUNTIF($C$3:C1584,1),\"\")","v":""},{"$f":"IFERROR(INDEX(DROPDOWN_AOSuche_Alle,MATCH(ROWS($D$3:D1584),DROPDOWN_AOSuche_Helper2,0)),\"\")","v":""},"Kdo Ausb","LVb Log","VT S 47","VT RS 47-1","VT RS Kp 47-1/2"]
[null,"Trsp Kp 1/6",0,{"$f":"IF(C1585=1,COUNTIF($C$3:C1585,1),\"\")","v":""},{"$f":"IFERROR(INDEX(DROPDOWN_AOSuche_Alle,MATCH(ROWS($D$3:D1585),DROPDOWN_AOSuche_Helper2,0)),\"\")","v":""},"Kdo Ausb","LVb Log","VT S 47","VT RS 47-1","VT RS Kp 47-1/3"]
[null,"Uem/FU RS 61-1",0,{"$f":"IF(C1586=1,COUNTIF($C$3:C1586,1),\"\")","v":""},{"$f":"IFERROR(INDEX(DROPDOWN_AOSuche_Alle,MATCH(ROWS($D$3:D1586),DROPDOWN_AOSuche_Helper2,0)),\"\")","v":""},"Kdo Ausb","LVb Log","VT S 47","VT RS 47-1","VT RS Kp 47-1/4"]
[null,"Uem/FU RS 61-2",0,{"$f":"IF(C1587=1,COUNTIF($C$3:C1587,1),\"\")","v":""},{"$f":"IFERROR(INDEX(DROPDOWN_AOSuche_Alle,MATCH(ROWS($D$3:D1587),DROPDOWN_AOSuche_Helper2,0)),\"\")","v":""},"Kdo Ausb","LVb Log","VT S 47","VT RS 47-1","VT RS Kp 47-1/5"]
[null,"Uem/FU RS 61-3",0,{"$f":"IF(C1588=1,COUNTIF($C$3:C1588,1),\"\")","v":""},{"$f":"IFERROR(INDEX(DROPDOWN_AOSuche_Alle,MATCH(ROWS($D$3:D1588),DROPDOWN_AOSuche_Helper2,0)),\"\")","v":""},"Kdo Ausb","LVb Log","VT S 47","VT RS 47-1","VT RS Kp 47-1/6"]
[null,"Vet Az OS 46",0,{"$f":"IF(C1589=1,COUNTIF($C$3:C1589,1),\"\")","v":""},{"$f":"IFERROR(INDEX(DROPDOWN_AOSuche_Alle,MATCH(ROWS($D$3:D1589),DROPDOWN_AOSuche_Helper2,0)),\"\")","v":""},"Kdo Ausb","LVb Log","VT S 47","VT RS 47-3"]
[null,"Vet Az UOS 46",0,{"$f":"IF(C1590=1,COUNTIF($C$3:C1590,1),\"\")","v":""},{"$f":"IFERROR(INDEX(DROPDOWN_AOSuche_Alle,MATCH(ROWS($D$3:D1590),DROPDOWN_AOSuche_Helper2,0)),\"\")","v":""},"Kdo Ausb","LVb Log","VT S 47","VT RS 47-3","VT RS Kp 47-3/1"]
[null,"Vet D u A Tiere RS 46-1",0,{"$f":"IF(C1591=1,COUNTIF($C$3:C1591,1),\"\")","v":""},{"$f":"IFERROR(INDEX(DROPDOWN_AOSuche_Alle,MATCH(ROWS($D$3:D1591),DROPDOWN_AOSuche_Helper2,0)),\"\")","v":""},"Kdo Ausb","LVb Log","VT S 47","VT RS 47-3","VT RS Kp 47-3/2"]
[null,"Vet D u A Tiere RS 46-2",0,{"$f":"IF(C1592=1,COUNTIF($C$3:C1592,1),\"\")","v":""},{"$f":"IFERROR(INDEX(DROPDOWN_AOSuche_Alle,MATCH(ROWS($D$3:D1592),DROPDOWN_AOSuche_Helper2,0)),\"\")","v":""},"Kdo Ausb","LVb Log","VT S 47","VT RS 47-3","VT RS Kp 47-3/3"]
[null,"Vet D u A Tiere RS 57-1",0,{"$f":"IF(C1593=1,COUNTIF($C$3:C1593,1),\"\")","v":""},{"$f":"IFERROR(INDEX(DROPDOWN_AOSuche_Alle,MATCH(ROWS($D$3:D1593),DROPDOWN_AOSuche_Helper2,0)),\"\")","v":""},"Kdo Ausb","LVb Log","VT S 47","VT RS 47-3","VT RS Kp 47-3/4"]
[null,"Vet D u A Tiere RS 57-2",0,{"$f":"IF(C1594=1,COUNTIF($C$3:C1594,1),\"\")","v":""},{"$f":"IFERROR(INDEX(DROPDOWN_AOSuche_Alle,MATCH(ROWS($D$3:D1594),DROPDOWN_AOSuche_Helper2,0)),\"\")","v":""},"Kdo Ausb","LVb Log","VT S 47","VT RS 47-3","VT RS Kp 47-3/5"]
[null,"Vet D u A Tiere S 46",0,{"$f":"IF(C1595=1,COUNTIF($C$3:C1595,1),\"\")","v":""},{"$f":"IFERROR(INDEX(DROPDOWN_AOSuche_Alle,MATCH(ROWS($D$3:D1595),DROPDOWN_AOSuche_Helper2,0)),\"\")","v":""},"Kdo Ausb","LVb Log","VT S 47","VT RS 47-3","VT RS Kp 47-3/6"]
[null,"Vet D u A Tiere UOS 46-1",0,{"$f":"IF(C1596=1,COUNTIF($C$3:C1596,1),\"\")","v":""},{"$f":"IFERROR(INDEX(DROPDOWN_AOSuche_Alle,MATCH(ROWS($D$3:D1596),DROPDOWN_AOSuche_Helper2,0)),\"\")","v":""},"Kdo Ausb","LVb Log","Kü C LG 48"]
[null,"Vet D u A Tiere UOS 46-2",0,{"$f":"IF(C1597=1,COUNTIF($C$3:C1597,1),\"\")","v":""},{"$f":"IFERROR(INDEX(DROPDOWN_AOSuche_Alle,MATCH(ROWS($D$3:D1597),DROPDOWN_AOSuche_Helper2,0)),\"\")","v":""},"Kdo Ausb","LVb Log","Kü C LG 48","Kü C UOS 48-1"]
[null,"Vet Kp 13/4",0,{"$f":"IF(C1598=1,COUNTIF($C$3:C1598,1),\"\")","v":""},{"$f":"IFERROR(INDEX(DROPDOWN_AOSuche_Alle,MATCH(ROWS($D$3:D1598),DROPDOWN_AOSuche_Helper2,0)),\"\")","v":""},"Kdo Ausb","LVb Log","Kü C LG 48","Kü C UOS 48-2"]
[null,"Vet u A Tiere Abt 13",0,{"$f":"IF(C1599=1,COUNTIF($C$3:C1599,1),\"\")","v":""},{"$f":"IFERROR(INDEX(DROPDOWN_AOSuche_Alle,MATCH(ROWS($D$3:D1599),DROPDOWN_AOSuche_Helper2,0)),\"\")","v":""},"Kdo Ausb","LVb Log","Höh Uof LG 49"]
[null,"Vrk Kp 1/1",0,{"$f":"IF(C1600=1,COUNTIF($C$3:C1600,1),\"\")","v":""},{"$f":"IFERROR(INDEX(DROPDOWN_AOSuche_Alle,MATCH(ROWS($D$3:D1600),DROPDOWN_AOSuche_Helper2,0)),\"\")","v":""},"Kdo Ausb","LVb Log","Höh Uof LG 49","Höh Uof LG 49-1"]
[null,"Vrk Kp 1/2",0,{"$f":"IF(C1601=1,COUNTIF($C$3:C1601,1),\"\")","v":""},{"$f":"IFERROR(INDEX(DROPDOWN_AOSuche_Alle,MATCH(ROWS($D$3:D1601),DROPDOWN_AOSuche_Helper2,0)),\"\")","v":""},"Kdo Ausb","LVb Log","Höh Uof LG 49","Höh Uof LG 49-2"]
[null,"Vrk Kp 1/3",0,{"$f":"IF(C1602=1,COUNTIF($C$3:C1602,1),\"\")","v":""},{"$f":"IFERROR(INDEX(DROPDOWN_AOSuche_Alle,MATCH(ROWS($D$3:D1602),DROPDOWN_AOSuche_Helper2,0)),\"\")","v":""},"Kdo Ausb","LVb Log","Höh Uof LG 49","Höh Uof LG 49-3"]
[null,"VT Bat 1",{"$f":"--ISNUMBER(IFERROR(SEARCH(AO_Search_Value,B1603,1),\"\"))","v":0},{"$f":"IF(C1603=1,COUNTIF($C$3:C1603,1),\"\")","v":""},{"$f":"IFERROR(INDEX(DROPDOWN_AOSuche_Alle,MATCH(ROWS($D$3:D1603),DROPDOWN_AOSuche_Helper2,0)),\"\")","v":""},"Kdo Ausb","LVb Log","Höh Uof LG 49","Höh Uof LG 49-4"]
[null,"VT RS 47-1",0,{"$f":"IF(C1604=1,COUNTIF($C$3:C1604,1),\"\")","v":""},{"$f":"IFERROR(INDEX(DROPDOWN_AOSuche_Alle,MATCH(ROWS($D$3:D1604),DROPDOWN_AOSuche_Helper2,0)),\"\")","v":""},"Kdo Ausb","LVb Log","Höh Uof LG 49","FK 1 WA Einh Fw"]
[null,"VT RS 47-1 VBA 1",0,{"$f":"IF(C1605=1,COUNTIF($C$3:C1605,1),\"\")","v":""},{"$f":"IFERROR(INDEX(DROPDOWN_AOSuche_Alle,MATCH(ROWS($D$3:D1605),DROPDOWN_AOSuche_Helper2,0)),\"\")","v":""},"Kdo Ausb","LVb Log","Höh Uof LG 49","FK 2 WA Einh Fw"]
[null,"VT RS 47-2",0,{"$f":"IF(C1606=1,COUNTIF($C$3:C1606,1),\"\")","v":""},{"$f":"IFERROR(INDEX(DROPDOWN_AOSuche_Alle,MATCH(ROWS($D$3:D1606),DROPDOWN_AOSuche_Helper2,0)),\"\")","v":""},"Kdo Ausb","LVb Log","Höh Uof LG 49","FK 1 WA Four"]
[null,"VT RS 47-3",0,{"$f":"IF(C1607=1,COUNTIF($C$3:C1607,1),\"\")","v":""},{"$f":"IFERROR(INDEX(DROPDOWN_AOSuche_Alle,MATCH(ROWS($D$3:D1607),DROPDOWN_AOSuche_Helper2,0)),\"\")","v":""},"Kdo Ausb","LVb Log","Höh Uof LG 49","FK 2 WA Four"]
[null,"VT RS 47-3 VBA 1",0,{"$f":"IF(C1608=1,COUNTIF($C$3:C1608,1),\"\")","v":""},{"$f":"IFERROR(INDEX(DROPDOWN_AOSuche_Alle,MATCH(ROWS($D$3:D1608),DROPDOWN_AOSuche_Helper2,0)),\"\")","v":""},"Kdo Ausb","LVb Log","Spit S 41"]
[null,"VT RS 47-4",0,{"$f":"IF(C1609=1,COUNTIF($C$3:C1609,1),\"\")","v":""},{"$f":"IFERROR(INDEX(DROPDOWN_AOSuche_Alle,MATCH(ROWS($D$3:D1609),DROPDOWN_AOSuche_Helper2,0)),\"\")","v":""},"Kdo Ausb","LVb Log","Spit S 41","Spit RS 41-1"]
[null,"VT RS Kp 47-1/1",0,{"$f":"IF(C1610=1,COUNTIF($C$3:C1610,1),\"\")","v":""},{"$f":"IFERROR(INDEX(DROPDOWN_AOSuche_Alle,MATCH(ROWS($D$3:D1610),DROPDOWN_AOSuche_Helper2,0)),\"\")","v":""},"Kdo Ausb","LVb Log","Spit S 41","Spit RS 41-1","Spit RS Kp 41-1/1"]
[null,"VT RS Kp 47-1/2",0,{"$f":"IF(C1611=1,COUNTIF($C$3:C1611,1),\"\")","v":""},{"$f":"IFERROR(INDEX(DROPDOWN_AOSuche_Alle,MATCH(ROWS($D$3:D1611),DROPDOWN_AOSuche_Helper2,0)),\"\")","v":""},"Kdo Ausb","LVb Log","Spit S 41","Spit RS 41-1","Spit RS Kp 41-1/2"]
[null,"VT RS Kp 47-1/3",0,{"$f":"IF(C1612=1,COUNTIF($C$3:C1612,1),\"\")","v":""},{"$f":"IFERROR(INDEX(DROPDOWN_AOSuche_Alle,MATCH(ROWS($D$3:D1612),DROPDOWN_AOSuche_Helper2,0)),\"\")","v":""},"Kdo Ausb","LVb Log","Spit S 41","Spit RS 41-2"]
[null,"VT RS Kp 47-1/4",0,{"$f":"IF(C1613=1,COUNTIF($C$3:C1613,1),\"\")","v":""},{"$f":"IFERROR(INDEX(DROPDOWN_AOSuche_Alle,MATCH(ROWS($D$3:D1613),DROPDOWN_AOSuche_Helper2,0)),\"\")","v":""},"Kdo Ausb","LVb Log","Spit S 41","Spit RS 41-2","Spit RS Kp 41-2/1"]
[null,"VT RS Kp 47-1/5",0,{"$f":"IF(C1614=1,COUNTIF($C$3:C1614,1),\"\")","v":""},{"$f":"IFERROR(INDEX(DROPDOWN_AOSuche_Alle,MATCH(ROWS($D$3:D1614),DROPDOWN_AOSuche_Helper2,0)),\"\")","v":""},"Kdo Ausb","LVb Log","Spit S 41","Spit RS 41-2","Spit RS Kp 41-2/2"]
[null,"VT RS Kp 47-1/6",0,{"$f":"IF(C1615=1,COUNTIF($C$3:C1615,1),\"\")","v":""},{"$f":"IFERROR(INDEX(DROPDOWN_AOSuche_Alle,MATCH(ROWS($D$3:D1615),DROPDOWN_AOSuche_Helper2,0)),\"\")","v":""},"Kdo Ausb","LVb Log","Spit S 41","Spit UOS 41-1"]
[null,"VT RS Kp 47-2/1",0,{"$f":"IF(C1616=1,COUNTIF($C$3:C1616,1),\"\")","v":""},{"$f":"IFERROR(INDEX(DROPDOWN_AOSuche_Alle,MATCH(ROWS($D$3:D1616),DROPDOWN_AOSuche_Helper2,0)),\"\")","v":""},"Kdo Ausb","LVb Log","Spit S 41","Spit UOS 41-2"]
[null,"VT RS Kp 47-2/2",0,{"$f":"IF(C1617=1,COUNTIF($C$3:C1617,1),\"\")","v":""},{"$f":"IFERROR(INDEX(DROPDOWN_AOSuche_Alle,MATCH(ROWS($D$3:D1617),DROPDOWN_AOSuche_Helper2,0)),\"\")","v":""},"Kdo Ausb","LVb Log","Spit S 41","Mil Az UOS 41"]
[null,"VT RS Kp 47-2/3",0,{"$f":"IF(C1618=1,COUNTIF($C$3:C1618,1),\"\")","v":""},{"$f":"IFERROR(INDEX(DROPDOWN_AOSuche_Alle,MATCH(ROWS($D$3:D1618),DROPDOWN_AOSuche_Helper2,0)),\"\")","v":""},"Kdo Ausb","LVb Log","Spit S 41","Mil Az OS 41-1"]
[null,"VT RS Kp 47-2/4",0,{"$f":"IF(C1619=1,COUNTIF($C$3:C1619,1),\"\")","v":""},{"$f":"IFERROR(INDEX(DROPDOWN_AOSuche_Alle,MATCH(ROWS($D$3:D1619),DROPDOWN_AOSuche_Helper2,0)),\"\")","v":""},"Kdo Ausb","LVb Log","Spit S 41","Mil Az OS 41-2"]
[null,"VT RS Kp 47-2/5",0,{"$f":"IF(C1620=1,COUNTIF($C$3:C1620,1),\"\")","v":""},{"$f":"IFERROR(INDEX(DROPDOWN_AOSuche_Alle,MATCH(ROWS($D$3:D1620),DROPDOWN_AOSuche_Helper2,0)),\"\")","v":""},"Kdo Ausb","LVb Log","Spit S 41","Spit RS 41-1"]
[null,"VT RS Kp 47-2/6",0,{"$f":"IF(C1621=1,COUNTIF($C$3:C1621,1),\"\")","v":""},{"$f":"IFERROR(INDEX(DROPDOWN_AOSuche_Alle,MATCH(ROWS($D$3:D1621),DROPDOWN_AOSuche_Helper2,0)),\"\")","v":""},"Kdo Ausb","LVb Log","Spit S 41","Spit RS 41-2"]
[null,"VT RS Kp 47-3/1",0,{"$f":"IF(C1622=1,COUNTIF($C$3:C1622,1),\"\")","v":""},{"$f":"IFERROR(INDEX(DROPDOWN_AOSuche_Alle,MATCH(ROWS($D$3:D1622),DROPDOWN_AOSuche_Helper2,0)),\"\")","v":""},"Kdo Ausb","LVb Log","Spit S 41","Spit RS 41-3"]
[null,"VT RS Kp 47-3/2",0,{"$f":"IF(C1623=1,COUNTIF($C$3:C1623,1),\"\")","v":""},{"$f":"IFERROR(INDEX(DROPDOWN_AOSuche_Alle,MATCH(ROWS($D$3:D1623),DROPDOWN_AOSuche_Helper2,0)),\"\")","v":""},"Kdo Ausb","LVb Log","Spit S 41","RKD RS 41-1"]
[null,"VT RS Kp 47-3/3",0,{"$f":"IF(C1624=1,COUNTIF($C$3:C1624,1),\"\")","v":""},{"$f":"IFERROR(INDEX(DROPDOWN_AOSuche_Alle,MATCH(ROWS($D$3:D1624),DROPDOWN_AOSuche_Helper2,0)),\"\")","v":""},"Kdo Ausb","LVb Log","Spit S 41","RKD RS 41-2"]
[null,"VT RS Kp 47-3/4",0,{"$f":"IF(C1625=1,COUNTIF($C$3:C1625,1),\"\")","v":""},{"$f":"IFERROR(INDEX(DROPDOWN_AOSuche_Alle,MATCH(ROWS($D$3:D1625),DROPDOWN_AOSuche_Helper2,0)),\"\")","v":""},"Kdo Ausb","LVb Log","Spit S 41","RKD UOS 41-1"]
[null,"VT RS Kp 47-3/5",0,{"$f":"IF(C1626=1,COUNTIF($C$3:C1626,1),\"\")","v":""},{"$f":"IFERROR(INDEX(DROPDOWN_AOSuche_Alle,MATCH(ROWS($D$3:D1626),DROPDOWN_AOSuche_Helper2,0)),\"\")","v":""},"Kdo Ausb","LVb Log","Spit S 41","RKD UOS 41-2"]
[null,"VT RS Kp 47-3/6",0,{"$f":"IF(C1627=1,COUNTIF($C$3:C1627,1),\"\")","v":""},{"$f":"IFERROR(INDEX(DROPDOWN_AOSuche_Alle,MATCH(ROWS($D$3:D1627),DROPDOWN_AOSuche_Helper2,0)),\"\")","v":""},"Kdo Ausb","LVb Log","Spit S 41","RKD OS 41"]
[null,"VT RS Kp 47-4/2",0,{"$f":"IF(C1628=1,COUNTIF($C$3:C1628,1),\"\")","v":""},{"$f":"IFERROR(INDEX(DROPDOWN_AOSuche_Alle,MATCH(ROWS($D$3:D1628),DROPDOWN_AOSuche_Helper2,0)),\"\")","v":""},"Kdo Ausb","LVb Log","Spit S 41","RKD Mil Az UOS 41"]
[null,"VT RS Kp 47-4/5",0,{"$f":"IF(C1629=1,COUNTIF($C$3:C1629,1),\"\")","v":""},{"$f":"IFERROR(INDEX(DROPDOWN_AOSuche_Alle,MATCH(ROWS($D$3:D1629),DROPDOWN_AOSuche_Helper2,0)),\"\")","v":""},"Kdo Ausb","LVb Log","Spit S 41","RKD Mil Az OS 41"]
[null,"VT S 47",0,{"$f":"IF(C1630=1,COUNTIF($C$3:C1630,1),\"\")","v":""},{"$f":"IFERROR(INDEX(DROPDOWN_AOSuche_Alle,MATCH(ROWS($D$3:D1630),DROPDOWN_AOSuche_Helper2,0)),\"\")","v":""},"Kdo Ausb","LVb Log","San S 42"]
[null,"VT Stabskp 1",0,{"$f":"IF(C1631=1,COUNTIF($C$3:C1631,1),\"\")","v":""},{"$f":"IFERROR(INDEX(DROPDOWN_AOSuche_Alle,MATCH(ROWS($D$3:D1631),DROPDOWN_AOSuche_Helper2,0)),\"\")","v":""},"Kdo Ausb","LVb Log","San S 42","Tech Mat Kurse San S 42"]
[null,"VT UOS 47-1",0,{"$f":"IF(C1632=1,COUNTIF($C$3:C1632,1),\"\")","v":""},{"$f":"IFERROR(INDEX(DROPDOWN_AOSuche_Alle,MATCH(ROWS($D$3:D1632),DROPDOWN_AOSuche_Helper2,0)),\"\")","v":""},"Kdo Ausb","LVb Log","San S 42","San RS 42-1"]
[null,"VT UOS 47-2",0,{"$f":"IF(C1633=1,COUNTIF($C$3:C1633,1),\"\")","v":""},{"$f":"IFERROR(INDEX(DROPDOWN_AOSuche_Alle,MATCH(ROWS($D$3:D1633),DROPDOWN_AOSuche_Helper2,0)),\"\")","v":""},"Kdo Ausb","LVb Log","San S 42","San RS 42-1","San RS Kp 42-1/1"]
[null,"VT UOS 47-3",0,{"$f":"IF(C1634=1,COUNTIF($C$3:C1634,1),\"\")","v":""},{"$f":"IFERROR(INDEX(DROPDOWN_AOSuche_Alle,MATCH(ROWS($D$3:D1634),DROPDOWN_AOSuche_Helper2,0)),\"\")","v":""},"Kdo Ausb","LVb Log","San S 42","San RS 42-1","San RS Kp 42-1/2"]
[null,"VT UOS 47-4",0,{"$f":"IF(C1635=1,COUNTIF($C$3:C1635,1),\"\")","v":""},{"$f":"IFERROR(INDEX(DROPDOWN_AOSuche_Alle,MATCH(ROWS($D$3:D1635),DROPDOWN_AOSuche_Helper2,0)),\"\")","v":""},"Kdo Ausb","LVb Log","San S 42","San RS 42-1","San RS Kp 42-1/3"]
[null,"Wet Kp 1/5",0,{"$f":"IF(C1636=1,COUNTIF($C$3:C1636,1),\"\")","v":""},{"$f":"IFERROR(INDEX(DROPDOWN_AOSuche_Alle,MATCH(ROWS($D$3:D1636),DROPDOWN_AOSuche_Helper2,0)),\"\")","v":""},"Kdo Ausb","LVb Log","San S 42","San RS 42-2"]
[null,"Wet Kp 2/5",0,{"$f":"IF(C1637=1,COUNTIF($C$3:C1637,1),\"\")","v":""},{"$f":"IFERROR(INDEX(DROPDOWN_AOSuche_Alle,MATCH(ROWS($D$3:D1637),DROPDOWN_AOSuche_Helper2,0)),\"\")","v":""},"Kdo Ausb","LVb Log","San S 42","San RS 42-2","San RS Kp 42-2/1"]
[null,"Wpl Thun/MAZ",0,{"$f":"IF(C1638=1,COUNTIF($C$3:C1638,1),\"\")","v":""},{"$f":"IFERROR(INDEX(DROPDOWN_AOSuche_Alle,MATCH(ROWS($D$3:D1638),DROPDOWN_AOSuche_Helper2,0)),\"\")","v":""},"Kdo Ausb","LVb Log","San S 42","San RS 42-2","San RS Kp 42-2/2"]
[null,"Wpl Thun/MAZ Fw Mag",0,{"$f":"IF(C1639=1,COUNTIF($C$3:C1639,1),\"\")","v":""},{"$f":"IFERROR(INDEX(DROPDOWN_AOSuche_Alle,MATCH(ROWS($D$3:D1639),DROPDOWN_AOSuche_Helper2,0)),\"\")","v":""},"Kdo Ausb","LVb Log","San S 42","San RS 42-2","San RS Kp 42-2/3"]
[null,"Zen Fhr Ausb: Ausb K",0,{"$f":"IF(C1640=1,COUNTIF($C$3:C1640,1),\"\")","v":""},{"$f":"IFERROR(INDEX(DROPDOWN_AOSuche_Alle,MATCH(ROWS($D$3:D1640),DROPDOWN_AOSuche_Helper2,0)),\"\")","v":""},"Kdo Ausb","LVb Log","San S 42","San UOS 42-1"]
[null,"Zen Fhr Ausb: Info Anlässe",0,{"$f":"IF(C1641=1,COUNTIF($C$3:C1641,1),\"\")","v":""},{"$f":"IFERROR(INDEX(DROPDOWN_AOSuche_Alle,MATCH(ROWS($D$3:D1641),DROPDOWN_AOSuche_Helper2,0)),\"\")","v":""},"Kdo Ausb","LVb Log","San S 42","San UOS 42-2"]
[null,"Zfl St 12",0,{"$f":"IF(C1642=1,COUNTIF($C$3:C1642,1),\"\")","v":""},{"$f":"IFERROR(INDEX(DROPDOWN_AOSuche_Alle,MATCH(ROWS($D$3:D1642),DROPDOWN_AOSuche_Helper2,0)),\"\")","v":""},"Kdo Ausb","LVb Log","San S 42","San RS 42-1"]
[null,null,null,null,null,"Kdo Ausb","LVb Log","San S 42","San RS 42-2"]
[null,null,null,null,null,"Kdo Ausb","LVb Log","San S 42","San RS 42-3"]
[null,null,null,null,null,"Kdo Ausb","LVb Log","San S 42","FK Einh San 42-1"]
[null,null,null,null,null,"Kdo Ausb","LVb Log","San S 42","FK Einh San 42-2"]
[null,null,null,null,null,"Kdo Ausb","LVb Log","San S 42","FK Einh San 42-3"]
[null,null,null,null,null,"Kdo Ausb","Pers A"]
[null,null,null,null,null,"Kdo Ausb","Pers A","Stab Pers A"]
[null,null,null,null,null,"Kdo Ausb","Pers A","Fachstab AS"]
[null,null,null,null,null,"Kdo Ausb","Pers A","Fachstab PPD A"]
[null,null,null,null,null,"Kdo Ausb","Pers A","Fachstab SDA"]
[null,null,null,null,null,"Kdo Ausb","Pers A","Kdo Rekr"]
[null,null,null,null,null,"Kdo Ausb","Pers A","Kdo Rekr","Stab Kdo Rekr"]
[null,null,null,null,null,"Kdo Ausb","Pers A","Kdo Rekr","Betr Det Kdo Rekr"]
[null,null,null,null,null,"Kdo Ausb","Pers A","TLG A Asg/PPD A"]
[null,null,null,null,null,"Kdo Ausb","Pers A","TLG B DC Asg"]
[null,null,null,null,null,"Kdo Ausb","Pers A","FK 1 Schuma"]
[null,null,null,null,null,"Kdo Ausb","Pers A","FK 2 Schuma"]
[null,null,null,null,null,"Kdo Ausb","Pers A","FK 3 Schuma"]
[null,null,null,null,null,"Kdo Ausb","Pers A","FK 1-1 LUSIA PPD"]
[null,null,null,null,null,"Kdo Ausb","Pers A","FK 1-2 LUSIA PPD"]
[null,null,null,null,null,"Kdo Ausb","Pers A","FK 1-3 LUSIA PPD"]
[null,null,null,null,null,"Kdo Ausb","Pers A","FK 2-1 LUSIA PPD"]
[null,null,null,null,null,"Kdo Ausb","Pers A","FK 2-2 LUSIA PPD"]
[null,null,null,null,null,"Kdo Ausb","Pers A","FK 2-3 LUSIA PPD"]
[null,null,null,null,null,"Betr Det Kt ZH"]
[null,null,null,null,null,"Betr Det Kt BE"]
[null,null,null,null,null,"Betr Det Kt LU"]
[null,null,null,null,null,"Betr Det Kt UR"]
[null,null,null,null,null,"Betr Det Kt NW"]
[null,null,null,null,null,"Betr Det Kt GL"]
[null,null,null,null,null,"Betr Det Kt ZG"]
[null,null,null,null,null,"Betr Det Kt FR"]
[null,null,null,null,null,"Betr Det Kt SO"]
[null,null,null,null,null,"Betr Det Kt SZ"]
[null,null,null,null,null,"Betr Det Kt BS"]
[null,null,null,null,null,"Betr Det Kt BL"]
[null,null,null,null,null,"Betr Det Kt SH"]
[null,null,null,null,null,"Betr Det Kt AR/AI"]
[null,null,null,null,null,"Betr Det Kt SG"]
[null,null,null,null,null,"Betr Det Kt GR"]
[null,null,null,null,null,"Betr Det Kt AG"]
[null,null,null,null,null,"Betr Det Kt TG"]
[null,null,null,null,null,"Betr Det Kt VD"]
[null,null,null,null,null,"Betr Det Kt TI"]
[null,null,null,null,null,"Betr Det Kt VS"]
[null,null,null,null,null,"Betr Det Kt NE"]
[null,null,null,null,null,"Betr Det Kt GE"]
[null,null,null,null,null,"Betr Det Kt JU"]
[null,null,null,null,null,"DVS RS WPE"]